{"text_format":"1","workbook":"xlsx","n_sheets":22,"sheets":["Introduktion","Vejehold 1","Vejehold 2","Vejehold 3","Vejehold 4","Vejehold 5","Vejehold 6","Logbog","Opsamling, slagt+smågrise","Opsamling, pattegrise","Vejeskema, staldgang","Gompertz Slagtesvin","Gompertz Smågrise","Foderdage","Gompertz Pattegrise","Foderskift","Foder","Gompertz Slagtesvin Vejeskema","Gompertz Smågrise Vejeskema","Vejledning afgang","Gompertz pattegrise model","princip i model"],"not_rendered":{"charts":35,"images":6,"macros":1,"external_links":1,"defined_names":80,"comments":0,"pivot_tables":0},"unopened":[],"bounds":{"document_bytes":16777216,"sheet_cells":100000,"rows_first":2000,"rows_last":500,"rows_between":2000,"halvings":0,"cell_chars":16384,"cell_head_chars":4096},"cells_cut":0,"cells_raw":0,"read":"whole","date_system":"1900"}

{"sheet":"Introduktion","index":0,"n_rows":0,"n_cols":0,"rows_kept":0,"cut":false,"hidden":false,"merged":[]}

{"sheet":"Vejehold 1","index":1,"n_rows":23,"n_cols":28,"rows_kept":23,"cut":false,"hidden":false,"merged":[[4,20,4,23],[1,7,4,9],[4,0,4,3],[3,0,3,3],[1,5,1,6],[1,22,1,24],[3,20,3,27]]}
[]
[null,null,"Der må kun tastes i de","grønne ","celler","Ver. 1.2",null,"Udfyld enten:\nKg udfodret periode og FE/kg \neller\nFE udfodret periode",null,null,null,null,null,null,null,null,null,null,null,null,"Navngiv vejehold",null,"Vejehold 1"]
[null,null,null,null,null,null,null,null,null,null,null,"Vejehold pattegrise",null,null,null,null,null,null,null,null,"Beskrivelse af holdet"]
["Vælg dyregruppe",null,null,null,"Slagtesvin",null,null,null,null,null,null,"Grise pr kuld efter kuldudjævning",null,null,13.5]
["Indtast total antal kvm i stien/stierne",null,null,null,null,null,null,null,null,null,null,null,null,null,null,null,null,null,null,null,"Se vejledning vedr. afgående grise",null,null,null,null,"Logbog"]
["Dato","Dag nr.","Antal grise","Vægt i alt","Gns. Kg. pr. gris","Daglig tilvækst i perioden","Daglig tilvækst til dato","Kg. udfodret periode","FE pr. kg","FE udfodret periode","FE pr. kg tilvækst periode","FE pr. kg tilvækst til dato","Foder-dage perioden","FE pr. dag pr. gris periode","FE pr. dag pr. gris til dato","Kg gris pr. kvm","Prod. kg. gris i perioden","Prod. kg. gris i alt",{"$f":"IF(E4=\"Slagtesvin\",\"Gennemsnitlig vækstkurve v. \"&TEXT('Gompertz Slagtesvin'!B8,\"###\")&\" gram daglig tilvækst\",IF(E4=\"Smågrise\",\"Gennemsnitlig vækstkurve v. \"&TEXT('Gompertz Smågrise'!B8,\"###\")&\" gram daglig tilvækst\",\"Gennemsnitlig vækstkurve\"))","v":"Gennemsnitlig vækstkurve v. 900 gram daglig tilvækst"},null,"Afgangsdato","Antal grise","Total vægt af afgåede grise","Årsag (vælg fra liste)",null,"Dato","  Hændelse","Sæt x for at fjerne hændelse fra grafer"]
[null,{"$f":"IF(A7<>\"\",A7-$A$7,\"\")","v":""},null,null,{"$f":"IF(C7<>\"\",D7/C7,0)","v":0},null,null,null,null,null,null,null,null,null,null,{"$f":"IF($E$5<>\"\",D7/$E$5,0)","v":0},{"$f":"D7","v":0},{"$f":"D7","v":0}]
[null,"",{"$f":"IF(A8<>\"\",VLOOKUP(A8,Foderdage!$A$4:$B$138,2,FALSE),\"\")","v":""},null,0,{"$f":"IF(C8<>\"\",(Q8-D7)/M8*1000,0)","v":0},{"$f":"IF(C8<>\"\",(R8-$D$7)/SUM($M$8:M8)*1000,0)","v":0},null,null,null,{"$f":"IF(J8=\"\",IF(AND(H8<>\"\",I8<>\"\"),H8*I8/(Q8-D7),0),J8/(Q8-D7))","v":0},{"$f":"IF(SUM(H8:J8)>0,(SUM($J$8:J8)+H8*I8)/(R8-$D$7),0)","v":0},{"$f":"SUMIFS(Foderdage!$B$4:$B$138,Foderdage!$A$4:$A$138,\">\"&'Vejehold 1'!A7,Foderdage!$A$4:$A$138,\"<=\"&'Vejehold 1'!A8)","v":0},{"$f":"IF(J8=\"\",IF(AND(H8<>\"\",I8<>\"\"),H8*I8/M8,0),J8/M8)","v":0},{"$f":"IF(SUM(H8:J8)>0,(SUM($J$8:J8)+H8*I8)/SUM($M$8:M8),0)","v":0},0,{"$f":"IF(A8<>\"\",D8+SUMIFS($W$7:$W$23,$U$7:$U$23,\">=\"&A7,$U$7:$U$23,\"<\"&A8),0)","v":0},{"$f":"IF(A8<>\"\",D8+SUMIFS($W$7:$W$23,$U$7:$U$23,\">=\"&$A$7,$U$7:$U$23,\"<\"&A8),0)","v":0},{"$f":"IF(B8<>\"\",IF($E$4=\"Slagtesvin\",VLOOKUP(B8,'Gompertz Slagtesvin'!A12:G170,2,FALSE),IF($E$4=\"Smågrise\",VLOOKUP(B8,'Gompertz Smågrise'!A13:G171,2,FALSE),VLOOKUP(B8+1,'Gompertz Pattegrise'!A13:G171,2,FALSE))),0)","v":0}]
[null,"",{"$f":"IF(A9<>\"\",VLOOKUP(A9,Foderdage!$A$4:$B$138,2,FALSE),\"\")","v":""},null,0,0,{"$f":"IF(C9<>\"\",(R9-$D$7)/SUM($M$8:M9)*1000,0)","v":0},null,null,null,0,{"$f":"IF(SUM(H9:J9)>0,(SUM($J$8:J9)+SUMPRODUCT($H$8:H9,$I$8:I9))/(R9-$D$7),0)","v":0},{"$f":"SUMIFS(Foderdage!$B$4:$B$138,Foderdage!$A$4:$A$138,\">\"&'Vejehold 1'!A8,Foderdage!$A$4:$A$138,\"<=\"&'Vejehold 1'!A9)","v":0},{"$f":"IF(J9=\"\",IF(AND(H9<>\"\",I9<>\"\"),H9*I9/M9,0),J9/M9)","v":0},{"$f":"IF(SUM(H9:J9)>0,(SUM($J$8:J9)+SUMPRODUCT($H$8:H9,$I$8:I9))/SUM($M$8:M9),0)","v":0},0,{"$f":"IF(A9<>\"\",D9+SUMIFS($W$7:$W$23,$U$7:$U$23,\">=\"&A8,$U$7:$U$23,\"<\"&A9),0)","v":0},{"$f":"IF(A9<>\"\",D9+SUMIFS($W$7:$W$23,$U$7:$U$23,\">=\"&$A$7,$U$7:$U$23,\"<\"&A9),0)","v":0},{"$f":"IF(B9<>\"\",IF($E$4=\"Slagtesvin\",VLOOKUP(B9,'Gompertz Slagtesvin'!A13:G171,2,FALSE),IF($E$4=\"Smågrise\",VLOOKUP(B9,'Gompertz Smågrise'!A14:G172,2,FALSE),VLOOKUP(B9+1,'Gompertz Pattegrise'!A14:G172,2,FALSE))),0)","v":0}]
[null,"",{"$f":"IF(A10<>\"\",VLOOKUP(A10,Foderdage!$A$4:$B$138,2,FALSE),\"\")","v":""},null,0,{"$f":"IF(C10<>\"\",(Q10-D9)/M10*1000,0)","v":0},{"$f":"IF(C10<>\"\",(R10-$D$7)/SUM($M$8:M10)*1000,0)","v":0},null,null,null,0,{"$f":"IF(SUM(H10:J10)>0,(SUM($J$8:J10)+SUMPRODUCT($H$8:H10,$I$8:I10))/(R10-$D$7),0)","v":0},{"$f":"SUMIFS(Foderdage!$B$4:$B$138,Foderdage!$A$4:$A$138,\">\"&'Vejehold 1'!A9,Foderdage!$A$4:$A$138,\"<=\"&'Vejehold 1'!A10)","v":0},0,{"$f":"IF(SUM(H10:J10)>0,(SUM($J$8:J10)+SUMPRODUCT($H$8:H10,$I$8:I10))/SUM($M$8:M10),0)","v":0},0,0,0,{"$f":"IF(B10<>\"\",IF($E$4=\"Slagtesvin\",VLOOKUP(B10,'Gompertz Slagtesvin'!A14:G172,2,FALSE),IF($E$4=\"Smågrise\",VLOOKUP(B10,'Gompertz Smågrise'!A15:G173,2,FALSE),VLOOKUP(B10+1,'Gompertz Pattegrise'!A15:G173,2,FALSE))),0)","v":0}]
[null,"",{"$f":"IF(A11<>\"\",VLOOKUP(A11,Foderdage!$A$4:$B$138,2,FALSE),\"\")","v":""},null,0,0,{"$f":"IF(C11<>\"\",(R11-$D$7)/SUM($M$8:M11)*1000,0)","v":0},null,null,null,0,{"$f":"IF(SUM(H11:J11)>0,(SUM($J$8:J11)+SUMPRODUCT($H$8:H11,$I$8:I11))/(R11-$D$7),0)","v":0},{"$f":"SUMIFS(Foderdage!$B$4:$B$138,Foderdage!$A$4:$A$138,\">\"&'Vejehold 1'!A10,Foderdage!$A$4:$A$138,\"<=\"&'Vejehold 1'!A11)","v":0},0,{"$f":"IF(SUM(H11:J11)>0,(SUM($J$8:J11)+SUMPRODUCT($H$8:H11,$I$8:I11))/SUM($M$8:M11),0)","v":0},0,0,0,{"$f":"IF(B11<>\"\",IF($E$4=\"Slagtesvin\",VLOOKUP(B11,'Gompertz Slagtesvin'!A15:G173,2,FALSE),IF($E$4=\"Smågrise\",VLOOKUP(B11,'Gompertz Smågrise'!A16:G174,2,FALSE),VLOOKUP(B11+1,'Gompertz Pattegrise'!A16:G174,2,FALSE))),0)","v":0}]
[null,"",{"$f":"IF(A12<>\"\",VLOOKUP(A12,Foderdage!$A$4:$B$138,2,FALSE),\"\")","v":""},null,0,0,{"$f":"IF(C12<>\"\",(R12-$D$7)/SUM($M$8:M12)*1000,0)","v":0},null,null,null,0,{"$f":"IF(SUM(H12:J12)>0,(SUM($J$8:J12)+SUMPRODUCT($H$8:H12,$I$8:I12))/(R12-$D$7),0)","v":0},{"$f":"SUMIFS(Foderdage!$B$4:$B$138,Foderdage!$A$4:$A$138,\">\"&'Vejehold 1'!A11,Foderdage!$A$4:$A$138,\"<=\"&'Vejehold 1'!A12)","v":0},0,{"$f":"IF(SUM(H12:J12)>0,(SUM($J$8:J12)+SUMPRODUCT($H$8:H12,$I$8:I12))/SUM($M$8:M12),0)","v":0},0,0,0,{"$f":"IF(B12<>\"\",IF($E$4=\"Slagtesvin\",VLOOKUP(B12,'Gompertz Slagtesvin'!A16:G174,2,FALSE),IF($E$4=\"Smågrise\",VLOOKUP(B12,'Gompertz Smågrise'!A17:G175,2,FALSE),VLOOKUP(B12+1,'Gompertz Pattegrise'!A17:G175,2,FALSE))),0)","v":0}]
[null,"",{"$f":"IF(A13<>\"\",VLOOKUP(A13,Foderdage!$A$4:$B$138,2,FALSE),\"\")","v":""},null,0,0,{"$f":"IF(C13<>\"\",(R13-$D$7)/SUM($M$8:M13)*1000,0)","v":0},null,null,null,0,{"$f":"IF(SUM(H13:J13)>0,(SUM($J$8:J13)+SUMPRODUCT($H$8:H13,$I$8:I13))/(R13-$D$7),0)","v":0},{"$f":"SUMIFS(Foderdage!$B$4:$B$138,Foderdage!$A$4:$A$138,\">\"&'Vejehold 1'!A12,Foderdage!$A$4:$A$138,\"<=\"&'Vejehold 1'!A13)","v":0},0,{"$f":"IF(SUM(H13:J13)>0,(SUM($J$8:J13)+SUMPRODUCT($H$8:H13,$I$8:I13))/SUM($M$8:M13),0)","v":0},0,0,0,{"$f":"IF(B13<>\"\",IF($E$4=\"Slagtesvin\",VLOOKUP(B13,'Gompertz Slagtesvin'!A17:G175,2,FALSE),IF($E$4=\"Smågrise\",VLOOKUP(B13,'Gompertz Smågrise'!A18:G176,2,FALSE),VLOOKUP(B13+1,'Gompertz Pattegrise'!A18:G176,2,FALSE))),0)","v":0}]
[null,"",{"$f":"IF(A14<>\"\",VLOOKUP(A14,Foderdage!$A$4:$B$138,2,FALSE),\"\")","v":""},null,0,0,{"$f":"IF(C14<>\"\",(R14-$D$7)/SUM($M$8:M14)*1000,0)","v":0},null,null,null,0,{"$f":"IF(SUM(H14:J14)>0,(SUM($J$8:J14)+SUMPRODUCT($H$8:H14,$I$8:I14))/(R14-$D$7),0)","v":0},{"$f":"SUMIFS(Foderdage!$B$4:$B$138,Foderdage!$A$4:$A$138,\">\"&'Vejehold 1'!A13,Foderdage!$A$4:$A$138,\"<=\"&'Vejehold 1'!A14)","v":0},0,{"$f":"IF(SUM(H14:J14)>0,(SUM($J$8:J14)+SUMPRODUCT($H$8:H14,$I$8:I14))/SUM($M$8:M14),0)","v":0},0,0,0,{"$f":"IF(B14<>\"\",IF($E$4=\"Slagtesvin\",VLOOKUP(B14,'Gompertz Slagtesvin'!A18:G176,2,FALSE),IF($E$4=\"Smågrise\",VLOOKUP(B14,'Gompertz Smågrise'!A19:G177,2,FALSE),VLOOKUP(B14+1,'Gompertz Pattegrise'!A19:G177,2,FALSE))),0)","v":0}]
[null,"",{"$f":"IF(A15<>\"\",VLOOKUP(A15,Foderdage!$A$4:$B$138,2,FALSE),\"\")","v":""},null,0,0,{"$f":"IF(C15<>\"\",(R15-$D$7)/SUM($M$8:M15)*1000,0)","v":0},null,null,null,0,{"$f":"IF(SUM(H15:J15)>0,(SUM($J$8:J15)+SUMPRODUCT($H$8:H15,$I$8:I15))/(R15-$D$7),0)","v":0},{"$f":"SUMIFS(Foderdage!$B$4:$B$138,Foderdage!$A$4:$A$138,\">\"&'Vejehold 1'!A14,Foderdage!$A$4:$A$138,\"<=\"&'Vejehold 1'!A15)","v":0},0,{"$f":"IF(SUM(H15:J15)>0,(SUM($J$8:J15)+SUMPRODUCT($H$8:H15,$I$8:I15))/SUM($M$8:M15),0)","v":0},0,0,0,{"$f":"IF(B15<>\"\",IF($E$4=\"Slagtesvin\",VLOOKUP(B15,'Gompertz Slagtesvin'!A19:G177,2,FALSE),IF($E$4=\"Smågrise\",VLOOKUP(B15,'Gompertz Smågrise'!A20:G178,2,FALSE),VLOOKUP(B15+1,'Gompertz Pattegrise'!A20:G178,2,FALSE))),0)","v":0}]
[null,{"$f":"IF(A16<>\"\",A16-$A$7,\"\")","v":""},{"$f":"IF(A16<>\"\",VLOOKUP(A16,Foderdage!$A$4:$B$138,2,FALSE),\"\")","v":""},null,0,0,{"$f":"IF(C16<>\"\",(R16-$D$7)/SUM($M$8:M16)*1000,0)","v":0},null,null,null,0,{"$f":"IF(SUM(H16:J16)>0,(SUM($J$8:J16)+SUMPRODUCT($H$8:H16,$I$8:I16))/(R16-$D$7),0)","v":0},{"$f":"SUMIFS(Foderdage!$B$4:$B$138,Foderdage!$A$4:$A$138,\">\"&'Vejehold 1'!A15,Foderdage!$A$4:$A$138,\"<=\"&'Vejehold 1'!A16)","v":0},0,{"$f":"IF(SUM(H16:J16)>0,(SUM($J$8:J16)+SUMPRODUCT($H$8:H16,$I$8:I16))/SUM($M$8:M16),0)","v":0},0,0,0,{"$f":"IF(B16<>\"\",IF($E$4=\"Slagtesvin\",VLOOKUP(B16,'Gompertz Slagtesvin'!A20:G178,2,FALSE),IF($E$4=\"Smågrise\",VLOOKUP(B16,'Gompertz Smågrise'!A21:G179,2,FALSE),VLOOKUP(B16+1,'Gompertz Pattegrise'!A21:G179,2,FALSE))),0)","v":0}]
[null,{"$f":"IF(A17<>\"\",A17-$A$7,\"\")","v":""},{"$f":"IF(A17<>\"\",VLOOKUP(A17,Foderdage!$A$4:$B$138,2,FALSE),\"\")","v":""},null,{"$f":"IF(C17<>\"\",D17/C17,0)","v":0},0,{"$f":"IF(C17<>\"\",(R17-$D$7)/SUM($M$8:M17)*1000,0)","v":0},null,null,null,0,{"$f":"IF(SUM(H17:J17)>0,(SUM($J$8:J17)+SUMPRODUCT($H$8:H17,$I$8:I17))/(R17-$D$7),0)","v":0},{"$f":"SUMIFS(Foderdage!$B$4:$B$138,Foderdage!$A$4:$A$138,\">\"&'Vejehold 1'!A16,Foderdage!$A$4:$A$138,\"<=\"&'Vejehold 1'!A17)","v":0},0,{"$f":"IF(SUM(H17:J17)>0,(SUM($J$8:J17)+SUMPRODUCT($H$8:H17,$I$8:I17))/SUM($M$8:M17),0)","v":0},0,0,0,{"$f":"IF(B17<>\"\",IF($E$4=\"Slagtesvin\",VLOOKUP(B17,'Gompertz Slagtesvin'!A21:G179,2,FALSE),IF($E$4=\"Smågrise\",VLOOKUP(B17,'Gompertz Smågrise'!A22:G180,2,FALSE),VLOOKUP(B17+1,'Gompertz Pattegrise'!A22:G180,2,FALSE))),0)","v":0}]
[null,{"$f":"IF(A18<>\"\",A18-$A$7,\"\")","v":""},{"$f":"IF(A18<>\"\",VLOOKUP(A18,Foderdage!$A$4:$B$138,2,FALSE),\"\")","v":""},null,0,0,{"$f":"IF(C18<>\"\",(R18-$D$7)/SUM($M$8:M18)*1000,0)","v":0},null,null,null,0,{"$f":"IF(SUM(H18:J18)>0,(SUM($J$8:J18)+SUMPRODUCT($H$8:H18,$I$8:I18))/(R18-$D$7),0)","v":0},{"$f":"SUMIFS(Foderdage!$B$4:$B$138,Foderdage!$A$4:$A$138,\">\"&'Vejehold 1'!A17,Foderdage!$A$4:$A$138,\"<=\"&'Vejehold 1'!A18)","v":0},0,{"$f":"IF(SUM(H18:J18)>0,(SUM($J$8:J18)+SUMPRODUCT($H$8:H18,$I$8:I18))/SUM($M$8:M18),0)","v":0},0,0,0,{"$f":"IF(B18<>\"\",IF($E$4=\"Slagtesvin\",VLOOKUP(B18,'Gompertz Slagtesvin'!A22:G180,2,FALSE),IF($E$4=\"Smågrise\",VLOOKUP(B18,'Gompertz Smågrise'!A23:G181,2,FALSE),VLOOKUP(B18+1,'Gompertz Pattegrise'!A23:G181,2,FALSE))),0)","v":0}]
[null,"",{"$f":"IF(A19<>\"\",VLOOKUP(A19,Foderdage!$A$4:$B$138,2,FALSE),\"\")","v":""},null,0,0,{"$f":"IF(C19<>\"\",(R19-$D$7)/SUM($M$8:M19)*1000,0)","v":0},null,null,null,0,{"$f":"IF(SUM(H19:J19)>0,(SUM($J$8:J19)+SUMPRODUCT($H$8:H19,$I$8:I19))/(R19-$D$7),0)","v":0},{"$f":"SUMIFS(Foderdage!$B$4:$B$138,Foderdage!$A$4:$A$138,\">\"&'Vejehold 1'!A18,Foderdage!$A$4:$A$138,\"<=\"&'Vejehold 1'!A19)","v":0},0,{"$f":"IF(SUM(H19:J19)>0,(SUM($J$8:J19)+SUMPRODUCT($H$8:H19,$I$8:I19))/SUM($M$8:M19),0)","v":0},0,0,0,{"$f":"IF(B19<>\"\",IF($E$4=\"Slagtesvin\",VLOOKUP(B19,'Gompertz Slagtesvin'!A23:G181,2,FALSE),IF($E$4=\"Smågrise\",VLOOKUP(B19,'Gompertz Smågrise'!A24:G182,2,FALSE),VLOOKUP(B19+1,'Gompertz Pattegrise'!A24:G182,2,FALSE))),0)","v":0}]
[null,"",{"$f":"IF(A20<>\"\",VLOOKUP(A20,Foderdage!$A$4:$B$138,2,FALSE),\"\")","v":""},null,0,0,{"$f":"IF(C20<>\"\",(R20-$D$7)/SUM($M$8:M20)*1000,0)","v":0},null,null,null,0,{"$f":"IF(SUM(H20:J20)>0,(SUM($J$8:J20)+SUMPRODUCT($H$8:H20,$I$8:I20))/(R20-$D$7),0)","v":0},{"$f":"SUMIFS(Foderdage!$B$4:$B$138,Foderdage!$A$4:$A$138,\">\"&'Vejehold 1'!A19,Foderdage!$A$4:$A$138,\"<=\"&'Vejehold 1'!A20)","v":0},0,{"$f":"IF(SUM(H20:J20)>0,(SUM($J$8:J20)+SUMPRODUCT($H$8:H20,$I$8:I20))/SUM($M$8:M20),0)","v":0},0,0,0,{"$f":"IF(B20<>\"\",IF($E$4=\"Slagtesvin\",VLOOKUP(B20,'Gompertz Slagtesvin'!A24:G182,2,FALSE),IF($E$4=\"Smågrise\",VLOOKUP(B20,'Gompertz Smågrise'!A25:G183,2,FALSE),VLOOKUP(B20+1,'Gompertz Pattegrise'!A25:G183,2,FALSE))),0)","v":0}]
[null,"",{"$f":"IF(A21<>\"\",VLOOKUP(A21,Foderdage!$A$4:$B$138,2,FALSE),\"\")","v":""},null,0,0,{"$f":"IF(C21<>\"\",(R21-$D$7)/SUM($M$8:M21)*1000,0)","v":0},null,null,null,0,{"$f":"IF(SUM(H21:J21)>0,(SUM($J$8:J21)+SUMPRODUCT($H$8:H21,$I$8:I21))/(R21-$D$7),0)","v":0},{"$f":"SUMIFS(Foderdage!$B$4:$B$138,Foderdage!$A$4:$A$138,\">\"&'Vejehold 1'!A20,Foderdage!$A$4:$A$138,\"<=\"&'Vejehold 1'!A21)","v":0},0,{"$f":"IF(SUM(H21:J21)>0,(SUM($J$8:J21)+SUMPRODUCT($H$8:H21,$I$8:I21))/SUM($M$8:M21),0)","v":0},0,0,0,{"$f":"IF(B21<>\"\",IF($E$4=\"Slagtesvin\",VLOOKUP(B21,'Gompertz Slagtesvin'!A25:G183,2,FALSE),IF($E$4=\"Smågrise\",VLOOKUP(B21,'Gompertz Smågrise'!A26:G184,2,FALSE),VLOOKUP(B21+1,'Gompertz Pattegrise'!A26:G184,2,FALSE))),0)","v":0}]
[null,"",{"$f":"IF(A22<>\"\",VLOOKUP(A22,Foderdage!$A$4:$B$138,2,FALSE),\"\")","v":""},null,0,0,{"$f":"IF(C22<>\"\",(R22-$D$7)/SUM($M$8:M22)*1000,0)","v":0},null,null,null,0,{"$f":"IF(SUM(H22:J22)>0,(SUM($J$8:J22)+SUMPRODUCT($H$8:H22,$I$8:I22))/(R22-$D$7),0)","v":0},{"$f":"SUMIFS(Foderdage!$B$4:$B$138,Foderdage!$A$4:$A$138,\">\"&'Vejehold 1'!A21,Foderdage!$A$4:$A$138,\"<=\"&'Vejehold 1'!A22)","v":0},0,{"$f":"IF(SUM(H22:J22)>0,(SUM($J$8:J22)+SUMPRODUCT($H$8:H22,$I$8:I22))/SUM($M$8:M22),0)","v":0},0,0,0,{"$f":"IF(B22<>\"\",IF($E$4=\"Slagtesvin\",VLOOKUP(B22,'Gompertz Slagtesvin'!A26:G184,2,FALSE),IF($E$4=\"Smågrise\",VLOOKUP(B22,'Gompertz Smågrise'!A27:G185,2,FALSE),VLOOKUP(B22+1,'Gompertz Pattegrise'!A27:G185,2,FALSE))),0)","v":0}]
[null,"",{"$f":"IF(A23<>\"\",VLOOKUP(A23,Foderdage!$A$4:$B$138,2,FALSE),\"\")","v":""},null,0,0,{"$f":"IF(C23<>\"\",(R23-$D$7)/SUM($M$8:M23)*1000,0)","v":0},null,null,null,0,{"$f":"IF(SUM(H23:J23)>0,(SUM($J$8:J23)+SUMPRODUCT($H$8:H23,$I$8:I23))/(R23-$D$7),0)","v":0},{"$f":"SUMIFS(Foderdage!$B$4:$B$138,Foderdage!$A$4:$A$138,\">\"&'Vejehold 1'!A22,Foderdage!$A$4:$A$138,\"<=\"&'Vejehold 1'!A23)","v":0},0,{"$f":"IF(SUM(H23:J23)>0,(SUM($J$8:J23)+SUMPRODUCT($H$8:H23,$I$8:I23))/SUM($M$8:M23),0)","v":0},0,0,0,{"$f":"IF(B23<>\"\",IF($E$4=\"Slagtesvin\",VLOOKUP(B23,'Gompertz Slagtesvin'!A27:G185,2,FALSE),IF($E$4=\"Smågrise\",VLOOKUP(B23,'Gompertz Smågrise'!A28:G186,2,FALSE),VLOOKUP(B23+1,'Gompertz Pattegrise'!A28:G186,2,FALSE))),0)","v":0}]

{"sheet":"Vejehold 2","index":2,"n_rows":23,"n_cols":28,"rows_kept":23,"cut":false,"hidden":false,"merged":[[1,7,4,9],[3,0,3,3],[4,0,4,3],[4,20,4,23],[1,5,1,6],[1,22,1,24],[3,20,3,27]]}
[]
[null,null,"Der må kun tastes i de","grønne ","celler","Ver. 1.2",null,"Udfyld enten:\nKg udfodret periode og FE/kg \neller\nFE udfodret periode",null,null,null,null,null,null,null,null,null,null,null,null,"Navngiv vejehold",null,"Vejehold 2"]
[null,null,null,null,null,null,null,null,null,null,null,"Vejehold pattegrise",null,null,null,null,null,null,null,null,"Beskrivelse af holdet"]
["Vælg dyregruppe",null,null,null,"Slagtesvin",null,null,null,null,null,null,"Grise pr kuld efter kuldudjævning",null,null,13.5]
["Indtast total antal kvm i stien/stierne",null,null,null,null,null,null,null,null,null,null,null,null,null,null,null,null,null,null,null,"Se vejledning vedr. afgående grise",null,null,null,null,"Logbog"]
["Dato","Dag nr.","Antal grise","Vægt i alt","Gns. Kg. pr. gris","Daglig tilvækst i perioden","Daglig tilvækst til dato","Kg. udfodret periode","FE pr. kg","FE udfodret periode","FE pr. kg tilvækst periode","FE pr. kg tilvækst til dato","Foder-dage perioden","FE pr. dag pr. gris periode","FE pr. dag pr. gris til dato","Kg gris pr. kvm","Prod. kg. gris i perioden","Prod. kg. gris i alt",{"$f":"IF(E4=\"Slagtesvin\",\"Gennemsnitlig vækstkurve v. \"&TEXT('Gompertz Slagtesvin'!C8,\"###\")&\" gram daglig tilvækst\",IF(E4=\"Smågrise\",\"Gennemsnitlig vækstkurve v. \"&TEXT('Gompertz Smågrise'!C8,\"###\")&\" gram daglig tilvækst\",\"Gennemsnitlig vækstkurve\"))","v":"Gennemsnitlig vækstkurve v. 900 gram daglig tilvækst"},null,"Afgangsdato","Antal grise","Total vægt af afgåede grise","Årsag (vælg fra liste)",null,"Dato","  Hændelse","Sæt x for at fjerne hændelse fra grafer"]
[null,{"$f":"IF(A7<>\"\",A7-$A$7,\"\")","v":""},null,null,{"$f":"IF(C7<>\"\",D7/C7,0)","v":0},null,null,null,null,null,null,null,null,null,null,{"$f":"IF($E$5<>\"\",D7/$E$5,0)","v":0},{"$f":"D7","v":0},{"$f":"D7","v":0}]
[null,"",{"$f":"IF(A8<>\"\",VLOOKUP(A8,Foderdage!$C$4:$D$138,2,FALSE),\"\")","v":""},null,0,{"$f":"IF(C8<>\"\",(Q8-D7)/M8*1000,0)","v":0},{"$f":"IF(C8<>\"\",(R8-$D$7)/SUM($M$8:M8)*1000,0)","v":0},null,null,null,{"$f":"IF(J8=\"\",IF(AND(H8<>\"\",I8<>\"\"),H8*I8/(Q8-D7),0),J8/(Q8-D7))","v":0},{"$f":"IF(SUM(H8:J8)>0,(SUM($J$8:J8)+H8*I8)/(R8-$D$7),0)","v":0},{"$f":"SUMIFS(Foderdage!$D$4:$D$138,Foderdage!$C$4:$C$138,\">\"&'Vejehold 2'!A7,Foderdage!$C$4:$C$138,\"<=\"&'Vejehold 2'!A8)","v":0},{"$f":"IF(J8=\"\",IF(AND(H8<>\"\",I8<>\"\"),H8*I8/M8,0),J8/M8)","v":0},{"$f":"IF(SUM(H8:J8)>0,(SUM($J$8:J8)+H8*I8)/SUM($M$8:M8),0)","v":0},0,{"$f":"IF(A8<>\"\",D8+SUMIFS($W$7:$W$23,$U$7:$U$23,\">=\"&A7,$U$7:$U$23,\"<\"&A8),0)","v":0},{"$f":"IF(A8<>\"\",D8+SUMIFS($W$7:$W$23,$U$7:$U$23,\">=\"&$A$7,$U$7:$U$23,\"<\"&A8),0)","v":0},{"$f":"IF(B8<>\"\",IF($E$4=\"Slagtesvin\",VLOOKUP(B8,'Gompertz Slagtesvin'!A12:G170,3,FALSE),IF($E$4=\"Smågrise\",VLOOKUP(B8,'Gompertz Smågrise'!A13:G171,3,FALSE),VLOOKUP(B8+1,'Gompertz Pattegrise'!A13:G171,3,FALSE))),0)","v":0}]
[null,"",{"$f":"IF(A9<>\"\",VLOOKUP(A9,Foderdage!$C$4:$D$138,2,FALSE),\"\")","v":""},null,0,0,{"$f":"IF(C9<>\"\",(R9-$D$7)/SUM($M$8:M9)*1000,0)","v":0},null,null,null,0,{"$f":"IF(SUM(H9:J9)>0,(SUM($J$8:J9)+SUMPRODUCT($H$8:H9,$I$8:I9))/(R9-$D$7),0)","v":0},{"$f":"SUMIFS(Foderdage!$D$4:$D$138,Foderdage!$C$4:$C$138,\">\"&'Vejehold 2'!A8,Foderdage!$C$4:$C$138,\"<=\"&'Vejehold 2'!A9)","v":0},{"$f":"IF(J9=\"\",IF(AND(H9<>\"\",I9<>\"\"),H9*I9/M9,0),J9/M9)","v":0},{"$f":"IF(SUM(H9:J9)>0,(SUM($J$8:J9)+SUMPRODUCT($H$8:H9,$I$8:I9))/SUM($M$8:M9),0)","v":0},0,{"$f":"IF(A9<>\"\",D9+SUMIFS($W$7:$W$23,$U$7:$U$23,\">=\"&A8,$U$7:$U$23,\"<\"&A9),0)","v":0},{"$f":"IF(A9<>\"\",D9+SUMIFS($W$7:$W$23,$U$7:$U$23,\">=\"&$A$7,$U$7:$U$23,\"<\"&A9),0)","v":0},{"$f":"IF(B9<>\"\",IF($E$4=\"Slagtesvin\",VLOOKUP(B9,'Gompertz Slagtesvin'!A13:G171,3,FALSE),IF($E$4=\"Smågrise\",VLOOKUP(B9,'Gompertz Smågrise'!A14:G172,3,FALSE),VLOOKUP(B9+1,'Gompertz Pattegrise'!A14:G172,3,FALSE))),0)","v":0}]
[null,"",{"$f":"IF(A10<>\"\",VLOOKUP(A10,Foderdage!$C$4:$D$138,2,FALSE),\"\")","v":""},null,0,0,{"$f":"IF(C10<>\"\",(R10-$D$7)/SUM($M$8:M10)*1000,0)","v":0},null,null,null,0,{"$f":"IF(SUM(H10:J10)>0,(SUM($J$8:J10)+SUMPRODUCT($H$8:H10,$I$8:I10))/(R10-$D$7),0)","v":0},{"$f":"SUMIFS(Foderdage!$D$4:$D$138,Foderdage!$C$4:$C$138,\">\"&'Vejehold 2'!A9,Foderdage!$C$4:$C$138,\"<=\"&'Vejehold 2'!A10)","v":0},0,{"$f":"IF(SUM(H10:J10)>0,(SUM($J$8:J10)+SUMPRODUCT($H$8:H10,$I$8:I10))/SUM($M$8:M10),0)","v":0},0,0,0,{"$f":"IF(B10<>\"\",IF($E$4=\"Slagtesvin\",VLOOKUP(B10,'Gompertz Slagtesvin'!A14:G172,3,FALSE),IF($E$4=\"Smågrise\",VLOOKUP(B10,'Gompertz Smågrise'!A15:G173,3,FALSE),VLOOKUP(B10+1,'Gompertz Pattegrise'!A15:G173,3,FALSE))),0)","v":0}]
[null,"",{"$f":"IF(A11<>\"\",VLOOKUP(A11,Foderdage!$C$4:$D$138,2,FALSE),\"\")","v":""},null,0,0,{"$f":"IF(C11<>\"\",(R11-$D$7)/SUM($M$8:M11)*1000,0)","v":0},null,null,null,0,{"$f":"IF(SUM(H11:J11)>0,(SUM($J$8:J11)+SUMPRODUCT($H$8:H11,$I$8:I11))/(R11-$D$7),0)","v":0},{"$f":"SUMIFS(Foderdage!$D$4:$D$138,Foderdage!$C$4:$C$138,\">\"&'Vejehold 2'!A10,Foderdage!$C$4:$C$138,\"<=\"&'Vejehold 2'!A11)","v":0},0,{"$f":"IF(SUM(H11:J11)>0,(SUM($J$8:J11)+SUMPRODUCT($H$8:H11,$I$8:I11))/SUM($M$8:M11),0)","v":0},0,0,0,{"$f":"IF(B11<>\"\",IF($E$4=\"Slagtesvin\",VLOOKUP(B11,'Gompertz Slagtesvin'!A15:G173,3,FALSE),IF($E$4=\"Smågrise\",VLOOKUP(B11,'Gompertz Smågrise'!A16:G174,3,FALSE),VLOOKUP(B11+1,'Gompertz Pattegrise'!A16:G174,3,FALSE))),0)","v":0}]
[null,"",{"$f":"IF(A12<>\"\",VLOOKUP(A12,Foderdage!$C$4:$D$138,2,FALSE),\"\")","v":""},null,0,0,{"$f":"IF(C12<>\"\",(R12-$D$7)/SUM($M$8:M12)*1000,0)","v":0},null,null,null,0,{"$f":"IF(SUM(H12:J12)>0,(SUM($J$8:J12)+SUMPRODUCT($H$8:H12,$I$8:I12))/(R12-$D$7),0)","v":0},{"$f":"SUMIFS(Foderdage!$D$4:$D$138,Foderdage!$C$4:$C$138,\">\"&'Vejehold 2'!A11,Foderdage!$C$4:$C$138,\"<=\"&'Vejehold 2'!A12)","v":0},0,{"$f":"IF(SUM(H12:J12)>0,(SUM($J$8:J12)+SUMPRODUCT($H$8:H12,$I$8:I12))/SUM($M$8:M12),0)","v":0},0,0,0,{"$f":"IF(B12<>\"\",IF($E$4=\"Slagtesvin\",VLOOKUP(B12,'Gompertz Slagtesvin'!A16:G174,3,FALSE),IF($E$4=\"Smågrise\",VLOOKUP(B12,'Gompertz Smågrise'!A17:G175,3,FALSE),VLOOKUP(B12+1,'Gompertz Pattegrise'!A17:G175,3,FALSE))),0)","v":0}]
[null,"",{"$f":"IF(A13<>\"\",VLOOKUP(A13,Foderdage!$C$4:$D$138,2,FALSE),\"\")","v":""},null,0,0,{"$f":"IF(C13<>\"\",(R13-$D$7)/SUM($M$8:M13)*1000,0)","v":0},null,null,null,0,{"$f":"IF(SUM(H13:J13)>0,(SUM($J$8:J13)+SUMPRODUCT($H$8:H13,$I$8:I13))/(R13-$D$7),0)","v":0},{"$f":"SUMIFS(Foderdage!$D$4:$D$138,Foderdage!$C$4:$C$138,\">\"&'Vejehold 2'!A12,Foderdage!$C$4:$C$138,\"<=\"&'Vejehold 2'!A13)","v":0},0,{"$f":"IF(SUM(H13:J13)>0,(SUM($J$8:J13)+SUMPRODUCT($H$8:H13,$I$8:I13))/SUM($M$8:M13),0)","v":0},0,0,0,{"$f":"IF(B13<>\"\",IF($E$4=\"Slagtesvin\",VLOOKUP(B13,'Gompertz Slagtesvin'!A17:G175,3,FALSE),IF($E$4=\"Smågrise\",VLOOKUP(B13,'Gompertz Smågrise'!A18:G176,3,FALSE),VLOOKUP(B13+1,'Gompertz Pattegrise'!A18:G176,3,FALSE))),0)","v":0}]
[null,"",{"$f":"IF(A14<>\"\",VLOOKUP(A14,Foderdage!$C$4:$D$138,2,FALSE),\"\")","v":""},null,0,0,{"$f":"IF(C14<>\"\",(R14-$D$7)/SUM($M$8:M14)*1000,0)","v":0},null,null,null,0,{"$f":"IF(SUM(H14:J14)>0,(SUM($J$8:J14)+SUMPRODUCT($H$8:H14,$I$8:I14))/(R14-$D$7),0)","v":0},{"$f":"SUMIFS(Foderdage!$D$4:$D$138,Foderdage!$C$4:$C$138,\">\"&'Vejehold 2'!A13,Foderdage!$C$4:$C$138,\"<=\"&'Vejehold 2'!A14)","v":0},0,{"$f":"IF(SUM(H14:J14)>0,(SUM($J$8:J14)+SUMPRODUCT($H$8:H14,$I$8:I14))/SUM($M$8:M14),0)","v":0},0,0,0,{"$f":"IF(B14<>\"\",IF($E$4=\"Slagtesvin\",VLOOKUP(B14,'Gompertz Slagtesvin'!A18:G176,3,FALSE),IF($E$4=\"Smågrise\",VLOOKUP(B14,'Gompertz Smågrise'!A19:G177,3,FALSE),VLOOKUP(B14+1,'Gompertz Pattegrise'!A19:G177,3,FALSE))),0)","v":0}]
[null,"",{"$f":"IF(A15<>\"\",VLOOKUP(A15,Foderdage!$C$4:$D$138,2,FALSE),\"\")","v":""},null,0,0,{"$f":"IF(C15<>\"\",(R15-$D$7)/SUM($M$8:M15)*1000,0)","v":0},null,null,null,0,{"$f":"IF(SUM(H15:J15)>0,(SUM($J$8:J15)+SUMPRODUCT($H$8:H15,$I$8:I15))/(R15-$D$7),0)","v":0},{"$f":"SUMIFS(Foderdage!$D$4:$D$138,Foderdage!$C$4:$C$138,\">\"&'Vejehold 2'!A14,Foderdage!$C$4:$C$138,\"<=\"&'Vejehold 2'!A15)","v":0},0,{"$f":"IF(SUM(H15:J15)>0,(SUM($J$8:J15)+SUMPRODUCT($H$8:H15,$I$8:I15))/SUM($M$8:M15),0)","v":0},0,0,0,{"$f":"IF(B15<>\"\",IF($E$4=\"Slagtesvin\",VLOOKUP(B15,'Gompertz Slagtesvin'!A19:G177,3,FALSE),IF($E$4=\"Smågrise\",VLOOKUP(B15,'Gompertz Smågrise'!A20:G178,3,FALSE),VLOOKUP(B15+1,'Gompertz Pattegrise'!A20:G178,3,FALSE))),0)","v":0}]
[null,{"$f":"IF(A16<>\"\",A16-$A$7,\"\")","v":""},{"$f":"IF(A16<>\"\",VLOOKUP(A16,Foderdage!$C$4:$D$138,2,FALSE),\"\")","v":""},null,0,0,{"$f":"IF(C16<>\"\",(R16-$D$7)/SUM($M$8:M16)*1000,0)","v":0},null,null,null,0,{"$f":"IF(SUM(H16:J16)>0,(SUM($J$8:J16)+SUMPRODUCT($H$8:H16,$I$8:I16))/(R16-$D$7),0)","v":0},{"$f":"SUMIFS(Foderdage!$D$4:$D$138,Foderdage!$C$4:$C$138,\">\"&'Vejehold 2'!A15,Foderdage!$C$4:$C$138,\"<=\"&'Vejehold 2'!A16)","v":0},0,{"$f":"IF(SUM(H16:J16)>0,(SUM($J$8:J16)+SUMPRODUCT($H$8:H16,$I$8:I16))/SUM($M$8:M16),0)","v":0},0,0,0,{"$f":"IF(B16<>\"\",IF($E$4=\"Slagtesvin\",VLOOKUP(B16,'Gompertz Slagtesvin'!A20:G178,3,FALSE),IF($E$4=\"Smågrise\",VLOOKUP(B16,'Gompertz Smågrise'!A21:G179,3,FALSE),VLOOKUP(B16+1,'Gompertz Pattegrise'!A21:G179,3,FALSE))),0)","v":0}]
[null,{"$f":"IF(A17<>\"\",A17-$A$7,\"\")","v":""},{"$f":"IF(A17<>\"\",VLOOKUP(A17,Foderdage!$C$4:$D$138,2,FALSE),\"\")","v":""},null,0,0,{"$f":"IF(C17<>\"\",(R17-$D$7)/SUM($M$8:M17)*1000,0)","v":0},null,null,null,0,{"$f":"IF(SUM(H17:J17)>0,(SUM($J$8:J17)+SUMPRODUCT($H$8:H17,$I$8:I17))/(R17-$D$7),0)","v":0},{"$f":"SUMIFS(Foderdage!$D$4:$D$138,Foderdage!$C$4:$C$138,\">\"&'Vejehold 2'!A16,Foderdage!$C$4:$C$138,\"<=\"&'Vejehold 2'!A17)","v":0},0,{"$f":"IF(SUM(H17:J17)>0,(SUM($J$8:J17)+SUMPRODUCT($H$8:H17,$I$8:I17))/SUM($M$8:M17),0)","v":0},0,0,0,{"$f":"IF(B17<>\"\",IF($E$4=\"Slagtesvin\",VLOOKUP(B17,'Gompertz Slagtesvin'!A21:G179,3,FALSE),IF($E$4=\"Smågrise\",VLOOKUP(B17,'Gompertz Smågrise'!A22:G180,3,FALSE),VLOOKUP(B17+1,'Gompertz Pattegrise'!A22:G180,3,FALSE))),0)","v":0}]
[null,{"$f":"IF(A18<>\"\",A18-$A$7,\"\")","v":""},{"$f":"IF(A18<>\"\",VLOOKUP(A18,Foderdage!$C$4:$D$138,2,FALSE),\"\")","v":""},null,0,0,{"$f":"IF(C18<>\"\",(R18-$D$7)/SUM($M$8:M18)*1000,0)","v":0},null,null,null,0,{"$f":"IF(SUM(H18:J18)>0,(SUM($J$8:J18)+SUMPRODUCT($H$8:H18,$I$8:I18))/(R18-$D$7),0)","v":0},{"$f":"SUMIFS(Foderdage!$D$4:$D$138,Foderdage!$C$4:$C$138,\">\"&'Vejehold 2'!A17,Foderdage!$C$4:$C$138,\"<=\"&'Vejehold 2'!A18)","v":0},0,{"$f":"IF(SUM(H18:J18)>0,(SUM($J$8:J18)+SUMPRODUCT($H$8:H18,$I$8:I18))/SUM($M$8:M18),0)","v":0},0,0,0,{"$f":"IF(B18<>\"\",IF($E$4=\"Slagtesvin\",VLOOKUP(B18,'Gompertz Slagtesvin'!A22:G180,3,FALSE),IF($E$4=\"Smågrise\",VLOOKUP(B18,'Gompertz Smågrise'!A23:G181,3,FALSE),VLOOKUP(B18+1,'Gompertz Pattegrise'!A23:G181,3,FALSE))),0)","v":0}]
[null,"",{"$f":"IF(A19<>\"\",VLOOKUP(A19,Foderdage!$C$4:$D$138,2,FALSE),\"\")","v":""},null,0,0,{"$f":"IF(C19<>\"\",(R19-$D$7)/SUM($M$8:M19)*1000,0)","v":0},null,null,null,0,{"$f":"IF(SUM(H19:J19)>0,(SUM($J$8:J19)+SUMPRODUCT($H$8:H19,$I$8:I19))/(R19-$D$7),0)","v":0},{"$f":"SUMIFS(Foderdage!$D$4:$D$138,Foderdage!$C$4:$C$138,\">\"&'Vejehold 2'!A18,Foderdage!$C$4:$C$138,\"<=\"&'Vejehold 2'!A19)","v":0},0,{"$f":"IF(SUM(H19:J19)>0,(SUM($J$8:J19)+SUMPRODUCT($H$8:H19,$I$8:I19))/SUM($M$8:M19),0)","v":0},0,0,0,{"$f":"IF(B19<>\"\",IF($E$4=\"Slagtesvin\",VLOOKUP(B19,'Gompertz Slagtesvin'!A23:G181,3,FALSE),IF($E$4=\"Smågrise\",VLOOKUP(B19,'Gompertz Smågrise'!A24:G182,3,FALSE),VLOOKUP(B19+1,'Gompertz Pattegrise'!A24:G182,3,FALSE))),0)","v":0}]
[null,"",{"$f":"IF(A20<>\"\",VLOOKUP(A20,Foderdage!$C$4:$D$138,2,FALSE),\"\")","v":""},null,0,0,{"$f":"IF(C20<>\"\",(R20-$D$7)/SUM($M$8:M20)*1000,0)","v":0},null,null,null,0,{"$f":"IF(SUM(H20:J20)>0,(SUM($J$8:J20)+SUMPRODUCT($H$8:H20,$I$8:I20))/(R20-$D$7),0)","v":0},{"$f":"SUMIFS(Foderdage!$D$4:$D$138,Foderdage!$C$4:$C$138,\">\"&'Vejehold 2'!A19,Foderdage!$C$4:$C$138,\"<=\"&'Vejehold 2'!A20)","v":0},0,{"$f":"IF(SUM(H20:J20)>0,(SUM($J$8:J20)+SUMPRODUCT($H$8:H20,$I$8:I20))/SUM($M$8:M20),0)","v":0},0,0,0,{"$f":"IF(B20<>\"\",IF($E$4=\"Slagtesvin\",VLOOKUP(B20,'Gompertz Slagtesvin'!A24:G182,3,FALSE),IF($E$4=\"Smågrise\",VLOOKUP(B20,'Gompertz Smågrise'!A25:G183,3,FALSE),VLOOKUP(B20+1,'Gompertz Pattegrise'!A25:G183,3,FALSE))),0)","v":0}]
[null,"",{"$f":"IF(A21<>\"\",VLOOKUP(A21,Foderdage!$C$4:$D$138,2,FALSE),\"\")","v":""},null,0,0,{"$f":"IF(C21<>\"\",(R21-$D$7)/SUM($M$8:M21)*1000,0)","v":0},null,null,null,0,{"$f":"IF(SUM(H21:J21)>0,(SUM($J$8:J21)+SUMPRODUCT($H$8:H21,$I$8:I21))/(R21-$D$7),0)","v":0},{"$f":"SUMIFS(Foderdage!$D$4:$D$138,Foderdage!$C$4:$C$138,\">\"&'Vejehold 2'!A20,Foderdage!$C$4:$C$138,\"<=\"&'Vejehold 2'!A21)","v":0},0,{"$f":"IF(SUM(H21:J21)>0,(SUM($J$8:J21)+SUMPRODUCT($H$8:H21,$I$8:I21))/SUM($M$8:M21),0)","v":0},0,0,0,{"$f":"IF(B21<>\"\",IF($E$4=\"Slagtesvin\",VLOOKUP(B21,'Gompertz Slagtesvin'!A25:G183,3,FALSE),IF($E$4=\"Smågrise\",VLOOKUP(B21,'Gompertz Smågrise'!A26:G184,3,FALSE),VLOOKUP(B21+1,'Gompertz Pattegrise'!A26:G184,3,FALSE))),0)","v":0}]
[null,"",{"$f":"IF(A22<>\"\",VLOOKUP(A22,Foderdage!$C$4:$D$138,2,FALSE),\"\")","v":""},null,0,0,{"$f":"IF(C22<>\"\",(R22-$D$7)/SUM($M$8:M22)*1000,0)","v":0},null,null,null,0,{"$f":"IF(SUM(H22:J22)>0,(SUM($J$8:J22)+SUMPRODUCT($H$8:H22,$I$8:I22))/(R22-$D$7),0)","v":0},{"$f":"SUMIFS(Foderdage!$D$4:$D$138,Foderdage!$C$4:$C$138,\">\"&'Vejehold 2'!A21,Foderdage!$C$4:$C$138,\"<=\"&'Vejehold 2'!A22)","v":0},0,{"$f":"IF(SUM(H22:J22)>0,(SUM($J$8:J22)+SUMPRODUCT($H$8:H22,$I$8:I22))/SUM($M$8:M22),0)","v":0},0,0,0,{"$f":"IF(B22<>\"\",IF($E$4=\"Slagtesvin\",VLOOKUP(B22,'Gompertz Slagtesvin'!A26:G184,3,FALSE),IF($E$4=\"Smågrise\",VLOOKUP(B22,'Gompertz Smågrise'!A27:G185,3,FALSE),VLOOKUP(B22+1,'Gompertz Pattegrise'!A27:G185,3,FALSE))),0)","v":0}]
[null,"",{"$f":"IF(A23<>\"\",VLOOKUP(A23,Foderdage!$C$4:$D$138,2,FALSE),\"\")","v":""},null,0,0,{"$f":"IF(C23<>\"\",(R23-$D$7)/SUM($M$8:M23)*1000,0)","v":0},null,null,null,0,{"$f":"IF(SUM(H23:J23)>0,(SUM($J$8:J23)+SUMPRODUCT($H$8:H23,$I$8:I23))/(R23-$D$7),0)","v":0},{"$f":"SUMIFS(Foderdage!$D$4:$D$138,Foderdage!$C$4:$C$138,\">\"&'Vejehold 2'!A22,Foderdage!$C$4:$C$138,\"<=\"&'Vejehold 2'!A23)","v":0},0,{"$f":"IF(SUM(H23:J23)>0,(SUM($J$8:J23)+SUMPRODUCT($H$8:H23,$I$8:I23))/SUM($M$8:M23),0)","v":0},0,0,0,{"$f":"IF(B23<>\"\",IF($E$4=\"Slagtesvin\",VLOOKUP(B23,'Gompertz Slagtesvin'!A27:G185,3,FALSE),IF($E$4=\"Smågrise\",VLOOKUP(B23,'Gompertz Smågrise'!A28:G186,3,FALSE),VLOOKUP(B23+1,'Gompertz Pattegrise'!A28:G186,3,FALSE))),0)","v":0}]

{"sheet":"Vejehold 3","index":3,"n_rows":23,"n_cols":28,"rows_kept":23,"cut":false,"hidden":false,"merged":[[1,7,4,9],[3,0,3,3],[4,0,4,3],[4,20,4,23],[1,5,1,6],[1,22,1,24],[3,20,3,27]]}
[]
[null,null,"Der må kun tastes i de","grønne ","celler","Ver. 1.2",null,"Udfyld enten:\nKg udfodret periode og FE/kg \neller\nFE udfodret periode",null,null,null,null,null,null,null,null,null,null,null,null,"Navngiv vejehold",null,"Vejehold 3"]
[null,null,null,null,null,null,null,null,null,null,null,"Vejehold pattegrise",null,null,null,null,null,null,null,null,"Beskrivelse af holdet"]
["Vælg dyregruppe",null,null,null,"Slagtesvin",null,null,null,null,null,null,"Grise pr kuld efter kuldudjævning",null,null,13.5]
["Indtast total antal kvm i stien/stierne",null,null,null,null,null,null,null,null,null,null,null,null,null,null,null,null,null,null,null,"Se vejledning vedr. afgående grise",null,null,null,null,"Logbog"]
["Dato","Dag nr.","Antal grise","Vægt i alt","Gns. Kg. pr. gris","Daglig tilvækst i perioden","Daglig tilvækst til dato","Kg. udfodret periode","FE pr. kg","FE udfodret periode","FE pr. kg tilvækst periode","FE pr. kg tilvækst til dato","Foder-dage perioden","FE pr. dag pr. gris periode","FE pr. dag pr. gris til dato","Kg gris pr. kvm","Prod. kg. gris i perioden","Prod. kg. gris i alt",{"$f":"IF(E4=\"Slagtesvin\",\"Gennemsnitlig vækstkurve v. \"&TEXT('Gompertz Slagtesvin'!D8,\"###\")&\" gram daglig tilvækst\",IF(E4=\"Smågrise\",\"Gennemsnitlig vækstkurve v. \"&TEXT('Gompertz Smågrise'!D8,\"###\")&\" gram daglig tilvækst\",\"Gennemsnitlig vækstkurve\"))","v":"Gennemsnitlig vækstkurve v. 900 gram daglig tilvækst"},null,"Afgangsdato","Antal grise","Total vægt af afgåede grise","Årsag (vælg fra liste)",null,"Dato","  Hændelse","Sæt x for at fjerne hændelse fra grafer"]
[null,{"$f":"IF(A7<>\"\",A7-$A$7,\"\")","v":""},null,null,{"$f":"IF(C7<>\"\",D7/C7,0)","v":0},null,null,null,null,null,null,null,null,null,null,{"$f":"IF($E$5<>\"\",D7/$E$5,0)","v":0},{"$f":"D7","v":0},{"$f":"D7","v":0}]
[null,"",{"$f":"IF(A8<>\"\",VLOOKUP(A8,Foderdage!$E$4:$F$138,2,FALSE),\"\")","v":""},null,0,{"$f":"IF(C8<>\"\",(Q8-D7)/M8*1000,0)","v":0},{"$f":"IF(C8<>\"\",(R8-$D$7)/SUM($M$8:M8)*1000,0)","v":0},null,null,null,{"$f":"IF(J8=\"\",IF(AND(H8<>\"\",I8<>\"\"),H8*I8/(Q8-D7),0),J8/(Q8-D7))","v":0},{"$f":"IF(SUM(H8:J8)>0,(SUM($J$8:J8)+H8*I8)/(R8-$D$7),0)","v":0},{"$f":"SUMIFS(Foderdage!$F$4:$F$138,Foderdage!$E$4:$E$138,\">\"&'Vejehold 3'!A7,Foderdage!$E$4:$E$138,\"<=\"&'Vejehold 3'!A8)","v":0},{"$f":"IF(J8=\"\",IF(AND(H8<>\"\",I8<>\"\"),H8*I8/M8,0),J8/M8)","v":0},{"$f":"IF(SUM(H8:J8)>0,(SUM($J$8:J8)+H8*I8)/SUM($M$8:M8),0)","v":0},0,{"$f":"IF(A8<>\"\",D8+SUMIFS($W$7:$W$23,$U$7:$U$23,\">=\"&A7,$U$7:$U$23,\"<\"&A8),0)","v":0},{"$f":"IF(A8<>\"\",D8+SUMIFS($W$7:$W$23,$U$7:$U$23,\">=\"&$A$7,$U$7:$U$23,\"<\"&A8),0)","v":0},{"$f":"IF(B8<>\"\",IF($E$4=\"Slagtesvin\",VLOOKUP(B8,'Gompertz Slagtesvin'!A12:G170,4,FALSE),IF($E$4=\"Smågrise\",VLOOKUP(B8,'Gompertz Smågrise'!A13:G171,4,FALSE),VLOOKUP(B8+1,'Gompertz Pattegrise'!A13:G171,4,FALSE))),0)","v":0}]
[null,"",{"$f":"IF(A9<>\"\",VLOOKUP(A9,Foderdage!$E$4:$F$138,2,FALSE),\"\")","v":""},null,0,0,{"$f":"IF(C9<>\"\",(R9-$D$7)/SUM($M$8:M9)*1000,0)","v":0},null,null,null,0,{"$f":"IF(SUM(H9:J9)>0,(SUM($J$8:J9)+SUMPRODUCT($H$8:H9,$I$8:I9))/(R9-$D$7),0)","v":0},{"$f":"SUMIFS(Foderdage!$F$4:$F$138,Foderdage!$E$4:$E$138,\">\"&'Vejehold 3'!A8,Foderdage!$E$4:$E$138,\"<=\"&'Vejehold 3'!A9)","v":0},{"$f":"IF(J9=\"\",IF(AND(H9<>\"\",I9<>\"\"),H9*I9/M9,0),J9/M9)","v":0},{"$f":"IF(SUM(H9:J9)>0,(SUM($J$8:J9)+SUMPRODUCT($H$8:H9,$I$8:I9))/SUM($M$8:M9),0)","v":0},0,{"$f":"IF(A9<>\"\",D9+SUMIFS($W$7:$W$23,$U$7:$U$23,\">=\"&A8,$U$7:$U$23,\"<\"&A9),0)","v":0},{"$f":"IF(A9<>\"\",D9+SUMIFS($W$7:$W$23,$U$7:$U$23,\">=\"&$A$7,$U$7:$U$23,\"<\"&A9),0)","v":0},{"$f":"IF(B9<>\"\",IF($E$4=\"Slagtesvin\",VLOOKUP(B9,'Gompertz Slagtesvin'!A13:G171,4,FALSE),IF($E$4=\"Smågrise\",VLOOKUP(B9,'Gompertz Smågrise'!A14:G172,4,FALSE),VLOOKUP(B9+1,'Gompertz Pattegrise'!A14:G172,4,FALSE))),0)","v":0}]
[null,"",{"$f":"IF(A10<>\"\",VLOOKUP(A10,Foderdage!$E$4:$F$138,2,FALSE),\"\")","v":""},null,0,0,{"$f":"IF(C10<>\"\",(R10-$D$7)/SUM($M$8:M10)*1000,0)","v":0},null,null,null,0,{"$f":"IF(SUM(H10:J10)>0,(SUM($J$8:J10)+SUMPRODUCT($H$8:H10,$I$8:I10))/(R10-$D$7),0)","v":0},{"$f":"SUMIFS(Foderdage!$F$4:$F$138,Foderdage!$E$4:$E$138,\">\"&'Vejehold 3'!A9,Foderdage!$E$4:$E$138,\"<=\"&'Vejehold 3'!A10)","v":0},0,{"$f":"IF(SUM(H10:J10)>0,(SUM($J$8:J10)+SUMPRODUCT($H$8:H10,$I$8:I10))/SUM($M$8:M10),0)","v":0},0,0,0,{"$f":"IF(B10<>\"\",IF($E$4=\"Slagtesvin\",VLOOKUP(B10,'Gompertz Slagtesvin'!A14:G172,4,FALSE),IF($E$4=\"Smågrise\",VLOOKUP(B10,'Gompertz Smågrise'!A15:G173,4,FALSE),VLOOKUP(B10+1,'Gompertz Pattegrise'!A15:G173,4,FALSE))),0)","v":0}]
[null,"",{"$f":"IF(A11<>\"\",VLOOKUP(A11,Foderdage!$E$4:$F$138,2,FALSE),\"\")","v":""},null,0,0,{"$f":"IF(C11<>\"\",(R11-$D$7)/SUM($M$8:M11)*1000,0)","v":0},null,null,null,0,{"$f":"IF(SUM(H11:J11)>0,(SUM($J$8:J11)+SUMPRODUCT($H$8:H11,$I$8:I11))/(R11-$D$7),0)","v":0},{"$f":"SUMIFS(Foderdage!$F$4:$F$138,Foderdage!$E$4:$E$138,\">\"&'Vejehold 3'!A10,Foderdage!$E$4:$E$138,\"<=\"&'Vejehold 3'!A11)","v":0},0,{"$f":"IF(SUM(H11:J11)>0,(SUM($J$8:J11)+SUMPRODUCT($H$8:H11,$I$8:I11))/SUM($M$8:M11),0)","v":0},0,0,0,{"$f":"IF(B11<>\"\",IF($E$4=\"Slagtesvin\",VLOOKUP(B11,'Gompertz Slagtesvin'!A15:G173,4,FALSE),IF($E$4=\"Smågrise\",VLOOKUP(B11,'Gompertz Smågrise'!A16:G174,4,FALSE),VLOOKUP(B11+1,'Gompertz Pattegrise'!A16:G174,4,FALSE))),0)","v":0}]
[null,"",{"$f":"IF(A12<>\"\",VLOOKUP(A12,Foderdage!$E$4:$F$138,2,FALSE),\"\")","v":""},null,0,0,{"$f":"IF(C12<>\"\",(R12-$D$7)/SUM($M$8:M12)*1000,0)","v":0},null,null,null,0,{"$f":"IF(SUM(H12:J12)>0,(SUM($J$8:J12)+SUMPRODUCT($H$8:H12,$I$8:I12))/(R12-$D$7),0)","v":0},{"$f":"SUMIFS(Foderdage!$F$4:$F$138,Foderdage!$E$4:$E$138,\">\"&'Vejehold 3'!A11,Foderdage!$E$4:$E$138,\"<=\"&'Vejehold 3'!A12)","v":0},0,{"$f":"IF(SUM(H12:J12)>0,(SUM($J$8:J12)+SUMPRODUCT($H$8:H12,$I$8:I12))/SUM($M$8:M12),0)","v":0},0,0,0,{"$f":"IF(B12<>\"\",IF($E$4=\"Slagtesvin\",VLOOKUP(B12,'Gompertz Slagtesvin'!A16:G174,4,FALSE),IF($E$4=\"Smågrise\",VLOOKUP(B12,'Gompertz Smågrise'!A17:G175,4,FALSE),VLOOKUP(B12+1,'Gompertz Pattegrise'!A17:G175,4,FALSE))),0)","v":0}]
[null,"",{"$f":"IF(A13<>\"\",VLOOKUP(A13,Foderdage!$E$4:$F$138,2,FALSE),\"\")","v":""},null,0,0,{"$f":"IF(C13<>\"\",(R13-$D$7)/SUM($M$8:M13)*1000,0)","v":0},null,null,null,0,{"$f":"IF(SUM(H13:J13)>0,(SUM($J$8:J13)+SUMPRODUCT($H$8:H13,$I$8:I13))/(R13-$D$7),0)","v":0},{"$f":"SUMIFS(Foderdage!$F$4:$F$138,Foderdage!$E$4:$E$138,\">\"&'Vejehold 3'!A12,Foderdage!$E$4:$E$138,\"<=\"&'Vejehold 3'!A13)","v":0},0,{"$f":"IF(SUM(H13:J13)>0,(SUM($J$8:J13)+SUMPRODUCT($H$8:H13,$I$8:I13))/SUM($M$8:M13),0)","v":0},0,0,0,{"$f":"IF(B13<>\"\",IF($E$4=\"Slagtesvin\",VLOOKUP(B13,'Gompertz Slagtesvin'!A17:G175,4,FALSE),IF($E$4=\"Smågrise\",VLOOKUP(B13,'Gompertz Smågrise'!A18:G176,4,FALSE),VLOOKUP(B13+1,'Gompertz Pattegrise'!A18:G176,4,FALSE))),0)","v":0}]
[null,"",{"$f":"IF(A14<>\"\",VLOOKUP(A14,Foderdage!$E$4:$F$138,2,FALSE),\"\")","v":""},null,0,0,{"$f":"IF(C14<>\"\",(R14-$D$7)/SUM($M$8:M14)*1000,0)","v":0},null,null,null,0,{"$f":"IF(SUM(H14:J14)>0,(SUM($J$8:J14)+SUMPRODUCT($H$8:H14,$I$8:I14))/(R14-$D$7),0)","v":0},{"$f":"SUMIFS(Foderdage!$F$4:$F$138,Foderdage!$E$4:$E$138,\">\"&'Vejehold 3'!A13,Foderdage!$E$4:$E$138,\"<=\"&'Vejehold 3'!A14)","v":0},0,{"$f":"IF(SUM(H14:J14)>0,(SUM($J$8:J14)+SUMPRODUCT($H$8:H14,$I$8:I14))/SUM($M$8:M14),0)","v":0},0,0,0,{"$f":"IF(B14<>\"\",IF($E$4=\"Slagtesvin\",VLOOKUP(B14,'Gompertz Slagtesvin'!A18:G176,4,FALSE),IF($E$4=\"Smågrise\",VLOOKUP(B14,'Gompertz Smågrise'!A19:G177,4,FALSE),VLOOKUP(B14+1,'Gompertz Pattegrise'!A19:G177,4,FALSE))),0)","v":0}]
[null,"",{"$f":"IF(A15<>\"\",VLOOKUP(A15,Foderdage!$E$4:$F$138,2,FALSE),\"\")","v":""},null,0,0,{"$f":"IF(C15<>\"\",(R15-$D$7)/SUM($M$8:M15)*1000,0)","v":0},null,null,null,0,{"$f":"IF(SUM(H15:J15)>0,(SUM($J$8:J15)+SUMPRODUCT($H$8:H15,$I$8:I15))/(R15-$D$7),0)","v":0},{"$f":"SUMIFS(Foderdage!$F$4:$F$138,Foderdage!$E$4:$E$138,\">\"&'Vejehold 3'!A14,Foderdage!$E$4:$E$138,\"<=\"&'Vejehold 3'!A15)","v":0},0,{"$f":"IF(SUM(H15:J15)>0,(SUM($J$8:J15)+SUMPRODUCT($H$8:H15,$I$8:I15))/SUM($M$8:M15),0)","v":0},0,0,0,{"$f":"IF(B15<>\"\",IF($E$4=\"Slagtesvin\",VLOOKUP(B15,'Gompertz Slagtesvin'!A19:G177,4,FALSE),IF($E$4=\"Smågrise\",VLOOKUP(B15,'Gompertz Smågrise'!A20:G178,4,FALSE),VLOOKUP(B15+1,'Gompertz Pattegrise'!A20:G178,4,FALSE))),0)","v":0}]
[null,{"$f":"IF(A16<>\"\",A16-$A$7,\"\")","v":""},{"$f":"IF(A16<>\"\",VLOOKUP(A16,Foderdage!$E$4:$F$138,2,FALSE),\"\")","v":""},null,0,0,{"$f":"IF(C16<>\"\",(R16-$D$7)/SUM($M$8:M16)*1000,0)","v":0},null,null,null,0,{"$f":"IF(SUM(H16:J16)>0,(SUM($J$8:J16)+SUMPRODUCT($H$8:H16,$I$8:I16))/(R16-$D$7),0)","v":0},{"$f":"SUMIFS(Foderdage!$F$4:$F$138,Foderdage!$E$4:$E$138,\">\"&'Vejehold 3'!A15,Foderdage!$E$4:$E$138,\"<=\"&'Vejehold 3'!A16)","v":0},0,{"$f":"IF(SUM(H16:J16)>0,(SUM($J$8:J16)+SUMPRODUCT($H$8:H16,$I$8:I16))/SUM($M$8:M16),0)","v":0},0,0,0,{"$f":"IF(B16<>\"\",IF($E$4=\"Slagtesvin\",VLOOKUP(B16,'Gompertz Slagtesvin'!A20:G178,4,FALSE),IF($E$4=\"Smågrise\",VLOOKUP(B16,'Gompertz Smågrise'!A21:G179,4,FALSE),VLOOKUP(B16+1,'Gompertz Pattegrise'!A21:G179,4,FALSE))),0)","v":0}]
[null,{"$f":"IF(A17<>\"\",A17-$A$7,\"\")","v":""},{"$f":"IF(A17<>\"\",VLOOKUP(A17,Foderdage!$E$4:$F$138,2,FALSE),\"\")","v":""},null,0,0,{"$f":"IF(C17<>\"\",(R17-$D$7)/SUM($M$8:M17)*1000,0)","v":0},null,null,null,0,{"$f":"IF(SUM(H17:J17)>0,(SUM($J$8:J17)+SUMPRODUCT($H$8:H17,$I$8:I17))/(R17-$D$7),0)","v":0},{"$f":"SUMIFS(Foderdage!$F$4:$F$138,Foderdage!$E$4:$E$138,\">\"&'Vejehold 3'!A16,Foderdage!$E$4:$E$138,\"<=\"&'Vejehold 3'!A17)","v":0},0,{"$f":"IF(SUM(H17:J17)>0,(SUM($J$8:J17)+SUMPRODUCT($H$8:H17,$I$8:I17))/SUM($M$8:M17),0)","v":0},0,0,0,{"$f":"IF(B17<>\"\",IF($E$4=\"Slagtesvin\",VLOOKUP(B17,'Gompertz Slagtesvin'!A21:G179,4,FALSE),IF($E$4=\"Smågrise\",VLOOKUP(B17,'Gompertz Smågrise'!A22:G180,4,FALSE),VLOOKUP(B17+1,'Gompertz Pattegrise'!A22:G180,4,FALSE))),0)","v":0}]
[null,{"$f":"IF(A18<>\"\",A18-$A$7,\"\")","v":""},{"$f":"IF(A18<>\"\",VLOOKUP(A18,Foderdage!$E$4:$F$138,2,FALSE),\"\")","v":""},null,0,0,{"$f":"IF(C18<>\"\",(R18-$D$7)/SUM($M$8:M18)*1000,0)","v":0},null,null,null,0,{"$f":"IF(SUM(H18:J18)>0,(SUM($J$8:J18)+SUMPRODUCT($H$8:H18,$I$8:I18))/(R18-$D$7),0)","v":0},{"$f":"SUMIFS(Foderdage!$F$4:$F$138,Foderdage!$E$4:$E$138,\">\"&'Vejehold 3'!A17,Foderdage!$E$4:$E$138,\"<=\"&'Vejehold 3'!A18)","v":0},0,{"$f":"IF(SUM(H18:J18)>0,(SUM($J$8:J18)+SUMPRODUCT($H$8:H18,$I$8:I18))/SUM($M$8:M18),0)","v":0},0,0,0,{"$f":"IF(B18<>\"\",IF($E$4=\"Slagtesvin\",VLOOKUP(B18,'Gompertz Slagtesvin'!A22:G180,4,FALSE),IF($E$4=\"Smågrise\",VLOOKUP(B18,'Gompertz Smågrise'!A23:G181,4,FALSE),VLOOKUP(B18+1,'Gompertz Pattegrise'!A23:G181,4,FALSE))),0)","v":0}]
[null,"",{"$f":"IF(A19<>\"\",VLOOKUP(A19,Foderdage!$E$4:$F$138,2,FALSE),\"\")","v":""},null,0,0,{"$f":"IF(C19<>\"\",(R19-$D$7)/SUM($M$8:M19)*1000,0)","v":0},null,null,null,0,{"$f":"IF(SUM(H19:J19)>0,(SUM($J$8:J19)+SUMPRODUCT($H$8:H19,$I$8:I19))/(R19-$D$7),0)","v":0},{"$f":"SUMIFS(Foderdage!$F$4:$F$138,Foderdage!$E$4:$E$138,\">\"&'Vejehold 3'!A18,Foderdage!$E$4:$E$138,\"<=\"&'Vejehold 3'!A19)","v":0},0,{"$f":"IF(SUM(H19:J19)>0,(SUM($J$8:J19)+SUMPRODUCT($H$8:H19,$I$8:I19))/SUM($M$8:M19),0)","v":0},0,0,0,{"$f":"IF(B19<>\"\",IF($E$4=\"Slagtesvin\",VLOOKUP(B19,'Gompertz Slagtesvin'!A23:G181,4,FALSE),IF($E$4=\"Smågrise\",VLOOKUP(B19,'Gompertz Smågrise'!A24:G182,4,FALSE),VLOOKUP(B19+1,'Gompertz Pattegrise'!A24:G182,4,FALSE))),0)","v":0}]
[null,"",{"$f":"IF(A20<>\"\",VLOOKUP(A20,Foderdage!$E$4:$F$138,2,FALSE),\"\")","v":""},null,0,0,{"$f":"IF(C20<>\"\",(R20-$D$7)/SUM($M$8:M20)*1000,0)","v":0},null,null,null,0,{"$f":"IF(SUM(H20:J20)>0,(SUM($J$8:J20)+SUMPRODUCT($H$8:H20,$I$8:I20))/(R20-$D$7),0)","v":0},{"$f":"SUMIFS(Foderdage!$F$4:$F$138,Foderdage!$E$4:$E$138,\">\"&'Vejehold 3'!A19,Foderdage!$E$4:$E$138,\"<=\"&'Vejehold 3'!A20)","v":0},0,{"$f":"IF(SUM(H20:J20)>0,(SUM($J$8:J20)+SUMPRODUCT($H$8:H20,$I$8:I20))/SUM($M$8:M20),0)","v":0},0,0,0,{"$f":"IF(B20<>\"\",IF($E$4=\"Slagtesvin\",VLOOKUP(B20,'Gompertz Slagtesvin'!A24:G182,4,FALSE),IF($E$4=\"Smågrise\",VLOOKUP(B20,'Gompertz Smågrise'!A25:G183,4,FALSE),VLOOKUP(B20+1,'Gompertz Pattegrise'!A25:G183,4,FALSE))),0)","v":0}]
[null,"",{"$f":"IF(A21<>\"\",VLOOKUP(A21,Foderdage!$E$4:$F$138,2,FALSE),\"\")","v":""},null,0,0,{"$f":"IF(C21<>\"\",(R21-$D$7)/SUM($M$8:M21)*1000,0)","v":0},null,null,null,0,{"$f":"IF(SUM(H21:J21)>0,(SUM($J$8:J21)+SUMPRODUCT($H$8:H21,$I$8:I21))/(R21-$D$7),0)","v":0},{"$f":"SUMIFS(Foderdage!$F$4:$F$138,Foderdage!$E$4:$E$138,\">\"&'Vejehold 3'!A20,Foderdage!$E$4:$E$138,\"<=\"&'Vejehold 3'!A21)","v":0},0,{"$f":"IF(SUM(H21:J21)>0,(SUM($J$8:J21)+SUMPRODUCT($H$8:H21,$I$8:I21))/SUM($M$8:M21),0)","v":0},0,0,0,{"$f":"IF(B21<>\"\",IF($E$4=\"Slagtesvin\",VLOOKUP(B21,'Gompertz Slagtesvin'!A25:G183,4,FALSE),IF($E$4=\"Smågrise\",VLOOKUP(B21,'Gompertz Smågrise'!A26:G184,4,FALSE),VLOOKUP(B21+1,'Gompertz Pattegrise'!A26:G184,4,FALSE))),0)","v":0}]
[null,"",{"$f":"IF(A22<>\"\",VLOOKUP(A22,Foderdage!$E$4:$F$138,2,FALSE),\"\")","v":""},null,0,0,{"$f":"IF(C22<>\"\",(R22-$D$7)/SUM($M$8:M22)*1000,0)","v":0},null,null,null,0,{"$f":"IF(SUM(H22:J22)>0,(SUM($J$8:J22)+SUMPRODUCT($H$8:H22,$I$8:I22))/(R22-$D$7),0)","v":0},{"$f":"SUMIFS(Foderdage!$F$4:$F$138,Foderdage!$E$4:$E$138,\">\"&'Vejehold 3'!A21,Foderdage!$E$4:$E$138,\"<=\"&'Vejehold 3'!A22)","v":0},0,{"$f":"IF(SUM(H22:J22)>0,(SUM($J$8:J22)+SUMPRODUCT($H$8:H22,$I$8:I22))/SUM($M$8:M22),0)","v":0},0,0,0,{"$f":"IF(B22<>\"\",IF($E$4=\"Slagtesvin\",VLOOKUP(B22,'Gompertz Slagtesvin'!A26:G184,4,FALSE),IF($E$4=\"Smågrise\",VLOOKUP(B22,'Gompertz Smågrise'!A27:G185,4,FALSE),VLOOKUP(B22+1,'Gompertz Pattegrise'!A27:G185,4,FALSE))),0)","v":0}]
[null,"",{"$f":"IF(A23<>\"\",VLOOKUP(A23,Foderdage!$E$4:$F$138,2,FALSE),\"\")","v":""},null,0,0,{"$f":"IF(C23<>\"\",(R23-$D$7)/SUM($M$8:M23)*1000,0)","v":0},null,null,null,0,{"$f":"IF(SUM(H23:J23)>0,(SUM($J$8:J23)+SUMPRODUCT($H$8:H23,$I$8:I23))/(R23-$D$7),0)","v":0},{"$f":"SUMIFS(Foderdage!$F$4:$F$138,Foderdage!$E$4:$E$138,\">\"&'Vejehold 3'!A22,Foderdage!$E$4:$E$138,\"<=\"&'Vejehold 3'!A23)","v":0},0,{"$f":"IF(SUM(H23:J23)>0,(SUM($J$8:J23)+SUMPRODUCT($H$8:H23,$I$8:I23))/SUM($M$8:M23),0)","v":0},0,0,0,{"$f":"IF(B23<>\"\",IF($E$4=\"Slagtesvin\",VLOOKUP(B23,'Gompertz Slagtesvin'!A27:G185,4,FALSE),IF($E$4=\"Smågrise\",VLOOKUP(B23,'Gompertz Smågrise'!A28:G186,4,FALSE),VLOOKUP(B23+1,'Gompertz Pattegrise'!A28:G186,4,FALSE))),0)","v":0}]

{"sheet":"Vejehold 4","index":4,"n_rows":23,"n_cols":28,"rows_kept":23,"cut":false,"hidden":false,"merged":[[1,7,4,9],[3,0,3,3],[4,0,4,3],[4,20,4,23],[1,5,1,6],[1,22,1,24],[3,20,3,27]]}
[]
[null,null,"Der må kun tastes i de","grønne ","celler","Ver. 1.2",null,"Udfyld enten:\nKg udfodret periode og FE/kg \neller\nFE udfodret periode",null,null,null,null,null,null,null,null,null,null,null,null,"Navngiv vejehold",null,"Vejehold 4"]
[null,null,null,null,null,null,null,null,null,null,null,"Vejehold pattegrise",null,null,null,null,null,null,null,null,"Beskrivelse af holdet"]
["Vælg dyregruppe",null,null,null,"Slagtesvin",null,null,null,null,null,null,"Grise pr kuld efter kuldudjævning",null,null,13.5]
["Indtast total antal kvm i stien/stierne",null,null,null,null,null,null,null,null,null,null,null,null,null,null,null,null,null,null,null,"Se vejledning vedr. afgående grise",null,null,null,null,"Logbog"]
["Dato","Dag nr.","Antal grise","Vægt i alt","Gns. Kg. pr. gris","Daglig tilvækst i perioden","Daglig tilvækst til dato","Kg. udfodret periode","FE pr. kg","FE udfodret periode","FE pr. kg tilvækst periode","FE pr. kg tilvækst til dato","Foder-dage perioden","FE pr. dag pr. gris periode","FE pr. dag pr. gris til dato","Kg gris pr. kvm","Prod. kg. gris i perioden","Prod. kg. gris i alt",{"$f":"IF(E4=\"Slagtesvin\",\"Gennemsnitlig vækstkurve v. \"&TEXT('Gompertz Slagtesvin'!E8,\"###\")&\" gram daglig tilvækst\",IF(E4=\"Smågrise\",\"Gennemsnitlig vækstkurve v. \"&TEXT('Gompertz Smågrise'!E8,\"###\")&\" gram daglig tilvækst\",\"Gennemsnitlig vækstkurve\"))","v":"Gennemsnitlig vækstkurve v. 900 gram daglig tilvækst"},null,"Afgangsdato","Antal grise","Total vægt af afgåede grise","Årsag (vælg fra liste)",null,"Dato","  Hændelse","Sæt x for at fjerne hændelse fra grafer"]
[null,{"$f":"IF(A7<>\"\",A7-$A$7,\"\")","v":""},null,null,{"$f":"IF(C7<>\"\",D7/C7,0)","v":0},null,null,null,null,null,null,null,null,null,null,{"$f":"IF($E$5<>\"\",D7/$E$5,0)","v":0},{"$f":"D7","v":0},{"$f":"D7","v":0}]
[null,"",{"$f":"IF(A8<>\"\",VLOOKUP(A8,Foderdage!$G$4:$H$138,2,FALSE),\"\")","v":""},null,0,{"$f":"IF(C8<>\"\",(Q8-D7)/M8*1000,0)","v":0},{"$f":"IF(C8<>\"\",(R8-$D$7)/SUM($M$8:M8)*1000,0)","v":0},null,null,null,{"$f":"IF(J8=\"\",IF(AND(H8<>\"\",I8<>\"\"),H8*I8/(Q8-D7),0),J8/(Q8-D7))","v":0},{"$f":"IF(SUM(H8:J8)>0,(SUM($J$8:J8)+H8*I8)/(R8-$D$7),0)","v":0},{"$f":"SUMIFS(Foderdage!$H$4:$H$138,Foderdage!$G$4:$G$138,\">\"&'Vejehold 4'!A7,Foderdage!$G$4:$G$138,\"<=\"&'Vejehold 4'!A8)","v":0},{"$f":"IF(J8=\"\",IF(AND(H8<>\"\",I8<>\"\"),H8*I8/M8,0),J8/M8)","v":0},{"$f":"IF(SUM(H8:J8)>0,(SUM($J$8:J8)+H8*I8)/SUM($M$8:M8),0)","v":0},0,{"$f":"IF(A8<>\"\",D8+SUMIFS($W$7:$W$23,$U$7:$U$23,\">=\"&A7,$U$7:$U$23,\"<\"&A8),0)","v":0},{"$f":"IF(A8<>\"\",D8+SUMIFS($W$7:$W$23,$U$7:$U$23,\">=\"&$A$7,$U$7:$U$23,\"<\"&A8),0)","v":0},{"$f":"IF(B8<>\"\",IF($E$4=\"Slagtesvin\",VLOOKUP(B8,'Gompertz Slagtesvin'!A12:G170,5,FALSE),IF($E$4=\"Smågrise\",VLOOKUP(B8,'Gompertz Smågrise'!A13:G171,5,FALSE),VLOOKUP(B8+1,'Gompertz Pattegrise'!A13:G171,5,FALSE))),0)","v":0}]
[null,"",{"$f":"IF(A9<>\"\",VLOOKUP(A9,Foderdage!$G$4:$H$138,2,FALSE),\"\")","v":""},null,0,0,{"$f":"IF(C9<>\"\",(R9-$D$7)/SUM($M$8:M9)*1000,0)","v":0},null,null,null,0,{"$f":"IF(SUM(H9:J9)>0,(SUM($J$8:J9)+SUMPRODUCT($H$8:H9,$I$8:I9))/(R9-$D$7),0)","v":0},{"$f":"SUMIFS(Foderdage!$H$4:$H$138,Foderdage!$G$4:$G$138,\">\"&'Vejehold 4'!A8,Foderdage!$G$4:$G$138,\"<=\"&'Vejehold 4'!A9)","v":0},{"$f":"IF(J9=\"\",IF(AND(H9<>\"\",I9<>\"\"),H9*I9/M9,0),J9/M9)","v":0},{"$f":"IF(SUM(H9:J9)>0,(SUM($J$8:J9)+SUMPRODUCT($H$8:H9,$I$8:I9))/SUM($M$8:M9),0)","v":0},0,{"$f":"IF(A9<>\"\",D9+SUMIFS($W$7:$W$23,$U$7:$U$23,\">=\"&A8,$U$7:$U$23,\"<\"&A9),0)","v":0},{"$f":"IF(A9<>\"\",D9+SUMIFS($W$7:$W$23,$U$7:$U$23,\">=\"&$A$7,$U$7:$U$23,\"<\"&A9),0)","v":0},{"$f":"IF(B9<>\"\",IF($E$4=\"Slagtesvin\",VLOOKUP(B9,'Gompertz Slagtesvin'!A13:G171,5,FALSE),IF($E$4=\"Smågrise\",VLOOKUP(B9,'Gompertz Smågrise'!A14:G172,5,FALSE),VLOOKUP(B9+1,'Gompertz Pattegrise'!A14:G172,5,FALSE))),0)","v":0}]
[null,"",{"$f":"IF(A10<>\"\",VLOOKUP(A10,Foderdage!$G$4:$H$138,2,FALSE),\"\")","v":""},null,0,0,{"$f":"IF(C10<>\"\",(R10-$D$7)/SUM($M$8:M10)*1000,0)","v":0},null,null,null,0,{"$f":"IF(SUM(H10:J10)>0,(SUM($J$8:J10)+SUMPRODUCT($H$8:H10,$I$8:I10))/(R10-$D$7),0)","v":0},{"$f":"SUMIFS(Foderdage!$H$4:$H$138,Foderdage!$G$4:$G$138,\">\"&'Vejehold 4'!A9,Foderdage!$G$4:$G$138,\"<=\"&'Vejehold 4'!A10)","v":0},0,{"$f":"IF(SUM(H10:J10)>0,(SUM($J$8:J10)+SUMPRODUCT($H$8:H10,$I$8:I10))/SUM($M$8:M10),0)","v":0},0,0,0,{"$f":"IF(B10<>\"\",IF($E$4=\"Slagtesvin\",VLOOKUP(B10,'Gompertz Slagtesvin'!A14:G172,5,FALSE),IF($E$4=\"Smågrise\",VLOOKUP(B10,'Gompertz Smågrise'!A15:G173,5,FALSE),VLOOKUP(B10+1,'Gompertz Pattegrise'!A15:G173,5,FALSE))),0)","v":0}]
[null,"",{"$f":"IF(A11<>\"\",VLOOKUP(A11,Foderdage!$G$4:$H$138,2,FALSE),\"\")","v":""},null,0,0,{"$f":"IF(C11<>\"\",(R11-$D$7)/SUM($M$8:M11)*1000,0)","v":0},null,null,null,0,{"$f":"IF(SUM(H11:J11)>0,(SUM($J$8:J11)+SUMPRODUCT($H$8:H11,$I$8:I11))/(R11-$D$7),0)","v":0},{"$f":"SUMIFS(Foderdage!$H$4:$H$138,Foderdage!$G$4:$G$138,\">\"&'Vejehold 4'!A10,Foderdage!$G$4:$G$138,\"<=\"&'Vejehold 4'!A11)","v":0},0,{"$f":"IF(SUM(H11:J11)>0,(SUM($J$8:J11)+SUMPRODUCT($H$8:H11,$I$8:I11))/SUM($M$8:M11),0)","v":0},0,0,0,{"$f":"IF(B11<>\"\",IF($E$4=\"Slagtesvin\",VLOOKUP(B11,'Gompertz Slagtesvin'!A15:G173,5,FALSE),IF($E$4=\"Smågrise\",VLOOKUP(B11,'Gompertz Smågrise'!A16:G174,5,FALSE),VLOOKUP(B11+1,'Gompertz Pattegrise'!A16:G174,5,FALSE))),0)","v":0}]
[null,"",{"$f":"IF(A12<>\"\",VLOOKUP(A12,Foderdage!$G$4:$H$138,2,FALSE),\"\")","v":""},null,0,0,{"$f":"IF(C12<>\"\",(R12-$D$7)/SUM($M$8:M12)*1000,0)","v":0},null,null,null,0,{"$f":"IF(SUM(H12:J12)>0,(SUM($J$8:J12)+SUMPRODUCT($H$8:H12,$I$8:I12))/(R12-$D$7),0)","v":0},{"$f":"SUMIFS(Foderdage!$H$4:$H$138,Foderdage!$G$4:$G$138,\">\"&'Vejehold 4'!A11,Foderdage!$G$4:$G$138,\"<=\"&'Vejehold 4'!A12)","v":0},0,{"$f":"IF(SUM(H12:J12)>0,(SUM($J$8:J12)+SUMPRODUCT($H$8:H12,$I$8:I12))/SUM($M$8:M12),0)","v":0},0,0,0,{"$f":"IF(B12<>\"\",IF($E$4=\"Slagtesvin\",VLOOKUP(B12,'Gompertz Slagtesvin'!A16:G174,5,FALSE),IF($E$4=\"Smågrise\",VLOOKUP(B12,'Gompertz Smågrise'!A17:G175,5,FALSE),VLOOKUP(B12+1,'Gompertz Pattegrise'!A17:G175,5,FALSE))),0)","v":0}]
[null,"",{"$f":"IF(A13<>\"\",VLOOKUP(A13,Foderdage!$G$4:$H$138,2,FALSE),\"\")","v":""},null,0,0,{"$f":"IF(C13<>\"\",(R13-$D$7)/SUM($M$8:M13)*1000,0)","v":0},null,null,null,0,{"$f":"IF(SUM(H13:J13)>0,(SUM($J$8:J13)+SUMPRODUCT($H$8:H13,$I$8:I13))/(R13-$D$7),0)","v":0},{"$f":"SUMIFS(Foderdage!$H$4:$H$138,Foderdage!$G$4:$G$138,\">\"&'Vejehold 4'!A12,Foderdage!$G$4:$G$138,\"<=\"&'Vejehold 4'!A13)","v":0},0,{"$f":"IF(SUM(H13:J13)>0,(SUM($J$8:J13)+SUMPRODUCT($H$8:H13,$I$8:I13))/SUM($M$8:M13),0)","v":0},0,0,0,{"$f":"IF(B13<>\"\",IF($E$4=\"Slagtesvin\",VLOOKUP(B13,'Gompertz Slagtesvin'!A17:G175,5,FALSE),IF($E$4=\"Smågrise\",VLOOKUP(B13,'Gompertz Smågrise'!A18:G176,5,FALSE),VLOOKUP(B13+1,'Gompertz Pattegrise'!A18:G176,5,FALSE))),0)","v":0}]
[null,"",{"$f":"IF(A14<>\"\",VLOOKUP(A14,Foderdage!$G$4:$H$138,2,FALSE),\"\")","v":""},null,0,0,{"$f":"IF(C14<>\"\",(R14-$D$7)/SUM($M$8:M14)*1000,0)","v":0},null,null,null,0,{"$f":"IF(SUM(H14:J14)>0,(SUM($J$8:J14)+SUMPRODUCT($H$8:H14,$I$8:I14))/(R14-$D$7),0)","v":0},{"$f":"SUMIFS(Foderdage!$H$4:$H$138,Foderdage!$G$4:$G$138,\">\"&'Vejehold 4'!A13,Foderdage!$G$4:$G$138,\"<=\"&'Vejehold 4'!A14)","v":0},0,{"$f":"IF(SUM(H14:J14)>0,(SUM($J$8:J14)+SUMPRODUCT($H$8:H14,$I$8:I14))/SUM($M$8:M14),0)","v":0},0,0,0,{"$f":"IF(B14<>\"\",IF($E$4=\"Slagtesvin\",VLOOKUP(B14,'Gompertz Slagtesvin'!A18:G176,5,FALSE),IF($E$4=\"Smågrise\",VLOOKUP(B14,'Gompertz Smågrise'!A19:G177,5,FALSE),VLOOKUP(B14+1,'Gompertz Pattegrise'!A19:G177,5,FALSE))),0)","v":0}]
[null,"",{"$f":"IF(A15<>\"\",VLOOKUP(A15,Foderdage!$G$4:$H$138,2,FALSE),\"\")","v":""},null,0,0,{"$f":"IF(C15<>\"\",(R15-$D$7)/SUM($M$8:M15)*1000,0)","v":0},null,null,null,0,{"$f":"IF(SUM(H15:J15)>0,(SUM($J$8:J15)+SUMPRODUCT($H$8:H15,$I$8:I15))/(R15-$D$7),0)","v":0},{"$f":"SUMIFS(Foderdage!$H$4:$H$138,Foderdage!$G$4:$G$138,\">\"&'Vejehold 4'!A14,Foderdage!$G$4:$G$138,\"<=\"&'Vejehold 4'!A15)","v":0},0,{"$f":"IF(SUM(H15:J15)>0,(SUM($J$8:J15)+SUMPRODUCT($H$8:H15,$I$8:I15))/SUM($M$8:M15),0)","v":0},0,0,0,{"$f":"IF(B15<>\"\",IF($E$4=\"Slagtesvin\",VLOOKUP(B15,'Gompertz Slagtesvin'!A19:G177,5,FALSE),IF($E$4=\"Smågrise\",VLOOKUP(B15,'Gompertz Smågrise'!A20:G178,5,FALSE),VLOOKUP(B15+1,'Gompertz Pattegrise'!A20:G178,5,FALSE))),0)","v":0}]
[null,{"$f":"IF(A16<>\"\",A16-$A$7,\"\")","v":""},{"$f":"IF(A16<>\"\",VLOOKUP(A16,Foderdage!$G$4:$H$138,2,FALSE),\"\")","v":""},null,0,0,{"$f":"IF(C16<>\"\",(R16-$D$7)/SUM($M$8:M16)*1000,0)","v":0},null,null,null,0,{"$f":"IF(SUM(H16:J16)>0,(SUM($J$8:J16)+SUMPRODUCT($H$8:H16,$I$8:I16))/(R16-$D$7),0)","v":0},{"$f":"SUMIFS(Foderdage!$H$4:$H$138,Foderdage!$G$4:$G$138,\">\"&'Vejehold 4'!A15,Foderdage!$G$4:$G$138,\"<=\"&'Vejehold 4'!A16)","v":0},0,{"$f":"IF(SUM(H16:J16)>0,(SUM($J$8:J16)+SUMPRODUCT($H$8:H16,$I$8:I16))/SUM($M$8:M16),0)","v":0},0,0,0,{"$f":"IF(B16<>\"\",IF($E$4=\"Slagtesvin\",VLOOKUP(B16,'Gompertz Slagtesvin'!A20:G178,5,FALSE),IF($E$4=\"Smågrise\",VLOOKUP(B16,'Gompertz Smågrise'!A21:G179,5,FALSE),VLOOKUP(B16+1,'Gompertz Pattegrise'!A21:G179,5,FALSE))),0)","v":0}]
[null,{"$f":"IF(A17<>\"\",A17-$A$7,\"\")","v":""},{"$f":"IF(A17<>\"\",VLOOKUP(A17,Foderdage!$G$4:$H$138,2,FALSE),\"\")","v":""},null,0,0,{"$f":"IF(C17<>\"\",(R17-$D$7)/SUM($M$8:M17)*1000,0)","v":0},null,null,null,0,{"$f":"IF(SUM(H17:J17)>0,(SUM($J$8:J17)+SUMPRODUCT($H$8:H17,$I$8:I17))/(R17-$D$7),0)","v":0},{"$f":"SUMIFS(Foderdage!$H$4:$H$138,Foderdage!$G$4:$G$138,\">\"&'Vejehold 4'!A16,Foderdage!$G$4:$G$138,\"<=\"&'Vejehold 4'!A17)","v":0},0,{"$f":"IF(SUM(H17:J17)>0,(SUM($J$8:J17)+SUMPRODUCT($H$8:H17,$I$8:I17))/SUM($M$8:M17),0)","v":0},0,0,0,{"$f":"IF(B17<>\"\",IF($E$4=\"Slagtesvin\",VLOOKUP(B17,'Gompertz Slagtesvin'!A21:G179,5,FALSE),IF($E$4=\"Smågrise\",VLOOKUP(B17,'Gompertz Smågrise'!A22:G180,5,FALSE),VLOOKUP(B17+1,'Gompertz Pattegrise'!A22:G180,5,FALSE))),0)","v":0}]
[null,{"$f":"IF(A18<>\"\",A18-$A$7,\"\")","v":""},{"$f":"IF(A18<>\"\",VLOOKUP(A18,Foderdage!$G$4:$H$138,2,FALSE),\"\")","v":""},null,0,0,{"$f":"IF(C18<>\"\",(R18-$D$7)/SUM($M$8:M18)*1000,0)","v":0},null,null,null,0,{"$f":"IF(SUM(H18:J18)>0,(SUM($J$8:J18)+SUMPRODUCT($H$8:H18,$I$8:I18))/(R18-$D$7),0)","v":0},{"$f":"SUMIFS(Foderdage!$H$4:$H$138,Foderdage!$G$4:$G$138,\">\"&'Vejehold 4'!A17,Foderdage!$G$4:$G$138,\"<=\"&'Vejehold 4'!A18)","v":0},0,{"$f":"IF(SUM(H18:J18)>0,(SUM($J$8:J18)+SUMPRODUCT($H$8:H18,$I$8:I18))/SUM($M$8:M18),0)","v":0},0,0,0,{"$f":"IF(B18<>\"\",IF($E$4=\"Slagtesvin\",VLOOKUP(B18,'Gompertz Slagtesvin'!A22:G180,5,FALSE),IF($E$4=\"Smågrise\",VLOOKUP(B18,'Gompertz Smågrise'!A23:G181,5,FALSE),VLOOKUP(B18+1,'Gompertz Pattegrise'!A23:G181,5,FALSE))),0)","v":0}]
[null,"",{"$f":"IF(A19<>\"\",VLOOKUP(A19,Foderdage!$G$4:$H$138,2,FALSE),\"\")","v":""},null,0,0,{"$f":"IF(C19<>\"\",(R19-$D$7)/SUM($M$8:M19)*1000,0)","v":0},null,null,null,0,{"$f":"IF(SUM(H19:J19)>0,(SUM($J$8:J19)+SUMPRODUCT($H$8:H19,$I$8:I19))/(R19-$D$7),0)","v":0},{"$f":"SUMIFS(Foderdage!$H$4:$H$138,Foderdage!$G$4:$G$138,\">\"&'Vejehold 4'!A18,Foderdage!$G$4:$G$138,\"<=\"&'Vejehold 4'!A19)","v":0},0,{"$f":"IF(SUM(H19:J19)>0,(SUM($J$8:J19)+SUMPRODUCT($H$8:H19,$I$8:I19))/SUM($M$8:M19),0)","v":0},0,0,0,{"$f":"IF(B19<>\"\",IF($E$4=\"Slagtesvin\",VLOOKUP(B19,'Gompertz Slagtesvin'!A23:G181,5,FALSE),IF($E$4=\"Smågrise\",VLOOKUP(B19,'Gompertz Smågrise'!A24:G182,5,FALSE),VLOOKUP(B19+1,'Gompertz Pattegrise'!A24:G182,5,FALSE))),0)","v":0}]
[null,"",{"$f":"IF(A20<>\"\",VLOOKUP(A20,Foderdage!$G$4:$H$138,2,FALSE),\"\")","v":""},null,0,0,{"$f":"IF(C20<>\"\",(R20-$D$7)/SUM($M$8:M20)*1000,0)","v":0},null,null,null,0,{"$f":"IF(SUM(H20:J20)>0,(SUM($J$8:J20)+SUMPRODUCT($H$8:H20,$I$8:I20))/(R20-$D$7),0)","v":0},{"$f":"SUMIFS(Foderdage!$H$4:$H$138,Foderdage!$G$4:$G$138,\">\"&'Vejehold 4'!A19,Foderdage!$G$4:$G$138,\"<=\"&'Vejehold 4'!A20)","v":0},0,{"$f":"IF(SUM(H20:J20)>0,(SUM($J$8:J20)+SUMPRODUCT($H$8:H20,$I$8:I20))/SUM($M$8:M20),0)","v":0},0,0,0,{"$f":"IF(B20<>\"\",IF($E$4=\"Slagtesvin\",VLOOKUP(B20,'Gompertz Slagtesvin'!A24:G182,5,FALSE),IF($E$4=\"Smågrise\",VLOOKUP(B20,'Gompertz Smågrise'!A25:G183,5,FALSE),VLOOKUP(B20+1,'Gompertz Pattegrise'!A25:G183,5,FALSE))),0)","v":0}]
[null,"",{"$f":"IF(A21<>\"\",VLOOKUP(A21,Foderdage!$G$4:$H$138,2,FALSE),\"\")","v":""},null,0,0,{"$f":"IF(C21<>\"\",(R21-$D$7)/SUM($M$8:M21)*1000,0)","v":0},null,null,null,0,{"$f":"IF(SUM(H21:J21)>0,(SUM($J$8:J21)+SUMPRODUCT($H$8:H21,$I$8:I21))/(R21-$D$7),0)","v":0},{"$f":"SUMIFS(Foderdage!$H$4:$H$138,Foderdage!$G$4:$G$138,\">\"&'Vejehold 4'!A20,Foderdage!$G$4:$G$138,\"<=\"&'Vejehold 4'!A21)","v":0},0,{"$f":"IF(SUM(H21:J21)>0,(SUM($J$8:J21)+SUMPRODUCT($H$8:H21,$I$8:I21))/SUM($M$8:M21),0)","v":0},0,0,0,{"$f":"IF(B21<>\"\",IF($E$4=\"Slagtesvin\",VLOOKUP(B21,'Gompertz Slagtesvin'!A25:G183,5,FALSE),IF($E$4=\"Smågrise\",VLOOKUP(B21,'Gompertz Smågrise'!A26:G184,5,FALSE),VLOOKUP(B21+1,'Gompertz Pattegrise'!A26:G184,5,FALSE))),0)","v":0}]
[null,"",{"$f":"IF(A22<>\"\",VLOOKUP(A22,Foderdage!$G$4:$H$138,2,FALSE),\"\")","v":""},null,0,0,{"$f":"IF(C22<>\"\",(R22-$D$7)/SUM($M$8:M22)*1000,0)","v":0},null,null,null,0,{"$f":"IF(SUM(H22:J22)>0,(SUM($J$8:J22)+SUMPRODUCT($H$8:H22,$I$8:I22))/(R22-$D$7),0)","v":0},{"$f":"SUMIFS(Foderdage!$H$4:$H$138,Foderdage!$G$4:$G$138,\">\"&'Vejehold 4'!A21,Foderdage!$G$4:$G$138,\"<=\"&'Vejehold 4'!A22)","v":0},0,{"$f":"IF(SUM(H22:J22)>0,(SUM($J$8:J22)+SUMPRODUCT($H$8:H22,$I$8:I22))/SUM($M$8:M22),0)","v":0},0,0,0,{"$f":"IF(B22<>\"\",IF($E$4=\"Slagtesvin\",VLOOKUP(B22,'Gompertz Slagtesvin'!A26:G184,5,FALSE),IF($E$4=\"Smågrise\",VLOOKUP(B22,'Gompertz Smågrise'!A27:G185,5,FALSE),VLOOKUP(B22+1,'Gompertz Pattegrise'!A27:G185,5,FALSE))),0)","v":0}]
[null,"",{"$f":"IF(A23<>\"\",VLOOKUP(A23,Foderdage!$G$4:$H$138,2,FALSE),\"\")","v":""},null,0,0,{"$f":"IF(C23<>\"\",(R23-$D$7)/SUM($M$8:M23)*1000,0)","v":0},null,null,null,0,{"$f":"IF(SUM(H23:J23)>0,(SUM($J$8:J23)+SUMPRODUCT($H$8:H23,$I$8:I23))/(R23-$D$7),0)","v":0},{"$f":"SUMIFS(Foderdage!$H$4:$H$138,Foderdage!$G$4:$G$138,\">\"&'Vejehold 4'!A22,Foderdage!$G$4:$G$138,\"<=\"&'Vejehold 4'!A23)","v":0},0,{"$f":"IF(SUM(H23:J23)>0,(SUM($J$8:J23)+SUMPRODUCT($H$8:H23,$I$8:I23))/SUM($M$8:M23),0)","v":0},0,0,0,{"$f":"IF(B23<>\"\",IF($E$4=\"Slagtesvin\",VLOOKUP(B23,'Gompertz Slagtesvin'!A27:G185,5,FALSE),IF($E$4=\"Smågrise\",VLOOKUP(B23,'Gompertz Smågrise'!A28:G186,5,FALSE),VLOOKUP(B23+1,'Gompertz Pattegrise'!A28:G186,5,FALSE))),0)","v":0}]

{"sheet":"Vejehold 5","index":5,"n_rows":23,"n_cols":28,"rows_kept":23,"cut":false,"hidden":false,"merged":[[1,7,4,9],[3,0,3,3],[4,0,4,3],[4,20,4,23],[1,5,1,6],[1,22,1,24],[3,20,3,27]]}
[]
[null,null,"Der må kun tastes i de","grønne ","celler","Ver. 1.2",null,"Udfyld enten:\nKg udfodret periode og FE/kg \neller\nFE udfodret periode",null,null,null,null,null,null,null,null,null,null,null,null,"Navngiv vejehold",null,"Vejehold 5"]
[null,null,null,null,null,null,null,null,null,null,null,"Vejehold pattegrise",null,null,null,null,null,null,null,null,"Beskrivelse af holdet"]
["Vælg dyregruppe",null,null,null,"Slagtesvin",null,null,null,null,null,null,"Grise pr kuld efter kuldudjævning",null,null,13.5]
["Indtast total antal kvm i stien/stierne",null,null,null,null,null,null,null,null,null,null,null,null,null,null,null,null,null,null,null,"Se vejledning vedr. afgående grise",null,null,null,null,"Logbog"]
["Dato","Dag nr.","Antal grise","Vægt i alt","Gns. Kg. pr. gris","Daglig tilvækst i perioden","Daglig tilvækst til dato","Kg. udfodret periode","FE pr. kg","FE udfodret periode","FE pr. kg tilvækst periode","FE pr. kg tilvækst til dato","Foder-dage perioden","FE pr. dag pr. gris periode","FE pr. dag pr. gris til dato","Kg gris pr. kvm","Prod. kg. gris i perioden","Prod. kg. gris i alt",{"$f":"IF(E4=\"Slagtesvin\",\"Gennemsnitlig vækstkurve v. \"&TEXT('Gompertz Slagtesvin'!F8,\"###\")&\" gram daglig tilvækst\",IF(E4=\"Smågrise\",\"Gennemsnitlig vækstkurve v. \"&TEXT('Gompertz Smågrise'!F8,\"###\")&\" gram daglig tilvækst\",\"Gennemsnitlig vækstkurve\"))","v":"Gennemsnitlig vækstkurve v. 900 gram daglig tilvækst"},null,"Afgangsdato","Antal grise","Total vægt af afgåede grise","Årsag (vælg fra liste)",null,"Dato","  Hændelse","Sæt x for at fjerne hændelse fra grafer"]
[null,{"$f":"IF(A7<>\"\",A7-$A$7,\"\")","v":""},null,null,{"$f":"IF(C7<>\"\",D7/C7,0)","v":0},null,null,null,null,null,null,null,null,null,null,{"$f":"IF($E$5<>\"\",D7/$E$5,0)","v":0},{"$f":"D7","v":0},{"$f":"D7","v":0}]
[null,"",{"$f":"IF(A8<>\"\",VLOOKUP(A8,Foderdage!$I$4:$J$138,2,FALSE),\"\")","v":""},null,0,{"$f":"IF(C8<>\"\",(Q8-D7)/M8*1000,0)","v":0},{"$f":"IF(C8<>\"\",(R8-$D$7)/SUM($M$8:M8)*1000,0)","v":0},null,null,null,{"$f":"IF(J8=\"\",IF(AND(H8<>\"\",I8<>\"\"),H8*I8/(Q8-D7),0),J8/(Q8-D7))","v":0},{"$f":"IF(SUM(H8:J8)>0,(SUM($J$8:J8)+H8*I8)/(R8-$D$7),0)","v":0},{"$f":"SUMIFS(Foderdage!$J$4:$J$138,Foderdage!$I$4:$I$138,\">\"&'Vejehold 5'!A7,Foderdage!$I$4:$I$138,\"<=\"&'Vejehold 5'!A8)","v":0},{"$f":"IF(J8=\"\",IF(AND(H8<>\"\",I8<>\"\"),H8*I8/M8,0),J8/M8)","v":0},{"$f":"IF(SUM(H8:J8)>0,(SUM($J$8:J8)+H8*I8)/SUM($M$8:M8),0)","v":0},0,{"$f":"IF(A8<>\"\",D8+SUMIFS($W$7:$W$23,$U$7:$U$23,\">=\"&A7,$U$7:$U$23,\"<\"&A8),0)","v":0},{"$f":"IF(A8<>\"\",D8+SUMIFS($W$7:$W$23,$U$7:$U$23,\">=\"&$A$7,$U$7:$U$23,\"<\"&A8),0)","v":0},{"$f":"IF(B8<>\"\",IF($E$4=\"Slagtesvin\",VLOOKUP(B8,'Gompertz Slagtesvin'!A12:G170,6,FALSE),IF($E$4=\"Smågrise\",VLOOKUP(B8,'Gompertz Smågrise'!A13:G171,6,FALSE),VLOOKUP(B8+1,'Gompertz Pattegrise'!A13:G171,6,FALSE))),0)","v":0}]
[null,"",{"$f":"IF(A9<>\"\",VLOOKUP(A9,Foderdage!$I$4:$J$138,2,FALSE),\"\")","v":""},null,0,0,{"$f":"IF(C9<>\"\",(R9-$D$7)/SUM($M$8:M9)*1000,0)","v":0},null,null,null,0,{"$f":"IF(SUM(H9:J9)>0,(SUM($J$8:J9)+SUMPRODUCT($H$8:H9,$I$8:I9))/(R9-$D$7),0)","v":0},{"$f":"SUMIFS(Foderdage!$J$4:$J$138,Foderdage!$I$4:$I$138,\">\"&'Vejehold 5'!A8,Foderdage!$I$4:$I$138,\"<=\"&'Vejehold 5'!A9)","v":0},{"$f":"IF(J9=\"\",IF(AND(H9<>\"\",I9<>\"\"),H9*I9/M9,0),J9/M9)","v":0},{"$f":"IF(SUM(H9:J9)>0,(SUM($J$8:J9)+SUMPRODUCT($H$8:H9,$I$8:I9))/SUM($M$8:M9),0)","v":0},0,{"$f":"IF(A9<>\"\",D9+SUMIFS($W$7:$W$23,$U$7:$U$23,\">=\"&A8,$U$7:$U$23,\"<\"&A9),0)","v":0},{"$f":"IF(A9<>\"\",D9+SUMIFS($W$7:$W$23,$U$7:$U$23,\">=\"&$A$7,$U$7:$U$23,\"<\"&A9),0)","v":0},{"$f":"IF(B9<>\"\",IF($E$4=\"Slagtesvin\",VLOOKUP(B9,'Gompertz Slagtesvin'!A13:G171,6,FALSE),IF($E$4=\"Smågrise\",VLOOKUP(B9,'Gompertz Smågrise'!A14:G172,6,FALSE),VLOOKUP(B9+1,'Gompertz Pattegrise'!A14:G172,6,FALSE))),0)","v":0}]
[null,"",{"$f":"IF(A10<>\"\",VLOOKUP(A10,Foderdage!$I$4:$J$138,2,FALSE),\"\")","v":""},null,0,0,{"$f":"IF(C10<>\"\",(R10-$D$7)/SUM($M$8:M10)*1000,0)","v":0},null,null,null,0,{"$f":"IF(SUM(H10:J10)>0,(SUM($J$8:J10)+SUMPRODUCT($H$8:H10,$I$8:I10))/(R10-$D$7),0)","v":0},{"$f":"SUMIFS(Foderdage!$J$4:$J$138,Foderdage!$I$4:$I$138,\">\"&'Vejehold 5'!A9,Foderdage!$I$4:$I$138,\"<=\"&'Vejehold 5'!A10)","v":0},0,{"$f":"IF(SUM(H10:J10)>0,(SUM($J$8:J10)+SUMPRODUCT($H$8:H10,$I$8:I10))/SUM($M$8:M10),0)","v":0},0,0,0,{"$f":"IF(B10<>\"\",IF($E$4=\"Slagtesvin\",VLOOKUP(B10,'Gompertz Slagtesvin'!A14:G172,6,FALSE),IF($E$4=\"Smågrise\",VLOOKUP(B10,'Gompertz Smågrise'!A15:G173,6,FALSE),VLOOKUP(B10+1,'Gompertz Pattegrise'!A15:G173,6,FALSE))),0)","v":0}]
[null,"",{"$f":"IF(A11<>\"\",VLOOKUP(A11,Foderdage!$I$4:$J$138,2,FALSE),\"\")","v":""},null,0,0,{"$f":"IF(C11<>\"\",(R11-$D$7)/SUM($M$8:M11)*1000,0)","v":0},null,null,null,0,{"$f":"IF(SUM(H11:J11)>0,(SUM($J$8:J11)+SUMPRODUCT($H$8:H11,$I$8:I11))/(R11-$D$7),0)","v":0},{"$f":"SUMIFS(Foderdage!$J$4:$J$138,Foderdage!$I$4:$I$138,\">\"&'Vejehold 5'!A10,Foderdage!$I$4:$I$138,\"<=\"&'Vejehold 5'!A11)","v":0},0,{"$f":"IF(SUM(H11:J11)>0,(SUM($J$8:J11)+SUMPRODUCT($H$8:H11,$I$8:I11))/SUM($M$8:M11),0)","v":0},0,0,0,{"$f":"IF(B11<>\"\",IF($E$4=\"Slagtesvin\",VLOOKUP(B11,'Gompertz Slagtesvin'!A15:G173,6,FALSE),IF($E$4=\"Smågrise\",VLOOKUP(B11,'Gompertz Smågrise'!A16:G174,6,FALSE),VLOOKUP(B11+1,'Gompertz Pattegrise'!A16:G174,6,FALSE))),0)","v":0}]
[null,"",{"$f":"IF(A12<>\"\",VLOOKUP(A12,Foderdage!$I$4:$J$138,2,FALSE),\"\")","v":""},null,0,0,{"$f":"IF(C12<>\"\",(R12-$D$7)/SUM($M$8:M12)*1000,0)","v":0},null,null,null,0,{"$f":"IF(SUM(H12:J12)>0,(SUM($J$8:J12)+SUMPRODUCT($H$8:H12,$I$8:I12))/(R12-$D$7),0)","v":0},{"$f":"SUMIFS(Foderdage!$J$4:$J$138,Foderdage!$I$4:$I$138,\">\"&'Vejehold 5'!A11,Foderdage!$I$4:$I$138,\"<=\"&'Vejehold 5'!A12)","v":0},0,{"$f":"IF(SUM(H12:J12)>0,(SUM($J$8:J12)+SUMPRODUCT($H$8:H12,$I$8:I12))/SUM($M$8:M12),0)","v":0},0,0,0,{"$f":"IF(B12<>\"\",IF($E$4=\"Slagtesvin\",VLOOKUP(B12,'Gompertz Slagtesvin'!A16:G174,6,FALSE),IF($E$4=\"Smågrise\",VLOOKUP(B12,'Gompertz Smågrise'!A17:G175,6,FALSE),VLOOKUP(B12+1,'Gompertz Pattegrise'!A17:G175,6,FALSE))),0)","v":0}]
[null,"",{"$f":"IF(A13<>\"\",VLOOKUP(A13,Foderdage!$I$4:$J$138,2,FALSE),\"\")","v":""},null,0,0,{"$f":"IF(C13<>\"\",(R13-$D$7)/SUM($M$8:M13)*1000,0)","v":0},null,null,null,0,{"$f":"IF(SUM(H13:J13)>0,(SUM($J$8:J13)+SUMPRODUCT($H$8:H13,$I$8:I13))/(R13-$D$7),0)","v":0},{"$f":"SUMIFS(Foderdage!$J$4:$J$138,Foderdage!$I$4:$I$138,\">\"&'Vejehold 5'!A12,Foderdage!$I$4:$I$138,\"<=\"&'Vejehold 5'!A13)","v":0},0,{"$f":"IF(SUM(H13:J13)>0,(SUM($J$8:J13)+SUMPRODUCT($H$8:H13,$I$8:I13))/SUM($M$8:M13),0)","v":0},0,0,0,{"$f":"IF(B13<>\"\",IF($E$4=\"Slagtesvin\",VLOOKUP(B13,'Gompertz Slagtesvin'!A17:G175,6,FALSE),IF($E$4=\"Smågrise\",VLOOKUP(B13,'Gompertz Smågrise'!A18:G176,6,FALSE),VLOOKUP(B13+1,'Gompertz Pattegrise'!A18:G176,6,FALSE))),0)","v":0}]
[null,"",{"$f":"IF(A14<>\"\",VLOOKUP(A14,Foderdage!$I$4:$J$138,2,FALSE),\"\")","v":""},null,0,0,{"$f":"IF(C14<>\"\",(R14-$D$7)/SUM($M$8:M14)*1000,0)","v":0},null,null,null,0,{"$f":"IF(SUM(H14:J14)>0,(SUM($J$8:J14)+SUMPRODUCT($H$8:H14,$I$8:I14))/(R14-$D$7),0)","v":0},{"$f":"SUMIFS(Foderdage!$J$4:$J$138,Foderdage!$I$4:$I$138,\">\"&'Vejehold 5'!A13,Foderdage!$I$4:$I$138,\"<=\"&'Vejehold 5'!A14)","v":0},0,{"$f":"IF(SUM(H14:J14)>0,(SUM($J$8:J14)+SUMPRODUCT($H$8:H14,$I$8:I14))/SUM($M$8:M14),0)","v":0},0,0,0,{"$f":"IF(B14<>\"\",IF($E$4=\"Slagtesvin\",VLOOKUP(B14,'Gompertz Slagtesvin'!A18:G176,6,FALSE),IF($E$4=\"Smågrise\",VLOOKUP(B14,'Gompertz Smågrise'!A19:G177,6,FALSE),VLOOKUP(B14+1,'Gompertz Pattegrise'!A19:G177,6,FALSE))),0)","v":0}]
[null,"",{"$f":"IF(A15<>\"\",VLOOKUP(A15,Foderdage!$I$4:$J$138,2,FALSE),\"\")","v":""},null,0,0,{"$f":"IF(C15<>\"\",(R15-$D$7)/SUM($M$8:M15)*1000,0)","v":0},null,null,null,0,{"$f":"IF(SUM(H15:J15)>0,(SUM($J$8:J15)+SUMPRODUCT($H$8:H15,$I$8:I15))/(R15-$D$7),0)","v":0},{"$f":"SUMIFS(Foderdage!$J$4:$J$138,Foderdage!$I$4:$I$138,\">\"&'Vejehold 5'!A14,Foderdage!$I$4:$I$138,\"<=\"&'Vejehold 5'!A15)","v":0},0,{"$f":"IF(SUM(H15:J15)>0,(SUM($J$8:J15)+SUMPRODUCT($H$8:H15,$I$8:I15))/SUM($M$8:M15),0)","v":0},0,0,0,{"$f":"IF(B15<>\"\",IF($E$4=\"Slagtesvin\",VLOOKUP(B15,'Gompertz Slagtesvin'!A19:G177,6,FALSE),IF($E$4=\"Smågrise\",VLOOKUP(B15,'Gompertz Smågrise'!A20:G178,6,FALSE),VLOOKUP(B15+1,'Gompertz Pattegrise'!A20:G178,6,FALSE))),0)","v":0}]
[null,{"$f":"IF(A16<>\"\",A16-$A$7,\"\")","v":""},{"$f":"IF(A16<>\"\",VLOOKUP(A16,Foderdage!$I$4:$J$138,2,FALSE),\"\")","v":""},null,0,0,{"$f":"IF(C16<>\"\",(R16-$D$7)/SUM($M$8:M16)*1000,0)","v":0},null,null,null,0,{"$f":"IF(SUM(H16:J16)>0,(SUM($J$8:J16)+SUMPRODUCT($H$8:H16,$I$8:I16))/(R16-$D$7),0)","v":0},{"$f":"SUMIFS(Foderdage!$J$4:$J$138,Foderdage!$I$4:$I$138,\">\"&'Vejehold 5'!A15,Foderdage!$I$4:$I$138,\"<=\"&'Vejehold 5'!A16)","v":0},0,{"$f":"IF(SUM(H16:J16)>0,(SUM($J$8:J16)+SUMPRODUCT($H$8:H16,$I$8:I16))/SUM($M$8:M16),0)","v":0},0,0,0,{"$f":"IF(B16<>\"\",IF($E$4=\"Slagtesvin\",VLOOKUP(B16,'Gompertz Slagtesvin'!A20:G178,6,FALSE),IF($E$4=\"Smågrise\",VLOOKUP(B16,'Gompertz Smågrise'!A21:G179,6,FALSE),VLOOKUP(B16+1,'Gompertz Pattegrise'!A21:G179,6,FALSE))),0)","v":0}]
[null,{"$f":"IF(A17<>\"\",A17-$A$7,\"\")","v":""},{"$f":"IF(A17<>\"\",VLOOKUP(A17,Foderdage!$I$4:$J$138,2,FALSE),\"\")","v":""},null,0,0,{"$f":"IF(C17<>\"\",(R17-$D$7)/SUM($M$8:M17)*1000,0)","v":0},null,null,null,0,{"$f":"IF(SUM(H17:J17)>0,(SUM($J$8:J17)+SUMPRODUCT($H$8:H17,$I$8:I17))/(R17-$D$7),0)","v":0},{"$f":"SUMIFS(Foderdage!$J$4:$J$138,Foderdage!$I$4:$I$138,\">\"&'Vejehold 5'!A16,Foderdage!$I$4:$I$138,\"<=\"&'Vejehold 5'!A17)","v":0},0,{"$f":"IF(SUM(H17:J17)>0,(SUM($J$8:J17)+SUMPRODUCT($H$8:H17,$I$8:I17))/SUM($M$8:M17),0)","v":0},0,0,0,{"$f":"IF(B17<>\"\",IF($E$4=\"Slagtesvin\",VLOOKUP(B17,'Gompertz Slagtesvin'!A21:G179,6,FALSE),IF($E$4=\"Smågrise\",VLOOKUP(B17,'Gompertz Smågrise'!A22:G180,6,FALSE),VLOOKUP(B17+1,'Gompertz Pattegrise'!A22:G180,6,FALSE))),0)","v":0}]
[null,{"$f":"IF(A18<>\"\",A18-$A$7,\"\")","v":""},{"$f":"IF(A18<>\"\",VLOOKUP(A18,Foderdage!$I$4:$J$138,2,FALSE),\"\")","v":""},null,0,0,{"$f":"IF(C18<>\"\",(R18-$D$7)/SUM($M$8:M18)*1000,0)","v":0},null,null,null,0,{"$f":"IF(SUM(H18:J18)>0,(SUM($J$8:J18)+SUMPRODUCT($H$8:H18,$I$8:I18))/(R18-$D$7),0)","v":0},{"$f":"SUMIFS(Foderdage!$J$4:$J$138,Foderdage!$I$4:$I$138,\">\"&'Vejehold 5'!A17,Foderdage!$I$4:$I$138,\"<=\"&'Vejehold 5'!A18)","v":0},0,{"$f":"IF(SUM(H18:J18)>0,(SUM($J$8:J18)+SUMPRODUCT($H$8:H18,$I$8:I18))/SUM($M$8:M18),0)","v":0},0,0,0,{"$f":"IF(B18<>\"\",IF($E$4=\"Slagtesvin\",VLOOKUP(B18,'Gompertz Slagtesvin'!A22:G180,6,FALSE),IF($E$4=\"Smågrise\",VLOOKUP(B18,'Gompertz Smågrise'!A23:G181,6,FALSE),VLOOKUP(B18+1,'Gompertz Pattegrise'!A23:G181,6,FALSE))),0)","v":0}]
[null,"",{"$f":"IF(A19<>\"\",VLOOKUP(A19,Foderdage!$I$4:$J$138,2,FALSE),\"\")","v":""},null,0,0,{"$f":"IF(C19<>\"\",(R19-$D$7)/SUM($M$8:M19)*1000,0)","v":0},null,null,null,0,{"$f":"IF(SUM(H19:J19)>0,(SUM($J$8:J19)+SUMPRODUCT($H$8:H19,$I$8:I19))/(R19-$D$7),0)","v":0},{"$f":"SUMIFS(Foderdage!$J$4:$J$138,Foderdage!$I$4:$I$138,\">\"&'Vejehold 5'!A18,Foderdage!$I$4:$I$138,\"<=\"&'Vejehold 5'!A19)","v":0},0,{"$f":"IF(SUM(H19:J19)>0,(SUM($J$8:J19)+SUMPRODUCT($H$8:H19,$I$8:I19))/SUM($M$8:M19),0)","v":0},0,0,0,{"$f":"IF(B19<>\"\",IF($E$4=\"Slagtesvin\",VLOOKUP(B19,'Gompertz Slagtesvin'!A23:G181,6,FALSE),IF($E$4=\"Smågrise\",VLOOKUP(B19,'Gompertz Smågrise'!A24:G182,6,FALSE),VLOOKUP(B19+1,'Gompertz Pattegrise'!A24:G182,6,FALSE))),0)","v":0}]
[null,"",{"$f":"IF(A20<>\"\",VLOOKUP(A20,Foderdage!$I$4:$J$138,2,FALSE),\"\")","v":""},null,0,0,{"$f":"IF(C20<>\"\",(R20-$D$7)/SUM($M$8:M20)*1000,0)","v":0},null,null,null,0,{"$f":"IF(SUM(H20:J20)>0,(SUM($J$8:J20)+SUMPRODUCT($H$8:H20,$I$8:I20))/(R20-$D$7),0)","v":0},{"$f":"SUMIFS(Foderdage!$J$4:$J$138,Foderdage!$I$4:$I$138,\">\"&'Vejehold 5'!A19,Foderdage!$I$4:$I$138,\"<=\"&'Vejehold 5'!A20)","v":0},0,{"$f":"IF(SUM(H20:J20)>0,(SUM($J$8:J20)+SUMPRODUCT($H$8:H20,$I$8:I20))/SUM($M$8:M20),0)","v":0},0,0,0,{"$f":"IF(B20<>\"\",IF($E$4=\"Slagtesvin\",VLOOKUP(B20,'Gompertz Slagtesvin'!A24:G182,6,FALSE),IF($E$4=\"Smågrise\",VLOOKUP(B20,'Gompertz Smågrise'!A25:G183,6,FALSE),VLOOKUP(B20+1,'Gompertz Pattegrise'!A25:G183,6,FALSE))),0)","v":0}]
[null,"",{"$f":"IF(A21<>\"\",VLOOKUP(A21,Foderdage!$I$4:$J$138,2,FALSE),\"\")","v":""},null,0,0,{"$f":"IF(C21<>\"\",(R21-$D$7)/SUM($M$8:M21)*1000,0)","v":0},null,null,null,0,{"$f":"IF(SUM(H21:J21)>0,(SUM($J$8:J21)+SUMPRODUCT($H$8:H21,$I$8:I21))/(R21-$D$7),0)","v":0},{"$f":"SUMIFS(Foderdage!$J$4:$J$138,Foderdage!$I$4:$I$138,\">\"&'Vejehold 5'!A20,Foderdage!$I$4:$I$138,\"<=\"&'Vejehold 5'!A21)","v":0},0,{"$f":"IF(SUM(H21:J21)>0,(SUM($J$8:J21)+SUMPRODUCT($H$8:H21,$I$8:I21))/SUM($M$8:M21),0)","v":0},0,0,0,{"$f":"IF(B21<>\"\",IF($E$4=\"Slagtesvin\",VLOOKUP(B21,'Gompertz Slagtesvin'!A25:G183,6,FALSE),IF($E$4=\"Smågrise\",VLOOKUP(B21,'Gompertz Smågrise'!A26:G184,6,FALSE),VLOOKUP(B21+1,'Gompertz Pattegrise'!A26:G184,6,FALSE))),0)","v":0}]
[null,"",{"$f":"IF(A22<>\"\",VLOOKUP(A22,Foderdage!$I$4:$J$138,2,FALSE),\"\")","v":""},null,0,0,{"$f":"IF(C22<>\"\",(R22-$D$7)/SUM($M$8:M22)*1000,0)","v":0},null,null,null,0,{"$f":"IF(SUM(H22:J22)>0,(SUM($J$8:J22)+SUMPRODUCT($H$8:H22,$I$8:I22))/(R22-$D$7),0)","v":0},{"$f":"SUMIFS(Foderdage!$J$4:$J$138,Foderdage!$I$4:$I$138,\">\"&'Vejehold 5'!A21,Foderdage!$I$4:$I$138,\"<=\"&'Vejehold 5'!A22)","v":0},0,{"$f":"IF(SUM(H22:J22)>0,(SUM($J$8:J22)+SUMPRODUCT($H$8:H22,$I$8:I22))/SUM($M$8:M22),0)","v":0},0,0,0,{"$f":"IF(B22<>\"\",IF($E$4=\"Slagtesvin\",VLOOKUP(B22,'Gompertz Slagtesvin'!A26:G184,6,FALSE),IF($E$4=\"Smågrise\",VLOOKUP(B22,'Gompertz Smågrise'!A27:G185,6,FALSE),VLOOKUP(B22+1,'Gompertz Pattegrise'!A27:G185,6,FALSE))),0)","v":0}]
[null,"",{"$f":"IF(A23<>\"\",VLOOKUP(A23,Foderdage!$I$4:$J$138,2,FALSE),\"\")","v":""},null,0,0,{"$f":"IF(C23<>\"\",(R23-$D$7)/SUM($M$8:M23)*1000,0)","v":0},null,null,null,0,{"$f":"IF(SUM(H23:J23)>0,(SUM($J$8:J23)+SUMPRODUCT($H$8:H23,$I$8:I23))/(R23-$D$7),0)","v":0},{"$f":"SUMIFS(Foderdage!$J$4:$J$138,Foderdage!$I$4:$I$138,\">\"&'Vejehold 5'!A22,Foderdage!$I$4:$I$138,\"<=\"&'Vejehold 5'!A23)","v":0},0,{"$f":"IF(SUM(H23:J23)>0,(SUM($J$8:J23)+SUMPRODUCT($H$8:H23,$I$8:I23))/SUM($M$8:M23),0)","v":0},0,0,0,{"$f":"IF(B23<>\"\",IF($E$4=\"Slagtesvin\",VLOOKUP(B23,'Gompertz Slagtesvin'!A27:G185,6,FALSE),IF($E$4=\"Smågrise\",VLOOKUP(B23,'Gompertz Smågrise'!A28:G186,6,FALSE),VLOOKUP(B23+1,'Gompertz Pattegrise'!A28:G186,6,FALSE))),0)","v":0}]

{"sheet":"Vejehold 6","index":6,"n_rows":23,"n_cols":28,"rows_kept":23,"cut":false,"hidden":false,"merged":[[1,7,4,9],[3,0,3,3],[4,0,4,3],[4,20,4,23],[1,5,1,6],[1,22,1,24],[3,20,3,27]]}
[]
[null,null,"Der må kun tastes i de","grønne ","celler","Ver. 1.2",null,"Udfyld enten:\nKg udfodret periode og FE/kg \neller\nFE udfodret periode",null,null,null,null,null,null,null,null,null,null,null,null,"Navngiv vejehold",null,"Vejehold 6"]
[null,null,null,null,null,null,null,null,null,null,null,"Vejehold pattegrise",null,null,null,null,null,null,null,null,"Beskrivelse af holdet"]
["Vælg dyregruppe",null,null,null,"Slagtesvin",null,null,null,null,null,null,"Grise pr kuld efter kuldudjævning",null,null,13.5]
["Indtast total antal kvm i stien/stierne",null,null,null,null,null,null,null,null,null,null,null,null,null,null,null,null,null,null,null,"Se vejledning vedr. afgående grise",null,null,null,null,"Logbog"]
["Dato","Dag nr.","Antal grise","Vægt i alt","Gns. Kg. pr. gris","Daglig tilvækst i perioden","Daglig tilvækst til dato","Kg. udfodret periode","FE pr. kg","FE udfodret periode","FE pr. kg tilvækst periode","FE pr. kg tilvækst til dato","Foder-dage perioden","FE pr. dag pr. gris periode","FE pr. dag pr. gris til dato","Kg gris pr. kvm","Prod. kg. gris i perioden","Prod. kg. gris i alt",{"$f":"IF(E4=\"Slagtesvin\",\"Gennemsnitlig vækstkurve v. \"&TEXT('Gompertz Slagtesvin'!G8,\"###\")&\" gram daglig tilvækst\",IF(E4=\"Smågrise\",\"Gennemsnitlig vækstkurve v. \"&TEXT('Gompertz Smågrise'!G8,\"###\")&\" gram daglig tilvækst\",\"Gennemsnitlig vækstkurve\"))","v":"Gennemsnitlig vækstkurve v. 900 gram daglig tilvækst"},null,"Afgangsdato","Antal grise","Total vægt af afgåede grise","Årsag (vælg fra liste)",null,"Dato","  Hændelse","Sæt x for at fjerne hændelse fra grafer"]
[null,{"$f":"IF(A7<>\"\",A7-$A$7,\"\")","v":""},null,null,{"$f":"IF(C7<>\"\",D7/C7,0)","v":0},null,null,null,null,null,null,null,null,null,null,{"$f":"IF($E$5<>\"\",D7/$E$5,0)","v":0},{"$f":"D7","v":0},{"$f":"D7","v":0}]
[null,"",{"$f":"IF(A8<>\"\",VLOOKUP(A8,Foderdage!$K$4:$L$138,2,FALSE),\"\")","v":""},null,0,{"$f":"IF(C8<>\"\",(Q8-D7)/M8*1000,0)","v":0},{"$f":"IF(C8<>\"\",(R8-$D$7)/SUM($M$8:M8)*1000,0)","v":0},null,null,null,{"$f":"IF(J8=\"\",IF(AND(H8<>\"\",I8<>\"\"),H8*I8/(Q8-D7),0),J8/(Q8-D7))","v":0},{"$f":"IF(SUM(H8:J8)>0,(SUM($J$8:J8)+H8*I8)/(R8-$D$7),0)","v":0},{"$f":"SUMIFS(Foderdage!$L$4:$L$138,Foderdage!$K$4:$K$138,\">\"&'Vejehold 6'!A7,Foderdage!$K$4:$K$138,\"<=\"&'Vejehold 6'!A8)","v":0},{"$f":"IF(J8=\"\",IF(AND(H8<>\"\",I8<>\"\"),H8*I8/M8,0),J8/M8)","v":0},{"$f":"IF(SUM(H8:J8)>0,(SUM($J$8:J8)+H8*I8)/SUM($M$8:M8),0)","v":0},0,{"$f":"IF(A8<>\"\",D8+SUMIFS($W$7:$W$23,$U$7:$U$23,\">=\"&A7,$U$7:$U$23,\"<\"&A8),0)","v":0},{"$f":"IF(A8<>\"\",D8+SUMIFS($W$7:$W$23,$U$7:$U$23,\">=\"&$A$7,$U$7:$U$23,\"<\"&A8),0)","v":0},{"$f":"IF(B8<>\"\",IF($E$4=\"Slagtesvin\",VLOOKUP(B8,'Gompertz Slagtesvin'!A12:G170,7,FALSE),IF($E$4=\"Smågrise\",VLOOKUP(B8,'Gompertz Smågrise'!A13:G171,7,FALSE),VLOOKUP(B8+1,'Gompertz Pattegrise'!A13:G171,7,FALSE))),0)","v":0}]
[null,"",{"$f":"IF(A9<>\"\",VLOOKUP(A9,Foderdage!$K$4:$L$138,2,FALSE),\"\")","v":""},null,0,0,{"$f":"IF(C9<>\"\",(R9-$D$7)/SUM($M$8:M9)*1000,0)","v":0},null,null,null,0,{"$f":"IF(SUM(H9:J9)>0,(SUM($J$8:J9)+SUMPRODUCT($H$8:H9,$I$8:I9))/(R9-$D$7),0)","v":0},{"$f":"SUMIFS(Foderdage!$L$4:$L$138,Foderdage!$K$4:$K$138,\">\"&'Vejehold 6'!A8,Foderdage!$K$4:$K$138,\"<=\"&'Vejehold 6'!A9)","v":0},{"$f":"IF(J9=\"\",IF(AND(H9<>\"\",I9<>\"\"),H9*I9/M9,0),J9/M9)","v":0},{"$f":"IF(SUM(H9:J9)>0,(SUM($J$8:J9)+SUMPRODUCT($H$8:H9,$I$8:I9))/SUM($M$8:M9),0)","v":0},0,{"$f":"IF(A9<>\"\",D9+SUMIFS($W$7:$W$23,$U$7:$U$23,\">=\"&A8,$U$7:$U$23,\"<\"&A9),0)","v":0},{"$f":"IF(A9<>\"\",D9+SUMIFS($W$7:$W$23,$U$7:$U$23,\">=\"&$A$7,$U$7:$U$23,\"<\"&A9),0)","v":0},{"$f":"IF(B9<>\"\",IF($E$4=\"Slagtesvin\",VLOOKUP(B9,'Gompertz Slagtesvin'!A13:G171,7,FALSE),IF($E$4=\"Smågrise\",VLOOKUP(B9,'Gompertz Smågrise'!A14:G172,7,FALSE),VLOOKUP(B9+1,'Gompertz Pattegrise'!A14:G172,7,FALSE))),0)","v":0}]
[null,"",{"$f":"IF(A10<>\"\",VLOOKUP(A10,Foderdage!$K$4:$L$138,2,FALSE),\"\")","v":""},null,0,0,{"$f":"IF(C10<>\"\",(R10-$D$7)/SUM($M$8:M10)*1000,0)","v":0},null,null,null,0,{"$f":"IF(SUM(H10:J10)>0,(SUM($J$8:J10)+SUMPRODUCT($H$8:H10,$I$8:I10))/(R10-$D$7),0)","v":0},{"$f":"SUMIFS(Foderdage!$L$4:$L$138,Foderdage!$K$4:$K$138,\">\"&'Vejehold 6'!A9,Foderdage!$K$4:$K$138,\"<=\"&'Vejehold 6'!A10)","v":0},0,{"$f":"IF(SUM(H10:J10)>0,(SUM($J$8:J10)+SUMPRODUCT($H$8:H10,$I$8:I10))/SUM($M$8:M10),0)","v":0},0,0,0,{"$f":"IF(B10<>\"\",IF($E$4=\"Slagtesvin\",VLOOKUP(B10,'Gompertz Slagtesvin'!A14:G172,7,FALSE),IF($E$4=\"Smågrise\",VLOOKUP(B10,'Gompertz Smågrise'!A15:G173,7,FALSE),VLOOKUP(B10+1,'Gompertz Pattegrise'!A15:G173,7,FALSE))),0)","v":0}]
[null,"",{"$f":"IF(A11<>\"\",VLOOKUP(A11,Foderdage!$K$4:$L$138,2,FALSE),\"\")","v":""},null,0,0,{"$f":"IF(C11<>\"\",(R11-$D$7)/SUM($M$8:M11)*1000,0)","v":0},null,null,null,0,{"$f":"IF(SUM(H11:J11)>0,(SUM($J$8:J11)+SUMPRODUCT($H$8:H11,$I$8:I11))/(R11-$D$7),0)","v":0},{"$f":"SUMIFS(Foderdage!$L$4:$L$138,Foderdage!$K$4:$K$138,\">\"&'Vejehold 6'!A10,Foderdage!$K$4:$K$138,\"<=\"&'Vejehold 6'!A11)","v":0},0,{"$f":"IF(SUM(H11:J11)>0,(SUM($J$8:J11)+SUMPRODUCT($H$8:H11,$I$8:I11))/SUM($M$8:M11),0)","v":0},0,0,0,{"$f":"IF(B11<>\"\",IF($E$4=\"Slagtesvin\",VLOOKUP(B11,'Gompertz Slagtesvin'!A15:G173,7,FALSE),IF($E$4=\"Smågrise\",VLOOKUP(B11,'Gompertz Smågrise'!A16:G174,7,FALSE),VLOOKUP(B11+1,'Gompertz Pattegrise'!A16:G174,7,FALSE))),0)","v":0}]
[null,"",{"$f":"IF(A12<>\"\",VLOOKUP(A12,Foderdage!$K$4:$L$138,2,FALSE),\"\")","v":""},null,0,0,{"$f":"IF(C12<>\"\",(R12-$D$7)/SUM($M$8:M12)*1000,0)","v":0},null,null,null,0,{"$f":"IF(SUM(H12:J12)>0,(SUM($J$8:J12)+SUMPRODUCT($H$8:H12,$I$8:I12))/(R12-$D$7),0)","v":0},{"$f":"SUMIFS(Foderdage!$L$4:$L$138,Foderdage!$K$4:$K$138,\">\"&'Vejehold 6'!A11,Foderdage!$K$4:$K$138,\"<=\"&'Vejehold 6'!A12)","v":0},0,{"$f":"IF(SUM(H12:J12)>0,(SUM($J$8:J12)+SUMPRODUCT($H$8:H12,$I$8:I12))/SUM($M$8:M12),0)","v":0},0,0,0,{"$f":"IF(B12<>\"\",IF($E$4=\"Slagtesvin\",VLOOKUP(B12,'Gompertz Slagtesvin'!A16:G174,7,FALSE),IF($E$4=\"Smågrise\",VLOOKUP(B12,'Gompertz Smågrise'!A17:G175,7,FALSE),VLOOKUP(B12+1,'Gompertz Pattegrise'!A17:G175,7,FALSE))),0)","v":0}]
[null,"",{"$f":"IF(A13<>\"\",VLOOKUP(A13,Foderdage!$K$4:$L$138,2,FALSE),\"\")","v":""},null,0,0,{"$f":"IF(C13<>\"\",(R13-$D$7)/SUM($M$8:M13)*1000,0)","v":0},null,null,null,0,{"$f":"IF(SUM(H13:J13)>0,(SUM($J$8:J13)+SUMPRODUCT($H$8:H13,$I$8:I13))/(R13-$D$7),0)","v":0},{"$f":"SUMIFS(Foderdage!$L$4:$L$138,Foderdage!$K$4:$K$138,\">\"&'Vejehold 6'!A12,Foderdage!$K$4:$K$138,\"<=\"&'Vejehold 6'!A13)","v":0},0,{"$f":"IF(SUM(H13:J13)>0,(SUM($J$8:J13)+SUMPRODUCT($H$8:H13,$I$8:I13))/SUM($M$8:M13),0)","v":0},0,0,0,{"$f":"IF(B13<>\"\",IF($E$4=\"Slagtesvin\",VLOOKUP(B13,'Gompertz Slagtesvin'!A17:G175,7,FALSE),IF($E$4=\"Smågrise\",VLOOKUP(B13,'Gompertz Smågrise'!A18:G176,7,FALSE),VLOOKUP(B13+1,'Gompertz Pattegrise'!A18:G176,7,FALSE))),0)","v":0}]
[null,"",{"$f":"IF(A14<>\"\",VLOOKUP(A14,Foderdage!$K$4:$L$138,2,FALSE),\"\")","v":""},null,0,0,{"$f":"IF(C14<>\"\",(R14-$D$7)/SUM($M$8:M14)*1000,0)","v":0},null,null,null,0,{"$f":"IF(SUM(H14:J14)>0,(SUM($J$8:J14)+SUMPRODUCT($H$8:H14,$I$8:I14))/(R14-$D$7),0)","v":0},{"$f":"SUMIFS(Foderdage!$L$4:$L$138,Foderdage!$K$4:$K$138,\">\"&'Vejehold 6'!A13,Foderdage!$K$4:$K$138,\"<=\"&'Vejehold 6'!A14)","v":0},0,{"$f":"IF(SUM(H14:J14)>0,(SUM($J$8:J14)+SUMPRODUCT($H$8:H14,$I$8:I14))/SUM($M$8:M14),0)","v":0},0,0,0,{"$f":"IF(B14<>\"\",IF($E$4=\"Slagtesvin\",VLOOKUP(B14,'Gompertz Slagtesvin'!A18:G176,7,FALSE),IF($E$4=\"Smågrise\",VLOOKUP(B14,'Gompertz Smågrise'!A19:G177,7,FALSE),VLOOKUP(B14+1,'Gompertz Pattegrise'!A19:G177,7,FALSE))),0)","v":0}]
[null,"",{"$f":"IF(A15<>\"\",VLOOKUP(A15,Foderdage!$K$4:$L$138,2,FALSE),\"\")","v":""},null,0,0,{"$f":"IF(C15<>\"\",(R15-$D$7)/SUM($M$8:M15)*1000,0)","v":0},null,null,null,0,{"$f":"IF(SUM(H15:J15)>0,(SUM($J$8:J15)+SUMPRODUCT($H$8:H15,$I$8:I15))/(R15-$D$7),0)","v":0},{"$f":"SUMIFS(Foderdage!$L$4:$L$138,Foderdage!$K$4:$K$138,\">\"&'Vejehold 6'!A14,Foderdage!$K$4:$K$138,\"<=\"&'Vejehold 6'!A15)","v":0},0,{"$f":"IF(SUM(H15:J15)>0,(SUM($J$8:J15)+SUMPRODUCT($H$8:H15,$I$8:I15))/SUM($M$8:M15),0)","v":0},0,0,0,{"$f":"IF(B15<>\"\",IF($E$4=\"Slagtesvin\",VLOOKUP(B15,'Gompertz Slagtesvin'!A19:G177,7,FALSE),IF($E$4=\"Smågrise\",VLOOKUP(B15,'Gompertz Smågrise'!A20:G178,7,FALSE),VLOOKUP(B15+1,'Gompertz Pattegrise'!A20:G178,7,FALSE))),0)","v":0}]
[null,{"$f":"IF(A16<>\"\",A16-$A$7,\"\")","v":""},{"$f":"IF(A16<>\"\",VLOOKUP(A16,Foderdage!$K$4:$L$138,2,FALSE),\"\")","v":""},null,0,0,{"$f":"IF(C16<>\"\",(R16-$D$7)/SUM($M$8:M16)*1000,0)","v":0},null,null,null,0,{"$f":"IF(SUM(H16:J16)>0,(SUM($J$8:J16)+SUMPRODUCT($H$8:H16,$I$8:I16))/(R16-$D$7),0)","v":0},{"$f":"SUMIFS(Foderdage!$L$4:$L$138,Foderdage!$K$4:$K$138,\">\"&'Vejehold 6'!A15,Foderdage!$K$4:$K$138,\"<=\"&'Vejehold 6'!A16)","v":0},0,{"$f":"IF(SUM(H16:J16)>0,(SUM($J$8:J16)+SUMPRODUCT($H$8:H16,$I$8:I16))/SUM($M$8:M16),0)","v":0},0,0,0,{"$f":"IF(B16<>\"\",IF($E$4=\"Slagtesvin\",VLOOKUP(B16,'Gompertz Slagtesvin'!A20:G178,7,FALSE),IF($E$4=\"Smågrise\",VLOOKUP(B16,'Gompertz Smågrise'!A21:G179,7,FALSE),VLOOKUP(B16+1,'Gompertz Pattegrise'!A21:G179,7,FALSE))),0)","v":0}]
[null,{"$f":"IF(A17<>\"\",A17-$A$7,\"\")","v":""},{"$f":"IF(A17<>\"\",VLOOKUP(A17,Foderdage!$K$4:$L$138,2,FALSE),\"\")","v":""},null,0,0,{"$f":"IF(C17<>\"\",(R17-$D$7)/SUM($M$8:M17)*1000,0)","v":0},null,null,null,0,{"$f":"IF(SUM(H17:J17)>0,(SUM($J$8:J17)+SUMPRODUCT($H$8:H17,$I$8:I17))/(R17-$D$7),0)","v":0},{"$f":"SUMIFS(Foderdage!$L$4:$L$138,Foderdage!$K$4:$K$138,\">\"&'Vejehold 6'!A16,Foderdage!$K$4:$K$138,\"<=\"&'Vejehold 6'!A17)","v":0},0,{"$f":"IF(SUM(H17:J17)>0,(SUM($J$8:J17)+SUMPRODUCT($H$8:H17,$I$8:I17))/SUM($M$8:M17),0)","v":0},0,0,0,{"$f":"IF(B17<>\"\",IF($E$4=\"Slagtesvin\",VLOOKUP(B17,'Gompertz Slagtesvin'!A21:G179,7,FALSE),IF($E$4=\"Smågrise\",VLOOKUP(B17,'Gompertz Smågrise'!A22:G180,7,FALSE),VLOOKUP(B17+1,'Gompertz Pattegrise'!A22:G180,7,FALSE))),0)","v":0}]
[null,{"$f":"IF(A18<>\"\",A18-$A$7,\"\")","v":""},{"$f":"IF(A18<>\"\",VLOOKUP(A18,Foderdage!$K$4:$L$138,2,FALSE),\"\")","v":""},null,0,0,{"$f":"IF(C18<>\"\",(R18-$D$7)/SUM($M$8:M18)*1000,0)","v":0},null,null,null,0,{"$f":"IF(SUM(H18:J18)>0,(SUM($J$8:J18)+SUMPRODUCT($H$8:H18,$I$8:I18))/(R18-$D$7),0)","v":0},{"$f":"SUMIFS(Foderdage!$L$4:$L$138,Foderdage!$K$4:$K$138,\">\"&'Vejehold 6'!A17,Foderdage!$K$4:$K$138,\"<=\"&'Vejehold 6'!A18)","v":0},0,{"$f":"IF(SUM(H18:J18)>0,(SUM($J$8:J18)+SUMPRODUCT($H$8:H18,$I$8:I18))/SUM($M$8:M18),0)","v":0},0,0,0,{"$f":"IF(B18<>\"\",IF($E$4=\"Slagtesvin\",VLOOKUP(B18,'Gompertz Slagtesvin'!A22:G180,7,FALSE),IF($E$4=\"Smågrise\",VLOOKUP(B18,'Gompertz Smågrise'!A23:G181,7,FALSE),VLOOKUP(B18+1,'Gompertz Pattegrise'!A23:G181,7,FALSE))),0)","v":0}]
[null,"",{"$f":"IF(A19<>\"\",VLOOKUP(A19,Foderdage!$K$4:$L$138,2,FALSE),\"\")","v":""},null,0,0,{"$f":"IF(C19<>\"\",(R19-$D$7)/SUM($M$8:M19)*1000,0)","v":0},null,null,null,0,{"$f":"IF(SUM(H19:J19)>0,(SUM($J$8:J19)+SUMPRODUCT($H$8:H19,$I$8:I19))/(R19-$D$7),0)","v":0},{"$f":"SUMIFS(Foderdage!$L$4:$L$138,Foderdage!$K$4:$K$138,\">\"&'Vejehold 6'!A18,Foderdage!$K$4:$K$138,\"<=\"&'Vejehold 6'!A19)","v":0},0,{"$f":"IF(SUM(H19:J19)>0,(SUM($J$8:J19)+SUMPRODUCT($H$8:H19,$I$8:I19))/SUM($M$8:M19),0)","v":0},0,0,0,{"$f":"IF(B19<>\"\",IF($E$4=\"Slagtesvin\",VLOOKUP(B19,'Gompertz Slagtesvin'!A23:G181,7,FALSE),IF($E$4=\"Smågrise\",VLOOKUP(B19,'Gompertz Smågrise'!A24:G182,7,FALSE),VLOOKUP(B19+1,'Gompertz Pattegrise'!A24:G182,7,FALSE))),0)","v":0}]
[null,"",{"$f":"IF(A20<>\"\",VLOOKUP(A20,Foderdage!$K$4:$L$138,2,FALSE),\"\")","v":""},null,0,0,{"$f":"IF(C20<>\"\",(R20-$D$7)/SUM($M$8:M20)*1000,0)","v":0},null,null,null,0,{"$f":"IF(SUM(H20:J20)>0,(SUM($J$8:J20)+SUMPRODUCT($H$8:H20,$I$8:I20))/(R20-$D$7),0)","v":0},{"$f":"SUMIFS(Foderdage!$L$4:$L$138,Foderdage!$K$4:$K$138,\">\"&'Vejehold 6'!A19,Foderdage!$K$4:$K$138,\"<=\"&'Vejehold 6'!A20)","v":0},0,{"$f":"IF(SUM(H20:J20)>0,(SUM($J$8:J20)+SUMPRODUCT($H$8:H20,$I$8:I20))/SUM($M$8:M20),0)","v":0},0,0,0,{"$f":"IF(B20<>\"\",IF($E$4=\"Slagtesvin\",VLOOKUP(B20,'Gompertz Slagtesvin'!A24:G182,7,FALSE),IF($E$4=\"Smågrise\",VLOOKUP(B20,'Gompertz Smågrise'!A25:G183,7,FALSE),VLOOKUP(B20+1,'Gompertz Pattegrise'!A25:G183,7,FALSE))),0)","v":0}]
[null,"",{"$f":"IF(A21<>\"\",VLOOKUP(A21,Foderdage!$K$4:$L$138,2,FALSE),\"\")","v":""},null,0,0,{"$f":"IF(C21<>\"\",(R21-$D$7)/SUM($M$8:M21)*1000,0)","v":0},null,null,null,0,{"$f":"IF(SUM(H21:J21)>0,(SUM($J$8:J21)+SUMPRODUCT($H$8:H21,$I$8:I21))/(R21-$D$7),0)","v":0},{"$f":"SUMIFS(Foderdage!$L$4:$L$138,Foderdage!$K$4:$K$138,\">\"&'Vejehold 6'!A20,Foderdage!$K$4:$K$138,\"<=\"&'Vejehold 6'!A21)","v":0},0,{"$f":"IF(SUM(H21:J21)>0,(SUM($J$8:J21)+SUMPRODUCT($H$8:H21,$I$8:I21))/SUM($M$8:M21),0)","v":0},0,0,0,{"$f":"IF(B21<>\"\",IF($E$4=\"Slagtesvin\",VLOOKUP(B21,'Gompertz Slagtesvin'!A25:G183,7,FALSE),IF($E$4=\"Smågrise\",VLOOKUP(B21,'Gompertz Smågrise'!A26:G184,7,FALSE),VLOOKUP(B21+1,'Gompertz Pattegrise'!A26:G184,7,FALSE))),0)","v":0}]
[null,"",{"$f":"IF(A22<>\"\",VLOOKUP(A22,Foderdage!$K$4:$L$138,2,FALSE),\"\")","v":""},null,0,0,{"$f":"IF(C22<>\"\",(R22-$D$7)/SUM($M$8:M22)*1000,0)","v":0},null,null,null,0,{"$f":"IF(SUM(H22:J22)>0,(SUM($J$8:J22)+SUMPRODUCT($H$8:H22,$I$8:I22))/(R22-$D$7),0)","v":0},{"$f":"SUMIFS(Foderdage!$L$4:$L$138,Foderdage!$K$4:$K$138,\">\"&'Vejehold 6'!A21,Foderdage!$K$4:$K$138,\"<=\"&'Vejehold 6'!A22)","v":0},0,{"$f":"IF(SUM(H22:J22)>0,(SUM($J$8:J22)+SUMPRODUCT($H$8:H22,$I$8:I22))/SUM($M$8:M22),0)","v":0},0,0,0,{"$f":"IF(B22<>\"\",IF($E$4=\"Slagtesvin\",VLOOKUP(B22,'Gompertz Slagtesvin'!A26:G184,7,FALSE),IF($E$4=\"Smågrise\",VLOOKUP(B22,'Gompertz Smågrise'!A27:G185,7,FALSE),VLOOKUP(B22+1,'Gompertz Pattegrise'!A27:G185,7,FALSE))),0)","v":0}]
[null,"",{"$f":"IF(A23<>\"\",VLOOKUP(A23,Foderdage!$K$4:$L$138,2,FALSE),\"\")","v":""},null,0,0,{"$f":"IF(C23<>\"\",(R23-$D$7)/SUM($M$8:M23)*1000,0)","v":0},null,null,null,0,{"$f":"IF(SUM(H23:J23)>0,(SUM($J$8:J23)+SUMPRODUCT($H$8:H23,$I$8:I23))/(R23-$D$7),0)","v":0},{"$f":"SUMIFS(Foderdage!$L$4:$L$138,Foderdage!$K$4:$K$138,\">\"&'Vejehold 6'!A22,Foderdage!$K$4:$K$138,\"<=\"&'Vejehold 6'!A23)","v":0},0,{"$f":"IF(SUM(H23:J23)>0,(SUM($J$8:J23)+SUMPRODUCT($H$8:H23,$I$8:I23))/SUM($M$8:M23),0)","v":0},0,0,0,{"$f":"IF(B23<>\"\",IF($E$4=\"Slagtesvin\",VLOOKUP(B23,'Gompertz Slagtesvin'!A27:G185,7,FALSE),IF($E$4=\"Smågrise\",VLOOKUP(B23,'Gompertz Smågrise'!A28:G186,7,FALSE),VLOOKUP(B23+1,'Gompertz Pattegrise'!A28:G186,7,FALSE))),0)","v":0}]

{"sheet":"Logbog","index":7,"n_rows":103,"n_cols":8,"rows_kept":103,"cut":false,"hidden":true,"merged":[]}
["Nr","Hold","Dato","Kommentar"]
[{"$f":"IF(AND(D2<>\"\",E2=\"\"),1,\"\")","v":""},1,{"$f":"IF('Vejehold 1'!Z7<>\"\",\"Dag \"&'Vejehold 1'!Z7-'Vejehold 1'!$A$7,\"\")","v":""},{"$f":"IF('Vejehold 1'!AA7<>\"\",'Vejehold 1'!AA7,\"\")","v":""},{"$f":"IF('Vejehold 1'!AB7<>\"\",'Vejehold 1'!AB7,\"\")","v":""},null,1,{"$f":"IFERROR(\"Hold \"&VLOOKUP(G2,$A$2:$D$103,2,FALSE)&\", \"&VLOOKUP(G2,$A$2:$D$103,3,FALSE)&\", \"&VLOOKUP(G2,$A$2:$D$103,4,FALSE),\"\")","v":""}]
[{"$f":"IF(AND(D3<>\"\",E3=\"\"),MAX($A$2:A2)+1,\"\")","v":""},1,{"$f":"IF('Vejehold 1'!Z8<>\"\",\"Dag \"&'Vejehold 1'!Z8-'Vejehold 1'!$A$7,\"\")","v":""},{"$f":"IF('Vejehold 1'!AA8<>\"\",'Vejehold 1'!AA8,\"\")","v":""},{"$f":"IF('Vejehold 1'!AB8<>\"\",'Vejehold 1'!AB8,\"\")","v":""},null,2,{"$f":"IFERROR(\"Hold \"&VLOOKUP(G3,$A$2:$D$103,2,FALSE)&\", \"&VLOOKUP(G3,$A$2:$D$103,3,FALSE)&\", \"&VLOOKUP(G3,$A$2:$D$103,4,FALSE),\"\")","v":""}]
[{"$f":"IF(AND(D4<>\"\",E4=\"\"),MAX($A$2:A3)+1,\"\")","v":""},1,{"$f":"IF('Vejehold 1'!Z9<>\"\",\"Dag \"&'Vejehold 1'!Z9-'Vejehold 1'!$A$7,\"\")","v":""},{"$f":"IF('Vejehold 1'!AA9<>\"\",'Vejehold 1'!AA9,\"\")","v":""},{"$f":"IF('Vejehold 1'!AB9<>\"\",'Vejehold 1'!AB9,\"\")","v":""},null,3,""]
[{"$f":"IF(AND(D5<>\"\",E5=\"\"),MAX($A$2:A4)+1,\"\")","v":""},1,{"$f":"IF('Vejehold 1'!Z10<>\"\",\"Dag \"&'Vejehold 1'!Z10-'Vejehold 1'!$A$7,\"\")","v":""},{"$f":"IF('Vejehold 1'!AA10<>\"\",'Vejehold 1'!AA10,\"\")","v":""},{"$f":"IF('Vejehold 1'!AB10<>\"\",'Vejehold 1'!AB10,\"\")","v":""},null,4,""]
[{"$f":"IF(AND(D6<>\"\",E6=\"\"),MAX($A$2:A5)+1,\"\")","v":""},1,{"$f":"IF('Vejehold 1'!Z11<>\"\",\"Dag \"&'Vejehold 1'!Z11-'Vejehold 1'!$A$7,\"\")","v":""},{"$f":"IF('Vejehold 1'!AA11<>\"\",'Vejehold 1'!AA11,\"\")","v":""},{"$f":"IF('Vejehold 1'!AB11<>\"\",'Vejehold 1'!AB11,\"\")","v":""},null,5,""]
[{"$f":"IF(AND(D7<>\"\",E7=\"\"),MAX($A$2:A6)+1,\"\")","v":""},1,{"$f":"IF('Vejehold 1'!Z12<>\"\",\"Dag \"&'Vejehold 1'!Z12-'Vejehold 1'!$A$7,\"\")","v":""},{"$f":"IF('Vejehold 1'!AA12<>\"\",'Vejehold 1'!AA12,\"\")","v":""},{"$f":"IF('Vejehold 1'!AB12<>\"\",'Vejehold 1'!AB12,\"\")","v":""},null,6,""]
[{"$f":"IF(AND(D8<>\"\",E8=\"\"),MAX($A$2:A7)+1,\"\")","v":""},1,{"$f":"IF('Vejehold 1'!Z13<>\"\",\"Dag \"&'Vejehold 1'!Z13-'Vejehold 1'!$A$7,\"\")","v":""},{"$f":"IF('Vejehold 1'!AA13<>\"\",'Vejehold 1'!AA13,\"\")","v":""},{"$f":"IF('Vejehold 1'!AB13<>\"\",'Vejehold 1'!AB13,\"\")","v":""},null,7,""]
[{"$f":"IF(AND(D9<>\"\",E9=\"\"),MAX($A$2:A8)+1,\"\")","v":""},1,{"$f":"IF('Vejehold 1'!Z14<>\"\",\"Dag \"&'Vejehold 1'!Z14-'Vejehold 1'!$A$7,\"\")","v":""},{"$f":"IF('Vejehold 1'!AA14<>\"\",'Vejehold 1'!AA14,\"\")","v":""},{"$f":"IF('Vejehold 1'!AB14<>\"\",'Vejehold 1'!AB14,\"\")","v":""},null,8,""]
[{"$f":"IF(AND(D10<>\"\",E10=\"\"),MAX($A$2:A9)+1,\"\")","v":""},1,{"$f":"IF('Vejehold 1'!Z15<>\"\",\"Dag \"&'Vejehold 1'!Z15-'Vejehold 1'!$A$7,\"\")","v":""},{"$f":"IF('Vejehold 1'!AA15<>\"\",'Vejehold 1'!AA15,\"\")","v":""},{"$f":"IF('Vejehold 1'!AB15<>\"\",'Vejehold 1'!AB15,\"\")","v":""},null,9,""]
[{"$f":"IF(AND(D11<>\"\",E11=\"\"),MAX($A$2:A10)+1,\"\")","v":""},1,{"$f":"IF('Vejehold 1'!Z16<>\"\",\"Dag \"&'Vejehold 1'!Z16-'Vejehold 1'!$A$7,\"\")","v":""},{"$f":"IF('Vejehold 1'!AA16<>\"\",'Vejehold 1'!AA16,\"\")","v":""},{"$f":"IF('Vejehold 1'!AB16<>\"\",'Vejehold 1'!AB16,\"\")","v":""},null,10,""]
[{"$f":"IF(AND(D12<>\"\",E12=\"\"),MAX($A$2:A11)+1,\"\")","v":""},1,{"$f":"IF('Vejehold 1'!Z17<>\"\",\"Dag \"&'Vejehold 1'!Z17-'Vejehold 1'!$A$7,\"\")","v":""},{"$f":"IF('Vejehold 1'!AA17<>\"\",'Vejehold 1'!AA17,\"\")","v":""},{"$f":"IF('Vejehold 1'!AB17<>\"\",'Vejehold 1'!AB17,\"\")","v":""},null,11,""]
[{"$f":"IF(AND(D13<>\"\",E13=\"\"),MAX($A$2:A12)+1,\"\")","v":""},1,{"$f":"IF('Vejehold 1'!Z18<>\"\",\"Dag \"&'Vejehold 1'!Z18-'Vejehold 1'!$A$7,\"\")","v":""},{"$f":"IF('Vejehold 1'!AA18<>\"\",'Vejehold 1'!AA18,\"\")","v":""},{"$f":"IF('Vejehold 1'!AB18<>\"\",'Vejehold 1'!AB18,\"\")","v":""}]
[{"$f":"IF(AND(D14<>\"\",E14=\"\"),MAX($A$2:A13)+1,\"\")","v":""},1,{"$f":"IF('Vejehold 1'!Z19<>\"\",\"Dag \"&'Vejehold 1'!Z19-'Vejehold 1'!$A$7,\"\")","v":""},{"$f":"IF('Vejehold 1'!AA19<>\"\",'Vejehold 1'!AA19,\"\")","v":""},{"$f":"IF('Vejehold 1'!AB19<>\"\",'Vejehold 1'!AB19,\"\")","v":""}]
[{"$f":"IF(AND(D15<>\"\",E15=\"\"),MAX($A$2:A14)+1,\"\")","v":""},1,{"$f":"IF('Vejehold 1'!Z20<>\"\",\"Dag \"&'Vejehold 1'!Z20-'Vejehold 1'!$A$7,\"\")","v":""},{"$f":"IF('Vejehold 1'!AA20<>\"\",'Vejehold 1'!AA20,\"\")","v":""},{"$f":"IF('Vejehold 1'!AB20<>\"\",'Vejehold 1'!AB20,\"\")","v":""}]
[{"$f":"IF(AND(D16<>\"\",E16=\"\"),MAX($A$2:A15)+1,\"\")","v":""},1,{"$f":"IF('Vejehold 1'!Z21<>\"\",\"Dag \"&'Vejehold 1'!Z21-'Vejehold 1'!$A$7,\"\")","v":""},{"$f":"IF('Vejehold 1'!AA21<>\"\",'Vejehold 1'!AA21,\"\")","v":""},{"$f":"IF('Vejehold 1'!AB21<>\"\",'Vejehold 1'!AB21,\"\")","v":""}]
[{"$f":"IF(AND(D17<>\"\",E17=\"\"),MAX($A$2:A16)+1,\"\")","v":""},1,{"$f":"IF('Vejehold 1'!Z22<>\"\",\"Dag \"&'Vejehold 1'!Z22-'Vejehold 1'!$A$7,\"\")","v":""},{"$f":"IF('Vejehold 1'!AA22<>\"\",'Vejehold 1'!AA22,\"\")","v":""},{"$f":"IF('Vejehold 1'!AB22<>\"\",'Vejehold 1'!AB22,\"\")","v":""}]
[{"$f":"IF(AND(D18<>\"\",E18=\"\"),MAX($A$2:A17)+1,\"\")","v":""},1,{"$f":"IF('Vejehold 1'!Z23<>\"\",\"Dag \"&'Vejehold 1'!Z23-'Vejehold 1'!$A$7,\"\")","v":""},{"$f":"IF('Vejehold 1'!AA23<>\"\",'Vejehold 1'!AA23,\"\")","v":""},{"$f":"IF('Vejehold 1'!AB23<>\"\",'Vejehold 1'!AB23,\"\")","v":""}]
[{"$f":"IF(AND(D19<>\"\",E19=\"\"),MAX($A$2:A18)+1,\"\")","v":""},2,{"$f":"IF('Vejehold 2'!Z7<>\"\",\"Dag \"&'Vejehold 2'!Z7-'Vejehold 2'!$A$7,\"\")","v":""},{"$f":"IF('Vejehold 2'!AA7<>\"\",'Vejehold 2'!AA7,\"\")","v":""},{"$f":"IF('Vejehold 2'!AB7<>\"\",'Vejehold 2'!AB7,\"\")","v":""}]
[{"$f":"IF(AND(D20<>\"\",E20=\"\"),MAX($A$2:A19)+1,\"\")","v":""},2,{"$f":"IF('Vejehold 2'!Z8<>\"\",\"Dag \"&'Vejehold 2'!Z8-'Vejehold 2'!$A$7,\"\")","v":""},{"$f":"IF('Vejehold 2'!AA8<>\"\",'Vejehold 2'!AA8,\"\")","v":""},{"$f":"IF('Vejehold 2'!AB8<>\"\",'Vejehold 2'!AB8,\"\")","v":""}]
[{"$f":"IF(AND(D21<>\"\",E21=\"\"),MAX($A$2:A20)+1,\"\")","v":""},2,{"$f":"IF('Vejehold 2'!Z9<>\"\",\"Dag \"&'Vejehold 2'!Z9-'Vejehold 2'!$A$7,\"\")","v":""},{"$f":"IF('Vejehold 2'!AA9<>\"\",'Vejehold 2'!AA9,\"\")","v":""},{"$f":"IF('Vejehold 2'!AB9<>\"\",'Vejehold 2'!AB9,\"\")","v":""}]
[{"$f":"IF(AND(D22<>\"\",E22=\"\"),MAX($A$2:A21)+1,\"\")","v":""},2,{"$f":"IF('Vejehold 2'!Z10<>\"\",\"Dag \"&'Vejehold 2'!Z10-'Vejehold 2'!$A$7,\"\")","v":""},{"$f":"IF('Vejehold 2'!AA10<>\"\",'Vejehold 2'!AA10,\"\")","v":""},{"$f":"IF('Vejehold 2'!AB10<>\"\",'Vejehold 2'!AB10,\"\")","v":""}]
[{"$f":"IF(AND(D23<>\"\",E23=\"\"),MAX($A$2:A22)+1,\"\")","v":""},2,{"$f":"IF('Vejehold 2'!Z11<>\"\",\"Dag \"&'Vejehold 2'!Z11-'Vejehold 2'!$A$7,\"\")","v":""},{"$f":"IF('Vejehold 2'!AA11<>\"\",'Vejehold 2'!AA11,\"\")","v":""},{"$f":"IF('Vejehold 2'!AB11<>\"\",'Vejehold 2'!AB11,\"\")","v":""}]
[{"$f":"IF(AND(D24<>\"\",E24=\"\"),MAX($A$2:A23)+1,\"\")","v":""},2,{"$f":"IF('Vejehold 2'!Z12<>\"\",\"Dag \"&'Vejehold 2'!Z12-'Vejehold 2'!$A$7,\"\")","v":""},{"$f":"IF('Vejehold 2'!AA12<>\"\",'Vejehold 2'!AA12,\"\")","v":""},{"$f":"IF('Vejehold 2'!AB12<>\"\",'Vejehold 2'!AB12,\"\")","v":""}]
[{"$f":"IF(AND(D25<>\"\",E25=\"\"),MAX($A$2:A24)+1,\"\")","v":""},2,{"$f":"IF('Vejehold 2'!Z13<>\"\",\"Dag \"&'Vejehold 2'!Z13-'Vejehold 2'!$A$7,\"\")","v":""},{"$f":"IF('Vejehold 2'!AA13<>\"\",'Vejehold 2'!AA13,\"\")","v":""},{"$f":"IF('Vejehold 2'!AB13<>\"\",'Vejehold 2'!AB13,\"\")","v":""}]
[{"$f":"IF(AND(D26<>\"\",E26=\"\"),MAX($A$2:A25)+1,\"\")","v":""},2,{"$f":"IF('Vejehold 2'!Z14<>\"\",\"Dag \"&'Vejehold 2'!Z14-'Vejehold 2'!$A$7,\"\")","v":""},{"$f":"IF('Vejehold 2'!AA14<>\"\",'Vejehold 2'!AA14,\"\")","v":""},{"$f":"IF('Vejehold 2'!AB14<>\"\",'Vejehold 2'!AB14,\"\")","v":""}]
[{"$f":"IF(AND(D27<>\"\",E27=\"\"),MAX($A$2:A26)+1,\"\")","v":""},2,{"$f":"IF('Vejehold 2'!Z15<>\"\",\"Dag \"&'Vejehold 2'!Z15-'Vejehold 2'!$A$7,\"\")","v":""},{"$f":"IF('Vejehold 2'!AA15<>\"\",'Vejehold 2'!AA15,\"\")","v":""},{"$f":"IF('Vejehold 2'!AB15<>\"\",'Vejehold 2'!AB15,\"\")","v":""}]
[{"$f":"IF(AND(D28<>\"\",E28=\"\"),MAX($A$2:A27)+1,\"\")","v":""},2,{"$f":"IF('Vejehold 2'!Z16<>\"\",\"Dag \"&'Vejehold 2'!Z16-'Vejehold 2'!$A$7,\"\")","v":""},{"$f":"IF('Vejehold 2'!AA16<>\"\",'Vejehold 2'!AA16,\"\")","v":""},{"$f":"IF('Vejehold 2'!AB16<>\"\",'Vejehold 2'!AB16,\"\")","v":""}]
[{"$f":"IF(AND(D29<>\"\",E29=\"\"),MAX($A$2:A28)+1,\"\")","v":""},2,{"$f":"IF('Vejehold 2'!Z17<>\"\",\"Dag \"&'Vejehold 2'!Z17-'Vejehold 2'!$A$7,\"\")","v":""},{"$f":"IF('Vejehold 2'!AA17<>\"\",'Vejehold 2'!AA17,\"\")","v":""},{"$f":"IF('Vejehold 2'!AB17<>\"\",'Vejehold 2'!AB17,\"\")","v":""}]
[{"$f":"IF(AND(D30<>\"\",E30=\"\"),MAX($A$2:A29)+1,\"\")","v":""},2,{"$f":"IF('Vejehold 2'!Z18<>\"\",\"Dag \"&'Vejehold 2'!Z18-'Vejehold 2'!$A$7,\"\")","v":""},{"$f":"IF('Vejehold 2'!AA18<>\"\",'Vejehold 2'!AA18,\"\")","v":""},{"$f":"IF('Vejehold 2'!AB18<>\"\",'Vejehold 2'!AB18,\"\")","v":""}]
[{"$f":"IF(AND(D31<>\"\",E31=\"\"),MAX($A$2:A30)+1,\"\")","v":""},2,{"$f":"IF('Vejehold 2'!Z19<>\"\",\"Dag \"&'Vejehold 2'!Z19-'Vejehold 2'!$A$7,\"\")","v":""},{"$f":"IF('Vejehold 2'!AA19<>\"\",'Vejehold 2'!AA19,\"\")","v":""},{"$f":"IF('Vejehold 2'!AB19<>\"\",'Vejehold 2'!AB19,\"\")","v":""}]
[{"$f":"IF(AND(D32<>\"\",E32=\"\"),MAX($A$2:A31)+1,\"\")","v":""},2,{"$f":"IF('Vejehold 2'!Z20<>\"\",\"Dag \"&'Vejehold 2'!Z20-'Vejehold 2'!$A$7,\"\")","v":""},{"$f":"IF('Vejehold 2'!AA20<>\"\",'Vejehold 2'!AA20,\"\")","v":""},{"$f":"IF('Vejehold 2'!AB20<>\"\",'Vejehold 2'!AB20,\"\")","v":""}]
[{"$f":"IF(AND(D33<>\"\",E33=\"\"),MAX($A$2:A32)+1,\"\")","v":""},2,{"$f":"IF('Vejehold 2'!Z21<>\"\",\"Dag \"&'Vejehold 2'!Z21-'Vejehold 2'!$A$7,\"\")","v":""},{"$f":"IF('Vejehold 2'!AA21<>\"\",'Vejehold 2'!AA21,\"\")","v":""},{"$f":"IF('Vejehold 2'!AB21<>\"\",'Vejehold 2'!AB21,\"\")","v":""}]
[{"$f":"IF(AND(D34<>\"\",E34=\"\"),MAX($A$2:A33)+1,\"\")","v":""},2,{"$f":"IF('Vejehold 2'!Z22<>\"\",\"Dag \"&'Vejehold 2'!Z22-'Vejehold 2'!$A$7,\"\")","v":""},{"$f":"IF('Vejehold 2'!AA22<>\"\",'Vejehold 2'!AA22,\"\")","v":""},{"$f":"IF('Vejehold 2'!AB22<>\"\",'Vejehold 2'!AB22,\"\")","v":""}]
[{"$f":"IF(AND(D35<>\"\",E35=\"\"),MAX($A$2:A34)+1,\"\")","v":""},2,{"$f":"IF('Vejehold 2'!Z23<>\"\",\"Dag \"&'Vejehold 2'!Z23-'Vejehold 2'!$A$7,\"\")","v":""},{"$f":"IF('Vejehold 2'!AA23<>\"\",'Vejehold 2'!AA23,\"\")","v":""},{"$f":"IF('Vejehold 2'!AB23<>\"\",'Vejehold 2'!AB23,\"\")","v":""}]
[{"$f":"IF(AND(D36<>\"\",E36=\"\"),MAX($A$2:A35)+1,\"\")","v":""},{"$f":"3","v":3},{"$f":"IF('Vejehold 3'!Z7<>\"\",\"Dag \"&'Vejehold 3'!Z7-'Vejehold 3'!$A$7,\"\")","v":""},{"$f":"IF('Vejehold 3'!AA7<>\"\",'Vejehold 3'!AA7,\"\")","v":""},{"$f":"IF('Vejehold 3'!AB7<>\"\",'Vejehold 3'!AB7,\"\")","v":""}]
[{"$f":"IF(AND(D37<>\"\",E37=\"\"),MAX($A$2:A36)+1,\"\")","v":""},{"$f":"3","v":3},{"$f":"IF('Vejehold 3'!Z8<>\"\",\"Dag \"&'Vejehold 3'!Z8-'Vejehold 3'!$A$7,\"\")","v":""},{"$f":"IF('Vejehold 3'!AA8<>\"\",'Vejehold 3'!AA8,\"\")","v":""},{"$f":"IF('Vejehold 3'!AB8<>\"\",'Vejehold 3'!AB8,\"\")","v":""}]
[{"$f":"IF(AND(D38<>\"\",E38=\"\"),MAX($A$2:A37)+1,\"\")","v":""},{"$f":"3","v":3},{"$f":"IF('Vejehold 3'!Z9<>\"\",\"Dag \"&'Vejehold 3'!Z9-'Vejehold 3'!$A$7,\"\")","v":""},{"$f":"IF('Vejehold 3'!AA9<>\"\",'Vejehold 3'!AA9,\"\")","v":""},{"$f":"IF('Vejehold 3'!AB9<>\"\",'Vejehold 3'!AB9,\"\")","v":""}]
[{"$f":"IF(AND(D39<>\"\",E39=\"\"),MAX($A$2:A38)+1,\"\")","v":""},{"$f":"3","v":3},{"$f":"IF('Vejehold 3'!Z10<>\"\",\"Dag \"&'Vejehold 3'!Z10-'Vejehold 3'!$A$7,\"\")","v":""},{"$f":"IF('Vejehold 3'!AA10<>\"\",'Vejehold 3'!AA10,\"\")","v":""},{"$f":"IF('Vejehold 3'!AB10<>\"\",'Vejehold 3'!AB10,\"\")","v":""}]
[{"$f":"IF(AND(D40<>\"\",E40=\"\"),MAX($A$2:A39)+1,\"\")","v":""},{"$f":"3","v":3},{"$f":"IF('Vejehold 3'!Z11<>\"\",\"Dag \"&'Vejehold 3'!Z11-'Vejehold 3'!$A$7,\"\")","v":""},{"$f":"IF('Vejehold 3'!AA11<>\"\",'Vejehold 3'!AA11,\"\")","v":""},{"$f":"IF('Vejehold 3'!AB11<>\"\",'Vejehold 3'!AB11,\"\")","v":""}]
[{"$f":"IF(AND(D41<>\"\",E41=\"\"),MAX($A$2:A40)+1,\"\")","v":""},{"$f":"3","v":3},{"$f":"IF('Vejehold 3'!Z12<>\"\",\"Dag \"&'Vejehold 3'!Z12-'Vejehold 3'!$A$7,\"\")","v":""},{"$f":"IF('Vejehold 3'!AA12<>\"\",'Vejehold 3'!AA12,\"\")","v":""},{"$f":"IF('Vejehold 3'!AB12<>\"\",'Vejehold 3'!AB12,\"\")","v":""}]
[{"$f":"IF(AND(D42<>\"\",E42=\"\"),MAX($A$2:A41)+1,\"\")","v":""},{"$f":"3","v":3},{"$f":"IF('Vejehold 3'!Z13<>\"\",\"Dag \"&'Vejehold 3'!Z13-'Vejehold 3'!$A$7,\"\")","v":""},{"$f":"IF('Vejehold 3'!AA13<>\"\",'Vejehold 3'!AA13,\"\")","v":""},{"$f":"IF('Vejehold 3'!AB13<>\"\",'Vejehold 3'!AB13,\"\")","v":""}]
[{"$f":"IF(AND(D43<>\"\",E43=\"\"),MAX($A$2:A42)+1,\"\")","v":""},{"$f":"3","v":3},{"$f":"IF('Vejehold 3'!Z14<>\"\",\"Dag \"&'Vejehold 3'!Z14-'Vejehold 3'!$A$7,\"\")","v":""},{"$f":"IF('Vejehold 3'!AA14<>\"\",'Vejehold 3'!AA14,\"\")","v":""},{"$f":"IF('Vejehold 3'!AB14<>\"\",'Vejehold 3'!AB14,\"\")","v":""}]
[{"$f":"IF(AND(D44<>\"\",E44=\"\"),MAX($A$2:A43)+1,\"\")","v":""},{"$f":"3","v":3},{"$f":"IF('Vejehold 3'!Z15<>\"\",\"Dag \"&'Vejehold 3'!Z15-'Vejehold 3'!$A$7,\"\")","v":""},{"$f":"IF('Vejehold 3'!AA15<>\"\",'Vejehold 3'!AA15,\"\")","v":""},{"$f":"IF('Vejehold 3'!AB15<>\"\",'Vejehold 3'!AB15,\"\")","v":""}]
[{"$f":"IF(AND(D45<>\"\",E45=\"\"),MAX($A$2:A44)+1,\"\")","v":""},{"$f":"3","v":3},{"$f":"IF('Vejehold 3'!Z16<>\"\",\"Dag \"&'Vejehold 3'!Z16-'Vejehold 3'!$A$7,\"\")","v":""},{"$f":"IF('Vejehold 3'!AA16<>\"\",'Vejehold 3'!AA16,\"\")","v":""},{"$f":"IF('Vejehold 3'!AB16<>\"\",'Vejehold 3'!AB16,\"\")","v":""}]
[{"$f":"IF(AND(D46<>\"\",E46=\"\"),MAX($A$2:A45)+1,\"\")","v":""},{"$f":"3","v":3},{"$f":"IF('Vejehold 3'!Z17<>\"\",\"Dag \"&'Vejehold 3'!Z17-'Vejehold 3'!$A$7,\"\")","v":""},{"$f":"IF('Vejehold 3'!AA17<>\"\",'Vejehold 3'!AA17,\"\")","v":""},{"$f":"IF('Vejehold 3'!AB17<>\"\",'Vejehold 3'!AB17,\"\")","v":""}]
[{"$f":"IF(AND(D47<>\"\",E47=\"\"),MAX($A$2:A46)+1,\"\")","v":""},{"$f":"3","v":3},{"$f":"IF('Vejehold 3'!Z18<>\"\",\"Dag \"&'Vejehold 3'!Z18-'Vejehold 3'!$A$7,\"\")","v":""},{"$f":"IF('Vejehold 3'!AA18<>\"\",'Vejehold 3'!AA18,\"\")","v":""},{"$f":"IF('Vejehold 3'!AB18<>\"\",'Vejehold 3'!AB18,\"\")","v":""}]
[{"$f":"IF(AND(D48<>\"\",E48=\"\"),MAX($A$2:A47)+1,\"\")","v":""},{"$f":"3","v":3},{"$f":"IF('Vejehold 3'!Z19<>\"\",\"Dag \"&'Vejehold 3'!Z19-'Vejehold 3'!$A$7,\"\")","v":""},{"$f":"IF('Vejehold 3'!AA19<>\"\",'Vejehold 3'!AA19,\"\")","v":""},{"$f":"IF('Vejehold 3'!AB19<>\"\",'Vejehold 3'!AB19,\"\")","v":""}]
[{"$f":"IF(AND(D49<>\"\",E49=\"\"),MAX($A$2:A48)+1,\"\")","v":""},{"$f":"3","v":3},{"$f":"IF('Vejehold 3'!Z20<>\"\",\"Dag \"&'Vejehold 3'!Z20-'Vejehold 3'!$A$7,\"\")","v":""},{"$f":"IF('Vejehold 3'!AA20<>\"\",'Vejehold 3'!AA20,\"\")","v":""},{"$f":"IF('Vejehold 3'!AB20<>\"\",'Vejehold 3'!AB20,\"\")","v":""}]
[{"$f":"IF(AND(D50<>\"\",E50=\"\"),MAX($A$2:A49)+1,\"\")","v":""},{"$f":"3","v":3},{"$f":"IF('Vejehold 3'!Z21<>\"\",\"Dag \"&'Vejehold 3'!Z21-'Vejehold 3'!$A$7,\"\")","v":""},{"$f":"IF('Vejehold 3'!AA21<>\"\",'Vejehold 3'!AA21,\"\")","v":""},{"$f":"IF('Vejehold 3'!AB21<>\"\",'Vejehold 3'!AB21,\"\")","v":""}]
[{"$f":"IF(AND(D51<>\"\",E51=\"\"),MAX($A$2:A50)+1,\"\")","v":""},{"$f":"3","v":3},{"$f":"IF('Vejehold 3'!Z22<>\"\",\"Dag \"&'Vejehold 3'!Z22-'Vejehold 3'!$A$7,\"\")","v":""},{"$f":"IF('Vejehold 3'!AA22<>\"\",'Vejehold 3'!AA22,\"\")","v":""},{"$f":"IF('Vejehold 3'!AB22<>\"\",'Vejehold 3'!AB22,\"\")","v":""}]
[{"$f":"IF(AND(D52<>\"\",E52=\"\"),MAX($A$2:A51)+1,\"\")","v":""},{"$f":"3","v":3},{"$f":"IF('Vejehold 3'!Z23<>\"\",\"Dag \"&'Vejehold 3'!Z23-'Vejehold 3'!$A$7,\"\")","v":""},{"$f":"IF('Vejehold 3'!AA23<>\"\",'Vejehold 3'!AA23,\"\")","v":""},{"$f":"IF('Vejehold 3'!AB23<>\"\",'Vejehold 3'!AB23,\"\")","v":""}]
[{"$f":"IF(AND(D53<>\"\",E53=\"\"),MAX($A$2:A52)+1,\"\")","v":""},{"$f":"4","v":4},{"$f":"IF('Vejehold 4'!Z7<>\"\",\"Dag \"&'Vejehold 4'!Z7-'Vejehold 4'!$A$7,\"\")","v":""},{"$f":"IF('Vejehold 4'!AA7<>\"\",'Vejehold 4'!AA7,\"\")","v":""},{"$f":"IF('Vejehold 4'!AB7<>\"\",'Vejehold 4'!AB7,\"\")","v":""}]
[{"$f":"IF(AND(D54<>\"\",E54=\"\"),MAX($A$2:A53)+1,\"\")","v":""},{"$f":"4","v":4},{"$f":"IF('Vejehold 4'!Z8<>\"\",\"Dag \"&'Vejehold 4'!Z8-'Vejehold 4'!$A$7,\"\")","v":""},{"$f":"IF('Vejehold 4'!AA8<>\"\",'Vejehold 4'!AA8,\"\")","v":""},{"$f":"IF('Vejehold 4'!AB8<>\"\",'Vejehold 4'!AB8,\"\")","v":""}]
[{"$f":"IF(AND(D55<>\"\",E55=\"\"),MAX($A$2:A54)+1,\"\")","v":""},{"$f":"4","v":4},{"$f":"IF('Vejehold 4'!Z9<>\"\",\"Dag \"&'Vejehold 4'!Z9-'Vejehold 4'!$A$7,\"\")","v":""},{"$f":"IF('Vejehold 4'!AA9<>\"\",'Vejehold 4'!AA9,\"\")","v":""},{"$f":"IF('Vejehold 4'!AB9<>\"\",'Vejehold 4'!AB9,\"\")","v":""}]
[{"$f":"IF(AND(D56<>\"\",E56=\"\"),MAX($A$2:A55)+1,\"\")","v":""},{"$f":"4","v":4},{"$f":"IF('Vejehold 4'!Z10<>\"\",\"Dag \"&'Vejehold 4'!Z10-'Vejehold 4'!$A$7,\"\")","v":""},{"$f":"IF('Vejehold 4'!AA10<>\"\",'Vejehold 4'!AA10,\"\")","v":""},{"$f":"IF('Vejehold 4'!AB10<>\"\",'Vejehold 4'!AB10,\"\")","v":""}]
[{"$f":"IF(AND(D57<>\"\",E57=\"\"),MAX($A$2:A56)+1,\"\")","v":""},{"$f":"4","v":4},{"$f":"IF('Vejehold 4'!Z11<>\"\",\"Dag \"&'Vejehold 4'!Z11-'Vejehold 4'!$A$7,\"\")","v":""},{"$f":"IF('Vejehold 4'!AA11<>\"\",'Vejehold 4'!AA11,\"\")","v":""},{"$f":"IF('Vejehold 4'!AB11<>\"\",'Vejehold 4'!AB11,\"\")","v":""}]
[{"$f":"IF(AND(D58<>\"\",E58=\"\"),MAX($A$2:A57)+1,\"\")","v":""},{"$f":"4","v":4},{"$f":"IF('Vejehold 4'!Z12<>\"\",\"Dag \"&'Vejehold 4'!Z12-'Vejehold 4'!$A$7,\"\")","v":""},{"$f":"IF('Vejehold 4'!AA12<>\"\",'Vejehold 4'!AA12,\"\")","v":""},{"$f":"IF('Vejehold 4'!AB12<>\"\",'Vejehold 4'!AB12,\"\")","v":""}]
[{"$f":"IF(AND(D59<>\"\",E59=\"\"),MAX($A$2:A58)+1,\"\")","v":""},{"$f":"4","v":4},{"$f":"IF('Vejehold 4'!Z13<>\"\",\"Dag \"&'Vejehold 4'!Z13-'Vejehold 4'!$A$7,\"\")","v":""},{"$f":"IF('Vejehold 4'!AA13<>\"\",'Vejehold 4'!AA13,\"\")","v":""},{"$f":"IF('Vejehold 4'!AB13<>\"\",'Vejehold 4'!AB13,\"\")","v":""}]
[{"$f":"IF(AND(D60<>\"\",E60=\"\"),MAX($A$2:A59)+1,\"\")","v":""},{"$f":"4","v":4},{"$f":"IF('Vejehold 4'!Z14<>\"\",\"Dag \"&'Vejehold 4'!Z14-'Vejehold 4'!$A$7,\"\")","v":""},{"$f":"IF('Vejehold 4'!AA14<>\"\",'Vejehold 4'!AA14,\"\")","v":""},{"$f":"IF('Vejehold 4'!AB14<>\"\",'Vejehold 4'!AB14,\"\")","v":""}]
[{"$f":"IF(AND(D61<>\"\",E61=\"\"),MAX($A$2:A60)+1,\"\")","v":""},{"$f":"4","v":4},{"$f":"IF('Vejehold 4'!Z15<>\"\",\"Dag \"&'Vejehold 4'!Z15-'Vejehold 4'!$A$7,\"\")","v":""},{"$f":"IF('Vejehold 4'!AA15<>\"\",'Vejehold 4'!AA15,\"\")","v":""},{"$f":"IF('Vejehold 4'!AB15<>\"\",'Vejehold 4'!AB15,\"\")","v":""}]
[{"$f":"IF(AND(D62<>\"\",E62=\"\"),MAX($A$2:A61)+1,\"\")","v":""},{"$f":"4","v":4},{"$f":"IF('Vejehold 4'!Z16<>\"\",\"Dag \"&'Vejehold 4'!Z16-'Vejehold 4'!$A$7,\"\")","v":""},{"$f":"IF('Vejehold 4'!AA16<>\"\",'Vejehold 4'!AA16,\"\")","v":""},{"$f":"IF('Vejehold 4'!AB16<>\"\",'Vejehold 4'!AB16,\"\")","v":""}]
[{"$f":"IF(AND(D63<>\"\",E63=\"\"),MAX($A$2:A62)+1,\"\")","v":""},{"$f":"4","v":4},{"$f":"IF('Vejehold 4'!Z17<>\"\",\"Dag \"&'Vejehold 4'!Z17-'Vejehold 4'!$A$7,\"\")","v":""},{"$f":"IF('Vejehold 4'!AA17<>\"\",'Vejehold 4'!AA17,\"\")","v":""},{"$f":"IF('Vejehold 4'!AB17<>\"\",'Vejehold 4'!AB17,\"\")","v":""}]
[{"$f":"IF(AND(D64<>\"\",E64=\"\"),MAX($A$2:A63)+1,\"\")","v":""},{"$f":"4","v":4},{"$f":"IF('Vejehold 4'!Z18<>\"\",\"Dag \"&'Vejehold 4'!Z18-'Vejehold 4'!$A$7,\"\")","v":""},{"$f":"IF('Vejehold 4'!AA18<>\"\",'Vejehold 4'!AA18,\"\")","v":""},{"$f":"IF('Vejehold 4'!AB18<>\"\",'Vejehold 4'!AB18,\"\")","v":""}]
[{"$f":"IF(AND(D65<>\"\",E65=\"\"),MAX($A$2:A64)+1,\"\")","v":""},{"$f":"4","v":4},{"$f":"IF('Vejehold 4'!Z19<>\"\",\"Dag \"&'Vejehold 4'!Z19-'Vejehold 4'!$A$7,\"\")","v":""},{"$f":"IF('Vejehold 4'!AA19<>\"\",'Vejehold 4'!AA19,\"\")","v":""},{"$f":"IF('Vejehold 4'!AB19<>\"\",'Vejehold 4'!AB19,\"\")","v":""}]
[{"$f":"IF(AND(D66<>\"\",E66=\"\"),MAX($A$2:A65)+1,\"\")","v":""},{"$f":"4","v":4},{"$f":"IF('Vejehold 4'!Z20<>\"\",\"Dag \"&'Vejehold 4'!Z20-'Vejehold 4'!$A$7,\"\")","v":""},{"$f":"IF('Vejehold 4'!AA20<>\"\",'Vejehold 4'!AA20,\"\")","v":""},{"$f":"IF('Vejehold 4'!AB20<>\"\",'Vejehold 4'!AB20,\"\")","v":""}]
[{"$f":"IF(AND(D67<>\"\",E67=\"\"),MAX($A$2:A66)+1,\"\")","v":""},{"$f":"4","v":4},{"$f":"IF('Vejehold 4'!Z21<>\"\",\"Dag \"&'Vejehold 4'!Z21-'Vejehold 4'!$A$7,\"\")","v":""},{"$f":"IF('Vejehold 4'!AA21<>\"\",'Vejehold 4'!AA21,\"\")","v":""},{"$f":"IF('Vejehold 4'!AB21<>\"\",'Vejehold 4'!AB21,\"\")","v":""}]
[{"$f":"IF(AND(D68<>\"\",E68=\"\"),MAX($A$2:A67)+1,\"\")","v":""},{"$f":"4","v":4},{"$f":"IF('Vejehold 4'!Z22<>\"\",\"Dag \"&'Vejehold 4'!Z22-'Vejehold 4'!$A$7,\"\")","v":""},{"$f":"IF('Vejehold 4'!AA22<>\"\",'Vejehold 4'!AA22,\"\")","v":""},{"$f":"IF('Vejehold 4'!AB22<>\"\",'Vejehold 4'!AB22,\"\")","v":""}]
[{"$f":"IF(AND(D69<>\"\",E69=\"\"),MAX($A$2:A68)+1,\"\")","v":""},{"$f":"4","v":4},{"$f":"IF('Vejehold 4'!Z23<>\"\",\"Dag \"&'Vejehold 4'!Z23-'Vejehold 4'!$A$7,\"\")","v":""},{"$f":"IF('Vejehold 4'!AA23<>\"\",'Vejehold 4'!AA23,\"\")","v":""},{"$f":"IF('Vejehold 4'!AB23<>\"\",'Vejehold 4'!AB23,\"\")","v":""}]
[{"$f":"IF(AND(D70<>\"\",E70=\"\"),MAX($A$2:A69)+1,\"\")","v":""},{"$f":"5","v":5},{"$f":"IF('Vejehold 5'!Z7<>\"\",\"Dag \"&'Vejehold 5'!Z7-'Vejehold 5'!$A$7,\"\")","v":""},{"$f":"IF('Vejehold 5'!AA7<>\"\",'Vejehold 5'!AA7,\"\")","v":""},{"$f":"IF('Vejehold 5'!AB7<>\"\",'Vejehold 5'!AB7,\"\")","v":""}]
[{"$f":"IF(AND(D71<>\"\",E71=\"\"),MAX($A$2:A70)+1,\"\")","v":""},{"$f":"5","v":5},{"$f":"IF('Vejehold 5'!Z8<>\"\",\"Dag \"&'Vejehold 5'!Z8-'Vejehold 5'!$A$7,\"\")","v":""},{"$f":"IF('Vejehold 5'!AA8<>\"\",'Vejehold 5'!AA8,\"\")","v":""},{"$f":"IF('Vejehold 5'!AB8<>\"\",'Vejehold 5'!AB8,\"\")","v":""}]
[{"$f":"IF(AND(D72<>\"\",E72=\"\"),MAX($A$2:A71)+1,\"\")","v":""},{"$f":"5","v":5},{"$f":"IF('Vejehold 5'!Z9<>\"\",\"Dag \"&'Vejehold 5'!Z9-'Vejehold 5'!$A$7,\"\")","v":""},{"$f":"IF('Vejehold 5'!AA9<>\"\",'Vejehold 5'!AA9,\"\")","v":""},{"$f":"IF('Vejehold 5'!AB9<>\"\",'Vejehold 5'!AB9,\"\")","v":""}]
[{"$f":"IF(AND(D73<>\"\",E73=\"\"),MAX($A$2:A72)+1,\"\")","v":""},{"$f":"5","v":5},{"$f":"IF('Vejehold 5'!Z10<>\"\",\"Dag \"&'Vejehold 5'!Z10-'Vejehold 5'!$A$7,\"\")","v":""},{"$f":"IF('Vejehold 5'!AA10<>\"\",'Vejehold 5'!AA10,\"\")","v":""},{"$f":"IF('Vejehold 5'!AB10<>\"\",'Vejehold 5'!AB10,\"\")","v":""}]
[{"$f":"IF(AND(D74<>\"\",E74=\"\"),MAX($A$2:A73)+1,\"\")","v":""},{"$f":"5","v":5},{"$f":"IF('Vejehold 5'!Z11<>\"\",\"Dag \"&'Vejehold 5'!Z11-'Vejehold 5'!$A$7,\"\")","v":""},{"$f":"IF('Vejehold 5'!AA11<>\"\",'Vejehold 5'!AA11,\"\")","v":""},{"$f":"IF('Vejehold 5'!AB11<>\"\",'Vejehold 5'!AB11,\"\")","v":""}]
[{"$f":"IF(AND(D75<>\"\",E75=\"\"),MAX($A$2:A74)+1,\"\")","v":""},{"$f":"5","v":5},{"$f":"IF('Vejehold 5'!Z12<>\"\",\"Dag \"&'Vejehold 5'!Z12-'Vejehold 5'!$A$7,\"\")","v":""},{"$f":"IF('Vejehold 5'!AA12<>\"\",'Vejehold 5'!AA12,\"\")","v":""},{"$f":"IF('Vejehold 5'!AB12<>\"\",'Vejehold 5'!AB12,\"\")","v":""}]
[{"$f":"IF(AND(D76<>\"\",E76=\"\"),MAX($A$2:A75)+1,\"\")","v":""},{"$f":"5","v":5},{"$f":"IF('Vejehold 5'!Z13<>\"\",\"Dag \"&'Vejehold 5'!Z13-'Vejehold 5'!$A$7,\"\")","v":""},{"$f":"IF('Vejehold 5'!AA13<>\"\",'Vejehold 5'!AA13,\"\")","v":""},{"$f":"IF('Vejehold 5'!AB13<>\"\",'Vejehold 5'!AB13,\"\")","v":""}]
[{"$f":"IF(AND(D77<>\"\",E77=\"\"),MAX($A$2:A76)+1,\"\")","v":""},{"$f":"5","v":5},{"$f":"IF('Vejehold 5'!Z14<>\"\",\"Dag \"&'Vejehold 5'!Z14-'Vejehold 5'!$A$7,\"\")","v":""},{"$f":"IF('Vejehold 5'!AA14<>\"\",'Vejehold 5'!AA14,\"\")","v":""},{"$f":"IF('Vejehold 5'!AB14<>\"\",'Vejehold 5'!AB14,\"\")","v":""}]
[{"$f":"IF(AND(D78<>\"\",E78=\"\"),MAX($A$2:A77)+1,\"\")","v":""},{"$f":"5","v":5},{"$f":"IF('Vejehold 5'!Z15<>\"\",\"Dag \"&'Vejehold 5'!Z15-'Vejehold 5'!$A$7,\"\")","v":""},{"$f":"IF('Vejehold 5'!AA15<>\"\",'Vejehold 5'!AA15,\"\")","v":""},{"$f":"IF('Vejehold 5'!AB15<>\"\",'Vejehold 5'!AB15,\"\")","v":""}]
[{"$f":"IF(AND(D79<>\"\",E79=\"\"),MAX($A$2:A78)+1,\"\")","v":""},{"$f":"5","v":5},{"$f":"IF('Vejehold 5'!Z16<>\"\",\"Dag \"&'Vejehold 5'!Z16-'Vejehold 5'!$A$7,\"\")","v":""},{"$f":"IF('Vejehold 5'!AA16<>\"\",'Vejehold 5'!AA16,\"\")","v":""},{"$f":"IF('Vejehold 5'!AB16<>\"\",'Vejehold 5'!AB16,\"\")","v":""}]
[{"$f":"IF(AND(D80<>\"\",E80=\"\"),MAX($A$2:A79)+1,\"\")","v":""},{"$f":"5","v":5},{"$f":"IF('Vejehold 5'!Z17<>\"\",\"Dag \"&'Vejehold 5'!Z17-'Vejehold 5'!$A$7,\"\")","v":""},{"$f":"IF('Vejehold 5'!AA17<>\"\",'Vejehold 5'!AA17,\"\")","v":""},{"$f":"IF('Vejehold 5'!AB17<>\"\",'Vejehold 5'!AB17,\"\")","v":""}]
[{"$f":"IF(AND(D81<>\"\",E81=\"\"),MAX($A$2:A80)+1,\"\")","v":""},{"$f":"5","v":5},{"$f":"IF('Vejehold 5'!Z18<>\"\",\"Dag \"&'Vejehold 5'!Z18-'Vejehold 5'!$A$7,\"\")","v":""},{"$f":"IF('Vejehold 5'!AA18<>\"\",'Vejehold 5'!AA18,\"\")","v":""},{"$f":"IF('Vejehold 5'!AB18<>\"\",'Vejehold 5'!AB18,\"\")","v":""}]
[{"$f":"IF(AND(D82<>\"\",E82=\"\"),MAX($A$2:A81)+1,\"\")","v":""},{"$f":"5","v":5},{"$f":"IF('Vejehold 5'!Z19<>\"\",\"Dag \"&'Vejehold 5'!Z19-'Vejehold 5'!$A$7,\"\")","v":""},{"$f":"IF('Vejehold 5'!AA19<>\"\",'Vejehold 5'!AA19,\"\")","v":""},{"$f":"IF('Vejehold 5'!AB19<>\"\",'Vejehold 5'!AB19,\"\")","v":""}]
[{"$f":"IF(AND(D83<>\"\",E83=\"\"),MAX($A$2:A82)+1,\"\")","v":""},{"$f":"5","v":5},{"$f":"IF('Vejehold 5'!Z20<>\"\",\"Dag \"&'Vejehold 5'!Z20-'Vejehold 5'!$A$7,\"\")","v":""},{"$f":"IF('Vejehold 5'!AA20<>\"\",'Vejehold 5'!AA20,\"\")","v":""},{"$f":"IF('Vejehold 5'!AB20<>\"\",'Vejehold 5'!AB20,\"\")","v":""}]
[{"$f":"IF(AND(D84<>\"\",E84=\"\"),MAX($A$2:A83)+1,\"\")","v":""},{"$f":"5","v":5},{"$f":"IF('Vejehold 5'!Z21<>\"\",\"Dag \"&'Vejehold 5'!Z21-'Vejehold 5'!$A$7,\"\")","v":""},{"$f":"IF('Vejehold 5'!AA21<>\"\",'Vejehold 5'!AA21,\"\")","v":""},{"$f":"IF('Vejehold 5'!AB21<>\"\",'Vejehold 5'!AB21,\"\")","v":""}]
[{"$f":"IF(AND(D85<>\"\",E85=\"\"),MAX($A$2:A84)+1,\"\")","v":""},{"$f":"5","v":5},{"$f":"IF('Vejehold 5'!Z22<>\"\",\"Dag \"&'Vejehold 5'!Z22-'Vejehold 5'!$A$7,\"\")","v":""},{"$f":"IF('Vejehold 5'!AA22<>\"\",'Vejehold 5'!AA22,\"\")","v":""},{"$f":"IF('Vejehold 5'!AB22<>\"\",'Vejehold 5'!AB22,\"\")","v":""}]
[{"$f":"IF(AND(D86<>\"\",E86=\"\"),MAX($A$2:A85)+1,\"\")","v":""},{"$f":"5","v":5},{"$f":"IF('Vejehold 5'!Z23<>\"\",\"Dag \"&'Vejehold 5'!Z23-'Vejehold 5'!$A$7,\"\")","v":""},{"$f":"IF('Vejehold 5'!AA23<>\"\",'Vejehold 5'!AA23,\"\")","v":""},{"$f":"IF('Vejehold 5'!AB23<>\"\",'Vejehold 5'!AB23,\"\")","v":""}]
[{"$f":"IF(AND(D87<>\"\",E87=\"\"),MAX($A$2:A86)+1,\"\")","v":""},{"$f":"6","v":6},{"$f":"IF('Vejehold 6'!Z7<>\"\",\"Dag \"&'Vejehold 6'!Z7-'Vejehold 6'!$A$7,\"\")","v":""},{"$f":"IF('Vejehold 6'!AA7<>\"\",'Vejehold 6'!AA7,\"\")","v":""},{"$f":"IF('Vejehold 6'!AB7<>\"\",'Vejehold 6'!AB7,\"\")","v":""}]
[{"$f":"IF(AND(D88<>\"\",E88=\"\"),MAX($A$2:A87)+1,\"\")","v":""},{"$f":"6","v":6},{"$f":"IF('Vejehold 6'!Z8<>\"\",\"Dag \"&'Vejehold 6'!Z8-'Vejehold 6'!$A$7,\"\")","v":""},{"$f":"IF('Vejehold 6'!AA8<>\"\",'Vejehold 6'!AA8,\"\")","v":""},{"$f":"IF('Vejehold 6'!AB8<>\"\",'Vejehold 6'!AB8,\"\")","v":""}]
[{"$f":"IF(AND(D89<>\"\",E89=\"\"),MAX($A$2:A88)+1,\"\")","v":""},{"$f":"6","v":6},{"$f":"IF('Vejehold 6'!Z9<>\"\",\"Dag \"&'Vejehold 6'!Z9-'Vejehold 6'!$A$7,\"\")","v":""},{"$f":"IF('Vejehold 6'!AA9<>\"\",'Vejehold 6'!AA9,\"\")","v":""},{"$f":"IF('Vejehold 6'!AB9<>\"\",'Vejehold 6'!AB9,\"\")","v":""}]
[{"$f":"IF(AND(D90<>\"\",E90=\"\"),MAX($A$2:A89)+1,\"\")","v":""},{"$f":"6","v":6},{"$f":"IF('Vejehold 6'!Z10<>\"\",\"Dag \"&'Vejehold 6'!Z10-'Vejehold 6'!$A$7,\"\")","v":""},{"$f":"IF('Vejehold 6'!AA10<>\"\",'Vejehold 6'!AA10,\"\")","v":""},{"$f":"IF('Vejehold 6'!AB10<>\"\",'Vejehold 6'!AB10,\"\")","v":""}]
[{"$f":"IF(AND(D91<>\"\",E91=\"\"),MAX($A$2:A90)+1,\"\")","v":""},{"$f":"6","v":6},{"$f":"IF('Vejehold 6'!Z11<>\"\",\"Dag \"&'Vejehold 6'!Z11-'Vejehold 6'!$A$7,\"\")","v":""},{"$f":"IF('Vejehold 6'!AA11<>\"\",'Vejehold 6'!AA11,\"\")","v":""},{"$f":"IF('Vejehold 6'!AB11<>\"\",'Vejehold 6'!AB11,\"\")","v":""}]
[{"$f":"IF(AND(D92<>\"\",E92=\"\"),MAX($A$2:A91)+1,\"\")","v":""},{"$f":"6","v":6},{"$f":"IF('Vejehold 6'!Z12<>\"\",\"Dag \"&'Vejehold 6'!Z12-'Vejehold 6'!$A$7,\"\")","v":""},{"$f":"IF('Vejehold 6'!AA12<>\"\",'Vejehold 6'!AA12,\"\")","v":""},{"$f":"IF('Vejehold 6'!AB12<>\"\",'Vejehold 6'!AB12,\"\")","v":""}]
[{"$f":"IF(AND(D93<>\"\",E93=\"\"),MAX($A$2:A92)+1,\"\")","v":""},{"$f":"6","v":6},{"$f":"IF('Vejehold 6'!Z13<>\"\",\"Dag \"&'Vejehold 6'!Z13-'Vejehold 6'!$A$7,\"\")","v":""},{"$f":"IF('Vejehold 6'!AA13<>\"\",'Vejehold 6'!AA13,\"\")","v":""},{"$f":"IF('Vejehold 6'!AB13<>\"\",'Vejehold 6'!AB13,\"\")","v":""}]
[{"$f":"IF(AND(D94<>\"\",E94=\"\"),MAX($A$2:A93)+1,\"\")","v":""},{"$f":"6","v":6},{"$f":"IF('Vejehold 6'!Z14<>\"\",\"Dag \"&'Vejehold 6'!Z14-'Vejehold 6'!$A$7,\"\")","v":""},{"$f":"IF('Vejehold 6'!AA14<>\"\",'Vejehold 6'!AA14,\"\")","v":""},{"$f":"IF('Vejehold 6'!AB14<>\"\",'Vejehold 6'!AB14,\"\")","v":""}]
[{"$f":"IF(AND(D95<>\"\",E95=\"\"),MAX($A$2:A94)+1,\"\")","v":""},{"$f":"6","v":6},{"$f":"IF('Vejehold 6'!Z15<>\"\",\"Dag \"&'Vejehold 6'!Z15-'Vejehold 6'!$A$7,\"\")","v":""},{"$f":"IF('Vejehold 6'!AA15<>\"\",'Vejehold 6'!AA15,\"\")","v":""},{"$f":"IF('Vejehold 6'!AB15<>\"\",'Vejehold 6'!AB15,\"\")","v":""}]
[{"$f":"IF(AND(D96<>\"\",E96=\"\"),MAX($A$2:A95)+1,\"\")","v":""},{"$f":"6","v":6},{"$f":"IF('Vejehold 6'!Z16<>\"\",\"Dag \"&'Vejehold 6'!Z16-'Vejehold 6'!$A$7,\"\")","v":""},{"$f":"IF('Vejehold 6'!AA16<>\"\",'Vejehold 6'!AA16,\"\")","v":""},{"$f":"IF('Vejehold 6'!AB16<>\"\",'Vejehold 6'!AB16,\"\")","v":""}]
[{"$f":"IF(AND(D97<>\"\",E97=\"\"),MAX($A$2:A96)+1,\"\")","v":""},{"$f":"6","v":6},{"$f":"IF('Vejehold 6'!Z17<>\"\",\"Dag \"&'Vejehold 6'!Z17-'Vejehold 6'!$A$7,\"\")","v":""},{"$f":"IF('Vejehold 6'!AA17<>\"\",'Vejehold 6'!AA17,\"\")","v":""},{"$f":"IF('Vejehold 6'!AB17<>\"\",'Vejehold 6'!AB17,\"\")","v":""}]
[{"$f":"IF(AND(D98<>\"\",E98=\"\"),MAX($A$2:A97)+1,\"\")","v":""},{"$f":"6","v":6},{"$f":"IF('Vejehold 6'!Z18<>\"\",\"Dag \"&'Vejehold 6'!Z18-'Vejehold 6'!$A$7,\"\")","v":""},{"$f":"IF('Vejehold 6'!AA18<>\"\",'Vejehold 6'!AA18,\"\")","v":""},{"$f":"IF('Vejehold 6'!AB18<>\"\",'Vejehold 6'!AB18,\"\")","v":""}]
[{"$f":"IF(AND(D99<>\"\",E99=\"\"),MAX($A$2:A98)+1,\"\")","v":""},{"$f":"6","v":6},{"$f":"IF('Vejehold 6'!Z19<>\"\",\"Dag \"&'Vejehold 6'!Z19-'Vejehold 6'!$A$7,\"\")","v":""},{"$f":"IF('Vejehold 6'!AA19<>\"\",'Vejehold 6'!AA19,\"\")","v":""},{"$f":"IF('Vejehold 6'!AB19<>\"\",'Vejehold 6'!AB19,\"\")","v":""}]
[{"$f":"IF(AND(D100<>\"\",E100=\"\"),MAX($A$2:A99)+1,\"\")","v":""},{"$f":"6","v":6},{"$f":"IF('Vejehold 6'!Z20<>\"\",\"Dag \"&'Vejehold 6'!Z20-'Vejehold 6'!$A$7,\"\")","v":""},{"$f":"IF('Vejehold 6'!AA20<>\"\",'Vejehold 6'!AA20,\"\")","v":""},{"$f":"IF('Vejehold 6'!AB20<>\"\",'Vejehold 6'!AB20,\"\")","v":""}]
[{"$f":"IF(AND(D101<>\"\",E101=\"\"),MAX($A$2:A100)+1,\"\")","v":""},{"$f":"6","v":6},{"$f":"IF('Vejehold 6'!Z21<>\"\",\"Dag \"&'Vejehold 6'!Z21-'Vejehold 6'!$A$7,\"\")","v":""},{"$f":"IF('Vejehold 6'!AA21<>\"\",'Vejehold 6'!AA21,\"\")","v":""},{"$f":"IF('Vejehold 6'!AB21<>\"\",'Vejehold 6'!AB21,\"\")","v":""}]
[{"$f":"IF(AND(D102<>\"\",E102=\"\"),MAX($A$2:A101)+1,\"\")","v":""},{"$f":"6","v":6},{"$f":"IF('Vejehold 6'!Z22<>\"\",\"Dag \"&'Vejehold 6'!Z22-'Vejehold 6'!$A$7,\"\")","v":""},{"$f":"IF('Vejehold 6'!AA22<>\"\",'Vejehold 6'!AA22,\"\")","v":""},{"$f":"IF('Vejehold 6'!AB22<>\"\",'Vejehold 6'!AB22,\"\")","v":""}]
[{"$f":"IF(AND(D103<>\"\",E103=\"\"),MAX($A$2:A102)+1,\"\")","v":""},{"$f":"6","v":6},{"$f":"IF('Vejehold 6'!Z23<>\"\",\"Dag \"&'Vejehold 6'!Z23-'Vejehold 6'!$A$7,\"\")","v":""},{"$f":"IF('Vejehold 6'!AA23<>\"\",'Vejehold 6'!AA23,\"\")","v":""},{"$f":"IF('Vejehold 6'!AB23<>\"\",'Vejehold 6'!AB23,\"\")","v":""}]

{"sheet":"Opsamling, slagt+smågrise","index":8,"n_rows":125,"n_cols":85,"rows_kept":125,"cut":false,"hidden":false,"merged":[]}
[]
[null,"Gns. Kg. pr. gris",null,null,null,null,null,null,null,null,null,null,null,null,null,null,null,null,null,null,null,null,null,null,null,null,{"$f":"'Vejehold 1'!W2","v":"Vejehold 1"},"Kolonne",{"$f":"MATCH(AC3,'Vejehold 1'!$A$6:$P$6,0)","v":5},{"$f":"MATCH(AD3,'Vejehold 1'!$A$6:$P$6,0)","v":6},{"$f":"MATCH(AE3,'Vejehold 1'!$A$6:$P$6,0)","v":7},{"$f":"MATCH(AF3,'Vejehold 1'!$A$6:$P$6,0)","v":11},{"$f":"MATCH(AG3,'Vejehold 1'!$A$6:$P$6,0)","v":12},{"$f":"MATCH(AH3,'Vejehold 1'!$A$6:$P$6,0)","v":14},{"$f":"MATCH(AI3,'Vejehold 1'!$A$6:$P$6,0)","v":15},null,{"$f":"'Vejehold 2'!W2","v":"Vejehold 2"},"Kolonne",{"$f":"MATCH(AM3,'Vejehold 1'!$A$6:$P$6,0)","v":5},{"$f":"MATCH(AN3,'Vejehold 1'!$A$6:$P$6,0)","v":6},{"$f":"MATCH(AO3,'Vejehold 1'!$A$6:$P$6,0)","v":7},{"$f":"MATCH(AP3,'Vejehold 1'!$A$6:$P$6,0)","v":11},{"$f":"MATCH(AQ3,'Vejehold 1'!$A$6:$P$6,0)","v":12},{"$f":"MATCH(AR3,'Vejehold 1'!$A$6:$P$6,0)","v":14},{"$f":"MATCH(AS3,'Vejehold 1'!$A$6:$P$6,0)","v":15},null,{"$f":"'Vejehold 3'!W2","v":"Vejehold 3"},"Kolonne",{"$f":"MATCH(AW3,'Vejehold 1'!$A$6:$P$6,0)","v":5},{"$f":"MATCH(AX3,'Vejehold 1'!$A$6:$P$6,0)","v":6},{"$f":"MATCH(AY3,'Vejehold 1'!$A$6:$P$6,0)","v":7},{"$f":"MATCH(AZ3,'Vejehold 1'!$A$6:$P$6,0)","v":11},{"$f":"MATCH(BA3,'Vejehold 1'!$A$6:$P$6,0)","v":12},{"$f":"MATCH(BB3,'Vejehold 1'!$A$6:$P$6,0)","v":14},{"$f":"MATCH(BC3,'Vejehold 1'!$A$6:$P$6,0)","v":15},null,{"$f":"'Vejehold 4'!W2","v":"Vejehold 4"},"Kolonne",{"$f":"MATCH(BG3,'Vejehold 1'!$A$6:$P$6,0)","v":5},{"$f":"MATCH(BH3,'Vejehold 1'!$A$6:$P$6,0)","v":6},{"$f":"MATCH(BI3,'Vejehold 1'!$A$6:$P$6,0)","v":7},{"$f":"MATCH(BJ3,'Vejehold 1'!$A$6:$P$6,0)","v":11},{"$f":"MATCH(BK3,'Vejehold 1'!$A$6:$P$6,0)","v":12},{"$f":"MATCH(BL3,'Vejehold 1'!$A$6:$P$6,0)","v":14},{"$f":"MATCH(BM3,'Vejehold 1'!$A$6:$P$6,0)","v":15},null,{"$f":"'Vejehold 5'!W2","v":"Vejehold 5"},"Kolonne",{"$f":"MATCH(BQ3,'Vejehold 1'!$A$6:$P$6,0)","v":5},{"$f":"MATCH(BR3,'Vejehold 1'!$A$6:$P$6,0)","v":6},{"$f":"MATCH(BS3,'Vejehold 1'!$A$6:$P$6,0)","v":7},{"$f":"MATCH(BT3,'Vejehold 1'!$A$6:$P$6,0)","v":11},{"$f":"MATCH(BU3,'Vejehold 1'!$A$6:$P$6,0)","v":12},{"$f":"MATCH(BV3,'Vejehold 1'!$A$6:$P$6,0)","v":14},{"$f":"MATCH(BW3,'Vejehold 1'!$A$6:$P$6,0)","v":15},null,{"$f":"'Vejehold 6'!W2","v":"Vejehold 6"},"Kolonne",{"$f":"MATCH(CA3,'Vejehold 1'!$A$6:$P$6,0)","v":5},{"$f":"MATCH(CB3,'Vejehold 1'!$A$6:$P$6,0)","v":6},{"$f":"MATCH(CC3,'Vejehold 1'!$A$6:$P$6,0)","v":7},{"$f":"MATCH(CD3,'Vejehold 1'!$A$6:$P$6,0)","v":11},{"$f":"MATCH(CE3,'Vejehold 1'!$A$6:$P$6,0)","v":12},{"$f":"MATCH(CF3,'Vejehold 1'!$A$6:$P$6,0)","v":14},{"$f":"MATCH(CG3,'Vejehold 1'!$A$6:$P$6,0)","v":15}]
[null,"Dag","Hold 1","Hold 2","Hold 3","Hold 4","Hold 5","Hold 6",null,null,null,null,null,null,null,null,null,null,null,null,null,null,null,null,null,null,"Dag","Hold 1","Gns. Kg. pr. gris","Daglig tilvækst i perioden","Daglig tilvækst til dato","FE pr. kg tilvækst periode","FE pr. kg tilvækst til dato","FE pr. dag pr. gris periode","FE pr. dag pr. gris til dato",null,"Dag","Hold 1","Gns. Kg. pr. gris","Daglig tilvækst i perioden","Daglig tilvækst til dato","FE pr. kg tilvækst periode","FE pr. kg tilvækst til dato","FE pr. dag pr. gris periode","FE pr. dag pr. gris til dato",null,"Dag","Hold 1","Gns. Kg. pr. gris","Daglig tilvækst i perioden","Daglig tilvækst til dato","FE pr. kg tilvækst periode","FE pr. kg tilvækst til dato","FE pr. dag pr. gris periode","FE pr. dag pr. gris til dato",null,"Dag","Hold 1","Gns. Kg. pr. gris","Daglig tilvækst i perioden","Daglig tilvækst til dato","FE pr. kg tilvækst periode","FE pr. kg tilvækst til dato","FE pr. dag pr. gris periode","FE pr. dag pr. gris til dato",null,"Dag","Hold 1","Gns. Kg. pr. gris","Daglig tilvækst i perioden","Daglig tilvækst til dato","FE pr. kg tilvækst periode","FE pr. kg tilvækst til dato","FE pr. dag pr. gris periode","FE pr. dag pr. gris til dato",null,"Dag","Hold 1","Gns. Kg. pr. gris","Daglig tilvækst i perioden","Daglig tilvækst til dato","FE pr. kg tilvækst periode","FE pr. kg tilvækst til dato","FE pr. dag pr. gris periode","FE pr. dag pr. gris til dato"]
[null,0,{"$f":"'Vejehold 1'!$E7","v":0},{"$f":"'Vejehold 2'!$E7","v":0},{"$f":"'Vejehold 3'!$E7","v":0},{"$f":"'Vejehold 4'!$E7","v":0},{"$f":"'Vejehold 5'!$E7","v":0},{"$f":"'Vejehold 6'!$E7","v":0},null,null,null,null,null,null,null,null,null,null,null,null,null,null,null,null,null,null,0,{"$f":"'Vejehold 1'!$A$7","v":"00:00:00"},{"$f":"VLOOKUP($AB4,'Vejehold 1'!$A$7:$P$23,'Opsamling, slagt+smågrise'!AC$2,FALSE)","v":{"$error":"#N/A"}},{"$f":"VLOOKUP($AB4,'Vejehold 1'!$A$7:$P$23,'Opsamling, slagt+smågrise'!AD$2,FALSE)","v":{"$error":"#N/A"}},{"$f":"VLOOKUP($AB4,'Vejehold 1'!$A$7:$P$23,'Opsamling, slagt+smågrise'!AE$2,FALSE)","v":{"$error":"#N/A"}},{"$f":"VLOOKUP($AB4,'Vejehold 1'!$A$7:$P$23,'Opsamling, slagt+smågrise'!AF$2,FALSE)","v":{"$error":"#N/A"}},{"$f":"VLOOKUP($AB4,'Vejehold 1'!$A$7:$P$23,'Opsamling, slagt+smågrise'!AG$2,FALSE)","v":{"$error":"#N/A"}},{"$f":"VLOOKUP($AB4,'Vejehold 1'!$A$7:$P$23,'Opsamling, slagt+smågrise'!AH$2,FALSE)","v":{"$error":"#N/A"}},{"$f":"VLOOKUP($AB4,'Vejehold 1'!$A$7:$P$23,'Opsamling, slagt+smågrise'!AI$2,FALSE)","v":{"$error":"#N/A"}},null,0,{"$f":"'Vejehold 2'!$A$7","v":"00:00:00"},{"$f":"VLOOKUP($AL4,'Vejehold 2'!$A$7:$P$23,'Opsamling, slagt+smågrise'!AM$2,FALSE)","v":{"$error":"#N/A"}},{"$f":"VLOOKUP($AL4,'Vejehold 2'!$A$7:$P$23,'Opsamling, slagt+smågrise'!AN$2,FALSE)","v":{"$error":"#N/A"}},{"$f":"VLOOKUP($AL4,'Vejehold 2'!$A$7:$P$23,'Opsamling, slagt+smågrise'!AO$2,FALSE)","v":{"$error":"#N/A"}},{"$f":"VLOOKUP($AL4,'Vejehold 2'!$A$7:$P$23,'Opsamling, slagt+smågrise'!AP$2,FALSE)","v":{"$error":"#N/A"}},{"$f":"VLOOKUP($AL4,'Vejehold 2'!$A$7:$P$23,'Opsamling, slagt+smågrise'!AQ$2,FALSE)","v":{"$error":"#N/A"}},{"$f":"VLOOKUP($AL4,'Vejehold 2'!$A$7:$P$23,'Opsamling, slagt+smågrise'!AR$2,FALSE)","v":{"$error":"#N/A"}},{"$f":"VLOOKUP($AL4,'Vejehold 2'!$A$7:$P$23,'Opsamling, slagt+smågrise'!AS$2,FALSE)","v":{"$error":"#N/A"}},null,0,{"$f":"'Vejehold 3'!$A$7","v":"00:00:00"},{"$f":"VLOOKUP($AV4,'Vejehold 3'!$A$7:$P$23,'Opsamling, slagt+smågrise'!AW$2,FALSE)","v":{"$error":"#N/A"}},{"$f":"VLOOKUP($AV4,'Vejehold 3'!$A$7:$P$23,'Opsamling, slagt+smågrise'!AX$2,FALSE)","v":{"$error":"#N/A"}},{"$f":"VLOOKUP($AV4,'Vejehold 3'!$A$7:$P$23,'Opsamling, slagt+smågrise'!AY$2,FALSE)","v":{"$error":"#N/A"}},{"$f":"VLOOKUP($AV4,'Vejehold 3'!$A$7:$P$23,'Opsamling, slagt+smågrise'!AZ$2,FALSE)","v":{"$error":"#N/A"}},{"$f":"VLOOKUP($AV4,'Vejehold 3'!$A$7:$P$23,'Opsamling, slagt+smågrise'!BA$2,FALSE)","v":{"$error":"#N/A"}},{"$f":"VLOOKUP($AV4,'Vejehold 3'!$A$7:$P$23,'Opsamling, slagt+smågrise'!BB$2,FALSE)","v":{"$error":"#N/A"}},{"$f":"VLOOKUP($AV4,'Vejehold 3'!$A$7:$P$23,'Opsamling, slagt+smågrise'!BC$2,FALSE)","v":{"$error":"#N/A"}},null,0,{"$f":"'Vejehold 4'!$A$7","v":"00:00:00"},{"$f":"VLOOKUP($BF4,'Vejehold 4'!$A$7:$P$23,'Opsamling, slagt+smågrise'!BG$2,FALSE)","v":{"$error":"#N/A"}},{"$f":"VLOOKUP($BF4,'Vejehold 4'!$A$7:$P$23,'Opsamling, slagt+smågrise'!BH$2,FALSE)","v":{"$error":"#N/A"}},{"$f":"VLOOKUP($BF4,'Vejehold 4'!$A$7:$P$23,'Opsamling, slagt+smågrise'!BI$2,FALSE)","v":{"$error":"#N/A"}},{"$f":"VLOOKUP($BF4,'Vejehold 4'!$A$7:$P$23,'Opsamling, slagt+smågrise'!BJ$2,FALSE)","v":{"$error":"#N/A"}},{"$f":"VLOOKUP($BF4,'Vejehold 4'!$A$7:$P$23,'Opsamling, slagt+smågrise'!BK$2,FALSE)","v":{"$error":"#N/A"}},{"$f":"VLOOKUP($BF4,'Vejehold 4'!$A$7:$P$23,'Opsamling, slagt+smågrise'!BL$2,FALSE)","v":{"$error":"#N/A"}},{"$f":"VLOOKUP($BF4,'Vejehold 4'!$A$7:$P$23,'Opsamling, slagt+smågrise'!BM$2,FALSE)","v":{"$error":"#N/A"}},null,0,{"$f":"'Vejehold 5'!$A$7","v":"00:00:00"},{"$f":"VLOOKUP($BP4,'Vejehold 5'!$A$7:$P$23,'Opsamling, slagt+smågrise'!BQ$2,FALSE)","v":{"$error":"#N/A"}},{"$f":"VLOOKUP($BP4,'Vejehold 5'!$A$7:$P$23,'Opsamling, slagt+smågrise'!BR$2,FALSE)","v":{"$error":"#N/A"}},{"$f":"VLOOKUP($BP4,'Vejehold 5'!$A$7:$P$23,'Opsamling, slagt+smågrise'!BS$2,FALSE)","v":{"$error":"#N/A"}},{"$f":"VLOOKUP($BP4,'Vejehold 5'!$A$7:$P$23,'Opsamling, slagt+smågrise'!BT$2,FALSE)","v":{"$error":"#N/A"}},{"$f":"VLOOKUP($BP4,'Vejehold 5'!$A$7:$P$23,'Opsamling, slagt+smågrise'!BU$2,FALSE)","v":{"$error":"#N/A"}},{"$f":"VLOOKUP($BP4,'Vejehold 5'!$A$7:$P$23,'Opsamling, slagt+smågrise'!BV$2,FALSE)","v":{"$error":"#N/A"}},{"$f":"VLOOKUP($BP4,'Vejehold 5'!$A$7:$P$23,'Opsamling, slagt+smågrise'!BW$2,FALSE)","v":{"$error":"#N/A"}},null,0,{"$f":"'Vejehold 6'!$A$7","v":"00:00:00"},{"$f":"VLOOKUP($BZ4,'Vejehold 6'!$A$7:$P$23,'Opsamling, slagt+smågrise'!CA$2,FALSE)","v":{"$error":"#N/A"}},{"$f":"VLOOKUP($BZ4,'Vejehold 6'!$A$7:$P$23,'Opsamling, slagt+smågrise'!CB$2,FALSE)","v":{"$error":"#N/A"}},{"$f":"VLOOKUP($BZ4,'Vejehold 6'!$A$7:$P$23,'Opsamling, slagt+smågrise'!CC$2,FALSE)","v":{"$error":"#N/A"}},{"$f":"VLOOKUP($BZ4,'Vejehold 6'!$A$7:$P$23,'Opsamling, slagt+smågrise'!CD$2,FALSE)","v":{"$error":"#N/A"}},{"$f":"VLOOKUP($BZ4,'Vejehold 6'!$A$7:$P$23,'Opsamling, slagt+smågrise'!CE$2,FALSE)","v":{"$error":"#N/A"}},{"$f":"VLOOKUP($BZ4,'Vejehold 6'!$A$7:$P$23,'Opsamling, slagt+smågrise'!CF$2,FALSE)","v":{"$error":"#N/A"}},{"$f":"VLOOKUP($BZ4,'Vejehold 6'!$A$7:$P$23,'Opsamling, slagt+smågrise'!CG$2,FALSE)","v":{"$error":"#N/A"}}]
[null,7,{"$f":"'Vejehold 1'!$E8","v":0},{"$f":"'Vejehold 2'!$E8","v":0},{"$f":"'Vejehold 3'!$E8","v":0},{"$f":"'Vejehold 4'!$E8","v":0},{"$f":"'Vejehold 5'!$E8","v":0},{"$f":"'Vejehold 6'!$E8","v":0},null,null,null,null,null,null,null,null,null,null,null,null,null,null,null,null,null,null,1,{"$f":"AB4+1","v":"1900-01-01"},{"$f":"VLOOKUP($AB5,'Vejehold 1'!$A$7:$P$23,'Opsamling, slagt+smågrise'!AC$2,FALSE)","v":{"$error":"#N/A"}},{"$f":"VLOOKUP($AB5,'Vejehold 1'!$A$7:$P$23,'Opsamling, slagt+smågrise'!AD$2,FALSE)","v":{"$error":"#N/A"}},{"$f":"VLOOKUP($AB5,'Vejehold 1'!$A$7:$P$23,'Opsamling, slagt+smågrise'!AE$2,FALSE)","v":{"$error":"#N/A"}},{"$f":"VLOOKUP($AB5,'Vejehold 1'!$A$7:$P$23,'Opsamling, slagt+smågrise'!AF$2,FALSE)","v":{"$error":"#N/A"}},{"$f":"VLOOKUP($AB5,'Vejehold 1'!$A$7:$P$23,'Opsamling, slagt+smågrise'!AG$2,FALSE)","v":{"$error":"#N/A"}},{"$f":"VLOOKUP($AB5,'Vejehold 1'!$A$7:$P$23,'Opsamling, slagt+smågrise'!AH$2,FALSE)","v":{"$error":"#N/A"}},{"$f":"VLOOKUP($AB5,'Vejehold 1'!$A$7:$P$23,'Opsamling, slagt+smågrise'!AI$2,FALSE)","v":{"$error":"#N/A"}},null,1,{"$f":"AL4+1","v":"1900-01-01"},{"$f":"VLOOKUP($AL5,'Vejehold 2'!$A$7:$P$23,'Opsamling, slagt+smågrise'!AM$2,FALSE)","v":{"$error":"#N/A"}},{"$f":"VLOOKUP($AL5,'Vejehold 2'!$A$7:$P$23,'Opsamling, slagt+smågrise'!AN$2,FALSE)","v":{"$error":"#N/A"}},{"$f":"VLOOKUP($AL5,'Vejehold 2'!$A$7:$P$23,'Opsamling, slagt+smågrise'!AO$2,FALSE)","v":{"$error":"#N/A"}},{"$f":"VLOOKUP($AL5,'Vejehold 2'!$A$7:$P$23,'Opsamling, slagt+smågrise'!AP$2,FALSE)","v":{"$error":"#N/A"}},{"$f":"VLOOKUP($AL5,'Vejehold 2'!$A$7:$P$23,'Opsamling, slagt+smågrise'!AQ$2,FALSE)","v":{"$error":"#N/A"}},{"$f":"VLOOKUP($AL5,'Vejehold 2'!$A$7:$P$23,'Opsamling, slagt+smågrise'!AR$2,FALSE)","v":{"$error":"#N/A"}},{"$f":"VLOOKUP($AL5,'Vejehold 2'!$A$7:$P$23,'Opsamling, slagt+smågrise'!AS$2,FALSE)","v":{"$error":"#N/A"}},null,1,{"$f":"AV4+1","v":"1900-01-01"},{"$f":"VLOOKUP($AV5,'Vejehold 3'!$A$7:$P$23,'Opsamling, slagt+smågrise'!AW$2,FALSE)","v":{"$error":"#N/A"}},{"$f":"VLOOKUP($AV5,'Vejehold 3'!$A$7:$P$23,'Opsamling, slagt+smågrise'!AX$2,FALSE)","v":{"$error":"#N/A"}},{"$f":"VLOOKUP($AV5,'Vejehold 3'!$A$7:$P$23,'Opsamling, slagt+smågrise'!AY$2,FALSE)","v":{"$error":"#N/A"}},{"$f":"VLOOKUP($AV5,'Vejehold 3'!$A$7:$P$23,'Opsamling, slagt+smågrise'!AZ$2,FALSE)","v":{"$error":"#N/A"}},{"$f":"VLOOKUP($AV5,'Vejehold 3'!$A$7:$P$23,'Opsamling, slagt+smågrise'!BA$2,FALSE)","v":{"$error":"#N/A"}},{"$f":"VLOOKUP($AV5,'Vejehold 3'!$A$7:$P$23,'Opsamling, slagt+smågrise'!BB$2,FALSE)","v":{"$error":"#N/A"}},{"$f":"VLOOKUP($AV5,'Vejehold 3'!$A$7:$P$23,'Opsamling, slagt+smågrise'!BC$2,FALSE)","v":{"$error":"#N/A"}},null,1,{"$f":"BF4+1","v":"1900-01-01"},{"$f":"VLOOKUP($BF5,'Vejehold 4'!$A$7:$P$23,'Opsamling, slagt+smågrise'!BG$2,FALSE)","v":{"$error":"#N/A"}},{"$f":"VLOOKUP($BF5,'Vejehold 4'!$A$7:$P$23,'Opsamling, slagt+smågrise'!BH$2,FALSE)","v":{"$error":"#N/A"}},{"$f":"VLOOKUP($BF5,'Vejehold 4'!$A$7:$P$23,'Opsamling, slagt+smågrise'!BI$2,FALSE)","v":{"$error":"#N/A"}},{"$f":"VLOOKUP($BF5,'Vejehold 4'!$A$7:$P$23,'Opsamling, slagt+smågrise'!BJ$2,FALSE)","v":{"$error":"#N/A"}},{"$f":"VLOOKUP($BF5,'Vejehold 4'!$A$7:$P$23,'Opsamling, slagt+smågrise'!BK$2,FALSE)","v":{"$error":"#N/A"}},{"$f":"VLOOKUP($BF5,'Vejehold 4'!$A$7:$P$23,'Opsamling, slagt+smågrise'!BL$2,FALSE)","v":{"$error":"#N/A"}},{"$f":"VLOOKUP($BF5,'Vejehold 4'!$A$7:$P$23,'Opsamling, slagt+smågrise'!BM$2,FALSE)","v":{"$error":"#N/A"}},null,1,{"$f":"BP4+1","v":"1900-01-01"},{"$f":"VLOOKUP($BP5,'Vejehold 5'!$A$7:$P$23,'Opsamling, slagt+smågrise'!BQ$2,FALSE)","v":{"$error":"#N/A"}},{"$f":"VLOOKUP($BP5,'Vejehold 5'!$A$7:$P$23,'Opsamling, slagt+smågrise'!BR$2,FALSE)","v":{"$error":"#N/A"}},{"$f":"VLOOKUP($BP5,'Vejehold 5'!$A$7:$P$23,'Opsamling, slagt+smågrise'!BS$2,FALSE)","v":{"$error":"#N/A"}},{"$f":"VLOOKUP($BP5,'Vejehold 5'!$A$7:$P$23,'Opsamling, slagt+smågrise'!BT$2,FALSE)","v":{"$error":"#N/A"}},{"$f":"VLOOKUP($BP5,'Vejehold 5'!$A$7:$P$23,'Opsamling, slagt+smågrise'!BU$2,FALSE)","v":{"$error":"#N/A"}},{"$f":"VLOOKUP($BP5,'Vejehold 5'!$A$7:$P$23,'Opsamling, slagt+smågrise'!BV$2,FALSE)","v":{"$error":"#N/A"}},{"$f":"VLOOKUP($BP5,'Vejehold 5'!$A$7:$P$23,'Opsamling, slagt+smågrise'!BW$2,FALSE)","v":{"$error":"#N/A"}},null,1,{"$f":"BZ4+1","v":"1900-01-01"},{"$f":"VLOOKUP($BZ5,'Vejehold 6'!$A$7:$P$23,'Opsamling, slagt+smågrise'!CA$2,FALSE)","v":{"$error":"#N/A"}},{"$f":"VLOOKUP($BZ5,'Vejehold 6'!$A$7:$P$23,'Opsamling, slagt+smågrise'!CB$2,FALSE)","v":{"$error":"#N/A"}},{"$f":"VLOOKUP($BZ5,'Vejehold 6'!$A$7:$P$23,'Opsamling, slagt+smågrise'!CC$2,FALSE)","v":{"$error":"#N/A"}},{"$f":"VLOOKUP($BZ5,'Vejehold 6'!$A$7:$P$23,'Opsamling, slagt+smågrise'!CD$2,FALSE)","v":{"$error":"#N/A"}},{"$f":"VLOOKUP($BZ5,'Vejehold 6'!$A$7:$P$23,'Opsamling, slagt+smågrise'!CE$2,FALSE)","v":{"$error":"#N/A"}},{"$f":"VLOOKUP($BZ5,'Vejehold 6'!$A$7:$P$23,'Opsamling, slagt+smågrise'!CF$2,FALSE)","v":{"$error":"#N/A"}},{"$f":"VLOOKUP($BZ5,'Vejehold 6'!$A$7:$P$23,'Opsamling, slagt+smågrise'!CG$2,FALSE)","v":{"$error":"#N/A"}}]
[null,14,{"$f":"'Vejehold 1'!$E9","v":0},{"$f":"'Vejehold 2'!$E9","v":0},{"$f":"'Vejehold 3'!$E9","v":0},{"$f":"'Vejehold 4'!$E9","v":0},{"$f":"'Vejehold 5'!$E9","v":0},{"$f":"'Vejehold 6'!$E9","v":0},null,null,null,null,null,null,null,null,null,null,null,null,null,null,null,null,null,null,2,{"$f":"AB5+1","v":"1900-01-02"},{"$f":"VLOOKUP($AB6,'Vejehold 1'!$A$7:$P$23,'Opsamling, slagt+smågrise'!AC$2,FALSE)","v":{"$error":"#N/A"}},{"$f":"VLOOKUP($AB6,'Vejehold 1'!$A$7:$P$23,'Opsamling, slagt+smågrise'!AD$2,FALSE)","v":{"$error":"#N/A"}},{"$f":"VLOOKUP($AB6,'Vejehold 1'!$A$7:$P$23,'Opsamling, slagt+smågrise'!AE$2,FALSE)","v":{"$error":"#N/A"}},{"$f":"VLOOKUP($AB6,'Vejehold 1'!$A$7:$P$23,'Opsamling, slagt+smågrise'!AF$2,FALSE)","v":{"$error":"#N/A"}},{"$f":"VLOOKUP($AB6,'Vejehold 1'!$A$7:$P$23,'Opsamling, slagt+smågrise'!AG$2,FALSE)","v":{"$error":"#N/A"}},{"$f":"VLOOKUP($AB6,'Vejehold 1'!$A$7:$P$23,'Opsamling, slagt+smågrise'!AH$2,FALSE)","v":{"$error":"#N/A"}},{"$f":"VLOOKUP($AB6,'Vejehold 1'!$A$7:$P$23,'Opsamling, slagt+smågrise'!AI$2,FALSE)","v":{"$error":"#N/A"}},null,2,{"$f":"AL5+1","v":"1900-01-02"},{"$f":"VLOOKUP($AL6,'Vejehold 2'!$A$7:$P$23,'Opsamling, slagt+smågrise'!AM$2,FALSE)","v":{"$error":"#N/A"}},{"$f":"VLOOKUP($AL6,'Vejehold 2'!$A$7:$P$23,'Opsamling, slagt+smågrise'!AN$2,FALSE)","v":{"$error":"#N/A"}},{"$f":"VLOOKUP($AL6,'Vejehold 2'!$A$7:$P$23,'Opsamling, slagt+smågrise'!AO$2,FALSE)","v":{"$error":"#N/A"}},{"$f":"VLOOKUP($AL6,'Vejehold 2'!$A$7:$P$23,'Opsamling, slagt+smågrise'!AP$2,FALSE)","v":{"$error":"#N/A"}},{"$f":"VLOOKUP($AL6,'Vejehold 2'!$A$7:$P$23,'Opsamling, slagt+smågrise'!AQ$2,FALSE)","v":{"$error":"#N/A"}},{"$f":"VLOOKUP($AL6,'Vejehold 2'!$A$7:$P$23,'Opsamling, slagt+smågrise'!AR$2,FALSE)","v":{"$error":"#N/A"}},{"$f":"VLOOKUP($AL6,'Vejehold 2'!$A$7:$P$23,'Opsamling, slagt+smågrise'!AS$2,FALSE)","v":{"$error":"#N/A"}},null,2,{"$f":"AV5+1","v":"1900-01-02"},{"$f":"VLOOKUP($AV6,'Vejehold 3'!$A$7:$P$23,'Opsamling, slagt+smågrise'!AW$2,FALSE)","v":{"$error":"#N/A"}},{"$f":"VLOOKUP($AV6,'Vejehold 3'!$A$7:$P$23,'Opsamling, slagt+smågrise'!AX$2,FALSE)","v":{"$error":"#N/A"}},{"$f":"VLOOKUP($AV6,'Vejehold 3'!$A$7:$P$23,'Opsamling, slagt+smågrise'!AY$2,FALSE)","v":{"$error":"#N/A"}},{"$f":"VLOOKUP($AV6,'Vejehold 3'!$A$7:$P$23,'Opsamling, slagt+smågrise'!AZ$2,FALSE)","v":{"$error":"#N/A"}},{"$f":"VLOOKUP($AV6,'Vejehold 3'!$A$7:$P$23,'Opsamling, slagt+smågrise'!BA$2,FALSE)","v":{"$error":"#N/A"}},{"$f":"VLOOKUP($AV6,'Vejehold 3'!$A$7:$P$23,'Opsamling, slagt+smågrise'!BB$2,FALSE)","v":{"$error":"#N/A"}},{"$f":"VLOOKUP($AV6,'Vejehold 3'!$A$7:$P$23,'Opsamling, slagt+smågrise'!BC$2,FALSE)","v":{"$error":"#N/A"}},null,2,{"$f":"BF5+1","v":"1900-01-02"},{"$f":"VLOOKUP($BF6,'Vejehold 4'!$A$7:$P$23,'Opsamling, slagt+smågrise'!BG$2,FALSE)","v":{"$error":"#N/A"}},{"$f":"VLOOKUP($BF6,'Vejehold 4'!$A$7:$P$23,'Opsamling, slagt+smågrise'!BH$2,FALSE)","v":{"$error":"#N/A"}},{"$f":"VLOOKUP($BF6,'Vejehold 4'!$A$7:$P$23,'Opsamling, slagt+smågrise'!BI$2,FALSE)","v":{"$error":"#N/A"}},{"$f":"VLOOKUP($BF6,'Vejehold 4'!$A$7:$P$23,'Opsamling, slagt+smågrise'!BJ$2,FALSE)","v":{"$error":"#N/A"}},{"$f":"VLOOKUP($BF6,'Vejehold 4'!$A$7:$P$23,'Opsamling, slagt+smågrise'!BK$2,FALSE)","v":{"$error":"#N/A"}},{"$f":"VLOOKUP($BF6,'Vejehold 4'!$A$7:$P$23,'Opsamling, slagt+smågrise'!BL$2,FALSE)","v":{"$error":"#N/A"}},{"$f":"VLOOKUP($BF6,'Vejehold 4'!$A$7:$P$23,'Opsamling, slagt+smågrise'!BM$2,FALSE)","v":{"$error":"#N/A"}},null,2,{"$f":"BP5+1","v":"1900-01-02"},{"$f":"VLOOKUP($BP6,'Vejehold 5'!$A$7:$P$23,'Opsamling, slagt+smågrise'!BQ$2,FALSE)","v":{"$error":"#N/A"}},{"$f":"VLOOKUP($BP6,'Vejehold 5'!$A$7:$P$23,'Opsamling, slagt+smågrise'!BR$2,FALSE)","v":{"$error":"#N/A"}},{"$f":"VLOOKUP($BP6,'Vejehold 5'!$A$7:$P$23,'Opsamling, slagt+smågrise'!BS$2,FALSE)","v":{"$error":"#N/A"}},{"$f":"VLOOKUP($BP6,'Vejehold 5'!$A$7:$P$23,'Opsamling, slagt+smågrise'!BT$2,FALSE)","v":{"$error":"#N/A"}},{"$f":"VLOOKUP($BP6,'Vejehold 5'!$A$7:$P$23,'Opsamling, slagt+smågrise'!BU$2,FALSE)","v":{"$error":"#N/A"}},{"$f":"VLOOKUP($BP6,'Vejehold 5'!$A$7:$P$23,'Opsamling, slagt+smågrise'!BV$2,FALSE)","v":{"$error":"#N/A"}},{"$f":"VLOOKUP($BP6,'Vejehold 5'!$A$7:$P$23,'Opsamling, slagt+smågrise'!BW$2,FALSE)","v":{"$error":"#N/A"}},null,2,{"$f":"BZ5+1","v":"1900-01-02"},{"$f":"VLOOKUP($BZ6,'Vejehold 6'!$A$7:$P$23,'Opsamling, slagt+smågrise'!CA$2,FALSE)","v":{"$error":"#N/A"}},{"$f":"VLOOKUP($BZ6,'Vejehold 6'!$A$7:$P$23,'Opsamling, slagt+smågrise'!CB$2,FALSE)","v":{"$error":"#N/A"}},{"$f":"VLOOKUP($BZ6,'Vejehold 6'!$A$7:$P$23,'Opsamling, slagt+smågrise'!CC$2,FALSE)","v":{"$error":"#N/A"}},{"$f":"VLOOKUP($BZ6,'Vejehold 6'!$A$7:$P$23,'Opsamling, slagt+smågrise'!CD$2,FALSE)","v":{"$error":"#N/A"}},{"$f":"VLOOKUP($BZ6,'Vejehold 6'!$A$7:$P$23,'Opsamling, slagt+smågrise'!CE$2,FALSE)","v":{"$error":"#N/A"}},{"$f":"VLOOKUP($BZ6,'Vejehold 6'!$A$7:$P$23,'Opsamling, slagt+smågrise'!CF$2,FALSE)","v":{"$error":"#N/A"}},{"$f":"VLOOKUP($BZ6,'Vejehold 6'!$A$7:$P$23,'Opsamling, slagt+smågrise'!CG$2,FALSE)","v":{"$error":"#N/A"}}]
[null,21,{"$f":"'Vejehold 1'!$E10","v":0},{"$f":"'Vejehold 2'!$E10","v":0},{"$f":"'Vejehold 3'!$E10","v":0},{"$f":"'Vejehold 4'!$E10","v":0},{"$f":"'Vejehold 5'!$E10","v":0},{"$f":"'Vejehold 6'!$E10","v":0},null,null,null,null,null,null,null,null,null,null,null,null,null,null,null,null,null,null,3,"1900-01-03",{"$f":"VLOOKUP($AB7,'Vejehold 1'!$A$7:$P$23,'Opsamling, slagt+smågrise'!AC$2,FALSE)","v":{"$error":"#N/A"}},{"$f":"VLOOKUP($AB7,'Vejehold 1'!$A$7:$P$23,'Opsamling, slagt+smågrise'!AD$2,FALSE)","v":{"$error":"#N/A"}},{"$f":"VLOOKUP($AB7,'Vejehold 1'!$A$7:$P$23,'Opsamling, slagt+smågrise'!AE$2,FALSE)","v":{"$error":"#N/A"}},{"$f":"VLOOKUP($AB7,'Vejehold 1'!$A$7:$P$23,'Opsamling, slagt+smågrise'!AF$2,FALSE)","v":{"$error":"#N/A"}},{"$f":"VLOOKUP($AB7,'Vejehold 1'!$A$7:$P$23,'Opsamling, slagt+smågrise'!AG$2,FALSE)","v":{"$error":"#N/A"}},{"$f":"VLOOKUP($AB7,'Vejehold 1'!$A$7:$P$23,'Opsamling, slagt+smågrise'!AH$2,FALSE)","v":{"$error":"#N/A"}},{"$f":"VLOOKUP($AB7,'Vejehold 1'!$A$7:$P$23,'Opsamling, slagt+smågrise'!AI$2,FALSE)","v":{"$error":"#N/A"}},null,3,"1900-01-03",{"$f":"VLOOKUP($AL7,'Vejehold 2'!$A$7:$P$23,'Opsamling, slagt+smågrise'!AM$2,FALSE)","v":{"$error":"#N/A"}},{"$f":"VLOOKUP($AL7,'Vejehold 2'!$A$7:$P$23,'Opsamling, slagt+smågrise'!AN$2,FALSE)","v":{"$error":"#N/A"}},{"$f":"VLOOKUP($AL7,'Vejehold 2'!$A$7:$P$23,'Opsamling, slagt+smågrise'!AO$2,FALSE)","v":{"$error":"#N/A"}},{"$f":"VLOOKUP($AL7,'Vejehold 2'!$A$7:$P$23,'Opsamling, slagt+smågrise'!AP$2,FALSE)","v":{"$error":"#N/A"}},{"$f":"VLOOKUP($AL7,'Vejehold 2'!$A$7:$P$23,'Opsamling, slagt+smågrise'!AQ$2,FALSE)","v":{"$error":"#N/A"}},{"$f":"VLOOKUP($AL7,'Vejehold 2'!$A$7:$P$23,'Opsamling, slagt+smågrise'!AR$2,FALSE)","v":{"$error":"#N/A"}},{"$f":"VLOOKUP($AL7,'Vejehold 2'!$A$7:$P$23,'Opsamling, slagt+smågrise'!AS$2,FALSE)","v":{"$error":"#N/A"}},null,3,"1900-01-03",{"$f":"VLOOKUP($AV7,'Vejehold 3'!$A$7:$P$23,'Opsamling, slagt+smågrise'!AW$2,FALSE)","v":{"$error":"#N/A"}},{"$f":"VLOOKUP($AV7,'Vejehold 3'!$A$7:$P$23,'Opsamling, slagt+smågrise'!AX$2,FALSE)","v":{"$error":"#N/A"}},{"$f":"VLOOKUP($AV7,'Vejehold 3'!$A$7:$P$23,'Opsamling, slagt+smågrise'!AY$2,FALSE)","v":{"$error":"#N/A"}},{"$f":"VLOOKUP($AV7,'Vejehold 3'!$A$7:$P$23,'Opsamling, slagt+smågrise'!AZ$2,FALSE)","v":{"$error":"#N/A"}},{"$f":"VLOOKUP($AV7,'Vejehold 3'!$A$7:$P$23,'Opsamling, slagt+smågrise'!BA$2,FALSE)","v":{"$error":"#N/A"}},{"$f":"VLOOKUP($AV7,'Vejehold 3'!$A$7:$P$23,'Opsamling, slagt+smågrise'!BB$2,FALSE)","v":{"$error":"#N/A"}},{"$f":"VLOOKUP($AV7,'Vejehold 3'!$A$7:$P$23,'Opsamling, slagt+smågrise'!BC$2,FALSE)","v":{"$error":"#N/A"}},null,3,"1900-01-03",{"$f":"VLOOKUP($BF7,'Vejehold 4'!$A$7:$P$23,'Opsamling, slagt+smågrise'!BG$2,FALSE)","v":{"$error":"#N/A"}},{"$f":"VLOOKUP($BF7,'Vejehold 4'!$A$7:$P$23,'Opsamling, slagt+smågrise'!BH$2,FALSE)","v":{"$error":"#N/A"}},{"$f":"VLOOKUP($BF7,'Vejehold 4'!$A$7:$P$23,'Opsamling, slagt+smågrise'!BI$2,FALSE)","v":{"$error":"#N/A"}},{"$f":"VLOOKUP($BF7,'Vejehold 4'!$A$7:$P$23,'Opsamling, slagt+smågrise'!BJ$2,FALSE)","v":{"$error":"#N/A"}},{"$f":"VLOOKUP($BF7,'Vejehold 4'!$A$7:$P$23,'Opsamling, slagt+smågrise'!BK$2,FALSE)","v":{"$error":"#N/A"}},{"$f":"VLOOKUP($BF7,'Vejehold 4'!$A$7:$P$23,'Opsamling, slagt+smågrise'!BL$2,FALSE)","v":{"$error":"#N/A"}},{"$f":"VLOOKUP($BF7,'Vejehold 4'!$A$7:$P$23,'Opsamling, slagt+smågrise'!BM$2,FALSE)","v":{"$error":"#N/A"}},null,3,"1900-01-03",{"$f":"VLOOKUP($BP7,'Vejehold 5'!$A$7:$P$23,'Opsamling, slagt+smågrise'!BQ$2,FALSE)","v":{"$error":"#N/A"}},{"$f":"VLOOKUP($BP7,'Vejehold 5'!$A$7:$P$23,'Opsamling, slagt+smågrise'!BR$2,FALSE)","v":{"$error":"#N/A"}},{"$f":"VLOOKUP($BP7,'Vejehold 5'!$A$7:$P$23,'Opsamling, slagt+smågrise'!BS$2,FALSE)","v":{"$error":"#N/A"}},{"$f":"VLOOKUP($BP7,'Vejehold 5'!$A$7:$P$23,'Opsamling, slagt+smågrise'!BT$2,FALSE)","v":{"$error":"#N/A"}},{"$f":"VLOOKUP($BP7,'Vejehold 5'!$A$7:$P$23,'Opsamling, slagt+smågrise'!BU$2,FALSE)","v":{"$error":"#N/A"}},{"$f":"VLOOKUP($BP7,'Vejehold 5'!$A$7:$P$23,'Opsamling, slagt+smågrise'!BV$2,FALSE)","v":{"$error":"#N/A"}},{"$f":"VLOOKUP($BP7,'Vejehold 5'!$A$7:$P$23,'Opsamling, slagt+smågrise'!BW$2,FALSE)","v":{"$error":"#N/A"}},null,3,"1900-01-03",{"$f":"VLOOKUP($BZ7,'Vejehold 6'!$A$7:$P$23,'Opsamling, slagt+smågrise'!CA$2,FALSE)","v":{"$error":"#N/A"}},{"$f":"VLOOKUP($BZ7,'Vejehold 6'!$A$7:$P$23,'Opsamling, slagt+smågrise'!CB$2,FALSE)","v":{"$error":"#N/A"}},{"$f":"VLOOKUP($BZ7,'Vejehold 6'!$A$7:$P$23,'Opsamling, slagt+smågrise'!CC$2,FALSE)","v":{"$error":"#N/A"}},{"$f":"VLOOKUP($BZ7,'Vejehold 6'!$A$7:$P$23,'Opsamling, slagt+smågrise'!CD$2,FALSE)","v":{"$error":"#N/A"}},{"$f":"VLOOKUP($BZ7,'Vejehold 6'!$A$7:$P$23,'Opsamling, slagt+smågrise'!CE$2,FALSE)","v":{"$error":"#N/A"}},{"$f":"VLOOKUP($BZ7,'Vejehold 6'!$A$7:$P$23,'Opsamling, slagt+smågrise'!CF$2,FALSE)","v":{"$error":"#N/A"}},{"$f":"VLOOKUP($BZ7,'Vejehold 6'!$A$7:$P$23,'Opsamling, slagt+smågrise'!CG$2,FALSE)","v":{"$error":"#N/A"}}]
[null,28,{"$f":"'Vejehold 1'!$E11","v":0},{"$f":"'Vejehold 2'!$E11","v":0},{"$f":"'Vejehold 3'!$E11","v":0},{"$f":"'Vejehold 4'!$E11","v":0},{"$f":"'Vejehold 5'!$E11","v":0},{"$f":"'Vejehold 6'!$E11","v":0},null,null,null,null,null,null,null,null,null,null,null,null,null,null,null,null,null,null,4,"1900-01-04",{"$f":"VLOOKUP($AB8,'Vejehold 1'!$A$7:$P$23,'Opsamling, slagt+smågrise'!AC$2,FALSE)","v":{"$error":"#N/A"}},{"$f":"VLOOKUP($AB8,'Vejehold 1'!$A$7:$P$23,'Opsamling, slagt+smågrise'!AD$2,FALSE)","v":{"$error":"#N/A"}},{"$f":"VLOOKUP($AB8,'Vejehold 1'!$A$7:$P$23,'Opsamling, slagt+smågrise'!AE$2,FALSE)","v":{"$error":"#N/A"}},{"$f":"VLOOKUP($AB8,'Vejehold 1'!$A$7:$P$23,'Opsamling, slagt+smågrise'!AF$2,FALSE)","v":{"$error":"#N/A"}},{"$f":"VLOOKUP($AB8,'Vejehold 1'!$A$7:$P$23,'Opsamling, slagt+smågrise'!AG$2,FALSE)","v":{"$error":"#N/A"}},{"$f":"VLOOKUP($AB8,'Vejehold 1'!$A$7:$P$23,'Opsamling, slagt+smågrise'!AH$2,FALSE)","v":{"$error":"#N/A"}},{"$f":"VLOOKUP($AB8,'Vejehold 1'!$A$7:$P$23,'Opsamling, slagt+smågrise'!AI$2,FALSE)","v":{"$error":"#N/A"}},null,4,"1900-01-04",{"$f":"VLOOKUP($AL8,'Vejehold 2'!$A$7:$P$23,'Opsamling, slagt+smågrise'!AM$2,FALSE)","v":{"$error":"#N/A"}},{"$f":"VLOOKUP($AL8,'Vejehold 2'!$A$7:$P$23,'Opsamling, slagt+smågrise'!AN$2,FALSE)","v":{"$error":"#N/A"}},{"$f":"VLOOKUP($AL8,'Vejehold 2'!$A$7:$P$23,'Opsamling, slagt+smågrise'!AO$2,FALSE)","v":{"$error":"#N/A"}},{"$f":"VLOOKUP($AL8,'Vejehold 2'!$A$7:$P$23,'Opsamling, slagt+smågrise'!AP$2,FALSE)","v":{"$error":"#N/A"}},{"$f":"VLOOKUP($AL8,'Vejehold 2'!$A$7:$P$23,'Opsamling, slagt+smågrise'!AQ$2,FALSE)","v":{"$error":"#N/A"}},{"$f":"VLOOKUP($AL8,'Vejehold 2'!$A$7:$P$23,'Opsamling, slagt+smågrise'!AR$2,FALSE)","v":{"$error":"#N/A"}},{"$f":"VLOOKUP($AL8,'Vejehold 2'!$A$7:$P$23,'Opsamling, slagt+smågrise'!AS$2,FALSE)","v":{"$error":"#N/A"}},null,4,"1900-01-04",{"$f":"VLOOKUP($AV8,'Vejehold 3'!$A$7:$P$23,'Opsamling, slagt+smågrise'!AW$2,FALSE)","v":{"$error":"#N/A"}},{"$f":"VLOOKUP($AV8,'Vejehold 3'!$A$7:$P$23,'Opsamling, slagt+smågrise'!AX$2,FALSE)","v":{"$error":"#N/A"}},{"$f":"VLOOKUP($AV8,'Vejehold 3'!$A$7:$P$23,'Opsamling, slagt+smågrise'!AY$2,FALSE)","v":{"$error":"#N/A"}},{"$f":"VLOOKUP($AV8,'Vejehold 3'!$A$7:$P$23,'Opsamling, slagt+smågrise'!AZ$2,FALSE)","v":{"$error":"#N/A"}},{"$f":"VLOOKUP($AV8,'Vejehold 3'!$A$7:$P$23,'Opsamling, slagt+smågrise'!BA$2,FALSE)","v":{"$error":"#N/A"}},{"$f":"VLOOKUP($AV8,'Vejehold 3'!$A$7:$P$23,'Opsamling, slagt+smågrise'!BB$2,FALSE)","v":{"$error":"#N/A"}},{"$f":"VLOOKUP($AV8,'Vejehold 3'!$A$7:$P$23,'Opsamling, slagt+smågrise'!BC$2,FALSE)","v":{"$error":"#N/A"}},null,4,"1900-01-04",{"$f":"VLOOKUP($BF8,'Vejehold 4'!$A$7:$P$23,'Opsamling, slagt+smågrise'!BG$2,FALSE)","v":{"$error":"#N/A"}},{"$f":"VLOOKUP($BF8,'Vejehold 4'!$A$7:$P$23,'Opsamling, slagt+smågrise'!BH$2,FALSE)","v":{"$error":"#N/A"}},{"$f":"VLOOKUP($BF8,'Vejehold 4'!$A$7:$P$23,'Opsamling, slagt+smågrise'!BI$2,FALSE)","v":{"$error":"#N/A"}},{"$f":"VLOOKUP($BF8,'Vejehold 4'!$A$7:$P$23,'Opsamling, slagt+smågrise'!BJ$2,FALSE)","v":{"$error":"#N/A"}},{"$f":"VLOOKUP($BF8,'Vejehold 4'!$A$7:$P$23,'Opsamling, slagt+smågrise'!BK$2,FALSE)","v":{"$error":"#N/A"}},{"$f":"VLOOKUP($BF8,'Vejehold 4'!$A$7:$P$23,'Opsamling, slagt+smågrise'!BL$2,FALSE)","v":{"$error":"#N/A"}},{"$f":"VLOOKUP($BF8,'Vejehold 4'!$A$7:$P$23,'Opsamling, slagt+smågrise'!BM$2,FALSE)","v":{"$error":"#N/A"}},null,4,"1900-01-04",{"$f":"VLOOKUP($BP8,'Vejehold 5'!$A$7:$P$23,'Opsamling, slagt+smågrise'!BQ$2,FALSE)","v":{"$error":"#N/A"}},{"$f":"VLOOKUP($BP8,'Vejehold 5'!$A$7:$P$23,'Opsamling, slagt+smågrise'!BR$2,FALSE)","v":{"$error":"#N/A"}},{"$f":"VLOOKUP($BP8,'Vejehold 5'!$A$7:$P$23,'Opsamling, slagt+smågrise'!BS$2,FALSE)","v":{"$error":"#N/A"}},{"$f":"VLOOKUP($BP8,'Vejehold 5'!$A$7:$P$23,'Opsamling, slagt+smågrise'!BT$2,FALSE)","v":{"$error":"#N/A"}},{"$f":"VLOOKUP($BP8,'Vejehold 5'!$A$7:$P$23,'Opsamling, slagt+smågrise'!BU$2,FALSE)","v":{"$error":"#N/A"}},{"$f":"VLOOKUP($BP8,'Vejehold 5'!$A$7:$P$23,'Opsamling, slagt+smågrise'!BV$2,FALSE)","v":{"$error":"#N/A"}},{"$f":"VLOOKUP($BP8,'Vejehold 5'!$A$7:$P$23,'Opsamling, slagt+smågrise'!BW$2,FALSE)","v":{"$error":"#N/A"}},null,4,"1900-01-04",{"$f":"VLOOKUP($BZ8,'Vejehold 6'!$A$7:$P$23,'Opsamling, slagt+smågrise'!CA$2,FALSE)","v":{"$error":"#N/A"}},{"$f":"VLOOKUP($BZ8,'Vejehold 6'!$A$7:$P$23,'Opsamling, slagt+smågrise'!CB$2,FALSE)","v":{"$error":"#N/A"}},{"$f":"VLOOKUP($BZ8,'Vejehold 6'!$A$7:$P$23,'Opsamling, slagt+smågrise'!CC$2,FALSE)","v":{"$error":"#N/A"}},{"$f":"VLOOKUP($BZ8,'Vejehold 6'!$A$7:$P$23,'Opsamling, slagt+smågrise'!CD$2,FALSE)","v":{"$error":"#N/A"}},{"$f":"VLOOKUP($BZ8,'Vejehold 6'!$A$7:$P$23,'Opsamling, slagt+smågrise'!CE$2,FALSE)","v":{"$error":"#N/A"}},{"$f":"VLOOKUP($BZ8,'Vejehold 6'!$A$7:$P$23,'Opsamling, slagt+smågrise'!CF$2,FALSE)","v":{"$error":"#N/A"}},{"$f":"VLOOKUP($BZ8,'Vejehold 6'!$A$7:$P$23,'Opsamling, slagt+smågrise'!CG$2,FALSE)","v":{"$error":"#N/A"}}]
[null,35,{"$f":"'Vejehold 1'!$E12","v":0},{"$f":"'Vejehold 2'!$E12","v":0},{"$f":"'Vejehold 3'!$E12","v":0},{"$f":"'Vejehold 4'!$E12","v":0},{"$f":"'Vejehold 5'!$E12","v":0},{"$f":"'Vejehold 6'!$E12","v":0},null,null,null,null,null,null,null,null,null,null,null,null,null,null,null,null,null,null,5,"1900-01-05",{"$f":"VLOOKUP($AB9,'Vejehold 1'!$A$7:$P$23,'Opsamling, slagt+smågrise'!AC$2,FALSE)","v":{"$error":"#N/A"}},{"$f":"VLOOKUP($AB9,'Vejehold 1'!$A$7:$P$23,'Opsamling, slagt+smågrise'!AD$2,FALSE)","v":{"$error":"#N/A"}},{"$f":"VLOOKUP($AB9,'Vejehold 1'!$A$7:$P$23,'Opsamling, slagt+smågrise'!AE$2,FALSE)","v":{"$error":"#N/A"}},{"$f":"VLOOKUP($AB9,'Vejehold 1'!$A$7:$P$23,'Opsamling, slagt+smågrise'!AF$2,FALSE)","v":{"$error":"#N/A"}},{"$f":"VLOOKUP($AB9,'Vejehold 1'!$A$7:$P$23,'Opsamling, slagt+smågrise'!AG$2,FALSE)","v":{"$error":"#N/A"}},{"$f":"VLOOKUP($AB9,'Vejehold 1'!$A$7:$P$23,'Opsamling, slagt+smågrise'!AH$2,FALSE)","v":{"$error":"#N/A"}},{"$f":"VLOOKUP($AB9,'Vejehold 1'!$A$7:$P$23,'Opsamling, slagt+smågrise'!AI$2,FALSE)","v":{"$error":"#N/A"}},null,5,"1900-01-05",{"$f":"VLOOKUP($AL9,'Vejehold 2'!$A$7:$P$23,'Opsamling, slagt+smågrise'!AM$2,FALSE)","v":{"$error":"#N/A"}},{"$f":"VLOOKUP($AL9,'Vejehold 2'!$A$7:$P$23,'Opsamling, slagt+smågrise'!AN$2,FALSE)","v":{"$error":"#N/A"}},{"$f":"VLOOKUP($AL9,'Vejehold 2'!$A$7:$P$23,'Opsamling, slagt+smågrise'!AO$2,FALSE)","v":{"$error":"#N/A"}},{"$f":"VLOOKUP($AL9,'Vejehold 2'!$A$7:$P$23,'Opsamling, slagt+smågrise'!AP$2,FALSE)","v":{"$error":"#N/A"}},{"$f":"VLOOKUP($AL9,'Vejehold 2'!$A$7:$P$23,'Opsamling, slagt+smågrise'!AQ$2,FALSE)","v":{"$error":"#N/A"}},{"$f":"VLOOKUP($AL9,'Vejehold 2'!$A$7:$P$23,'Opsamling, slagt+smågrise'!AR$2,FALSE)","v":{"$error":"#N/A"}},{"$f":"VLOOKUP($AL9,'Vejehold 2'!$A$7:$P$23,'Opsamling, slagt+smågrise'!AS$2,FALSE)","v":{"$error":"#N/A"}},null,5,"1900-01-05",{"$f":"VLOOKUP($AV9,'Vejehold 3'!$A$7:$P$23,'Opsamling, slagt+smågrise'!AW$2,FALSE)","v":{"$error":"#N/A"}},{"$f":"VLOOKUP($AV9,'Vejehold 3'!$A$7:$P$23,'Opsamling, slagt+smågrise'!AX$2,FALSE)","v":{"$error":"#N/A"}},{"$f":"VLOOKUP($AV9,'Vejehold 3'!$A$7:$P$23,'Opsamling, slagt+smågrise'!AY$2,FALSE)","v":{"$error":"#N/A"}},{"$f":"VLOOKUP($AV9,'Vejehold 3'!$A$7:$P$23,'Opsamling, slagt+smågrise'!AZ$2,FALSE)","v":{"$error":"#N/A"}},{"$f":"VLOOKUP($AV9,'Vejehold 3'!$A$7:$P$23,'Opsamling, slagt+smågrise'!BA$2,FALSE)","v":{"$error":"#N/A"}},{"$f":"VLOOKUP($AV9,'Vejehold 3'!$A$7:$P$23,'Opsamling, slagt+smågrise'!BB$2,FALSE)","v":{"$error":"#N/A"}},{"$f":"VLOOKUP($AV9,'Vejehold 3'!$A$7:$P$23,'Opsamling, slagt+smågrise'!BC$2,FALSE)","v":{"$error":"#N/A"}},null,5,"1900-01-05",{"$f":"VLOOKUP($BF9,'Vejehold 4'!$A$7:$P$23,'Opsamling, slagt+smågrise'!BG$2,FALSE)","v":{"$error":"#N/A"}},{"$f":"VLOOKUP($BF9,'Vejehold 4'!$A$7:$P$23,'Opsamling, slagt+smågrise'!BH$2,FALSE)","v":{"$error":"#N/A"}},{"$f":"VLOOKUP($BF9,'Vejehold 4'!$A$7:$P$23,'Opsamling, slagt+smågrise'!BI$2,FALSE)","v":{"$error":"#N/A"}},{"$f":"VLOOKUP($BF9,'Vejehold 4'!$A$7:$P$23,'Opsamling, slagt+smågrise'!BJ$2,FALSE)","v":{"$error":"#N/A"}},{"$f":"VLOOKUP($BF9,'Vejehold 4'!$A$7:$P$23,'Opsamling, slagt+smågrise'!BK$2,FALSE)","v":{"$error":"#N/A"}},{"$f":"VLOOKUP($BF9,'Vejehold 4'!$A$7:$P$23,'Opsamling, slagt+smågrise'!BL$2,FALSE)","v":{"$error":"#N/A"}},{"$f":"VLOOKUP($BF9,'Vejehold 4'!$A$7:$P$23,'Opsamling, slagt+smågrise'!BM$2,FALSE)","v":{"$error":"#N/A"}},null,5,"1900-01-05",{"$f":"VLOOKUP($BP9,'Vejehold 5'!$A$7:$P$23,'Opsamling, slagt+smågrise'!BQ$2,FALSE)","v":{"$error":"#N/A"}},{"$f":"VLOOKUP($BP9,'Vejehold 5'!$A$7:$P$23,'Opsamling, slagt+smågrise'!BR$2,FALSE)","v":{"$error":"#N/A"}},{"$f":"VLOOKUP($BP9,'Vejehold 5'!$A$7:$P$23,'Opsamling, slagt+smågrise'!BS$2,FALSE)","v":{"$error":"#N/A"}},{"$f":"VLOOKUP($BP9,'Vejehold 5'!$A$7:$P$23,'Opsamling, slagt+smågrise'!BT$2,FALSE)","v":{"$error":"#N/A"}},{"$f":"VLOOKUP($BP9,'Vejehold 5'!$A$7:$P$23,'Opsamling, slagt+smågrise'!BU$2,FALSE)","v":{"$error":"#N/A"}},{"$f":"VLOOKUP($BP9,'Vejehold 5'!$A$7:$P$23,'Opsamling, slagt+smågrise'!BV$2,FALSE)","v":{"$error":"#N/A"}},{"$f":"VLOOKUP($BP9,'Vejehold 5'!$A$7:$P$23,'Opsamling, slagt+smågrise'!BW$2,FALSE)","v":{"$error":"#N/A"}},null,5,"1900-01-05",{"$f":"VLOOKUP($BZ9,'Vejehold 6'!$A$7:$P$23,'Opsamling, slagt+smågrise'!CA$2,FALSE)","v":{"$error":"#N/A"}},{"$f":"VLOOKUP($BZ9,'Vejehold 6'!$A$7:$P$23,'Opsamling, slagt+smågrise'!CB$2,FALSE)","v":{"$error":"#N/A"}},{"$f":"VLOOKUP($BZ9,'Vejehold 6'!$A$7:$P$23,'Opsamling, slagt+smågrise'!CC$2,FALSE)","v":{"$error":"#N/A"}},{"$f":"VLOOKUP($BZ9,'Vejehold 6'!$A$7:$P$23,'Opsamling, slagt+smågrise'!CD$2,FALSE)","v":{"$error":"#N/A"}},{"$f":"VLOOKUP($BZ9,'Vejehold 6'!$A$7:$P$23,'Opsamling, slagt+smågrise'!CE$2,FALSE)","v":{"$error":"#N/A"}},{"$f":"VLOOKUP($BZ9,'Vejehold 6'!$A$7:$P$23,'Opsamling, slagt+smågrise'!CF$2,FALSE)","v":{"$error":"#N/A"}},{"$f":"VLOOKUP($BZ9,'Vejehold 6'!$A$7:$P$23,'Opsamling, slagt+smågrise'!CG$2,FALSE)","v":{"$error":"#N/A"}}]
[null,42,{"$f":"'Vejehold 1'!$E13","v":0},{"$f":"'Vejehold 2'!$E13","v":0},{"$f":"'Vejehold 3'!$E13","v":0},{"$f":"'Vejehold 4'!$E13","v":0},{"$f":"'Vejehold 5'!$E13","v":0},{"$f":"'Vejehold 6'!$E13","v":0},null,null,null,null,null,null,null,null,null,null,null,null,null,null,null,null,null,null,6,"1900-01-06",{"$f":"VLOOKUP($AB10,'Vejehold 1'!$A$7:$P$23,'Opsamling, slagt+smågrise'!AC$2,FALSE)","v":{"$error":"#N/A"}},{"$f":"VLOOKUP($AB10,'Vejehold 1'!$A$7:$P$23,'Opsamling, slagt+smågrise'!AD$2,FALSE)","v":{"$error":"#N/A"}},{"$f":"VLOOKUP($AB10,'Vejehold 1'!$A$7:$P$23,'Opsamling, slagt+smågrise'!AE$2,FALSE)","v":{"$error":"#N/A"}},{"$f":"VLOOKUP($AB10,'Vejehold 1'!$A$7:$P$23,'Opsamling, slagt+smågrise'!AF$2,FALSE)","v":{"$error":"#N/A"}},{"$f":"VLOOKUP($AB10,'Vejehold 1'!$A$7:$P$23,'Opsamling, slagt+smågrise'!AG$2,FALSE)","v":{"$error":"#N/A"}},{"$f":"VLOOKUP($AB10,'Vejehold 1'!$A$7:$P$23,'Opsamling, slagt+smågrise'!AH$2,FALSE)","v":{"$error":"#N/A"}},{"$f":"VLOOKUP($AB10,'Vejehold 1'!$A$7:$P$23,'Opsamling, slagt+smågrise'!AI$2,FALSE)","v":{"$error":"#N/A"}},null,6,"1900-01-06",{"$f":"VLOOKUP($AL10,'Vejehold 2'!$A$7:$P$23,'Opsamling, slagt+smågrise'!AM$2,FALSE)","v":{"$error":"#N/A"}},{"$f":"VLOOKUP($AL10,'Vejehold 2'!$A$7:$P$23,'Opsamling, slagt+smågrise'!AN$2,FALSE)","v":{"$error":"#N/A"}},{"$f":"VLOOKUP($AL10,'Vejehold 2'!$A$7:$P$23,'Opsamling, slagt+smågrise'!AO$2,FALSE)","v":{"$error":"#N/A"}},{"$f":"VLOOKUP($AL10,'Vejehold 2'!$A$7:$P$23,'Opsamling, slagt+smågrise'!AP$2,FALSE)","v":{"$error":"#N/A"}},{"$f":"VLOOKUP($AL10,'Vejehold 2'!$A$7:$P$23,'Opsamling, slagt+smågrise'!AQ$2,FALSE)","v":{"$error":"#N/A"}},{"$f":"VLOOKUP($AL10,'Vejehold 2'!$A$7:$P$23,'Opsamling, slagt+smågrise'!AR$2,FALSE)","v":{"$error":"#N/A"}},{"$f":"VLOOKUP($AL10,'Vejehold 2'!$A$7:$P$23,'Opsamling, slagt+smågrise'!AS$2,FALSE)","v":{"$error":"#N/A"}},null,6,"1900-01-06",{"$f":"VLOOKUP($AV10,'Vejehold 3'!$A$7:$P$23,'Opsamling, slagt+smågrise'!AW$2,FALSE)","v":{"$error":"#N/A"}},{"$f":"VLOOKUP($AV10,'Vejehold 3'!$A$7:$P$23,'Opsamling, slagt+smågrise'!AX$2,FALSE)","v":{"$error":"#N/A"}},{"$f":"VLOOKUP($AV10,'Vejehold 3'!$A$7:$P$23,'Opsamling, slagt+smågrise'!AY$2,FALSE)","v":{"$error":"#N/A"}},{"$f":"VLOOKUP($AV10,'Vejehold 3'!$A$7:$P$23,'Opsamling, slagt+smågrise'!AZ$2,FALSE)","v":{"$error":"#N/A"}},{"$f":"VLOOKUP($AV10,'Vejehold 3'!$A$7:$P$23,'Opsamling, slagt+smågrise'!BA$2,FALSE)","v":{"$error":"#N/A"}},{"$f":"VLOOKUP($AV10,'Vejehold 3'!$A$7:$P$23,'Opsamling, slagt+smågrise'!BB$2,FALSE)","v":{"$error":"#N/A"}},{"$f":"VLOOKUP($AV10,'Vejehold 3'!$A$7:$P$23,'Opsamling, slagt+smågrise'!BC$2,FALSE)","v":{"$error":"#N/A"}},null,6,"1900-01-06",{"$f":"VLOOKUP($BF10,'Vejehold 4'!$A$7:$P$23,'Opsamling, slagt+smågrise'!BG$2,FALSE)","v":{"$error":"#N/A"}},{"$f":"VLOOKUP($BF10,'Vejehold 4'!$A$7:$P$23,'Opsamling, slagt+smågrise'!BH$2,FALSE)","v":{"$error":"#N/A"}},{"$f":"VLOOKUP($BF10,'Vejehold 4'!$A$7:$P$23,'Opsamling, slagt+smågrise'!BI$2,FALSE)","v":{"$error":"#N/A"}},{"$f":"VLOOKUP($BF10,'Vejehold 4'!$A$7:$P$23,'Opsamling, slagt+smågrise'!BJ$2,FALSE)","v":{"$error":"#N/A"}},{"$f":"VLOOKUP($BF10,'Vejehold 4'!$A$7:$P$23,'Opsamling, slagt+smågrise'!BK$2,FALSE)","v":{"$error":"#N/A"}},{"$f":"VLOOKUP($BF10,'Vejehold 4'!$A$7:$P$23,'Opsamling, slagt+smågrise'!BL$2,FALSE)","v":{"$error":"#N/A"}},{"$f":"VLOOKUP($BF10,'Vejehold 4'!$A$7:$P$23,'Opsamling, slagt+smågrise'!BM$2,FALSE)","v":{"$error":"#N/A"}},null,6,"1900-01-06",{"$f":"VLOOKUP($BP10,'Vejehold 5'!$A$7:$P$23,'Opsamling, slagt+smågrise'!BQ$2,FALSE)","v":{"$error":"#N/A"}},{"$f":"VLOOKUP($BP10,'Vejehold 5'!$A$7:$P$23,'Opsamling, slagt+smågrise'!BR$2,FALSE)","v":{"$error":"#N/A"}},{"$f":"VLOOKUP($BP10,'Vejehold 5'!$A$7:$P$23,'Opsamling, slagt+smågrise'!BS$2,FALSE)","v":{"$error":"#N/A"}},{"$f":"VLOOKUP($BP10,'Vejehold 5'!$A$7:$P$23,'Opsamling, slagt+smågrise'!BT$2,FALSE)","v":{"$error":"#N/A"}},{"$f":"VLOOKUP($BP10,'Vejehold 5'!$A$7:$P$23,'Opsamling, slagt+smågrise'!BU$2,FALSE)","v":{"$error":"#N/A"}},{"$f":"VLOOKUP($BP10,'Vejehold 5'!$A$7:$P$23,'Opsamling, slagt+smågrise'!BV$2,FALSE)","v":{"$error":"#N/A"}},{"$f":"VLOOKUP($BP10,'Vejehold 5'!$A$7:$P$23,'Opsamling, slagt+smågrise'!BW$2,FALSE)","v":{"$error":"#N/A"}},null,6,"1900-01-06",{"$f":"VLOOKUP($BZ10,'Vejehold 6'!$A$7:$P$23,'Opsamling, slagt+smågrise'!CA$2,FALSE)","v":{"$error":"#N/A"}},{"$f":"VLOOKUP($BZ10,'Vejehold 6'!$A$7:$P$23,'Opsamling, slagt+smågrise'!CB$2,FALSE)","v":{"$error":"#N/A"}},{"$f":"VLOOKUP($BZ10,'Vejehold 6'!$A$7:$P$23,'Opsamling, slagt+smågrise'!CC$2,FALSE)","v":{"$error":"#N/A"}},{"$f":"VLOOKUP($BZ10,'Vejehold 6'!$A$7:$P$23,'Opsamling, slagt+smågrise'!CD$2,FALSE)","v":{"$error":"#N/A"}},{"$f":"VLOOKUP($BZ10,'Vejehold 6'!$A$7:$P$23,'Opsamling, slagt+smågrise'!CE$2,FALSE)","v":{"$error":"#N/A"}},{"$f":"VLOOKUP($BZ10,'Vejehold 6'!$A$7:$P$23,'Opsamling, slagt+smågrise'!CF$2,FALSE)","v":{"$error":"#N/A"}},{"$f":"VLOOKUP($BZ10,'Vejehold 6'!$A$7:$P$23,'Opsamling, slagt+smågrise'!CG$2,FALSE)","v":{"$error":"#N/A"}}]
[null,49,{"$f":"'Vejehold 1'!$E14","v":0},{"$f":"'Vejehold 2'!$E14","v":0},{"$f":"'Vejehold 3'!$E14","v":0},{"$f":"'Vejehold 4'!$E14","v":0},{"$f":"'Vejehold 5'!$E14","v":0},{"$f":"'Vejehold 6'!$E14","v":0},null,null,null,null,null,null,null,null,null,null,null,null,null,null,null,null,null,null,7,"1900-01-07",{"$f":"VLOOKUP($AB11,'Vejehold 1'!$A$7:$P$23,'Opsamling, slagt+smågrise'!AC$2,FALSE)","v":{"$error":"#N/A"}},{"$f":"VLOOKUP($AB11,'Vejehold 1'!$A$7:$P$23,'Opsamling, slagt+smågrise'!AD$2,FALSE)","v":{"$error":"#N/A"}},{"$f":"VLOOKUP($AB11,'Vejehold 1'!$A$7:$P$23,'Opsamling, slagt+smågrise'!AE$2,FALSE)","v":{"$error":"#N/A"}},{"$f":"VLOOKUP($AB11,'Vejehold 1'!$A$7:$P$23,'Opsamling, slagt+smågrise'!AF$2,FALSE)","v":{"$error":"#N/A"}},{"$f":"VLOOKUP($AB11,'Vejehold 1'!$A$7:$P$23,'Opsamling, slagt+smågrise'!AG$2,FALSE)","v":{"$error":"#N/A"}},{"$f":"VLOOKUP($AB11,'Vejehold 1'!$A$7:$P$23,'Opsamling, slagt+smågrise'!AH$2,FALSE)","v":{"$error":"#N/A"}},{"$f":"VLOOKUP($AB11,'Vejehold 1'!$A$7:$P$23,'Opsamling, slagt+smågrise'!AI$2,FALSE)","v":{"$error":"#N/A"}},null,7,"1900-01-07",{"$f":"VLOOKUP($AL11,'Vejehold 2'!$A$7:$P$23,'Opsamling, slagt+smågrise'!AM$2,FALSE)","v":{"$error":"#N/A"}},{"$f":"VLOOKUP($AL11,'Vejehold 2'!$A$7:$P$23,'Opsamling, slagt+smågrise'!AN$2,FALSE)","v":{"$error":"#N/A"}},{"$f":"VLOOKUP($AL11,'Vejehold 2'!$A$7:$P$23,'Opsamling, slagt+smågrise'!AO$2,FALSE)","v":{"$error":"#N/A"}},{"$f":"VLOOKUP($AL11,'Vejehold 2'!$A$7:$P$23,'Opsamling, slagt+smågrise'!AP$2,FALSE)","v":{"$error":"#N/A"}},{"$f":"VLOOKUP($AL11,'Vejehold 2'!$A$7:$P$23,'Opsamling, slagt+smågrise'!AQ$2,FALSE)","v":{"$error":"#N/A"}},{"$f":"VLOOKUP($AL11,'Vejehold 2'!$A$7:$P$23,'Opsamling, slagt+smågrise'!AR$2,FALSE)","v":{"$error":"#N/A"}},{"$f":"VLOOKUP($AL11,'Vejehold 2'!$A$7:$P$23,'Opsamling, slagt+smågrise'!AS$2,FALSE)","v":{"$error":"#N/A"}},null,7,"1900-01-07",{"$f":"VLOOKUP($AV11,'Vejehold 3'!$A$7:$P$23,'Opsamling, slagt+smågrise'!AW$2,FALSE)","v":{"$error":"#N/A"}},{"$f":"VLOOKUP($AV11,'Vejehold 3'!$A$7:$P$23,'Opsamling, slagt+smågrise'!AX$2,FALSE)","v":{"$error":"#N/A"}},{"$f":"VLOOKUP($AV11,'Vejehold 3'!$A$7:$P$23,'Opsamling, slagt+smågrise'!AY$2,FALSE)","v":{"$error":"#N/A"}},{"$f":"VLOOKUP($AV11,'Vejehold 3'!$A$7:$P$23,'Opsamling, slagt+smågrise'!AZ$2,FALSE)","v":{"$error":"#N/A"}},{"$f":"VLOOKUP($AV11,'Vejehold 3'!$A$7:$P$23,'Opsamling, slagt+smågrise'!BA$2,FALSE)","v":{"$error":"#N/A"}},{"$f":"VLOOKUP($AV11,'Vejehold 3'!$A$7:$P$23,'Opsamling, slagt+smågrise'!BB$2,FALSE)","v":{"$error":"#N/A"}},{"$f":"VLOOKUP($AV11,'Vejehold 3'!$A$7:$P$23,'Opsamling, slagt+smågrise'!BC$2,FALSE)","v":{"$error":"#N/A"}},null,7,"1900-01-07",{"$f":"VLOOKUP($BF11,'Vejehold 4'!$A$7:$P$23,'Opsamling, slagt+smågrise'!BG$2,FALSE)","v":{"$error":"#N/A"}},{"$f":"VLOOKUP($BF11,'Vejehold 4'!$A$7:$P$23,'Opsamling, slagt+smågrise'!BH$2,FALSE)","v":{"$error":"#N/A"}},{"$f":"VLOOKUP($BF11,'Vejehold 4'!$A$7:$P$23,'Opsamling, slagt+smågrise'!BI$2,FALSE)","v":{"$error":"#N/A"}},{"$f":"VLOOKUP($BF11,'Vejehold 4'!$A$7:$P$23,'Opsamling, slagt+smågrise'!BJ$2,FALSE)","v":{"$error":"#N/A"}},{"$f":"VLOOKUP($BF11,'Vejehold 4'!$A$7:$P$23,'Opsamling, slagt+smågrise'!BK$2,FALSE)","v":{"$error":"#N/A"}},{"$f":"VLOOKUP($BF11,'Vejehold 4'!$A$7:$P$23,'Opsamling, slagt+smågrise'!BL$2,FALSE)","v":{"$error":"#N/A"}},{"$f":"VLOOKUP($BF11,'Vejehold 4'!$A$7:$P$23,'Opsamling, slagt+smågrise'!BM$2,FALSE)","v":{"$error":"#N/A"}},null,7,"1900-01-07",{"$f":"VLOOKUP($BP11,'Vejehold 5'!$A$7:$P$23,'Opsamling, slagt+smågrise'!BQ$2,FALSE)","v":{"$error":"#N/A"}},{"$f":"VLOOKUP($BP11,'Vejehold 5'!$A$7:$P$23,'Opsamling, slagt+smågrise'!BR$2,FALSE)","v":{"$error":"#N/A"}},{"$f":"VLOOKUP($BP11,'Vejehold 5'!$A$7:$P$23,'Opsamling, slagt+smågrise'!BS$2,FALSE)","v":{"$error":"#N/A"}},{"$f":"VLOOKUP($BP11,'Vejehold 5'!$A$7:$P$23,'Opsamling, slagt+smågrise'!BT$2,FALSE)","v":{"$error":"#N/A"}},{"$f":"VLOOKUP($BP11,'Vejehold 5'!$A$7:$P$23,'Opsamling, slagt+smågrise'!BU$2,FALSE)","v":{"$error":"#N/A"}},{"$f":"VLOOKUP($BP11,'Vejehold 5'!$A$7:$P$23,'Opsamling, slagt+smågrise'!BV$2,FALSE)","v":{"$error":"#N/A"}},{"$f":"VLOOKUP($BP11,'Vejehold 5'!$A$7:$P$23,'Opsamling, slagt+smågrise'!BW$2,FALSE)","v":{"$error":"#N/A"}},null,7,"1900-01-07",{"$f":"VLOOKUP($BZ11,'Vejehold 6'!$A$7:$P$23,'Opsamling, slagt+smågrise'!CA$2,FALSE)","v":{"$error":"#N/A"}},{"$f":"VLOOKUP($BZ11,'Vejehold 6'!$A$7:$P$23,'Opsamling, slagt+smågrise'!CB$2,FALSE)","v":{"$error":"#N/A"}},{"$f":"VLOOKUP($BZ11,'Vejehold 6'!$A$7:$P$23,'Opsamling, slagt+smågrise'!CC$2,FALSE)","v":{"$error":"#N/A"}},{"$f":"VLOOKUP($BZ11,'Vejehold 6'!$A$7:$P$23,'Opsamling, slagt+smågrise'!CD$2,FALSE)","v":{"$error":"#N/A"}},{"$f":"VLOOKUP($BZ11,'Vejehold 6'!$A$7:$P$23,'Opsamling, slagt+smågrise'!CE$2,FALSE)","v":{"$error":"#N/A"}},{"$f":"VLOOKUP($BZ11,'Vejehold 6'!$A$7:$P$23,'Opsamling, slagt+smågrise'!CF$2,FALSE)","v":{"$error":"#N/A"}},{"$f":"VLOOKUP($BZ11,'Vejehold 6'!$A$7:$P$23,'Opsamling, slagt+smågrise'!CG$2,FALSE)","v":{"$error":"#N/A"}}]
[null,56,{"$f":"'Vejehold 1'!$E15","v":0},{"$f":"'Vejehold 2'!$E15","v":0},{"$f":"'Vejehold 3'!$E15","v":0},{"$f":"'Vejehold 4'!$E15","v":0},{"$f":"'Vejehold 5'!$E15","v":0},{"$f":"'Vejehold 6'!$E15","v":0},null,null,null,null,null,null,null,null,null,null,null,null,null,null,null,null,null,null,8,"1900-01-08",{"$f":"VLOOKUP($AB12,'Vejehold 1'!$A$7:$P$23,'Opsamling, slagt+smågrise'!AC$2,FALSE)","v":{"$error":"#N/A"}},{"$f":"VLOOKUP($AB12,'Vejehold 1'!$A$7:$P$23,'Opsamling, slagt+smågrise'!AD$2,FALSE)","v":{"$error":"#N/A"}},{"$f":"VLOOKUP($AB12,'Vejehold 1'!$A$7:$P$23,'Opsamling, slagt+smågrise'!AE$2,FALSE)","v":{"$error":"#N/A"}},{"$f":"VLOOKUP($AB12,'Vejehold 1'!$A$7:$P$23,'Opsamling, slagt+smågrise'!AF$2,FALSE)","v":{"$error":"#N/A"}},{"$f":"VLOOKUP($AB12,'Vejehold 1'!$A$7:$P$23,'Opsamling, slagt+smågrise'!AG$2,FALSE)","v":{"$error":"#N/A"}},{"$f":"VLOOKUP($AB12,'Vejehold 1'!$A$7:$P$23,'Opsamling, slagt+smågrise'!AH$2,FALSE)","v":{"$error":"#N/A"}},{"$f":"VLOOKUP($AB12,'Vejehold 1'!$A$7:$P$23,'Opsamling, slagt+smågrise'!AI$2,FALSE)","v":{"$error":"#N/A"}},null,8,"1900-01-08",{"$f":"VLOOKUP($AL12,'Vejehold 2'!$A$7:$P$23,'Opsamling, slagt+smågrise'!AM$2,FALSE)","v":{"$error":"#N/A"}},{"$f":"VLOOKUP($AL12,'Vejehold 2'!$A$7:$P$23,'Opsamling, slagt+smågrise'!AN$2,FALSE)","v":{"$error":"#N/A"}},{"$f":"VLOOKUP($AL12,'Vejehold 2'!$A$7:$P$23,'Opsamling, slagt+smågrise'!AO$2,FALSE)","v":{"$error":"#N/A"}},{"$f":"VLOOKUP($AL12,'Vejehold 2'!$A$7:$P$23,'Opsamling, slagt+smågrise'!AP$2,FALSE)","v":{"$error":"#N/A"}},{"$f":"VLOOKUP($AL12,'Vejehold 2'!$A$7:$P$23,'Opsamling, slagt+smågrise'!AQ$2,FALSE)","v":{"$error":"#N/A"}},{"$f":"VLOOKUP($AL12,'Vejehold 2'!$A$7:$P$23,'Opsamling, slagt+smågrise'!AR$2,FALSE)","v":{"$error":"#N/A"}},{"$f":"VLOOKUP($AL12,'Vejehold 2'!$A$7:$P$23,'Opsamling, slagt+smågrise'!AS$2,FALSE)","v":{"$error":"#N/A"}},null,8,"1900-01-08",{"$f":"VLOOKUP($AV12,'Vejehold 3'!$A$7:$P$23,'Opsamling, slagt+smågrise'!AW$2,FALSE)","v":{"$error":"#N/A"}},{"$f":"VLOOKUP($AV12,'Vejehold 3'!$A$7:$P$23,'Opsamling, slagt+smågrise'!AX$2,FALSE)","v":{"$error":"#N/A"}},{"$f":"VLOOKUP($AV12,'Vejehold 3'!$A$7:$P$23,'Opsamling, slagt+smågrise'!AY$2,FALSE)","v":{"$error":"#N/A"}},{"$f":"VLOOKUP($AV12,'Vejehold 3'!$A$7:$P$23,'Opsamling, slagt+smågrise'!AZ$2,FALSE)","v":{"$error":"#N/A"}},{"$f":"VLOOKUP($AV12,'Vejehold 3'!$A$7:$P$23,'Opsamling, slagt+smågrise'!BA$2,FALSE)","v":{"$error":"#N/A"}},{"$f":"VLOOKUP($AV12,'Vejehold 3'!$A$7:$P$23,'Opsamling, slagt+smågrise'!BB$2,FALSE)","v":{"$error":"#N/A"}},{"$f":"VLOOKUP($AV12,'Vejehold 3'!$A$7:$P$23,'Opsamling, slagt+smågrise'!BC$2,FALSE)","v":{"$error":"#N/A"}},null,8,"1900-01-08",{"$f":"VLOOKUP($BF12,'Vejehold 4'!$A$7:$P$23,'Opsamling, slagt+smågrise'!BG$2,FALSE)","v":{"$error":"#N/A"}},{"$f":"VLOOKUP($BF12,'Vejehold 4'!$A$7:$P$23,'Opsamling, slagt+smågrise'!BH$2,FALSE)","v":{"$error":"#N/A"}},{"$f":"VLOOKUP($BF12,'Vejehold 4'!$A$7:$P$23,'Opsamling, slagt+smågrise'!BI$2,FALSE)","v":{"$error":"#N/A"}},{"$f":"VLOOKUP($BF12,'Vejehold 4'!$A$7:$P$23,'Opsamling, slagt+smågrise'!BJ$2,FALSE)","v":{"$error":"#N/A"}},{"$f":"VLOOKUP($BF12,'Vejehold 4'!$A$7:$P$23,'Opsamling, slagt+smågrise'!BK$2,FALSE)","v":{"$error":"#N/A"}},{"$f":"VLOOKUP($BF12,'Vejehold 4'!$A$7:$P$23,'Opsamling, slagt+smågrise'!BL$2,FALSE)","v":{"$error":"#N/A"}},{"$f":"VLOOKUP($BF12,'Vejehold 4'!$A$7:$P$23,'Opsamling, slagt+smågrise'!BM$2,FALSE)","v":{"$error":"#N/A"}},null,8,"1900-01-08",{"$f":"VLOOKUP($BP12,'Vejehold 5'!$A$7:$P$23,'Opsamling, slagt+smågrise'!BQ$2,FALSE)","v":{"$error":"#N/A"}},{"$f":"VLOOKUP($BP12,'Vejehold 5'!$A$7:$P$23,'Opsamling, slagt+smågrise'!BR$2,FALSE)","v":{"$error":"#N/A"}},{"$f":"VLOOKUP($BP12,'Vejehold 5'!$A$7:$P$23,'Opsamling, slagt+smågrise'!BS$2,FALSE)","v":{"$error":"#N/A"}},{"$f":"VLOOKUP($BP12,'Vejehold 5'!$A$7:$P$23,'Opsamling, slagt+smågrise'!BT$2,FALSE)","v":{"$error":"#N/A"}},{"$f":"VLOOKUP($BP12,'Vejehold 5'!$A$7:$P$23,'Opsamling, slagt+smågrise'!BU$2,FALSE)","v":{"$error":"#N/A"}},{"$f":"VLOOKUP($BP12,'Vejehold 5'!$A$7:$P$23,'Opsamling, slagt+smågrise'!BV$2,FALSE)","v":{"$error":"#N/A"}},{"$f":"VLOOKUP($BP12,'Vejehold 5'!$A$7:$P$23,'Opsamling, slagt+smågrise'!BW$2,FALSE)","v":{"$error":"#N/A"}},null,8,"1900-01-08",{"$f":"VLOOKUP($BZ12,'Vejehold 6'!$A$7:$P$23,'Opsamling, slagt+smågrise'!CA$2,FALSE)","v":{"$error":"#N/A"}},{"$f":"VLOOKUP($BZ12,'Vejehold 6'!$A$7:$P$23,'Opsamling, slagt+smågrise'!CB$2,FALSE)","v":{"$error":"#N/A"}},{"$f":"VLOOKUP($BZ12,'Vejehold 6'!$A$7:$P$23,'Opsamling, slagt+smågrise'!CC$2,FALSE)","v":{"$error":"#N/A"}},{"$f":"VLOOKUP($BZ12,'Vejehold 6'!$A$7:$P$23,'Opsamling, slagt+smågrise'!CD$2,FALSE)","v":{"$error":"#N/A"}},{"$f":"VLOOKUP($BZ12,'Vejehold 6'!$A$7:$P$23,'Opsamling, slagt+smågrise'!CE$2,FALSE)","v":{"$error":"#N/A"}},{"$f":"VLOOKUP($BZ12,'Vejehold 6'!$A$7:$P$23,'Opsamling, slagt+smågrise'!CF$2,FALSE)","v":{"$error":"#N/A"}},{"$f":"VLOOKUP($BZ12,'Vejehold 6'!$A$7:$P$23,'Opsamling, slagt+smågrise'!CG$2,FALSE)","v":{"$error":"#N/A"}}]
[null,63,{"$f":"'Vejehold 1'!$E16","v":0},{"$f":"'Vejehold 2'!$E16","v":0},{"$f":"'Vejehold 3'!$E16","v":0},{"$f":"'Vejehold 4'!$E16","v":0},{"$f":"'Vejehold 5'!$E16","v":0},{"$f":"'Vejehold 6'!$E16","v":0},null,null,null,null,null,null,null,null,null,null,null,null,null,null,null,null,null,null,9,"1900-01-09",{"$f":"VLOOKUP($AB13,'Vejehold 1'!$A$7:$P$23,'Opsamling, slagt+smågrise'!AC$2,FALSE)","v":{"$error":"#N/A"}},{"$f":"VLOOKUP($AB13,'Vejehold 1'!$A$7:$P$23,'Opsamling, slagt+smågrise'!AD$2,FALSE)","v":{"$error":"#N/A"}},{"$f":"VLOOKUP($AB13,'Vejehold 1'!$A$7:$P$23,'Opsamling, slagt+smågrise'!AE$2,FALSE)","v":{"$error":"#N/A"}},{"$f":"VLOOKUP($AB13,'Vejehold 1'!$A$7:$P$23,'Opsamling, slagt+smågrise'!AF$2,FALSE)","v":{"$error":"#N/A"}},{"$f":"VLOOKUP($AB13,'Vejehold 1'!$A$7:$P$23,'Opsamling, slagt+smågrise'!AG$2,FALSE)","v":{"$error":"#N/A"}},{"$f":"VLOOKUP($AB13,'Vejehold 1'!$A$7:$P$23,'Opsamling, slagt+smågrise'!AH$2,FALSE)","v":{"$error":"#N/A"}},{"$f":"VLOOKUP($AB13,'Vejehold 1'!$A$7:$P$23,'Opsamling, slagt+smågrise'!AI$2,FALSE)","v":{"$error":"#N/A"}},null,9,"1900-01-09",{"$f":"VLOOKUP($AL13,'Vejehold 2'!$A$7:$P$23,'Opsamling, slagt+smågrise'!AM$2,FALSE)","v":{"$error":"#N/A"}},{"$f":"VLOOKUP($AL13,'Vejehold 2'!$A$7:$P$23,'Opsamling, slagt+smågrise'!AN$2,FALSE)","v":{"$error":"#N/A"}},{"$f":"VLOOKUP($AL13,'Vejehold 2'!$A$7:$P$23,'Opsamling, slagt+smågrise'!AO$2,FALSE)","v":{"$error":"#N/A"}},{"$f":"VLOOKUP($AL13,'Vejehold 2'!$A$7:$P$23,'Opsamling, slagt+smågrise'!AP$2,FALSE)","v":{"$error":"#N/A"}},{"$f":"VLOOKUP($AL13,'Vejehold 2'!$A$7:$P$23,'Opsamling, slagt+smågrise'!AQ$2,FALSE)","v":{"$error":"#N/A"}},{"$f":"VLOOKUP($AL13,'Vejehold 2'!$A$7:$P$23,'Opsamling, slagt+smågrise'!AR$2,FALSE)","v":{"$error":"#N/A"}},{"$f":"VLOOKUP($AL13,'Vejehold 2'!$A$7:$P$23,'Opsamling, slagt+smågrise'!AS$2,FALSE)","v":{"$error":"#N/A"}},null,9,"1900-01-09",{"$f":"VLOOKUP($AV13,'Vejehold 3'!$A$7:$P$23,'Opsamling, slagt+smågrise'!AW$2,FALSE)","v":{"$error":"#N/A"}},{"$f":"VLOOKUP($AV13,'Vejehold 3'!$A$7:$P$23,'Opsamling, slagt+smågrise'!AX$2,FALSE)","v":{"$error":"#N/A"}},{"$f":"VLOOKUP($AV13,'Vejehold 3'!$A$7:$P$23,'Opsamling, slagt+smågrise'!AY$2,FALSE)","v":{"$error":"#N/A"}},{"$f":"VLOOKUP($AV13,'Vejehold 3'!$A$7:$P$23,'Opsamling, slagt+smågrise'!AZ$2,FALSE)","v":{"$error":"#N/A"}},{"$f":"VLOOKUP($AV13,'Vejehold 3'!$A$7:$P$23,'Opsamling, slagt+smågrise'!BA$2,FALSE)","v":{"$error":"#N/A"}},{"$f":"VLOOKUP($AV13,'Vejehold 3'!$A$7:$P$23,'Opsamling, slagt+smågrise'!BB$2,FALSE)","v":{"$error":"#N/A"}},{"$f":"VLOOKUP($AV13,'Vejehold 3'!$A$7:$P$23,'Opsamling, slagt+smågrise'!BC$2,FALSE)","v":{"$error":"#N/A"}},null,9,"1900-01-09",{"$f":"VLOOKUP($BF13,'Vejehold 4'!$A$7:$P$23,'Opsamling, slagt+smågrise'!BG$2,FALSE)","v":{"$error":"#N/A"}},{"$f":"VLOOKUP($BF13,'Vejehold 4'!$A$7:$P$23,'Opsamling, slagt+smågrise'!BH$2,FALSE)","v":{"$error":"#N/A"}},{"$f":"VLOOKUP($BF13,'Vejehold 4'!$A$7:$P$23,'Opsamling, slagt+smågrise'!BI$2,FALSE)","v":{"$error":"#N/A"}},{"$f":"VLOOKUP($BF13,'Vejehold 4'!$A$7:$P$23,'Opsamling, slagt+smågrise'!BJ$2,FALSE)","v":{"$error":"#N/A"}},{"$f":"VLOOKUP($BF13,'Vejehold 4'!$A$7:$P$23,'Opsamling, slagt+smågrise'!BK$2,FALSE)","v":{"$error":"#N/A"}},{"$f":"VLOOKUP($BF13,'Vejehold 4'!$A$7:$P$23,'Opsamling, slagt+smågrise'!BL$2,FALSE)","v":{"$error":"#N/A"}},{"$f":"VLOOKUP($BF13,'Vejehold 4'!$A$7:$P$23,'Opsamling, slagt+smågrise'!BM$2,FALSE)","v":{"$error":"#N/A"}},null,9,"1900-01-09",{"$f":"VLOOKUP($BP13,'Vejehold 5'!$A$7:$P$23,'Opsamling, slagt+smågrise'!BQ$2,FALSE)","v":{"$error":"#N/A"}},{"$f":"VLOOKUP($BP13,'Vejehold 5'!$A$7:$P$23,'Opsamling, slagt+smågrise'!BR$2,FALSE)","v":{"$error":"#N/A"}},{"$f":"VLOOKUP($BP13,'Vejehold 5'!$A$7:$P$23,'Opsamling, slagt+smågrise'!BS$2,FALSE)","v":{"$error":"#N/A"}},{"$f":"VLOOKUP($BP13,'Vejehold 5'!$A$7:$P$23,'Opsamling, slagt+smågrise'!BT$2,FALSE)","v":{"$error":"#N/A"}},{"$f":"VLOOKUP($BP13,'Vejehold 5'!$A$7:$P$23,'Opsamling, slagt+smågrise'!BU$2,FALSE)","v":{"$error":"#N/A"}},{"$f":"VLOOKUP($BP13,'Vejehold 5'!$A$7:$P$23,'Opsamling, slagt+smågrise'!BV$2,FALSE)","v":{"$error":"#N/A"}},{"$f":"VLOOKUP($BP13,'Vejehold 5'!$A$7:$P$23,'Opsamling, slagt+smågrise'!BW$2,FALSE)","v":{"$error":"#N/A"}},null,9,"1900-01-09",{"$f":"VLOOKUP($BZ13,'Vejehold 6'!$A$7:$P$23,'Opsamling, slagt+smågrise'!CA$2,FALSE)","v":{"$error":"#N/A"}},{"$f":"VLOOKUP($BZ13,'Vejehold 6'!$A$7:$P$23,'Opsamling, slagt+smågrise'!CB$2,FALSE)","v":{"$error":"#N/A"}},{"$f":"VLOOKUP($BZ13,'Vejehold 6'!$A$7:$P$23,'Opsamling, slagt+smågrise'!CC$2,FALSE)","v":{"$error":"#N/A"}},{"$f":"VLOOKUP($BZ13,'Vejehold 6'!$A$7:$P$23,'Opsamling, slagt+smågrise'!CD$2,FALSE)","v":{"$error":"#N/A"}},{"$f":"VLOOKUP($BZ13,'Vejehold 6'!$A$7:$P$23,'Opsamling, slagt+smågrise'!CE$2,FALSE)","v":{"$error":"#N/A"}},{"$f":"VLOOKUP($BZ13,'Vejehold 6'!$A$7:$P$23,'Opsamling, slagt+smågrise'!CF$2,FALSE)","v":{"$error":"#N/A"}},{"$f":"VLOOKUP($BZ13,'Vejehold 6'!$A$7:$P$23,'Opsamling, slagt+smågrise'!CG$2,FALSE)","v":{"$error":"#N/A"}}]
[null,70,{"$f":"'Vejehold 1'!$E17","v":0},{"$f":"'Vejehold 2'!$E17","v":0},{"$f":"'Vejehold 3'!$E17","v":0},{"$f":"'Vejehold 4'!$E17","v":0},{"$f":"'Vejehold 5'!$E17","v":0},{"$f":"'Vejehold 6'!$E17","v":0},null,null,null,null,null,null,null,null,null,null,null,null,null,null,null,null,null,null,10,"1900-01-10",{"$f":"VLOOKUP($AB14,'Vejehold 1'!$A$7:$P$23,'Opsamling, slagt+smågrise'!AC$2,FALSE)","v":{"$error":"#N/A"}},{"$f":"VLOOKUP($AB14,'Vejehold 1'!$A$7:$P$23,'Opsamling, slagt+smågrise'!AD$2,FALSE)","v":{"$error":"#N/A"}},{"$f":"VLOOKUP($AB14,'Vejehold 1'!$A$7:$P$23,'Opsamling, slagt+smågrise'!AE$2,FALSE)","v":{"$error":"#N/A"}},{"$f":"VLOOKUP($AB14,'Vejehold 1'!$A$7:$P$23,'Opsamling, slagt+smågrise'!AF$2,FALSE)","v":{"$error":"#N/A"}},{"$f":"VLOOKUP($AB14,'Vejehold 1'!$A$7:$P$23,'Opsamling, slagt+smågrise'!AG$2,FALSE)","v":{"$error":"#N/A"}},{"$f":"VLOOKUP($AB14,'Vejehold 1'!$A$7:$P$23,'Opsamling, slagt+smågrise'!AH$2,FALSE)","v":{"$error":"#N/A"}},{"$f":"VLOOKUP($AB14,'Vejehold 1'!$A$7:$P$23,'Opsamling, slagt+smågrise'!AI$2,FALSE)","v":{"$error":"#N/A"}},null,10,"1900-01-10",{"$f":"VLOOKUP($AL14,'Vejehold 2'!$A$7:$P$23,'Opsamling, slagt+smågrise'!AM$2,FALSE)","v":{"$error":"#N/A"}},{"$f":"VLOOKUP($AL14,'Vejehold 2'!$A$7:$P$23,'Opsamling, slagt+smågrise'!AN$2,FALSE)","v":{"$error":"#N/A"}},{"$f":"VLOOKUP($AL14,'Vejehold 2'!$A$7:$P$23,'Opsamling, slagt+smågrise'!AO$2,FALSE)","v":{"$error":"#N/A"}},{"$f":"VLOOKUP($AL14,'Vejehold 2'!$A$7:$P$23,'Opsamling, slagt+smågrise'!AP$2,FALSE)","v":{"$error":"#N/A"}},{"$f":"VLOOKUP($AL14,'Vejehold 2'!$A$7:$P$23,'Opsamling, slagt+smågrise'!AQ$2,FALSE)","v":{"$error":"#N/A"}},{"$f":"VLOOKUP($AL14,'Vejehold 2'!$A$7:$P$23,'Opsamling, slagt+smågrise'!AR$2,FALSE)","v":{"$error":"#N/A"}},{"$f":"VLOOKUP($AL14,'Vejehold 2'!$A$7:$P$23,'Opsamling, slagt+smågrise'!AS$2,FALSE)","v":{"$error":"#N/A"}},null,10,"1900-01-10",{"$f":"VLOOKUP($AV14,'Vejehold 3'!$A$7:$P$23,'Opsamling, slagt+smågrise'!AW$2,FALSE)","v":{"$error":"#N/A"}},{"$f":"VLOOKUP($AV14,'Vejehold 3'!$A$7:$P$23,'Opsamling, slagt+smågrise'!AX$2,FALSE)","v":{"$error":"#N/A"}},{"$f":"VLOOKUP($AV14,'Vejehold 3'!$A$7:$P$23,'Opsamling, slagt+smågrise'!AY$2,FALSE)","v":{"$error":"#N/A"}},{"$f":"VLOOKUP($AV14,'Vejehold 3'!$A$7:$P$23,'Opsamling, slagt+smågrise'!AZ$2,FALSE)","v":{"$error":"#N/A"}},{"$f":"VLOOKUP($AV14,'Vejehold 3'!$A$7:$P$23,'Opsamling, slagt+smågrise'!BA$2,FALSE)","v":{"$error":"#N/A"}},{"$f":"VLOOKUP($AV14,'Vejehold 3'!$A$7:$P$23,'Opsamling, slagt+smågrise'!BB$2,FALSE)","v":{"$error":"#N/A"}},{"$f":"VLOOKUP($AV14,'Vejehold 3'!$A$7:$P$23,'Opsamling, slagt+smågrise'!BC$2,FALSE)","v":{"$error":"#N/A"}},null,10,"1900-01-10",{"$f":"VLOOKUP($BF14,'Vejehold 4'!$A$7:$P$23,'Opsamling, slagt+smågrise'!BG$2,FALSE)","v":{"$error":"#N/A"}},{"$f":"VLOOKUP($BF14,'Vejehold 4'!$A$7:$P$23,'Opsamling, slagt+smågrise'!BH$2,FALSE)","v":{"$error":"#N/A"}},{"$f":"VLOOKUP($BF14,'Vejehold 4'!$A$7:$P$23,'Opsamling, slagt+smågrise'!BI$2,FALSE)","v":{"$error":"#N/A"}},{"$f":"VLOOKUP($BF14,'Vejehold 4'!$A$7:$P$23,'Opsamling, slagt+smågrise'!BJ$2,FALSE)","v":{"$error":"#N/A"}},{"$f":"VLOOKUP($BF14,'Vejehold 4'!$A$7:$P$23,'Opsamling, slagt+smågrise'!BK$2,FALSE)","v":{"$error":"#N/A"}},{"$f":"VLOOKUP($BF14,'Vejehold 4'!$A$7:$P$23,'Opsamling, slagt+smågrise'!BL$2,FALSE)","v":{"$error":"#N/A"}},{"$f":"VLOOKUP($BF14,'Vejehold 4'!$A$7:$P$23,'Opsamling, slagt+smågrise'!BM$2,FALSE)","v":{"$error":"#N/A"}},null,10,"1900-01-10",{"$f":"VLOOKUP($BP14,'Vejehold 5'!$A$7:$P$23,'Opsamling, slagt+smågrise'!BQ$2,FALSE)","v":{"$error":"#N/A"}},{"$f":"VLOOKUP($BP14,'Vejehold 5'!$A$7:$P$23,'Opsamling, slagt+smågrise'!BR$2,FALSE)","v":{"$error":"#N/A"}},{"$f":"VLOOKUP($BP14,'Vejehold 5'!$A$7:$P$23,'Opsamling, slagt+smågrise'!BS$2,FALSE)","v":{"$error":"#N/A"}},{"$f":"VLOOKUP($BP14,'Vejehold 5'!$A$7:$P$23,'Opsamling, slagt+smågrise'!BT$2,FALSE)","v":{"$error":"#N/A"}},{"$f":"VLOOKUP($BP14,'Vejehold 5'!$A$7:$P$23,'Opsamling, slagt+smågrise'!BU$2,FALSE)","v":{"$error":"#N/A"}},{"$f":"VLOOKUP($BP14,'Vejehold 5'!$A$7:$P$23,'Opsamling, slagt+smågrise'!BV$2,FALSE)","v":{"$error":"#N/A"}},{"$f":"VLOOKUP($BP14,'Vejehold 5'!$A$7:$P$23,'Opsamling, slagt+smågrise'!BW$2,FALSE)","v":{"$error":"#N/A"}},null,10,"1900-01-10",{"$f":"VLOOKUP($BZ14,'Vejehold 6'!$A$7:$P$23,'Opsamling, slagt+smågrise'!CA$2,FALSE)","v":{"$error":"#N/A"}},{"$f":"VLOOKUP($BZ14,'Vejehold 6'!$A$7:$P$23,'Opsamling, slagt+smågrise'!CB$2,FALSE)","v":{"$error":"#N/A"}},{"$f":"VLOOKUP($BZ14,'Vejehold 6'!$A$7:$P$23,'Opsamling, slagt+smågrise'!CC$2,FALSE)","v":{"$error":"#N/A"}},{"$f":"VLOOKUP($BZ14,'Vejehold 6'!$A$7:$P$23,'Opsamling, slagt+smågrise'!CD$2,FALSE)","v":{"$error":"#N/A"}},{"$f":"VLOOKUP($BZ14,'Vejehold 6'!$A$7:$P$23,'Opsamling, slagt+smågrise'!CE$2,FALSE)","v":{"$error":"#N/A"}},{"$f":"VLOOKUP($BZ14,'Vejehold 6'!$A$7:$P$23,'Opsamling, slagt+smågrise'!CF$2,FALSE)","v":{"$error":"#N/A"}},{"$f":"VLOOKUP($BZ14,'Vejehold 6'!$A$7:$P$23,'Opsamling, slagt+smågrise'!CG$2,FALSE)","v":{"$error":"#N/A"}}]
[null,77,{"$f":"'Vejehold 1'!$E18","v":0},{"$f":"'Vejehold 2'!$E18","v":0},{"$f":"'Vejehold 3'!$E18","v":0},{"$f":"'Vejehold 4'!$E18","v":0},{"$f":"'Vejehold 5'!$E18","v":0},{"$f":"'Vejehold 6'!$E18","v":0},null,null,null,null,null,null,null,null,null,null,null,null,null,null,null,null,null,null,11,"1900-01-11",{"$f":"VLOOKUP($AB15,'Vejehold 1'!$A$7:$P$23,'Opsamling, slagt+smågrise'!AC$2,FALSE)","v":{"$error":"#N/A"}},{"$f":"VLOOKUP($AB15,'Vejehold 1'!$A$7:$P$23,'Opsamling, slagt+smågrise'!AD$2,FALSE)","v":{"$error":"#N/A"}},{"$f":"VLOOKUP($AB15,'Vejehold 1'!$A$7:$P$23,'Opsamling, slagt+smågrise'!AE$2,FALSE)","v":{"$error":"#N/A"}},{"$f":"VLOOKUP($AB15,'Vejehold 1'!$A$7:$P$23,'Opsamling, slagt+smågrise'!AF$2,FALSE)","v":{"$error":"#N/A"}},{"$f":"VLOOKUP($AB15,'Vejehold 1'!$A$7:$P$23,'Opsamling, slagt+smågrise'!AG$2,FALSE)","v":{"$error":"#N/A"}},{"$f":"VLOOKUP($AB15,'Vejehold 1'!$A$7:$P$23,'Opsamling, slagt+smågrise'!AH$2,FALSE)","v":{"$error":"#N/A"}},{"$f":"VLOOKUP($AB15,'Vejehold 1'!$A$7:$P$23,'Opsamling, slagt+smågrise'!AI$2,FALSE)","v":{"$error":"#N/A"}},null,11,"1900-01-11",{"$f":"VLOOKUP($AL15,'Vejehold 2'!$A$7:$P$23,'Opsamling, slagt+smågrise'!AM$2,FALSE)","v":{"$error":"#N/A"}},{"$f":"VLOOKUP($AL15,'Vejehold 2'!$A$7:$P$23,'Opsamling, slagt+smågrise'!AN$2,FALSE)","v":{"$error":"#N/A"}},{"$f":"VLOOKUP($AL15,'Vejehold 2'!$A$7:$P$23,'Opsamling, slagt+smågrise'!AO$2,FALSE)","v":{"$error":"#N/A"}},{"$f":"VLOOKUP($AL15,'Vejehold 2'!$A$7:$P$23,'Opsamling, slagt+smågrise'!AP$2,FALSE)","v":{"$error":"#N/A"}},{"$f":"VLOOKUP($AL15,'Vejehold 2'!$A$7:$P$23,'Opsamling, slagt+smågrise'!AQ$2,FALSE)","v":{"$error":"#N/A"}},{"$f":"VLOOKUP($AL15,'Vejehold 2'!$A$7:$P$23,'Opsamling, slagt+smågrise'!AR$2,FALSE)","v":{"$error":"#N/A"}},{"$f":"VLOOKUP($AL15,'Vejehold 2'!$A$7:$P$23,'Opsamling, slagt+smågrise'!AS$2,FALSE)","v":{"$error":"#N/A"}},null,11,"1900-01-11",{"$f":"VLOOKUP($AV15,'Vejehold 3'!$A$7:$P$23,'Opsamling, slagt+smågrise'!AW$2,FALSE)","v":{"$error":"#N/A"}},{"$f":"VLOOKUP($AV15,'Vejehold 3'!$A$7:$P$23,'Opsamling, slagt+smågrise'!AX$2,FALSE)","v":{"$error":"#N/A"}},{"$f":"VLOOKUP($AV15,'Vejehold 3'!$A$7:$P$23,'Opsamling, slagt+smågrise'!AY$2,FALSE)","v":{"$error":"#N/A"}},{"$f":"VLOOKUP($AV15,'Vejehold 3'!$A$7:$P$23,'Opsamling, slagt+smågrise'!AZ$2,FALSE)","v":{"$error":"#N/A"}},{"$f":"VLOOKUP($AV15,'Vejehold 3'!$A$7:$P$23,'Opsamling, slagt+smågrise'!BA$2,FALSE)","v":{"$error":"#N/A"}},{"$f":"VLOOKUP($AV15,'Vejehold 3'!$A$7:$P$23,'Opsamling, slagt+smågrise'!BB$2,FALSE)","v":{"$error":"#N/A"}},{"$f":"VLOOKUP($AV15,'Vejehold 3'!$A$7:$P$23,'Opsamling, slagt+smågrise'!BC$2,FALSE)","v":{"$error":"#N/A"}},null,11,"1900-01-11",{"$f":"VLOOKUP($BF15,'Vejehold 4'!$A$7:$P$23,'Opsamling, slagt+smågrise'!BG$2,FALSE)","v":{"$error":"#N/A"}},{"$f":"VLOOKUP($BF15,'Vejehold 4'!$A$7:$P$23,'Opsamling, slagt+smågrise'!BH$2,FALSE)","v":{"$error":"#N/A"}},{"$f":"VLOOKUP($BF15,'Vejehold 4'!$A$7:$P$23,'Opsamling, slagt+smågrise'!BI$2,FALSE)","v":{"$error":"#N/A"}},{"$f":"VLOOKUP($BF15,'Vejehold 4'!$A$7:$P$23,'Opsamling, slagt+smågrise'!BJ$2,FALSE)","v":{"$error":"#N/A"}},{"$f":"VLOOKUP($BF15,'Vejehold 4'!$A$7:$P$23,'Opsamling, slagt+smågrise'!BK$2,FALSE)","v":{"$error":"#N/A"}},{"$f":"VLOOKUP($BF15,'Vejehold 4'!$A$7:$P$23,'Opsamling, slagt+smågrise'!BL$2,FALSE)","v":{"$error":"#N/A"}},{"$f":"VLOOKUP($BF15,'Vejehold 4'!$A$7:$P$23,'Opsamling, slagt+smågrise'!BM$2,FALSE)","v":{"$error":"#N/A"}},null,11,"1900-01-11",{"$f":"VLOOKUP($BP15,'Vejehold 5'!$A$7:$P$23,'Opsamling, slagt+smågrise'!BQ$2,FALSE)","v":{"$error":"#N/A"}},{"$f":"VLOOKUP($BP15,'Vejehold 5'!$A$7:$P$23,'Opsamling, slagt+smågrise'!BR$2,FALSE)","v":{"$error":"#N/A"}},{"$f":"VLOOKUP($BP15,'Vejehold 5'!$A$7:$P$23,'Opsamling, slagt+smågrise'!BS$2,FALSE)","v":{"$error":"#N/A"}},{"$f":"VLOOKUP($BP15,'Vejehold 5'!$A$7:$P$23,'Opsamling, slagt+smågrise'!BT$2,FALSE)","v":{"$error":"#N/A"}},{"$f":"VLOOKUP($BP15,'Vejehold 5'!$A$7:$P$23,'Opsamling, slagt+smågrise'!BU$2,FALSE)","v":{"$error":"#N/A"}},{"$f":"VLOOKUP($BP15,'Vejehold 5'!$A$7:$P$23,'Opsamling, slagt+smågrise'!BV$2,FALSE)","v":{"$error":"#N/A"}},{"$f":"VLOOKUP($BP15,'Vejehold 5'!$A$7:$P$23,'Opsamling, slagt+smågrise'!BW$2,FALSE)","v":{"$error":"#N/A"}},null,11,"1900-01-11",{"$f":"VLOOKUP($BZ15,'Vejehold 6'!$A$7:$P$23,'Opsamling, slagt+smågrise'!CA$2,FALSE)","v":{"$error":"#N/A"}},{"$f":"VLOOKUP($BZ15,'Vejehold 6'!$A$7:$P$23,'Opsamling, slagt+smågrise'!CB$2,FALSE)","v":{"$error":"#N/A"}},{"$f":"VLOOKUP($BZ15,'Vejehold 6'!$A$7:$P$23,'Opsamling, slagt+smågrise'!CC$2,FALSE)","v":{"$error":"#N/A"}},{"$f":"VLOOKUP($BZ15,'Vejehold 6'!$A$7:$P$23,'Opsamling, slagt+smågrise'!CD$2,FALSE)","v":{"$error":"#N/A"}},{"$f":"VLOOKUP($BZ15,'Vejehold 6'!$A$7:$P$23,'Opsamling, slagt+smågrise'!CE$2,FALSE)","v":{"$error":"#N/A"}},{"$f":"VLOOKUP($BZ15,'Vejehold 6'!$A$7:$P$23,'Opsamling, slagt+smågrise'!CF$2,FALSE)","v":{"$error":"#N/A"}},{"$f":"VLOOKUP($BZ15,'Vejehold 6'!$A$7:$P$23,'Opsamling, slagt+smågrise'!CG$2,FALSE)","v":{"$error":"#N/A"}}]
[null,84,{"$f":"'Vejehold 1'!$E19","v":0},{"$f":"'Vejehold 2'!$E19","v":0},{"$f":"'Vejehold 3'!$E19","v":0},{"$f":"'Vejehold 4'!$E19","v":0},{"$f":"'Vejehold 5'!$E19","v":0},{"$f":"'Vejehold 6'!$E19","v":0},null,null,null,null,null,null,null,null,null,null,null,null,null,null,null,null,null,null,12,"1900-01-12",{"$f":"VLOOKUP($AB16,'Vejehold 1'!$A$7:$P$23,'Opsamling, slagt+smågrise'!AC$2,FALSE)","v":{"$error":"#N/A"}},{"$f":"VLOOKUP($AB16,'Vejehold 1'!$A$7:$P$23,'Opsamling, slagt+smågrise'!AD$2,FALSE)","v":{"$error":"#N/A"}},{"$f":"VLOOKUP($AB16,'Vejehold 1'!$A$7:$P$23,'Opsamling, slagt+smågrise'!AE$2,FALSE)","v":{"$error":"#N/A"}},{"$f":"VLOOKUP($AB16,'Vejehold 1'!$A$7:$P$23,'Opsamling, slagt+smågrise'!AF$2,FALSE)","v":{"$error":"#N/A"}},{"$f":"VLOOKUP($AB16,'Vejehold 1'!$A$7:$P$23,'Opsamling, slagt+smågrise'!AG$2,FALSE)","v":{"$error":"#N/A"}},{"$f":"VLOOKUP($AB16,'Vejehold 1'!$A$7:$P$23,'Opsamling, slagt+smågrise'!AH$2,FALSE)","v":{"$error":"#N/A"}},{"$f":"VLOOKUP($AB16,'Vejehold 1'!$A$7:$P$23,'Opsamling, slagt+smågrise'!AI$2,FALSE)","v":{"$error":"#N/A"}},null,12,"1900-01-12",{"$f":"VLOOKUP($AL16,'Vejehold 2'!$A$7:$P$23,'Opsamling, slagt+smågrise'!AM$2,FALSE)","v":{"$error":"#N/A"}},{"$f":"VLOOKUP($AL16,'Vejehold 2'!$A$7:$P$23,'Opsamling, slagt+smågrise'!AN$2,FALSE)","v":{"$error":"#N/A"}},{"$f":"VLOOKUP($AL16,'Vejehold 2'!$A$7:$P$23,'Opsamling, slagt+smågrise'!AO$2,FALSE)","v":{"$error":"#N/A"}},{"$f":"VLOOKUP($AL16,'Vejehold 2'!$A$7:$P$23,'Opsamling, slagt+smågrise'!AP$2,FALSE)","v":{"$error":"#N/A"}},{"$f":"VLOOKUP($AL16,'Vejehold 2'!$A$7:$P$23,'Opsamling, slagt+smågrise'!AQ$2,FALSE)","v":{"$error":"#N/A"}},{"$f":"VLOOKUP($AL16,'Vejehold 2'!$A$7:$P$23,'Opsamling, slagt+smågrise'!AR$2,FALSE)","v":{"$error":"#N/A"}},{"$f":"VLOOKUP($AL16,'Vejehold 2'!$A$7:$P$23,'Opsamling, slagt+smågrise'!AS$2,FALSE)","v":{"$error":"#N/A"}},null,12,"1900-01-12",{"$f":"VLOOKUP($AV16,'Vejehold 3'!$A$7:$P$23,'Opsamling, slagt+smågrise'!AW$2,FALSE)","v":{"$error":"#N/A"}},{"$f":"VLOOKUP($AV16,'Vejehold 3'!$A$7:$P$23,'Opsamling, slagt+smågrise'!AX$2,FALSE)","v":{"$error":"#N/A"}},{"$f":"VLOOKUP($AV16,'Vejehold 3'!$A$7:$P$23,'Opsamling, slagt+smågrise'!AY$2,FALSE)","v":{"$error":"#N/A"}},{"$f":"VLOOKUP($AV16,'Vejehold 3'!$A$7:$P$23,'Opsamling, slagt+smågrise'!AZ$2,FALSE)","v":{"$error":"#N/A"}},{"$f":"VLOOKUP($AV16,'Vejehold 3'!$A$7:$P$23,'Opsamling, slagt+smågrise'!BA$2,FALSE)","v":{"$error":"#N/A"}},{"$f":"VLOOKUP($AV16,'Vejehold 3'!$A$7:$P$23,'Opsamling, slagt+smågrise'!BB$2,FALSE)","v":{"$error":"#N/A"}},{"$f":"VLOOKUP($AV16,'Vejehold 3'!$A$7:$P$23,'Opsamling, slagt+smågrise'!BC$2,FALSE)","v":{"$error":"#N/A"}},null,12,"1900-01-12",{"$f":"VLOOKUP($BF16,'Vejehold 4'!$A$7:$P$23,'Opsamling, slagt+smågrise'!BG$2,FALSE)","v":{"$error":"#N/A"}},{"$f":"VLOOKUP($BF16,'Vejehold 4'!$A$7:$P$23,'Opsamling, slagt+smågrise'!BH$2,FALSE)","v":{"$error":"#N/A"}},{"$f":"VLOOKUP($BF16,'Vejehold 4'!$A$7:$P$23,'Opsamling, slagt+smågrise'!BI$2,FALSE)","v":{"$error":"#N/A"}},{"$f":"VLOOKUP($BF16,'Vejehold 4'!$A$7:$P$23,'Opsamling, slagt+smågrise'!BJ$2,FALSE)","v":{"$error":"#N/A"}},{"$f":"VLOOKUP($BF16,'Vejehold 4'!$A$7:$P$23,'Opsamling, slagt+smågrise'!BK$2,FALSE)","v":{"$error":"#N/A"}},{"$f":"VLOOKUP($BF16,'Vejehold 4'!$A$7:$P$23,'Opsamling, slagt+smågrise'!BL$2,FALSE)","v":{"$error":"#N/A"}},{"$f":"VLOOKUP($BF16,'Vejehold 4'!$A$7:$P$23,'Opsamling, slagt+smågrise'!BM$2,FALSE)","v":{"$error":"#N/A"}},null,12,"1900-01-12",{"$f":"VLOOKUP($BP16,'Vejehold 5'!$A$7:$P$23,'Opsamling, slagt+smågrise'!BQ$2,FALSE)","v":{"$error":"#N/A"}},{"$f":"VLOOKUP($BP16,'Vejehold 5'!$A$7:$P$23,'Opsamling, slagt+smågrise'!BR$2,FALSE)","v":{"$error":"#N/A"}},{"$f":"VLOOKUP($BP16,'Vejehold 5'!$A$7:$P$23,'Opsamling, slagt+smågrise'!BS$2,FALSE)","v":{"$error":"#N/A"}},{"$f":"VLOOKUP($BP16,'Vejehold 5'!$A$7:$P$23,'Opsamling, slagt+smågrise'!BT$2,FALSE)","v":{"$error":"#N/A"}},{"$f":"VLOOKUP($BP16,'Vejehold 5'!$A$7:$P$23,'Opsamling, slagt+smågrise'!BU$2,FALSE)","v":{"$error":"#N/A"}},{"$f":"VLOOKUP($BP16,'Vejehold 5'!$A$7:$P$23,'Opsamling, slagt+smågrise'!BV$2,FALSE)","v":{"$error":"#N/A"}},{"$f":"VLOOKUP($BP16,'Vejehold 5'!$A$7:$P$23,'Opsamling, slagt+smågrise'!BW$2,FALSE)","v":{"$error":"#N/A"}},null,12,"1900-01-12",{"$f":"VLOOKUP($BZ16,'Vejehold 6'!$A$7:$P$23,'Opsamling, slagt+smågrise'!CA$2,FALSE)","v":{"$error":"#N/A"}},{"$f":"VLOOKUP($BZ16,'Vejehold 6'!$A$7:$P$23,'Opsamling, slagt+smågrise'!CB$2,FALSE)","v":{"$error":"#N/A"}},{"$f":"VLOOKUP($BZ16,'Vejehold 6'!$A$7:$P$23,'Opsamling, slagt+smågrise'!CC$2,FALSE)","v":{"$error":"#N/A"}},{"$f":"VLOOKUP($BZ16,'Vejehold 6'!$A$7:$P$23,'Opsamling, slagt+smågrise'!CD$2,FALSE)","v":{"$error":"#N/A"}},{"$f":"VLOOKUP($BZ16,'Vejehold 6'!$A$7:$P$23,'Opsamling, slagt+smågrise'!CE$2,FALSE)","v":{"$error":"#N/A"}},{"$f":"VLOOKUP($BZ16,'Vejehold 6'!$A$7:$P$23,'Opsamling, slagt+smågrise'!CF$2,FALSE)","v":{"$error":"#N/A"}},{"$f":"VLOOKUP($BZ16,'Vejehold 6'!$A$7:$P$23,'Opsamling, slagt+smågrise'!CG$2,FALSE)","v":{"$error":"#N/A"}}]
[null,91,{"$f":"'Vejehold 1'!$E20","v":0},{"$f":"'Vejehold 2'!$E20","v":0},{"$f":"'Vejehold 3'!$E20","v":0},{"$f":"'Vejehold 4'!$E20","v":0},{"$f":"'Vejehold 5'!$E20","v":0},{"$f":"'Vejehold 6'!$E20","v":0},null,null,null,null,null,null,null,null,null,null,null,null,null,null,null,null,null,null,13,"1900-01-13",{"$f":"VLOOKUP($AB17,'Vejehold 1'!$A$7:$P$23,'Opsamling, slagt+smågrise'!AC$2,FALSE)","v":{"$error":"#N/A"}},{"$f":"VLOOKUP($AB17,'Vejehold 1'!$A$7:$P$23,'Opsamling, slagt+smågrise'!AD$2,FALSE)","v":{"$error":"#N/A"}},{"$f":"VLOOKUP($AB17,'Vejehold 1'!$A$7:$P$23,'Opsamling, slagt+smågrise'!AE$2,FALSE)","v":{"$error":"#N/A"}},{"$f":"VLOOKUP($AB17,'Vejehold 1'!$A$7:$P$23,'Opsamling, slagt+smågrise'!AF$2,FALSE)","v":{"$error":"#N/A"}},{"$f":"VLOOKUP($AB17,'Vejehold 1'!$A$7:$P$23,'Opsamling, slagt+smågrise'!AG$2,FALSE)","v":{"$error":"#N/A"}},{"$f":"VLOOKUP($AB17,'Vejehold 1'!$A$7:$P$23,'Opsamling, slagt+smågrise'!AH$2,FALSE)","v":{"$error":"#N/A"}},{"$f":"VLOOKUP($AB17,'Vejehold 1'!$A$7:$P$23,'Opsamling, slagt+smågrise'!AI$2,FALSE)","v":{"$error":"#N/A"}},null,13,"1900-01-13",{"$f":"VLOOKUP($AL17,'Vejehold 2'!$A$7:$P$23,'Opsamling, slagt+smågrise'!AM$2,FALSE)","v":{"$error":"#N/A"}},{"$f":"VLOOKUP($AL17,'Vejehold 2'!$A$7:$P$23,'Opsamling, slagt+smågrise'!AN$2,FALSE)","v":{"$error":"#N/A"}},{"$f":"VLOOKUP($AL17,'Vejehold 2'!$A$7:$P$23,'Opsamling, slagt+smågrise'!AO$2,FALSE)","v":{"$error":"#N/A"}},{"$f":"VLOOKUP($AL17,'Vejehold 2'!$A$7:$P$23,'Opsamling, slagt+smågrise'!AP$2,FALSE)","v":{"$error":"#N/A"}},{"$f":"VLOOKUP($AL17,'Vejehold 2'!$A$7:$P$23,'Opsamling, slagt+smågrise'!AQ$2,FALSE)","v":{"$error":"#N/A"}},{"$f":"VLOOKUP($AL17,'Vejehold 2'!$A$7:$P$23,'Opsamling, slagt+smågrise'!AR$2,FALSE)","v":{"$error":"#N/A"}},{"$f":"VLOOKUP($AL17,'Vejehold 2'!$A$7:$P$23,'Opsamling, slagt+smågrise'!AS$2,FALSE)","v":{"$error":"#N/A"}},null,13,"1900-01-13",{"$f":"VLOOKUP($AV17,'Vejehold 3'!$A$7:$P$23,'Opsamling, slagt+smågrise'!AW$2,FALSE)","v":{"$error":"#N/A"}},{"$f":"VLOOKUP($AV17,'Vejehold 3'!$A$7:$P$23,'Opsamling, slagt+smågrise'!AX$2,FALSE)","v":{"$error":"#N/A"}},{"$f":"VLOOKUP($AV17,'Vejehold 3'!$A$7:$P$23,'Opsamling, slagt+smågrise'!AY$2,FALSE)","v":{"$error":"#N/A"}},{"$f":"VLOOKUP($AV17,'Vejehold 3'!$A$7:$P$23,'Opsamling, slagt+smågrise'!AZ$2,FALSE)","v":{"$error":"#N/A"}},{"$f":"VLOOKUP($AV17,'Vejehold 3'!$A$7:$P$23,'Opsamling, slagt+smågrise'!BA$2,FALSE)","v":{"$error":"#N/A"}},{"$f":"VLOOKUP($AV17,'Vejehold 3'!$A$7:$P$23,'Opsamling, slagt+smågrise'!BB$2,FALSE)","v":{"$error":"#N/A"}},{"$f":"VLOOKUP($AV17,'Vejehold 3'!$A$7:$P$23,'Opsamling, slagt+smågrise'!BC$2,FALSE)","v":{"$error":"#N/A"}},null,13,"1900-01-13",{"$f":"VLOOKUP($BF17,'Vejehold 4'!$A$7:$P$23,'Opsamling, slagt+smågrise'!BG$2,FALSE)","v":{"$error":"#N/A"}},{"$f":"VLOOKUP($BF17,'Vejehold 4'!$A$7:$P$23,'Opsamling, slagt+smågrise'!BH$2,FALSE)","v":{"$error":"#N/A"}},{"$f":"VLOOKUP($BF17,'Vejehold 4'!$A$7:$P$23,'Opsamling, slagt+smågrise'!BI$2,FALSE)","v":{"$error":"#N/A"}},{"$f":"VLOOKUP($BF17,'Vejehold 4'!$A$7:$P$23,'Opsamling, slagt+smågrise'!BJ$2,FALSE)","v":{"$error":"#N/A"}},{"$f":"VLOOKUP($BF17,'Vejehold 4'!$A$7:$P$23,'Opsamling, slagt+smågrise'!BK$2,FALSE)","v":{"$error":"#N/A"}},{"$f":"VLOOKUP($BF17,'Vejehold 4'!$A$7:$P$23,'Opsamling, slagt+smågrise'!BL$2,FALSE)","v":{"$error":"#N/A"}},{"$f":"VLOOKUP($BF17,'Vejehold 4'!$A$7:$P$23,'Opsamling, slagt+smågrise'!BM$2,FALSE)","v":{"$error":"#N/A"}},null,13,"1900-01-13",{"$f":"VLOOKUP($BP17,'Vejehold 5'!$A$7:$P$23,'Opsamling, slagt+smågrise'!BQ$2,FALSE)","v":{"$error":"#N/A"}},{"$f":"VLOOKUP($BP17,'Vejehold 5'!$A$7:$P$23,'Opsamling, slagt+smågrise'!BR$2,FALSE)","v":{"$error":"#N/A"}},{"$f":"VLOOKUP($BP17,'Vejehold 5'!$A$7:$P$23,'Opsamling, slagt+smågrise'!BS$2,FALSE)","v":{"$error":"#N/A"}},{"$f":"VLOOKUP($BP17,'Vejehold 5'!$A$7:$P$23,'Opsamling, slagt+smågrise'!BT$2,FALSE)","v":{"$error":"#N/A"}},{"$f":"VLOOKUP($BP17,'Vejehold 5'!$A$7:$P$23,'Opsamling, slagt+smågrise'!BU$2,FALSE)","v":{"$error":"#N/A"}},{"$f":"VLOOKUP($BP17,'Vejehold 5'!$A$7:$P$23,'Opsamling, slagt+smågrise'!BV$2,FALSE)","v":{"$error":"#N/A"}},{"$f":"VLOOKUP($BP17,'Vejehold 5'!$A$7:$P$23,'Opsamling, slagt+smågrise'!BW$2,FALSE)","v":{"$error":"#N/A"}},null,13,"1900-01-13",{"$f":"VLOOKUP($BZ17,'Vejehold 6'!$A$7:$P$23,'Opsamling, slagt+smågrise'!CA$2,FALSE)","v":{"$error":"#N/A"}},{"$f":"VLOOKUP($BZ17,'Vejehold 6'!$A$7:$P$23,'Opsamling, slagt+smågrise'!CB$2,FALSE)","v":{"$error":"#N/A"}},{"$f":"VLOOKUP($BZ17,'Vejehold 6'!$A$7:$P$23,'Opsamling, slagt+smågrise'!CC$2,FALSE)","v":{"$error":"#N/A"}},{"$f":"VLOOKUP($BZ17,'Vejehold 6'!$A$7:$P$23,'Opsamling, slagt+smågrise'!CD$2,FALSE)","v":{"$error":"#N/A"}},{"$f":"VLOOKUP($BZ17,'Vejehold 6'!$A$7:$P$23,'Opsamling, slagt+smågrise'!CE$2,FALSE)","v":{"$error":"#N/A"}},{"$f":"VLOOKUP($BZ17,'Vejehold 6'!$A$7:$P$23,'Opsamling, slagt+smågrise'!CF$2,FALSE)","v":{"$error":"#N/A"}},{"$f":"VLOOKUP($BZ17,'Vejehold 6'!$A$7:$P$23,'Opsamling, slagt+smågrise'!CG$2,FALSE)","v":{"$error":"#N/A"}}]
[null,98,{"$f":"'Vejehold 1'!$E21","v":0},{"$f":"'Vejehold 2'!$E21","v":0},{"$f":"'Vejehold 3'!$E21","v":0},{"$f":"'Vejehold 4'!$E21","v":0},{"$f":"'Vejehold 5'!$E21","v":0},{"$f":"'Vejehold 6'!$E21","v":0},null,null,null,null,null,null,null,null,null,null,null,null,null,null,null,null,null,null,14,"1900-01-14",{"$f":"VLOOKUP($AB18,'Vejehold 1'!$A$7:$P$23,'Opsamling, slagt+smågrise'!AC$2,FALSE)","v":{"$error":"#N/A"}},{"$f":"VLOOKUP($AB18,'Vejehold 1'!$A$7:$P$23,'Opsamling, slagt+smågrise'!AD$2,FALSE)","v":{"$error":"#N/A"}},{"$f":"VLOOKUP($AB18,'Vejehold 1'!$A$7:$P$23,'Opsamling, slagt+smågrise'!AE$2,FALSE)","v":{"$error":"#N/A"}},{"$f":"VLOOKUP($AB18,'Vejehold 1'!$A$7:$P$23,'Opsamling, slagt+smågrise'!AF$2,FALSE)","v":{"$error":"#N/A"}},{"$f":"VLOOKUP($AB18,'Vejehold 1'!$A$7:$P$23,'Opsamling, slagt+smågrise'!AG$2,FALSE)","v":{"$error":"#N/A"}},{"$f":"VLOOKUP($AB18,'Vejehold 1'!$A$7:$P$23,'Opsamling, slagt+smågrise'!AH$2,FALSE)","v":{"$error":"#N/A"}},{"$f":"VLOOKUP($AB18,'Vejehold 1'!$A$7:$P$23,'Opsamling, slagt+smågrise'!AI$2,FALSE)","v":{"$error":"#N/A"}},null,14,"1900-01-14",{"$f":"VLOOKUP($AL18,'Vejehold 2'!$A$7:$P$23,'Opsamling, slagt+smågrise'!AM$2,FALSE)","v":{"$error":"#N/A"}},{"$f":"VLOOKUP($AL18,'Vejehold 2'!$A$7:$P$23,'Opsamling, slagt+smågrise'!AN$2,FALSE)","v":{"$error":"#N/A"}},{"$f":"VLOOKUP($AL18,'Vejehold 2'!$A$7:$P$23,'Opsamling, slagt+smågrise'!AO$2,FALSE)","v":{"$error":"#N/A"}},{"$f":"VLOOKUP($AL18,'Vejehold 2'!$A$7:$P$23,'Opsamling, slagt+smågrise'!AP$2,FALSE)","v":{"$error":"#N/A"}},{"$f":"VLOOKUP($AL18,'Vejehold 2'!$A$7:$P$23,'Opsamling, slagt+smågrise'!AQ$2,FALSE)","v":{"$error":"#N/A"}},{"$f":"VLOOKUP($AL18,'Vejehold 2'!$A$7:$P$23,'Opsamling, slagt+smågrise'!AR$2,FALSE)","v":{"$error":"#N/A"}},{"$f":"VLOOKUP($AL18,'Vejehold 2'!$A$7:$P$23,'Opsamling, slagt+smågrise'!AS$2,FALSE)","v":{"$error":"#N/A"}},null,14,"1900-01-14",{"$f":"VLOOKUP($AV18,'Vejehold 3'!$A$7:$P$23,'Opsamling, slagt+smågrise'!AW$2,FALSE)","v":{"$error":"#N/A"}},{"$f":"VLOOKUP($AV18,'Vejehold 3'!$A$7:$P$23,'Opsamling, slagt+smågrise'!AX$2,FALSE)","v":{"$error":"#N/A"}},{"$f":"VLOOKUP($AV18,'Vejehold 3'!$A$7:$P$23,'Opsamling, slagt+smågrise'!AY$2,FALSE)","v":{"$error":"#N/A"}},{"$f":"VLOOKUP($AV18,'Vejehold 3'!$A$7:$P$23,'Opsamling, slagt+smågrise'!AZ$2,FALSE)","v":{"$error":"#N/A"}},{"$f":"VLOOKUP($AV18,'Vejehold 3'!$A$7:$P$23,'Opsamling, slagt+smågrise'!BA$2,FALSE)","v":{"$error":"#N/A"}},{"$f":"VLOOKUP($AV18,'Vejehold 3'!$A$7:$P$23,'Opsamling, slagt+smågrise'!BB$2,FALSE)","v":{"$error":"#N/A"}},{"$f":"VLOOKUP($AV18,'Vejehold 3'!$A$7:$P$23,'Opsamling, slagt+smågrise'!BC$2,FALSE)","v":{"$error":"#N/A"}},null,14,"1900-01-14",{"$f":"VLOOKUP($BF18,'Vejehold 4'!$A$7:$P$23,'Opsamling, slagt+smågrise'!BG$2,FALSE)","v":{"$error":"#N/A"}},{"$f":"VLOOKUP($BF18,'Vejehold 4'!$A$7:$P$23,'Opsamling, slagt+smågrise'!BH$2,FALSE)","v":{"$error":"#N/A"}},{"$f":"VLOOKUP($BF18,'Vejehold 4'!$A$7:$P$23,'Opsamling, slagt+smågrise'!BI$2,FALSE)","v":{"$error":"#N/A"}},{"$f":"VLOOKUP($BF18,'Vejehold 4'!$A$7:$P$23,'Opsamling, slagt+smågrise'!BJ$2,FALSE)","v":{"$error":"#N/A"}},{"$f":"VLOOKUP($BF18,'Vejehold 4'!$A$7:$P$23,'Opsamling, slagt+smågrise'!BK$2,FALSE)","v":{"$error":"#N/A"}},{"$f":"VLOOKUP($BF18,'Vejehold 4'!$A$7:$P$23,'Opsamling, slagt+smågrise'!BL$2,FALSE)","v":{"$error":"#N/A"}},{"$f":"VLOOKUP($BF18,'Vejehold 4'!$A$7:$P$23,'Opsamling, slagt+smågrise'!BM$2,FALSE)","v":{"$error":"#N/A"}},null,14,"1900-01-14",{"$f":"VLOOKUP($BP18,'Vejehold 5'!$A$7:$P$23,'Opsamling, slagt+smågrise'!BQ$2,FALSE)","v":{"$error":"#N/A"}},{"$f":"VLOOKUP($BP18,'Vejehold 5'!$A$7:$P$23,'Opsamling, slagt+smågrise'!BR$2,FALSE)","v":{"$error":"#N/A"}},{"$f":"VLOOKUP($BP18,'Vejehold 5'!$A$7:$P$23,'Opsamling, slagt+smågrise'!BS$2,FALSE)","v":{"$error":"#N/A"}},{"$f":"VLOOKUP($BP18,'Vejehold 5'!$A$7:$P$23,'Opsamling, slagt+smågrise'!BT$2,FALSE)","v":{"$error":"#N/A"}},{"$f":"VLOOKUP($BP18,'Vejehold 5'!$A$7:$P$23,'Opsamling, slagt+smågrise'!BU$2,FALSE)","v":{"$error":"#N/A"}},{"$f":"VLOOKUP($BP18,'Vejehold 5'!$A$7:$P$23,'Opsamling, slagt+smågrise'!BV$2,FALSE)","v":{"$error":"#N/A"}},{"$f":"VLOOKUP($BP18,'Vejehold 5'!$A$7:$P$23,'Opsamling, slagt+smågrise'!BW$2,FALSE)","v":{"$error":"#N/A"}},null,14,"1900-01-14",{"$f":"VLOOKUP($BZ18,'Vejehold 6'!$A$7:$P$23,'Opsamling, slagt+smågrise'!CA$2,FALSE)","v":{"$error":"#N/A"}},{"$f":"VLOOKUP($BZ18,'Vejehold 6'!$A$7:$P$23,'Opsamling, slagt+smågrise'!CB$2,FALSE)","v":{"$error":"#N/A"}},{"$f":"VLOOKUP($BZ18,'Vejehold 6'!$A$7:$P$23,'Opsamling, slagt+smågrise'!CC$2,FALSE)","v":{"$error":"#N/A"}},{"$f":"VLOOKUP($BZ18,'Vejehold 6'!$A$7:$P$23,'Opsamling, slagt+smågrise'!CD$2,FALSE)","v":{"$error":"#N/A"}},{"$f":"VLOOKUP($BZ18,'Vejehold 6'!$A$7:$P$23,'Opsamling, slagt+smågrise'!CE$2,FALSE)","v":{"$error":"#N/A"}},{"$f":"VLOOKUP($BZ18,'Vejehold 6'!$A$7:$P$23,'Opsamling, slagt+smågrise'!CF$2,FALSE)","v":{"$error":"#N/A"}},{"$f":"VLOOKUP($BZ18,'Vejehold 6'!$A$7:$P$23,'Opsamling, slagt+smågrise'!CG$2,FALSE)","v":{"$error":"#N/A"}}]
[null,null,null,null,null,null,null,null,null,null,null,null,null,null,null,null,null,null,null,null,null,null,null,null,null,null,15,{"$f":"AB18+1","v":"1900-01-15"},{"$f":"VLOOKUP($AB19,'Vejehold 1'!$A$7:$P$23,'Opsamling, slagt+smågrise'!AC$2,FALSE)","v":{"$error":"#N/A"}},{"$f":"VLOOKUP($AB19,'Vejehold 1'!$A$7:$P$23,'Opsamling, slagt+smågrise'!AD$2,FALSE)","v":{"$error":"#N/A"}},{"$f":"VLOOKUP($AB19,'Vejehold 1'!$A$7:$P$23,'Opsamling, slagt+smågrise'!AE$2,FALSE)","v":{"$error":"#N/A"}},{"$f":"VLOOKUP($AB19,'Vejehold 1'!$A$7:$P$23,'Opsamling, slagt+smågrise'!AF$2,FALSE)","v":{"$error":"#N/A"}},{"$f":"VLOOKUP($AB19,'Vejehold 1'!$A$7:$P$23,'Opsamling, slagt+smågrise'!AG$2,FALSE)","v":{"$error":"#N/A"}},{"$f":"VLOOKUP($AB19,'Vejehold 1'!$A$7:$P$23,'Opsamling, slagt+smågrise'!AH$2,FALSE)","v":{"$error":"#N/A"}},{"$f":"VLOOKUP($AB19,'Vejehold 1'!$A$7:$P$23,'Opsamling, slagt+smågrise'!AI$2,FALSE)","v":{"$error":"#N/A"}},null,15,{"$f":"AL18+1","v":"1900-01-15"},{"$f":"VLOOKUP($AL19,'Vejehold 2'!$A$7:$P$23,'Opsamling, slagt+smågrise'!AM$2,FALSE)","v":{"$error":"#N/A"}},{"$f":"VLOOKUP($AL19,'Vejehold 2'!$A$7:$P$23,'Opsamling, slagt+smågrise'!AN$2,FALSE)","v":{"$error":"#N/A"}},{"$f":"VLOOKUP($AL19,'Vejehold 2'!$A$7:$P$23,'Opsamling, slagt+smågrise'!AO$2,FALSE)","v":{"$error":"#N/A"}},{"$f":"VLOOKUP($AL19,'Vejehold 2'!$A$7:$P$23,'Opsamling, slagt+smågrise'!AP$2,FALSE)","v":{"$error":"#N/A"}},{"$f":"VLOOKUP($AL19,'Vejehold 2'!$A$7:$P$23,'Opsamling, slagt+smågrise'!AQ$2,FALSE)","v":{"$error":"#N/A"}},{"$f":"VLOOKUP($AL19,'Vejehold 2'!$A$7:$P$23,'Opsamling, slagt+smågrise'!AR$2,FALSE)","v":{"$error":"#N/A"}},{"$f":"VLOOKUP($AL19,'Vejehold 2'!$A$7:$P$23,'Opsamling, slagt+smågrise'!AS$2,FALSE)","v":{"$error":"#N/A"}},null,15,{"$f":"AV18+1","v":"1900-01-15"},{"$f":"VLOOKUP($AV19,'Vejehold 3'!$A$7:$P$23,'Opsamling, slagt+smågrise'!AW$2,FALSE)","v":{"$error":"#N/A"}},{"$f":"VLOOKUP($AV19,'Vejehold 3'!$A$7:$P$23,'Opsamling, slagt+smågrise'!AX$2,FALSE)","v":{"$error":"#N/A"}},{"$f":"VLOOKUP($AV19,'Vejehold 3'!$A$7:$P$23,'Opsamling, slagt+smågrise'!AY$2,FALSE)","v":{"$error":"#N/A"}},{"$f":"VLOOKUP($AV19,'Vejehold 3'!$A$7:$P$23,'Opsamling, slagt+smågrise'!AZ$2,FALSE)","v":{"$error":"#N/A"}},{"$f":"VLOOKUP($AV19,'Vejehold 3'!$A$7:$P$23,'Opsamling, slagt+smågrise'!BA$2,FALSE)","v":{"$error":"#N/A"}},{"$f":"VLOOKUP($AV19,'Vejehold 3'!$A$7:$P$23,'Opsamling, slagt+smågrise'!BB$2,FALSE)","v":{"$error":"#N/A"}},{"$f":"VLOOKUP($AV19,'Vejehold 3'!$A$7:$P$23,'Opsamling, slagt+smågrise'!BC$2,FALSE)","v":{"$error":"#N/A"}},null,15,{"$f":"BF18+1","v":"1900-01-15"},{"$f":"VLOOKUP($BF19,'Vejehold 4'!$A$7:$P$23,'Opsamling, slagt+smågrise'!BG$2,FALSE)","v":{"$error":"#N/A"}},{"$f":"VLOOKUP($BF19,'Vejehold 4'!$A$7:$P$23,'Opsamling, slagt+smågrise'!BH$2,FALSE)","v":{"$error":"#N/A"}},{"$f":"VLOOKUP($BF19,'Vejehold 4'!$A$7:$P$23,'Opsamling, slagt+smågrise'!BI$2,FALSE)","v":{"$error":"#N/A"}},{"$f":"VLOOKUP($BF19,'Vejehold 4'!$A$7:$P$23,'Opsamling, slagt+smågrise'!BJ$2,FALSE)","v":{"$error":"#N/A"}},{"$f":"VLOOKUP($BF19,'Vejehold 4'!$A$7:$P$23,'Opsamling, slagt+smågrise'!BK$2,FALSE)","v":{"$error":"#N/A"}},{"$f":"VLOOKUP($BF19,'Vejehold 4'!$A$7:$P$23,'Opsamling, slagt+smågrise'!BL$2,FALSE)","v":{"$error":"#N/A"}},{"$f":"VLOOKUP($BF19,'Vejehold 4'!$A$7:$P$23,'Opsamling, slagt+smågrise'!BM$2,FALSE)","v":{"$error":"#N/A"}},null,15,{"$f":"BP18+1","v":"1900-01-15"},{"$f":"VLOOKUP($BP19,'Vejehold 5'!$A$7:$P$23,'Opsamling, slagt+smågrise'!BQ$2,FALSE)","v":{"$error":"#N/A"}},{"$f":"VLOOKUP($BP19,'Vejehold 5'!$A$7:$P$23,'Opsamling, slagt+smågrise'!BR$2,FALSE)","v":{"$error":"#N/A"}},{"$f":"VLOOKUP($BP19,'Vejehold 5'!$A$7:$P$23,'Opsamling, slagt+smågrise'!BS$2,FALSE)","v":{"$error":"#N/A"}},{"$f":"VLOOKUP($BP19,'Vejehold 5'!$A$7:$P$23,'Opsamling, slagt+smågrise'!BT$2,FALSE)","v":{"$error":"#N/A"}},{"$f":"VLOOKUP($BP19,'Vejehold 5'!$A$7:$P$23,'Opsamling, slagt+smågrise'!BU$2,FALSE)","v":{"$error":"#N/A"}},{"$f":"VLOOKUP($BP19,'Vejehold 5'!$A$7:$P$23,'Opsamling, slagt+smågrise'!BV$2,FALSE)","v":{"$error":"#N/A"}},{"$f":"VLOOKUP($BP19,'Vejehold 5'!$A$7:$P$23,'Opsamling, slagt+smågrise'!BW$2,FALSE)","v":{"$error":"#N/A"}},null,15,{"$f":"BZ18+1","v":"1900-01-15"},{"$f":"VLOOKUP($BZ19,'Vejehold 6'!$A$7:$P$23,'Opsamling, slagt+smågrise'!CA$2,FALSE)","v":{"$error":"#N/A"}},{"$f":"VLOOKUP($BZ19,'Vejehold 6'!$A$7:$P$23,'Opsamling, slagt+smågrise'!CB$2,FALSE)","v":{"$error":"#N/A"}},{"$f":"VLOOKUP($BZ19,'Vejehold 6'!$A$7:$P$23,'Opsamling, slagt+smågrise'!CC$2,FALSE)","v":{"$error":"#N/A"}},{"$f":"VLOOKUP($BZ19,'Vejehold 6'!$A$7:$P$23,'Opsamling, slagt+smågrise'!CD$2,FALSE)","v":{"$error":"#N/A"}},{"$f":"VLOOKUP($BZ19,'Vejehold 6'!$A$7:$P$23,'Opsamling, slagt+smågrise'!CE$2,FALSE)","v":{"$error":"#N/A"}},{"$f":"VLOOKUP($BZ19,'Vejehold 6'!$A$7:$P$23,'Opsamling, slagt+smågrise'!CF$2,FALSE)","v":{"$error":"#N/A"}},{"$f":"VLOOKUP($BZ19,'Vejehold 6'!$A$7:$P$23,'Opsamling, slagt+smågrise'!CG$2,FALSE)","v":{"$error":"#N/A"}}]
[null,"Daglig tilvækst i perioden",null,null,null,null,null,null,null,null,null,null,null,null,null,null,null,null,null,null,null,null,null,null,null,null,16,"1900-01-16",{"$f":"VLOOKUP($AB20,'Vejehold 1'!$A$7:$P$23,'Opsamling, slagt+smågrise'!AC$2,FALSE)","v":{"$error":"#N/A"}},{"$f":"VLOOKUP($AB20,'Vejehold 1'!$A$7:$P$23,'Opsamling, slagt+smågrise'!AD$2,FALSE)","v":{"$error":"#N/A"}},{"$f":"VLOOKUP($AB20,'Vejehold 1'!$A$7:$P$23,'Opsamling, slagt+smågrise'!AE$2,FALSE)","v":{"$error":"#N/A"}},{"$f":"VLOOKUP($AB20,'Vejehold 1'!$A$7:$P$23,'Opsamling, slagt+smågrise'!AF$2,FALSE)","v":{"$error":"#N/A"}},{"$f":"VLOOKUP($AB20,'Vejehold 1'!$A$7:$P$23,'Opsamling, slagt+smågrise'!AG$2,FALSE)","v":{"$error":"#N/A"}},{"$f":"VLOOKUP($AB20,'Vejehold 1'!$A$7:$P$23,'Opsamling, slagt+smågrise'!AH$2,FALSE)","v":{"$error":"#N/A"}},{"$f":"VLOOKUP($AB20,'Vejehold 1'!$A$7:$P$23,'Opsamling, slagt+smågrise'!AI$2,FALSE)","v":{"$error":"#N/A"}},null,16,{"$f":"AL19+1","v":"1900-01-16"},{"$f":"VLOOKUP($AL20,'Vejehold 2'!$A$7:$P$23,'Opsamling, slagt+smågrise'!AM$2,FALSE)","v":{"$error":"#N/A"}},{"$f":"VLOOKUP($AL20,'Vejehold 2'!$A$7:$P$23,'Opsamling, slagt+smågrise'!AN$2,FALSE)","v":{"$error":"#N/A"}},{"$f":"VLOOKUP($AL20,'Vejehold 2'!$A$7:$P$23,'Opsamling, slagt+smågrise'!AO$2,FALSE)","v":{"$error":"#N/A"}},{"$f":"VLOOKUP($AL20,'Vejehold 2'!$A$7:$P$23,'Opsamling, slagt+smågrise'!AP$2,FALSE)","v":{"$error":"#N/A"}},{"$f":"VLOOKUP($AL20,'Vejehold 2'!$A$7:$P$23,'Opsamling, slagt+smågrise'!AQ$2,FALSE)","v":{"$error":"#N/A"}},{"$f":"VLOOKUP($AL20,'Vejehold 2'!$A$7:$P$23,'Opsamling, slagt+smågrise'!AR$2,FALSE)","v":{"$error":"#N/A"}},{"$f":"VLOOKUP($AL20,'Vejehold 2'!$A$7:$P$23,'Opsamling, slagt+smågrise'!AS$2,FALSE)","v":{"$error":"#N/A"}},null,16,{"$f":"AV19+1","v":"1900-01-16"},{"$f":"VLOOKUP($AV20,'Vejehold 3'!$A$7:$P$23,'Opsamling, slagt+smågrise'!AW$2,FALSE)","v":{"$error":"#N/A"}},{"$f":"VLOOKUP($AV20,'Vejehold 3'!$A$7:$P$23,'Opsamling, slagt+smågrise'!AX$2,FALSE)","v":{"$error":"#N/A"}},{"$f":"VLOOKUP($AV20,'Vejehold 3'!$A$7:$P$23,'Opsamling, slagt+smågrise'!AY$2,FALSE)","v":{"$error":"#N/A"}},{"$f":"VLOOKUP($AV20,'Vejehold 3'!$A$7:$P$23,'Opsamling, slagt+smågrise'!AZ$2,FALSE)","v":{"$error":"#N/A"}},{"$f":"VLOOKUP($AV20,'Vejehold 3'!$A$7:$P$23,'Opsamling, slagt+smågrise'!BA$2,FALSE)","v":{"$error":"#N/A"}},{"$f":"VLOOKUP($AV20,'Vejehold 3'!$A$7:$P$23,'Opsamling, slagt+smågrise'!BB$2,FALSE)","v":{"$error":"#N/A"}},{"$f":"VLOOKUP($AV20,'Vejehold 3'!$A$7:$P$23,'Opsamling, slagt+smågrise'!BC$2,FALSE)","v":{"$error":"#N/A"}},null,16,{"$f":"BF19+1","v":"1900-01-16"},{"$f":"VLOOKUP($BF20,'Vejehold 4'!$A$7:$P$23,'Opsamling, slagt+smågrise'!BG$2,FALSE)","v":{"$error":"#N/A"}},{"$f":"VLOOKUP($BF20,'Vejehold 4'!$A$7:$P$23,'Opsamling, slagt+smågrise'!BH$2,FALSE)","v":{"$error":"#N/A"}},{"$f":"VLOOKUP($BF20,'Vejehold 4'!$A$7:$P$23,'Opsamling, slagt+smågrise'!BI$2,FALSE)","v":{"$error":"#N/A"}},{"$f":"VLOOKUP($BF20,'Vejehold 4'!$A$7:$P$23,'Opsamling, slagt+smågrise'!BJ$2,FALSE)","v":{"$error":"#N/A"}},{"$f":"VLOOKUP($BF20,'Vejehold 4'!$A$7:$P$23,'Opsamling, slagt+smågrise'!BK$2,FALSE)","v":{"$error":"#N/A"}},{"$f":"VLOOKUP($BF20,'Vejehold 4'!$A$7:$P$23,'Opsamling, slagt+smågrise'!BL$2,FALSE)","v":{"$error":"#N/A"}},{"$f":"VLOOKUP($BF20,'Vejehold 4'!$A$7:$P$23,'Opsamling, slagt+smågrise'!BM$2,FALSE)","v":{"$error":"#N/A"}},null,16,{"$f":"BP19+1","v":"1900-01-16"},{"$f":"VLOOKUP($BP20,'Vejehold 5'!$A$7:$P$23,'Opsamling, slagt+smågrise'!BQ$2,FALSE)","v":{"$error":"#N/A"}},{"$f":"VLOOKUP($BP20,'Vejehold 5'!$A$7:$P$23,'Opsamling, slagt+smågrise'!BR$2,FALSE)","v":{"$error":"#N/A"}},{"$f":"VLOOKUP($BP20,'Vejehold 5'!$A$7:$P$23,'Opsamling, slagt+smågrise'!BS$2,FALSE)","v":{"$error":"#N/A"}},{"$f":"VLOOKUP($BP20,'Vejehold 5'!$A$7:$P$23,'Opsamling, slagt+smågrise'!BT$2,FALSE)","v":{"$error":"#N/A"}},{"$f":"VLOOKUP($BP20,'Vejehold 5'!$A$7:$P$23,'Opsamling, slagt+smågrise'!BU$2,FALSE)","v":{"$error":"#N/A"}},{"$f":"VLOOKUP($BP20,'Vejehold 5'!$A$7:$P$23,'Opsamling, slagt+smågrise'!BV$2,FALSE)","v":{"$error":"#N/A"}},{"$f":"VLOOKUP($BP20,'Vejehold 5'!$A$7:$P$23,'Opsamling, slagt+smågrise'!BW$2,FALSE)","v":{"$error":"#N/A"}},null,16,{"$f":"BZ19+1","v":"1900-01-16"},{"$f":"VLOOKUP($BZ20,'Vejehold 6'!$A$7:$P$23,'Opsamling, slagt+smågrise'!CA$2,FALSE)","v":{"$error":"#N/A"}},{"$f":"VLOOKUP($BZ20,'Vejehold 6'!$A$7:$P$23,'Opsamling, slagt+smågrise'!CB$2,FALSE)","v":{"$error":"#N/A"}},{"$f":"VLOOKUP($BZ20,'Vejehold 6'!$A$7:$P$23,'Opsamling, slagt+smågrise'!CC$2,FALSE)","v":{"$error":"#N/A"}},{"$f":"VLOOKUP($BZ20,'Vejehold 6'!$A$7:$P$23,'Opsamling, slagt+smågrise'!CD$2,FALSE)","v":{"$error":"#N/A"}},{"$f":"VLOOKUP($BZ20,'Vejehold 6'!$A$7:$P$23,'Opsamling, slagt+smågrise'!CE$2,FALSE)","v":{"$error":"#N/A"}},{"$f":"VLOOKUP($BZ20,'Vejehold 6'!$A$7:$P$23,'Opsamling, slagt+smågrise'!CF$2,FALSE)","v":{"$error":"#N/A"}},{"$f":"VLOOKUP($BZ20,'Vejehold 6'!$A$7:$P$23,'Opsamling, slagt+smågrise'!CG$2,FALSE)","v":{"$error":"#N/A"}}]
[null,"Dag","Hold 1","Hold 2","Hold 3","Hold 4","Hold 5","Hold 6",null,null,null,null,null,null,null,null,null,null,null,null,null,null,null,null,null,null,17,"1900-01-17",{"$f":"VLOOKUP($AB21,'Vejehold 1'!$A$7:$P$23,'Opsamling, slagt+smågrise'!AC$2,FALSE)","v":{"$error":"#N/A"}},{"$f":"VLOOKUP($AB21,'Vejehold 1'!$A$7:$P$23,'Opsamling, slagt+smågrise'!AD$2,FALSE)","v":{"$error":"#N/A"}},{"$f":"VLOOKUP($AB21,'Vejehold 1'!$A$7:$P$23,'Opsamling, slagt+smågrise'!AE$2,FALSE)","v":{"$error":"#N/A"}},{"$f":"VLOOKUP($AB21,'Vejehold 1'!$A$7:$P$23,'Opsamling, slagt+smågrise'!AF$2,FALSE)","v":{"$error":"#N/A"}},{"$f":"VLOOKUP($AB21,'Vejehold 1'!$A$7:$P$23,'Opsamling, slagt+smågrise'!AG$2,FALSE)","v":{"$error":"#N/A"}},{"$f":"VLOOKUP($AB21,'Vejehold 1'!$A$7:$P$23,'Opsamling, slagt+smågrise'!AH$2,FALSE)","v":{"$error":"#N/A"}},{"$f":"VLOOKUP($AB21,'Vejehold 1'!$A$7:$P$23,'Opsamling, slagt+smågrise'!AI$2,FALSE)","v":{"$error":"#N/A"}},null,17,"1900-01-17",{"$f":"VLOOKUP($AL21,'Vejehold 2'!$A$7:$P$23,'Opsamling, slagt+smågrise'!AM$2,FALSE)","v":{"$error":"#N/A"}},{"$f":"VLOOKUP($AL21,'Vejehold 2'!$A$7:$P$23,'Opsamling, slagt+smågrise'!AN$2,FALSE)","v":{"$error":"#N/A"}},{"$f":"VLOOKUP($AL21,'Vejehold 2'!$A$7:$P$23,'Opsamling, slagt+smågrise'!AO$2,FALSE)","v":{"$error":"#N/A"}},{"$f":"VLOOKUP($AL21,'Vejehold 2'!$A$7:$P$23,'Opsamling, slagt+smågrise'!AP$2,FALSE)","v":{"$error":"#N/A"}},{"$f":"VLOOKUP($AL21,'Vejehold 2'!$A$7:$P$23,'Opsamling, slagt+smågrise'!AQ$2,FALSE)","v":{"$error":"#N/A"}},{"$f":"VLOOKUP($AL21,'Vejehold 2'!$A$7:$P$23,'Opsamling, slagt+smågrise'!AR$2,FALSE)","v":{"$error":"#N/A"}},{"$f":"VLOOKUP($AL21,'Vejehold 2'!$A$7:$P$23,'Opsamling, slagt+smågrise'!AS$2,FALSE)","v":{"$error":"#N/A"}},null,17,"1900-01-17",{"$f":"VLOOKUP($AV21,'Vejehold 3'!$A$7:$P$23,'Opsamling, slagt+smågrise'!AW$2,FALSE)","v":{"$error":"#N/A"}},{"$f":"VLOOKUP($AV21,'Vejehold 3'!$A$7:$P$23,'Opsamling, slagt+smågrise'!AX$2,FALSE)","v":{"$error":"#N/A"}},{"$f":"VLOOKUP($AV21,'Vejehold 3'!$A$7:$P$23,'Opsamling, slagt+smågrise'!AY$2,FALSE)","v":{"$error":"#N/A"}},{"$f":"VLOOKUP($AV21,'Vejehold 3'!$A$7:$P$23,'Opsamling, slagt+smågrise'!AZ$2,FALSE)","v":{"$error":"#N/A"}},{"$f":"VLOOKUP($AV21,'Vejehold 3'!$A$7:$P$23,'Opsamling, slagt+smågrise'!BA$2,FALSE)","v":{"$error":"#N/A"}},{"$f":"VLOOKUP($AV21,'Vejehold 3'!$A$7:$P$23,'Opsamling, slagt+smågrise'!BB$2,FALSE)","v":{"$error":"#N/A"}},{"$f":"VLOOKUP($AV21,'Vejehold 3'!$A$7:$P$23,'Opsamling, slagt+smågrise'!BC$2,FALSE)","v":{"$error":"#N/A"}},null,17,"1900-01-17",{"$f":"VLOOKUP($BF21,'Vejehold 4'!$A$7:$P$23,'Opsamling, slagt+smågrise'!BG$2,FALSE)","v":{"$error":"#N/A"}},{"$f":"VLOOKUP($BF21,'Vejehold 4'!$A$7:$P$23,'Opsamling, slagt+smågrise'!BH$2,FALSE)","v":{"$error":"#N/A"}},{"$f":"VLOOKUP($BF21,'Vejehold 4'!$A$7:$P$23,'Opsamling, slagt+smågrise'!BI$2,FALSE)","v":{"$error":"#N/A"}},{"$f":"VLOOKUP($BF21,'Vejehold 4'!$A$7:$P$23,'Opsamling, slagt+smågrise'!BJ$2,FALSE)","v":{"$error":"#N/A"}},{"$f":"VLOOKUP($BF21,'Vejehold 4'!$A$7:$P$23,'Opsamling, slagt+smågrise'!BK$2,FALSE)","v":{"$error":"#N/A"}},{"$f":"VLOOKUP($BF21,'Vejehold 4'!$A$7:$P$23,'Opsamling, slagt+smågrise'!BL$2,FALSE)","v":{"$error":"#N/A"}},{"$f":"VLOOKUP($BF21,'Vejehold 4'!$A$7:$P$23,'Opsamling, slagt+smågrise'!BM$2,FALSE)","v":{"$error":"#N/A"}},null,17,"1900-01-17",{"$f":"VLOOKUP($BP21,'Vejehold 5'!$A$7:$P$23,'Opsamling, slagt+smågrise'!BQ$2,FALSE)","v":{"$error":"#N/A"}},{"$f":"VLOOKUP($BP21,'Vejehold 5'!$A$7:$P$23,'Opsamling, slagt+smågrise'!BR$2,FALSE)","v":{"$error":"#N/A"}},{"$f":"VLOOKUP($BP21,'Vejehold 5'!$A$7:$P$23,'Opsamling, slagt+smågrise'!BS$2,FALSE)","v":{"$error":"#N/A"}},{"$f":"VLOOKUP($BP21,'Vejehold 5'!$A$7:$P$23,'Opsamling, slagt+smågrise'!BT$2,FALSE)","v":{"$error":"#N/A"}},{"$f":"VLOOKUP($BP21,'Vejehold 5'!$A$7:$P$23,'Opsamling, slagt+smågrise'!BU$2,FALSE)","v":{"$error":"#N/A"}},{"$f":"VLOOKUP($BP21,'Vejehold 5'!$A$7:$P$23,'Opsamling, slagt+smågrise'!BV$2,FALSE)","v":{"$error":"#N/A"}},{"$f":"VLOOKUP($BP21,'Vejehold 5'!$A$7:$P$23,'Opsamling, slagt+smågrise'!BW$2,FALSE)","v":{"$error":"#N/A"}},null,17,"1900-01-17",{"$f":"VLOOKUP($BZ21,'Vejehold 6'!$A$7:$P$23,'Opsamling, slagt+smågrise'!CA$2,FALSE)","v":{"$error":"#N/A"}},{"$f":"VLOOKUP($BZ21,'Vejehold 6'!$A$7:$P$23,'Opsamling, slagt+smågrise'!CB$2,FALSE)","v":{"$error":"#N/A"}},{"$f":"VLOOKUP($BZ21,'Vejehold 6'!$A$7:$P$23,'Opsamling, slagt+smågrise'!CC$2,FALSE)","v":{"$error":"#N/A"}},{"$f":"VLOOKUP($BZ21,'Vejehold 6'!$A$7:$P$23,'Opsamling, slagt+smågrise'!CD$2,FALSE)","v":{"$error":"#N/A"}},{"$f":"VLOOKUP($BZ21,'Vejehold 6'!$A$7:$P$23,'Opsamling, slagt+smågrise'!CE$2,FALSE)","v":{"$error":"#N/A"}},{"$f":"VLOOKUP($BZ21,'Vejehold 6'!$A$7:$P$23,'Opsamling, slagt+smågrise'!CF$2,FALSE)","v":{"$error":"#N/A"}},{"$f":"VLOOKUP($BZ21,'Vejehold 6'!$A$7:$P$23,'Opsamling, slagt+smågrise'!CG$2,FALSE)","v":{"$error":"#N/A"}}]
[null,7,{"$f":"'Vejehold 1'!$F8","v":0},{"$f":"'Vejehold 2'!$F8","v":0},{"$f":"'Vejehold 3'!$F8","v":0},{"$f":"'Vejehold 4'!$F8","v":0},{"$f":"'Vejehold 5'!$F8","v":0},{"$f":"'Vejehold 6'!$F8","v":0},null,null,null,null,null,null,null,null,null,null,null,null,null,null,null,null,null,null,18,"1900-01-18",{"$f":"VLOOKUP($AB22,'Vejehold 1'!$A$7:$P$23,'Opsamling, slagt+smågrise'!AC$2,FALSE)","v":{"$error":"#N/A"}},{"$f":"VLOOKUP($AB22,'Vejehold 1'!$A$7:$P$23,'Opsamling, slagt+smågrise'!AD$2,FALSE)","v":{"$error":"#N/A"}},{"$f":"VLOOKUP($AB22,'Vejehold 1'!$A$7:$P$23,'Opsamling, slagt+smågrise'!AE$2,FALSE)","v":{"$error":"#N/A"}},{"$f":"VLOOKUP($AB22,'Vejehold 1'!$A$7:$P$23,'Opsamling, slagt+smågrise'!AF$2,FALSE)","v":{"$error":"#N/A"}},{"$f":"VLOOKUP($AB22,'Vejehold 1'!$A$7:$P$23,'Opsamling, slagt+smågrise'!AG$2,FALSE)","v":{"$error":"#N/A"}},{"$f":"VLOOKUP($AB22,'Vejehold 1'!$A$7:$P$23,'Opsamling, slagt+smågrise'!AH$2,FALSE)","v":{"$error":"#N/A"}},{"$f":"VLOOKUP($AB22,'Vejehold 1'!$A$7:$P$23,'Opsamling, slagt+smågrise'!AI$2,FALSE)","v":{"$error":"#N/A"}},null,18,"1900-01-18",{"$f":"VLOOKUP($AL22,'Vejehold 2'!$A$7:$P$23,'Opsamling, slagt+smågrise'!AM$2,FALSE)","v":{"$error":"#N/A"}},{"$f":"VLOOKUP($AL22,'Vejehold 2'!$A$7:$P$23,'Opsamling, slagt+smågrise'!AN$2,FALSE)","v":{"$error":"#N/A"}},{"$f":"VLOOKUP($AL22,'Vejehold 2'!$A$7:$P$23,'Opsamling, slagt+smågrise'!AO$2,FALSE)","v":{"$error":"#N/A"}},{"$f":"VLOOKUP($AL22,'Vejehold 2'!$A$7:$P$23,'Opsamling, slagt+smågrise'!AP$2,FALSE)","v":{"$error":"#N/A"}},{"$f":"VLOOKUP($AL22,'Vejehold 2'!$A$7:$P$23,'Opsamling, slagt+smågrise'!AQ$2,FALSE)","v":{"$error":"#N/A"}},{"$f":"VLOOKUP($AL22,'Vejehold 2'!$A$7:$P$23,'Opsamling, slagt+smågrise'!AR$2,FALSE)","v":{"$error":"#N/A"}},{"$f":"VLOOKUP($AL22,'Vejehold 2'!$A$7:$P$23,'Opsamling, slagt+smågrise'!AS$2,FALSE)","v":{"$error":"#N/A"}},null,18,"1900-01-18",{"$f":"VLOOKUP($AV22,'Vejehold 3'!$A$7:$P$23,'Opsamling, slagt+smågrise'!AW$2,FALSE)","v":{"$error":"#N/A"}},{"$f":"VLOOKUP($AV22,'Vejehold 3'!$A$7:$P$23,'Opsamling, slagt+smågrise'!AX$2,FALSE)","v":{"$error":"#N/A"}},{"$f":"VLOOKUP($AV22,'Vejehold 3'!$A$7:$P$23,'Opsamling, slagt+smågrise'!AY$2,FALSE)","v":{"$error":"#N/A"}},{"$f":"VLOOKUP($AV22,'Vejehold 3'!$A$7:$P$23,'Opsamling, slagt+smågrise'!AZ$2,FALSE)","v":{"$error":"#N/A"}},{"$f":"VLOOKUP($AV22,'Vejehold 3'!$A$7:$P$23,'Opsamling, slagt+smågrise'!BA$2,FALSE)","v":{"$error":"#N/A"}},{"$f":"VLOOKUP($AV22,'Vejehold 3'!$A$7:$P$23,'Opsamling, slagt+smågrise'!BB$2,FALSE)","v":{"$error":"#N/A"}},{"$f":"VLOOKUP($AV22,'Vejehold 3'!$A$7:$P$23,'Opsamling, slagt+smågrise'!BC$2,FALSE)","v":{"$error":"#N/A"}},null,18,"1900-01-18",{"$f":"VLOOKUP($BF22,'Vejehold 4'!$A$7:$P$23,'Opsamling, slagt+smågrise'!BG$2,FALSE)","v":{"$error":"#N/A"}},{"$f":"VLOOKUP($BF22,'Vejehold 4'!$A$7:$P$23,'Opsamling, slagt+smågrise'!BH$2,FALSE)","v":{"$error":"#N/A"}},{"$f":"VLOOKUP($BF22,'Vejehold 4'!$A$7:$P$23,'Opsamling, slagt+smågrise'!BI$2,FALSE)","v":{"$error":"#N/A"}},{"$f":"VLOOKUP($BF22,'Vejehold 4'!$A$7:$P$23,'Opsamling, slagt+smågrise'!BJ$2,FALSE)","v":{"$error":"#N/A"}},{"$f":"VLOOKUP($BF22,'Vejehold 4'!$A$7:$P$23,'Opsamling, slagt+smågrise'!BK$2,FALSE)","v":{"$error":"#N/A"}},{"$f":"VLOOKUP($BF22,'Vejehold 4'!$A$7:$P$23,'Opsamling, slagt+smågrise'!BL$2,FALSE)","v":{"$error":"#N/A"}},{"$f":"VLOOKUP($BF22,'Vejehold 4'!$A$7:$P$23,'Opsamling, slagt+smågrise'!BM$2,FALSE)","v":{"$error":"#N/A"}},null,18,"1900-01-18",{"$f":"VLOOKUP($BP22,'Vejehold 5'!$A$7:$P$23,'Opsamling, slagt+smågrise'!BQ$2,FALSE)","v":{"$error":"#N/A"}},{"$f":"VLOOKUP($BP22,'Vejehold 5'!$A$7:$P$23,'Opsamling, slagt+smågrise'!BR$2,FALSE)","v":{"$error":"#N/A"}},{"$f":"VLOOKUP($BP22,'Vejehold 5'!$A$7:$P$23,'Opsamling, slagt+smågrise'!BS$2,FALSE)","v":{"$error":"#N/A"}},{"$f":"VLOOKUP($BP22,'Vejehold 5'!$A$7:$P$23,'Opsamling, slagt+smågrise'!BT$2,FALSE)","v":{"$error":"#N/A"}},{"$f":"VLOOKUP($BP22,'Vejehold 5'!$A$7:$P$23,'Opsamling, slagt+smågrise'!BU$2,FALSE)","v":{"$error":"#N/A"}},{"$f":"VLOOKUP($BP22,'Vejehold 5'!$A$7:$P$23,'Opsamling, slagt+smågrise'!BV$2,FALSE)","v":{"$error":"#N/A"}},{"$f":"VLOOKUP($BP22,'Vejehold 5'!$A$7:$P$23,'Opsamling, slagt+smågrise'!BW$2,FALSE)","v":{"$error":"#N/A"}},null,18,"1900-01-18",{"$f":"VLOOKUP($BZ22,'Vejehold 6'!$A$7:$P$23,'Opsamling, slagt+smågrise'!CA$2,FALSE)","v":{"$error":"#N/A"}},{"$f":"VLOOKUP($BZ22,'Vejehold 6'!$A$7:$P$23,'Opsamling, slagt+smågrise'!CB$2,FALSE)","v":{"$error":"#N/A"}},{"$f":"VLOOKUP($BZ22,'Vejehold 6'!$A$7:$P$23,'Opsamling, slagt+smågrise'!CC$2,FALSE)","v":{"$error":"#N/A"}},{"$f":"VLOOKUP($BZ22,'Vejehold 6'!$A$7:$P$23,'Opsamling, slagt+smågrise'!CD$2,FALSE)","v":{"$error":"#N/A"}},{"$f":"VLOOKUP($BZ22,'Vejehold 6'!$A$7:$P$23,'Opsamling, slagt+smågrise'!CE$2,FALSE)","v":{"$error":"#N/A"}},{"$f":"VLOOKUP($BZ22,'Vejehold 6'!$A$7:$P$23,'Opsamling, slagt+smågrise'!CF$2,FALSE)","v":{"$error":"#N/A"}},{"$f":"VLOOKUP($BZ22,'Vejehold 6'!$A$7:$P$23,'Opsamling, slagt+smågrise'!CG$2,FALSE)","v":{"$error":"#N/A"}}]
[null,14,{"$f":"'Vejehold 1'!$F9","v":0},{"$f":"'Vejehold 2'!$F9","v":0},{"$f":"'Vejehold 3'!$F9","v":0},{"$f":"'Vejehold 4'!$F9","v":0},{"$f":"'Vejehold 5'!$F9","v":0},{"$f":"'Vejehold 6'!$F9","v":0},null,null,null,null,null,null,null,null,null,null,null,null,null,null,null,null,null,null,19,"1900-01-19",{"$f":"VLOOKUP($AB23,'Vejehold 1'!$A$7:$P$23,'Opsamling, slagt+smågrise'!AC$2,FALSE)","v":{"$error":"#N/A"}},{"$f":"VLOOKUP($AB23,'Vejehold 1'!$A$7:$P$23,'Opsamling, slagt+smågrise'!AD$2,FALSE)","v":{"$error":"#N/A"}},{"$f":"VLOOKUP($AB23,'Vejehold 1'!$A$7:$P$23,'Opsamling, slagt+smågrise'!AE$2,FALSE)","v":{"$error":"#N/A"}},{"$f":"VLOOKUP($AB23,'Vejehold 1'!$A$7:$P$23,'Opsamling, slagt+smågrise'!AF$2,FALSE)","v":{"$error":"#N/A"}},{"$f":"VLOOKUP($AB23,'Vejehold 1'!$A$7:$P$23,'Opsamling, slagt+smågrise'!AG$2,FALSE)","v":{"$error":"#N/A"}},{"$f":"VLOOKUP($AB23,'Vejehold 1'!$A$7:$P$23,'Opsamling, slagt+smågrise'!AH$2,FALSE)","v":{"$error":"#N/A"}},{"$f":"VLOOKUP($AB23,'Vejehold 1'!$A$7:$P$23,'Opsamling, slagt+smågrise'!AI$2,FALSE)","v":{"$error":"#N/A"}},null,19,"1900-01-19",{"$f":"VLOOKUP($AL23,'Vejehold 2'!$A$7:$P$23,'Opsamling, slagt+smågrise'!AM$2,FALSE)","v":{"$error":"#N/A"}},{"$f":"VLOOKUP($AL23,'Vejehold 2'!$A$7:$P$23,'Opsamling, slagt+smågrise'!AN$2,FALSE)","v":{"$error":"#N/A"}},{"$f":"VLOOKUP($AL23,'Vejehold 2'!$A$7:$P$23,'Opsamling, slagt+smågrise'!AO$2,FALSE)","v":{"$error":"#N/A"}},{"$f":"VLOOKUP($AL23,'Vejehold 2'!$A$7:$P$23,'Opsamling, slagt+smågrise'!AP$2,FALSE)","v":{"$error":"#N/A"}},{"$f":"VLOOKUP($AL23,'Vejehold 2'!$A$7:$P$23,'Opsamling, slagt+smågrise'!AQ$2,FALSE)","v":{"$error":"#N/A"}},{"$f":"VLOOKUP($AL23,'Vejehold 2'!$A$7:$P$23,'Opsamling, slagt+smågrise'!AR$2,FALSE)","v":{"$error":"#N/A"}},{"$f":"VLOOKUP($AL23,'Vejehold 2'!$A$7:$P$23,'Opsamling, slagt+smågrise'!AS$2,FALSE)","v":{"$error":"#N/A"}},null,19,"1900-01-19",{"$f":"VLOOKUP($AV23,'Vejehold 3'!$A$7:$P$23,'Opsamling, slagt+smågrise'!AW$2,FALSE)","v":{"$error":"#N/A"}},{"$f":"VLOOKUP($AV23,'Vejehold 3'!$A$7:$P$23,'Opsamling, slagt+smågrise'!AX$2,FALSE)","v":{"$error":"#N/A"}},{"$f":"VLOOKUP($AV23,'Vejehold 3'!$A$7:$P$23,'Opsamling, slagt+smågrise'!AY$2,FALSE)","v":{"$error":"#N/A"}},{"$f":"VLOOKUP($AV23,'Vejehold 3'!$A$7:$P$23,'Opsamling, slagt+smågrise'!AZ$2,FALSE)","v":{"$error":"#N/A"}},{"$f":"VLOOKUP($AV23,'Vejehold 3'!$A$7:$P$23,'Opsamling, slagt+smågrise'!BA$2,FALSE)","v":{"$error":"#N/A"}},{"$f":"VLOOKUP($AV23,'Vejehold 3'!$A$7:$P$23,'Opsamling, slagt+smågrise'!BB$2,FALSE)","v":{"$error":"#N/A"}},{"$f":"VLOOKUP($AV23,'Vejehold 3'!$A$7:$P$23,'Opsamling, slagt+smågrise'!BC$2,FALSE)","v":{"$error":"#N/A"}},null,19,"1900-01-19",{"$f":"VLOOKUP($BF23,'Vejehold 4'!$A$7:$P$23,'Opsamling, slagt+smågrise'!BG$2,FALSE)","v":{"$error":"#N/A"}},{"$f":"VLOOKUP($BF23,'Vejehold 4'!$A$7:$P$23,'Opsamling, slagt+smågrise'!BH$2,FALSE)","v":{"$error":"#N/A"}},{"$f":"VLOOKUP($BF23,'Vejehold 4'!$A$7:$P$23,'Opsamling, slagt+smågrise'!BI$2,FALSE)","v":{"$error":"#N/A"}},{"$f":"VLOOKUP($BF23,'Vejehold 4'!$A$7:$P$23,'Opsamling, slagt+smågrise'!BJ$2,FALSE)","v":{"$error":"#N/A"}},{"$f":"VLOOKUP($BF23,'Vejehold 4'!$A$7:$P$23,'Opsamling, slagt+smågrise'!BK$2,FALSE)","v":{"$error":"#N/A"}},{"$f":"VLOOKUP($BF23,'Vejehold 4'!$A$7:$P$23,'Opsamling, slagt+smågrise'!BL$2,FALSE)","v":{"$error":"#N/A"}},{"$f":"VLOOKUP($BF23,'Vejehold 4'!$A$7:$P$23,'Opsamling, slagt+smågrise'!BM$2,FALSE)","v":{"$error":"#N/A"}},null,19,"1900-01-19",{"$f":"VLOOKUP($BP23,'Vejehold 5'!$A$7:$P$23,'Opsamling, slagt+smågrise'!BQ$2,FALSE)","v":{"$error":"#N/A"}},{"$f":"VLOOKUP($BP23,'Vejehold 5'!$A$7:$P$23,'Opsamling, slagt+smågrise'!BR$2,FALSE)","v":{"$error":"#N/A"}},{"$f":"VLOOKUP($BP23,'Vejehold 5'!$A$7:$P$23,'Opsamling, slagt+smågrise'!BS$2,FALSE)","v":{"$error":"#N/A"}},{"$f":"VLOOKUP($BP23,'Vejehold 5'!$A$7:$P$23,'Opsamling, slagt+smågrise'!BT$2,FALSE)","v":{"$error":"#N/A"}},{"$f":"VLOOKUP($BP23,'Vejehold 5'!$A$7:$P$23,'Opsamling, slagt+smågrise'!BU$2,FALSE)","v":{"$error":"#N/A"}},{"$f":"VLOOKUP($BP23,'Vejehold 5'!$A$7:$P$23,'Opsamling, slagt+smågrise'!BV$2,FALSE)","v":{"$error":"#N/A"}},{"$f":"VLOOKUP($BP23,'Vejehold 5'!$A$7:$P$23,'Opsamling, slagt+smågrise'!BW$2,FALSE)","v":{"$error":"#N/A"}},null,19,"1900-01-19",{"$f":"VLOOKUP($BZ23,'Vejehold 6'!$A$7:$P$23,'Opsamling, slagt+smågrise'!CA$2,FALSE)","v":{"$error":"#N/A"}},{"$f":"VLOOKUP($BZ23,'Vejehold 6'!$A$7:$P$23,'Opsamling, slagt+smågrise'!CB$2,FALSE)","v":{"$error":"#N/A"}},{"$f":"VLOOKUP($BZ23,'Vejehold 6'!$A$7:$P$23,'Opsamling, slagt+smågrise'!CC$2,FALSE)","v":{"$error":"#N/A"}},{"$f":"VLOOKUP($BZ23,'Vejehold 6'!$A$7:$P$23,'Opsamling, slagt+smågrise'!CD$2,FALSE)","v":{"$error":"#N/A"}},{"$f":"VLOOKUP($BZ23,'Vejehold 6'!$A$7:$P$23,'Opsamling, slagt+smågrise'!CE$2,FALSE)","v":{"$error":"#N/A"}},{"$f":"VLOOKUP($BZ23,'Vejehold 6'!$A$7:$P$23,'Opsamling, slagt+smågrise'!CF$2,FALSE)","v":{"$error":"#N/A"}},{"$f":"VLOOKUP($BZ23,'Vejehold 6'!$A$7:$P$23,'Opsamling, slagt+smågrise'!CG$2,FALSE)","v":{"$error":"#N/A"}}]
[null,21,{"$f":"'Vejehold 1'!$F10","v":0},{"$f":"'Vejehold 2'!$F10","v":0},{"$f":"'Vejehold 3'!$F10","v":0},{"$f":"'Vejehold 4'!$F10","v":0},{"$f":"'Vejehold 5'!$F10","v":0},{"$f":"'Vejehold 6'!$F10","v":0},null,null,null,null,null,null,null,null,null,null,null,null,null,null,null,null,null,null,20,"1900-01-20",{"$f":"VLOOKUP($AB24,'Vejehold 1'!$A$7:$P$23,'Opsamling, slagt+smågrise'!AC$2,FALSE)","v":{"$error":"#N/A"}},{"$f":"VLOOKUP($AB24,'Vejehold 1'!$A$7:$P$23,'Opsamling, slagt+smågrise'!AD$2,FALSE)","v":{"$error":"#N/A"}},{"$f":"VLOOKUP($AB24,'Vejehold 1'!$A$7:$P$23,'Opsamling, slagt+smågrise'!AE$2,FALSE)","v":{"$error":"#N/A"}},{"$f":"VLOOKUP($AB24,'Vejehold 1'!$A$7:$P$23,'Opsamling, slagt+smågrise'!AF$2,FALSE)","v":{"$error":"#N/A"}},{"$f":"VLOOKUP($AB24,'Vejehold 1'!$A$7:$P$23,'Opsamling, slagt+smågrise'!AG$2,FALSE)","v":{"$error":"#N/A"}},{"$f":"VLOOKUP($AB24,'Vejehold 1'!$A$7:$P$23,'Opsamling, slagt+smågrise'!AH$2,FALSE)","v":{"$error":"#N/A"}},{"$f":"VLOOKUP($AB24,'Vejehold 1'!$A$7:$P$23,'Opsamling, slagt+smågrise'!AI$2,FALSE)","v":{"$error":"#N/A"}},null,20,"1900-01-20",{"$f":"VLOOKUP($AL24,'Vejehold 2'!$A$7:$P$23,'Opsamling, slagt+smågrise'!AM$2,FALSE)","v":{"$error":"#N/A"}},{"$f":"VLOOKUP($AL24,'Vejehold 2'!$A$7:$P$23,'Opsamling, slagt+smågrise'!AN$2,FALSE)","v":{"$error":"#N/A"}},{"$f":"VLOOKUP($AL24,'Vejehold 2'!$A$7:$P$23,'Opsamling, slagt+smågrise'!AO$2,FALSE)","v":{"$error":"#N/A"}},{"$f":"VLOOKUP($AL24,'Vejehold 2'!$A$7:$P$23,'Opsamling, slagt+smågrise'!AP$2,FALSE)","v":{"$error":"#N/A"}},{"$f":"VLOOKUP($AL24,'Vejehold 2'!$A$7:$P$23,'Opsamling, slagt+smågrise'!AQ$2,FALSE)","v":{"$error":"#N/A"}},{"$f":"VLOOKUP($AL24,'Vejehold 2'!$A$7:$P$23,'Opsamling, slagt+smågrise'!AR$2,FALSE)","v":{"$error":"#N/A"}},{"$f":"VLOOKUP($AL24,'Vejehold 2'!$A$7:$P$23,'Opsamling, slagt+smågrise'!AS$2,FALSE)","v":{"$error":"#N/A"}},null,20,"1900-01-20",{"$f":"VLOOKUP($AV24,'Vejehold 3'!$A$7:$P$23,'Opsamling, slagt+smågrise'!AW$2,FALSE)","v":{"$error":"#N/A"}},{"$f":"VLOOKUP($AV24,'Vejehold 3'!$A$7:$P$23,'Opsamling, slagt+smågrise'!AX$2,FALSE)","v":{"$error":"#N/A"}},{"$f":"VLOOKUP($AV24,'Vejehold 3'!$A$7:$P$23,'Opsamling, slagt+smågrise'!AY$2,FALSE)","v":{"$error":"#N/A"}},{"$f":"VLOOKUP($AV24,'Vejehold 3'!$A$7:$P$23,'Opsamling, slagt+smågrise'!AZ$2,FALSE)","v":{"$error":"#N/A"}},{"$f":"VLOOKUP($AV24,'Vejehold 3'!$A$7:$P$23,'Opsamling, slagt+smågrise'!BA$2,FALSE)","v":{"$error":"#N/A"}},{"$f":"VLOOKUP($AV24,'Vejehold 3'!$A$7:$P$23,'Opsamling, slagt+smågrise'!BB$2,FALSE)","v":{"$error":"#N/A"}},{"$f":"VLOOKUP($AV24,'Vejehold 3'!$A$7:$P$23,'Opsamling, slagt+smågrise'!BC$2,FALSE)","v":{"$error":"#N/A"}},null,20,"1900-01-20",{"$f":"VLOOKUP($BF24,'Vejehold 4'!$A$7:$P$23,'Opsamling, slagt+smågrise'!BG$2,FALSE)","v":{"$error":"#N/A"}},{"$f":"VLOOKUP($BF24,'Vejehold 4'!$A$7:$P$23,'Opsamling, slagt+smågrise'!BH$2,FALSE)","v":{"$error":"#N/A"}},{"$f":"VLOOKUP($BF24,'Vejehold 4'!$A$7:$P$23,'Opsamling, slagt+smågrise'!BI$2,FALSE)","v":{"$error":"#N/A"}},{"$f":"VLOOKUP($BF24,'Vejehold 4'!$A$7:$P$23,'Opsamling, slagt+smågrise'!BJ$2,FALSE)","v":{"$error":"#N/A"}},{"$f":"VLOOKUP($BF24,'Vejehold 4'!$A$7:$P$23,'Opsamling, slagt+smågrise'!BK$2,FALSE)","v":{"$error":"#N/A"}},{"$f":"VLOOKUP($BF24,'Vejehold 4'!$A$7:$P$23,'Opsamling, slagt+smågrise'!BL$2,FALSE)","v":{"$error":"#N/A"}},{"$f":"VLOOKUP($BF24,'Vejehold 4'!$A$7:$P$23,'Opsamling, slagt+smågrise'!BM$2,FALSE)","v":{"$error":"#N/A"}},null,20,"1900-01-20",{"$f":"VLOOKUP($BP24,'Vejehold 5'!$A$7:$P$23,'Opsamling, slagt+smågrise'!BQ$2,FALSE)","v":{"$error":"#N/A"}},{"$f":"VLOOKUP($BP24,'Vejehold 5'!$A$7:$P$23,'Opsamling, slagt+smågrise'!BR$2,FALSE)","v":{"$error":"#N/A"}},{"$f":"VLOOKUP($BP24,'Vejehold 5'!$A$7:$P$23,'Opsamling, slagt+smågrise'!BS$2,FALSE)","v":{"$error":"#N/A"}},{"$f":"VLOOKUP($BP24,'Vejehold 5'!$A$7:$P$23,'Opsamling, slagt+smågrise'!BT$2,FALSE)","v":{"$error":"#N/A"}},{"$f":"VLOOKUP($BP24,'Vejehold 5'!$A$7:$P$23,'Opsamling, slagt+smågrise'!BU$2,FALSE)","v":{"$error":"#N/A"}},{"$f":"VLOOKUP($BP24,'Vejehold 5'!$A$7:$P$23,'Opsamling, slagt+smågrise'!BV$2,FALSE)","v":{"$error":"#N/A"}},{"$f":"VLOOKUP($BP24,'Vejehold 5'!$A$7:$P$23,'Opsamling, slagt+smågrise'!BW$2,FALSE)","v":{"$error":"#N/A"}},null,20,"1900-01-20",{"$f":"VLOOKUP($BZ24,'Vejehold 6'!$A$7:$P$23,'Opsamling, slagt+smågrise'!CA$2,FALSE)","v":{"$error":"#N/A"}},{"$f":"VLOOKUP($BZ24,'Vejehold 6'!$A$7:$P$23,'Opsamling, slagt+smågrise'!CB$2,FALSE)","v":{"$error":"#N/A"}},{"$f":"VLOOKUP($BZ24,'Vejehold 6'!$A$7:$P$23,'Opsamling, slagt+smågrise'!CC$2,FALSE)","v":{"$error":"#N/A"}},{"$f":"VLOOKUP($BZ24,'Vejehold 6'!$A$7:$P$23,'Opsamling, slagt+smågrise'!CD$2,FALSE)","v":{"$error":"#N/A"}},{"$f":"VLOOKUP($BZ24,'Vejehold 6'!$A$7:$P$23,'Opsamling, slagt+smågrise'!CE$2,FALSE)","v":{"$error":"#N/A"}},{"$f":"VLOOKUP($BZ24,'Vejehold 6'!$A$7:$P$23,'Opsamling, slagt+smågrise'!CF$2,FALSE)","v":{"$error":"#N/A"}},{"$f":"VLOOKUP($BZ24,'Vejehold 6'!$A$7:$P$23,'Opsamling, slagt+smågrise'!CG$2,FALSE)","v":{"$error":"#N/A"}}]
[null,28,{"$f":"'Vejehold 1'!$F11","v":0},{"$f":"'Vejehold 2'!$F11","v":0},{"$f":"'Vejehold 3'!$F11","v":0},{"$f":"'Vejehold 4'!$F11","v":0},{"$f":"'Vejehold 5'!$F11","v":0},{"$f":"'Vejehold 6'!$F11","v":0},null,null,null,null,null,null,null,null,null,null,null,null,null,null,null,null,null,null,21,"1900-01-21",{"$f":"VLOOKUP($AB25,'Vejehold 1'!$A$7:$P$23,'Opsamling, slagt+smågrise'!AC$2,FALSE)","v":{"$error":"#N/A"}},{"$f":"VLOOKUP($AB25,'Vejehold 1'!$A$7:$P$23,'Opsamling, slagt+smågrise'!AD$2,FALSE)","v":{"$error":"#N/A"}},{"$f":"VLOOKUP($AB25,'Vejehold 1'!$A$7:$P$23,'Opsamling, slagt+smågrise'!AE$2,FALSE)","v":{"$error":"#N/A"}},{"$f":"VLOOKUP($AB25,'Vejehold 1'!$A$7:$P$23,'Opsamling, slagt+smågrise'!AF$2,FALSE)","v":{"$error":"#N/A"}},{"$f":"VLOOKUP($AB25,'Vejehold 1'!$A$7:$P$23,'Opsamling, slagt+smågrise'!AG$2,FALSE)","v":{"$error":"#N/A"}},{"$f":"VLOOKUP($AB25,'Vejehold 1'!$A$7:$P$23,'Opsamling, slagt+smågrise'!AH$2,FALSE)","v":{"$error":"#N/A"}},{"$f":"VLOOKUP($AB25,'Vejehold 1'!$A$7:$P$23,'Opsamling, slagt+smågrise'!AI$2,FALSE)","v":{"$error":"#N/A"}},null,21,"1900-01-21",{"$f":"VLOOKUP($AL25,'Vejehold 2'!$A$7:$P$23,'Opsamling, slagt+smågrise'!AM$2,FALSE)","v":{"$error":"#N/A"}},{"$f":"VLOOKUP($AL25,'Vejehold 2'!$A$7:$P$23,'Opsamling, slagt+smågrise'!AN$2,FALSE)","v":{"$error":"#N/A"}},{"$f":"VLOOKUP($AL25,'Vejehold 2'!$A$7:$P$23,'Opsamling, slagt+smågrise'!AO$2,FALSE)","v":{"$error":"#N/A"}},{"$f":"VLOOKUP($AL25,'Vejehold 2'!$A$7:$P$23,'Opsamling, slagt+smågrise'!AP$2,FALSE)","v":{"$error":"#N/A"}},{"$f":"VLOOKUP($AL25,'Vejehold 2'!$A$7:$P$23,'Opsamling, slagt+smågrise'!AQ$2,FALSE)","v":{"$error":"#N/A"}},{"$f":"VLOOKUP($AL25,'Vejehold 2'!$A$7:$P$23,'Opsamling, slagt+smågrise'!AR$2,FALSE)","v":{"$error":"#N/A"}},{"$f":"VLOOKUP($AL25,'Vejehold 2'!$A$7:$P$23,'Opsamling, slagt+smågrise'!AS$2,FALSE)","v":{"$error":"#N/A"}},null,21,"1900-01-21",{"$f":"VLOOKUP($AV25,'Vejehold 3'!$A$7:$P$23,'Opsamling, slagt+smågrise'!AW$2,FALSE)","v":{"$error":"#N/A"}},{"$f":"VLOOKUP($AV25,'Vejehold 3'!$A$7:$P$23,'Opsamling, slagt+smågrise'!AX$2,FALSE)","v":{"$error":"#N/A"}},{"$f":"VLOOKUP($AV25,'Vejehold 3'!$A$7:$P$23,'Opsamling, slagt+smågrise'!AY$2,FALSE)","v":{"$error":"#N/A"}},{"$f":"VLOOKUP($AV25,'Vejehold 3'!$A$7:$P$23,'Opsamling, slagt+smågrise'!AZ$2,FALSE)","v":{"$error":"#N/A"}},{"$f":"VLOOKUP($AV25,'Vejehold 3'!$A$7:$P$23,'Opsamling, slagt+smågrise'!BA$2,FALSE)","v":{"$error":"#N/A"}},{"$f":"VLOOKUP($AV25,'Vejehold 3'!$A$7:$P$23,'Opsamling, slagt+smågrise'!BB$2,FALSE)","v":{"$error":"#N/A"}},{"$f":"VLOOKUP($AV25,'Vejehold 3'!$A$7:$P$23,'Opsamling, slagt+smågrise'!BC$2,FALSE)","v":{"$error":"#N/A"}},null,21,"1900-01-21",{"$f":"VLOOKUP($BF25,'Vejehold 4'!$A$7:$P$23,'Opsamling, slagt+smågrise'!BG$2,FALSE)","v":{"$error":"#N/A"}},{"$f":"VLOOKUP($BF25,'Vejehold 4'!$A$7:$P$23,'Opsamling, slagt+smågrise'!BH$2,FALSE)","v":{"$error":"#N/A"}},{"$f":"VLOOKUP($BF25,'Vejehold 4'!$A$7:$P$23,'Opsamling, slagt+smågrise'!BI$2,FALSE)","v":{"$error":"#N/A"}},{"$f":"VLOOKUP($BF25,'Vejehold 4'!$A$7:$P$23,'Opsamling, slagt+smågrise'!BJ$2,FALSE)","v":{"$error":"#N/A"}},{"$f":"VLOOKUP($BF25,'Vejehold 4'!$A$7:$P$23,'Opsamling, slagt+smågrise'!BK$2,FALSE)","v":{"$error":"#N/A"}},{"$f":"VLOOKUP($BF25,'Vejehold 4'!$A$7:$P$23,'Opsamling, slagt+smågrise'!BL$2,FALSE)","v":{"$error":"#N/A"}},{"$f":"VLOOKUP($BF25,'Vejehold 4'!$A$7:$P$23,'Opsamling, slagt+smågrise'!BM$2,FALSE)","v":{"$error":"#N/A"}},null,21,"1900-01-21",{"$f":"VLOOKUP($BP25,'Vejehold 5'!$A$7:$P$23,'Opsamling, slagt+smågrise'!BQ$2,FALSE)","v":{"$error":"#N/A"}},{"$f":"VLOOKUP($BP25,'Vejehold 5'!$A$7:$P$23,'Opsamling, slagt+smågrise'!BR$2,FALSE)","v":{"$error":"#N/A"}},{"$f":"VLOOKUP($BP25,'Vejehold 5'!$A$7:$P$23,'Opsamling, slagt+smågrise'!BS$2,FALSE)","v":{"$error":"#N/A"}},{"$f":"VLOOKUP($BP25,'Vejehold 5'!$A$7:$P$23,'Opsamling, slagt+smågrise'!BT$2,FALSE)","v":{"$error":"#N/A"}},{"$f":"VLOOKUP($BP25,'Vejehold 5'!$A$7:$P$23,'Opsamling, slagt+smågrise'!BU$2,FALSE)","v":{"$error":"#N/A"}},{"$f":"VLOOKUP($BP25,'Vejehold 5'!$A$7:$P$23,'Opsamling, slagt+smågrise'!BV$2,FALSE)","v":{"$error":"#N/A"}},{"$f":"VLOOKUP($BP25,'Vejehold 5'!$A$7:$P$23,'Opsamling, slagt+smågrise'!BW$2,FALSE)","v":{"$error":"#N/A"}},null,21,"1900-01-21",{"$f":"VLOOKUP($BZ25,'Vejehold 6'!$A$7:$P$23,'Opsamling, slagt+smågrise'!CA$2,FALSE)","v":{"$error":"#N/A"}},{"$f":"VLOOKUP($BZ25,'Vejehold 6'!$A$7:$P$23,'Opsamling, slagt+smågrise'!CB$2,FALSE)","v":{"$error":"#N/A"}},{"$f":"VLOOKUP($BZ25,'Vejehold 6'!$A$7:$P$23,'Opsamling, slagt+smågrise'!CC$2,FALSE)","v":{"$error":"#N/A"}},{"$f":"VLOOKUP($BZ25,'Vejehold 6'!$A$7:$P$23,'Opsamling, slagt+smågrise'!CD$2,FALSE)","v":{"$error":"#N/A"}},{"$f":"VLOOKUP($BZ25,'Vejehold 6'!$A$7:$P$23,'Opsamling, slagt+smågrise'!CE$2,FALSE)","v":{"$error":"#N/A"}},{"$f":"VLOOKUP($BZ25,'Vejehold 6'!$A$7:$P$23,'Opsamling, slagt+smågrise'!CF$2,FALSE)","v":{"$error":"#N/A"}},{"$f":"VLOOKUP($BZ25,'Vejehold 6'!$A$7:$P$23,'Opsamling, slagt+smågrise'!CG$2,FALSE)","v":{"$error":"#N/A"}}]
[null,35,{"$f":"'Vejehold 1'!$F12","v":0},{"$f":"'Vejehold 2'!$F12","v":0},{"$f":"'Vejehold 3'!$F12","v":0},{"$f":"'Vejehold 4'!$F12","v":0},{"$f":"'Vejehold 5'!$F12","v":0},{"$f":"'Vejehold 6'!$F12","v":0},null,null,null,null,null,null,null,null,null,null,null,null,null,null,null,null,null,null,22,"1900-01-22",{"$f":"VLOOKUP($AB26,'Vejehold 1'!$A$7:$P$23,'Opsamling, slagt+smågrise'!AC$2,FALSE)","v":{"$error":"#N/A"}},{"$f":"VLOOKUP($AB26,'Vejehold 1'!$A$7:$P$23,'Opsamling, slagt+smågrise'!AD$2,FALSE)","v":{"$error":"#N/A"}},{"$f":"VLOOKUP($AB26,'Vejehold 1'!$A$7:$P$23,'Opsamling, slagt+smågrise'!AE$2,FALSE)","v":{"$error":"#N/A"}},{"$f":"VLOOKUP($AB26,'Vejehold 1'!$A$7:$P$23,'Opsamling, slagt+smågrise'!AF$2,FALSE)","v":{"$error":"#N/A"}},{"$f":"VLOOKUP($AB26,'Vejehold 1'!$A$7:$P$23,'Opsamling, slagt+smågrise'!AG$2,FALSE)","v":{"$error":"#N/A"}},{"$f":"VLOOKUP($AB26,'Vejehold 1'!$A$7:$P$23,'Opsamling, slagt+smågrise'!AH$2,FALSE)","v":{"$error":"#N/A"}},{"$f":"VLOOKUP($AB26,'Vejehold 1'!$A$7:$P$23,'Opsamling, slagt+smågrise'!AI$2,FALSE)","v":{"$error":"#N/A"}},null,22,"1900-01-22",{"$f":"VLOOKUP($AL26,'Vejehold 2'!$A$7:$P$23,'Opsamling, slagt+smågrise'!AM$2,FALSE)","v":{"$error":"#N/A"}},{"$f":"VLOOKUP($AL26,'Vejehold 2'!$A$7:$P$23,'Opsamling, slagt+smågrise'!AN$2,FALSE)","v":{"$error":"#N/A"}},{"$f":"VLOOKUP($AL26,'Vejehold 2'!$A$7:$P$23,'Opsamling, slagt+smågrise'!AO$2,FALSE)","v":{"$error":"#N/A"}},{"$f":"VLOOKUP($AL26,'Vejehold 2'!$A$7:$P$23,'Opsamling, slagt+smågrise'!AP$2,FALSE)","v":{"$error":"#N/A"}},{"$f":"VLOOKUP($AL26,'Vejehold 2'!$A$7:$P$23,'Opsamling, slagt+smågrise'!AQ$2,FALSE)","v":{"$error":"#N/A"}},{"$f":"VLOOKUP($AL26,'Vejehold 2'!$A$7:$P$23,'Opsamling, slagt+smågrise'!AR$2,FALSE)","v":{"$error":"#N/A"}},{"$f":"VLOOKUP($AL26,'Vejehold 2'!$A$7:$P$23,'Opsamling, slagt+smågrise'!AS$2,FALSE)","v":{"$error":"#N/A"}},null,22,"1900-01-22",{"$f":"VLOOKUP($AV26,'Vejehold 3'!$A$7:$P$23,'Opsamling, slagt+smågrise'!AW$2,FALSE)","v":{"$error":"#N/A"}},{"$f":"VLOOKUP($AV26,'Vejehold 3'!$A$7:$P$23,'Opsamling, slagt+smågrise'!AX$2,FALSE)","v":{"$error":"#N/A"}},{"$f":"VLOOKUP($AV26,'Vejehold 3'!$A$7:$P$23,'Opsamling, slagt+smågrise'!AY$2,FALSE)","v":{"$error":"#N/A"}},{"$f":"VLOOKUP($AV26,'Vejehold 3'!$A$7:$P$23,'Opsamling, slagt+smågrise'!AZ$2,FALSE)","v":{"$error":"#N/A"}},{"$f":"VLOOKUP($AV26,'Vejehold 3'!$A$7:$P$23,'Opsamling, slagt+smågrise'!BA$2,FALSE)","v":{"$error":"#N/A"}},{"$f":"VLOOKUP($AV26,'Vejehold 3'!$A$7:$P$23,'Opsamling, slagt+smågrise'!BB$2,FALSE)","v":{"$error":"#N/A"}},{"$f":"VLOOKUP($AV26,'Vejehold 3'!$A$7:$P$23,'Opsamling, slagt+smågrise'!BC$2,FALSE)","v":{"$error":"#N/A"}},null,22,"1900-01-22",{"$f":"VLOOKUP($BF26,'Vejehold 4'!$A$7:$P$23,'Opsamling, slagt+smågrise'!BG$2,FALSE)","v":{"$error":"#N/A"}},{"$f":"VLOOKUP($BF26,'Vejehold 4'!$A$7:$P$23,'Opsamling, slagt+smågrise'!BH$2,FALSE)","v":{"$error":"#N/A"}},{"$f":"VLOOKUP($BF26,'Vejehold 4'!$A$7:$P$23,'Opsamling, slagt+smågrise'!BI$2,FALSE)","v":{"$error":"#N/A"}},{"$f":"VLOOKUP($BF26,'Vejehold 4'!$A$7:$P$23,'Opsamling, slagt+smågrise'!BJ$2,FALSE)","v":{"$error":"#N/A"}},{"$f":"VLOOKUP($BF26,'Vejehold 4'!$A$7:$P$23,'Opsamling, slagt+smågrise'!BK$2,FALSE)","v":{"$error":"#N/A"}},{"$f":"VLOOKUP($BF26,'Vejehold 4'!$A$7:$P$23,'Opsamling, slagt+smågrise'!BL$2,FALSE)","v":{"$error":"#N/A"}},{"$f":"VLOOKUP($BF26,'Vejehold 4'!$A$7:$P$23,'Opsamling, slagt+smågrise'!BM$2,FALSE)","v":{"$error":"#N/A"}},null,22,"1900-01-22",{"$f":"VLOOKUP($BP26,'Vejehold 5'!$A$7:$P$23,'Opsamling, slagt+smågrise'!BQ$2,FALSE)","v":{"$error":"#N/A"}},{"$f":"VLOOKUP($BP26,'Vejehold 5'!$A$7:$P$23,'Opsamling, slagt+smågrise'!BR$2,FALSE)","v":{"$error":"#N/A"}},{"$f":"VLOOKUP($BP26,'Vejehold 5'!$A$7:$P$23,'Opsamling, slagt+smågrise'!BS$2,FALSE)","v":{"$error":"#N/A"}},{"$f":"VLOOKUP($BP26,'Vejehold 5'!$A$7:$P$23,'Opsamling, slagt+smågrise'!BT$2,FALSE)","v":{"$error":"#N/A"}},{"$f":"VLOOKUP($BP26,'Vejehold 5'!$A$7:$P$23,'Opsamling, slagt+smågrise'!BU$2,FALSE)","v":{"$error":"#N/A"}},{"$f":"VLOOKUP($BP26,'Vejehold 5'!$A$7:$P$23,'Opsamling, slagt+smågrise'!BV$2,FALSE)","v":{"$error":"#N/A"}},{"$f":"VLOOKUP($BP26,'Vejehold 5'!$A$7:$P$23,'Opsamling, slagt+smågrise'!BW$2,FALSE)","v":{"$error":"#N/A"}},null,22,"1900-01-22",{"$f":"VLOOKUP($BZ26,'Vejehold 6'!$A$7:$P$23,'Opsamling, slagt+smågrise'!CA$2,FALSE)","v":{"$error":"#N/A"}},{"$f":"VLOOKUP($BZ26,'Vejehold 6'!$A$7:$P$23,'Opsamling, slagt+smågrise'!CB$2,FALSE)","v":{"$error":"#N/A"}},{"$f":"VLOOKUP($BZ26,'Vejehold 6'!$A$7:$P$23,'Opsamling, slagt+smågrise'!CC$2,FALSE)","v":{"$error":"#N/A"}},{"$f":"VLOOKUP($BZ26,'Vejehold 6'!$A$7:$P$23,'Opsamling, slagt+smågrise'!CD$2,FALSE)","v":{"$error":"#N/A"}},{"$f":"VLOOKUP($BZ26,'Vejehold 6'!$A$7:$P$23,'Opsamling, slagt+smågrise'!CE$2,FALSE)","v":{"$error":"#N/A"}},{"$f":"VLOOKUP($BZ26,'Vejehold 6'!$A$7:$P$23,'Opsamling, slagt+smågrise'!CF$2,FALSE)","v":{"$error":"#N/A"}},{"$f":"VLOOKUP($BZ26,'Vejehold 6'!$A$7:$P$23,'Opsamling, slagt+smågrise'!CG$2,FALSE)","v":{"$error":"#N/A"}}]
[null,42,{"$f":"'Vejehold 1'!$F13","v":0},{"$f":"'Vejehold 2'!$F13","v":0},{"$f":"'Vejehold 3'!$F13","v":0},{"$f":"'Vejehold 4'!$F13","v":0},{"$f":"'Vejehold 5'!$F13","v":0},{"$f":"'Vejehold 6'!$F13","v":0},null,null,null,null,null,null,null,null,null,null,null,null,null,null,null,null,null,null,23,"1900-01-23",{"$f":"VLOOKUP($AB27,'Vejehold 1'!$A$7:$P$23,'Opsamling, slagt+smågrise'!AC$2,FALSE)","v":{"$error":"#N/A"}},{"$f":"VLOOKUP($AB27,'Vejehold 1'!$A$7:$P$23,'Opsamling, slagt+smågrise'!AD$2,FALSE)","v":{"$error":"#N/A"}},{"$f":"VLOOKUP($AB27,'Vejehold 1'!$A$7:$P$23,'Opsamling, slagt+smågrise'!AE$2,FALSE)","v":{"$error":"#N/A"}},{"$f":"VLOOKUP($AB27,'Vejehold 1'!$A$7:$P$23,'Opsamling, slagt+smågrise'!AF$2,FALSE)","v":{"$error":"#N/A"}},{"$f":"VLOOKUP($AB27,'Vejehold 1'!$A$7:$P$23,'Opsamling, slagt+smågrise'!AG$2,FALSE)","v":{"$error":"#N/A"}},{"$f":"VLOOKUP($AB27,'Vejehold 1'!$A$7:$P$23,'Opsamling, slagt+smågrise'!AH$2,FALSE)","v":{"$error":"#N/A"}},{"$f":"VLOOKUP($AB27,'Vejehold 1'!$A$7:$P$23,'Opsamling, slagt+smågrise'!AI$2,FALSE)","v":{"$error":"#N/A"}},null,23,"1900-01-23",{"$f":"VLOOKUP($AL27,'Vejehold 2'!$A$7:$P$23,'Opsamling, slagt+smågrise'!AM$2,FALSE)","v":{"$error":"#N/A"}},{"$f":"VLOOKUP($AL27,'Vejehold 2'!$A$7:$P$23,'Opsamling, slagt+smågrise'!AN$2,FALSE)","v":{"$error":"#N/A"}},{"$f":"VLOOKUP($AL27,'Vejehold 2'!$A$7:$P$23,'Opsamling, slagt+smågrise'!AO$2,FALSE)","v":{"$error":"#N/A"}},{"$f":"VLOOKUP($AL27,'Vejehold 2'!$A$7:$P$23,'Opsamling, slagt+smågrise'!AP$2,FALSE)","v":{"$error":"#N/A"}},{"$f":"VLOOKUP($AL27,'Vejehold 2'!$A$7:$P$23,'Opsamling, slagt+smågrise'!AQ$2,FALSE)","v":{"$error":"#N/A"}},{"$f":"VLOOKUP($AL27,'Vejehold 2'!$A$7:$P$23,'Opsamling, slagt+smågrise'!AR$2,FALSE)","v":{"$error":"#N/A"}},{"$f":"VLOOKUP($AL27,'Vejehold 2'!$A$7:$P$23,'Opsamling, slagt+smågrise'!AS$2,FALSE)","v":{"$error":"#N/A"}},null,23,"1900-01-23",{"$f":"VLOOKUP($AV27,'Vejehold 3'!$A$7:$P$23,'Opsamling, slagt+smågrise'!AW$2,FALSE)","v":{"$error":"#N/A"}},{"$f":"VLOOKUP($AV27,'Vejehold 3'!$A$7:$P$23,'Opsamling, slagt+smågrise'!AX$2,FALSE)","v":{"$error":"#N/A"}},{"$f":"VLOOKUP($AV27,'Vejehold 3'!$A$7:$P$23,'Opsamling, slagt+smågrise'!AY$2,FALSE)","v":{"$error":"#N/A"}},{"$f":"VLOOKUP($AV27,'Vejehold 3'!$A$7:$P$23,'Opsamling, slagt+smågrise'!AZ$2,FALSE)","v":{"$error":"#N/A"}},{"$f":"VLOOKUP($AV27,'Vejehold 3'!$A$7:$P$23,'Opsamling, slagt+smågrise'!BA$2,FALSE)","v":{"$error":"#N/A"}},{"$f":"VLOOKUP($AV27,'Vejehold 3'!$A$7:$P$23,'Opsamling, slagt+smågrise'!BB$2,FALSE)","v":{"$error":"#N/A"}},{"$f":"VLOOKUP($AV27,'Vejehold 3'!$A$7:$P$23,'Opsamling, slagt+smågrise'!BC$2,FALSE)","v":{"$error":"#N/A"}},null,23,"1900-01-23",{"$f":"VLOOKUP($BF27,'Vejehold 4'!$A$7:$P$23,'Opsamling, slagt+smågrise'!BG$2,FALSE)","v":{"$error":"#N/A"}},{"$f":"VLOOKUP($BF27,'Vejehold 4'!$A$7:$P$23,'Opsamling, slagt+smågrise'!BH$2,FALSE)","v":{"$error":"#N/A"}},{"$f":"VLOOKUP($BF27,'Vejehold 4'!$A$7:$P$23,'Opsamling, slagt+smågrise'!BI$2,FALSE)","v":{"$error":"#N/A"}},{"$f":"VLOOKUP($BF27,'Vejehold 4'!$A$7:$P$23,'Opsamling, slagt+smågrise'!BJ$2,FALSE)","v":{"$error":"#N/A"}},{"$f":"VLOOKUP($BF27,'Vejehold 4'!$A$7:$P$23,'Opsamling, slagt+smågrise'!BK$2,FALSE)","v":{"$error":"#N/A"}},{"$f":"VLOOKUP($BF27,'Vejehold 4'!$A$7:$P$23,'Opsamling, slagt+smågrise'!BL$2,FALSE)","v":{"$error":"#N/A"}},{"$f":"VLOOKUP($BF27,'Vejehold 4'!$A$7:$P$23,'Opsamling, slagt+smågrise'!BM$2,FALSE)","v":{"$error":"#N/A"}},null,23,"1900-01-23",{"$f":"VLOOKUP($BP27,'Vejehold 5'!$A$7:$P$23,'Opsamling, slagt+smågrise'!BQ$2,FALSE)","v":{"$error":"#N/A"}},{"$f":"VLOOKUP($BP27,'Vejehold 5'!$A$7:$P$23,'Opsamling, slagt+smågrise'!BR$2,FALSE)","v":{"$error":"#N/A"}},{"$f":"VLOOKUP($BP27,'Vejehold 5'!$A$7:$P$23,'Opsamling, slagt+smågrise'!BS$2,FALSE)","v":{"$error":"#N/A"}},{"$f":"VLOOKUP($BP27,'Vejehold 5'!$A$7:$P$23,'Opsamling, slagt+smågrise'!BT$2,FALSE)","v":{"$error":"#N/A"}},{"$f":"VLOOKUP($BP27,'Vejehold 5'!$A$7:$P$23,'Opsamling, slagt+smågrise'!BU$2,FALSE)","v":{"$error":"#N/A"}},{"$f":"VLOOKUP($BP27,'Vejehold 5'!$A$7:$P$23,'Opsamling, slagt+smågrise'!BV$2,FALSE)","v":{"$error":"#N/A"}},{"$f":"VLOOKUP($BP27,'Vejehold 5'!$A$7:$P$23,'Opsamling, slagt+smågrise'!BW$2,FALSE)","v":{"$error":"#N/A"}},null,23,"1900-01-23",{"$f":"VLOOKUP($BZ27,'Vejehold 6'!$A$7:$P$23,'Opsamling, slagt+smågrise'!CA$2,FALSE)","v":{"$error":"#N/A"}},{"$f":"VLOOKUP($BZ27,'Vejehold 6'!$A$7:$P$23,'Opsamling, slagt+smågrise'!CB$2,FALSE)","v":{"$error":"#N/A"}},{"$f":"VLOOKUP($BZ27,'Vejehold 6'!$A$7:$P$23,'Opsamling, slagt+smågrise'!CC$2,FALSE)","v":{"$error":"#N/A"}},{"$f":"VLOOKUP($BZ27,'Vejehold 6'!$A$7:$P$23,'Opsamling, slagt+smågrise'!CD$2,FALSE)","v":{"$error":"#N/A"}},{"$f":"VLOOKUP($BZ27,'Vejehold 6'!$A$7:$P$23,'Opsamling, slagt+smågrise'!CE$2,FALSE)","v":{"$error":"#N/A"}},{"$f":"VLOOKUP($BZ27,'Vejehold 6'!$A$7:$P$23,'Opsamling, slagt+smågrise'!CF$2,FALSE)","v":{"$error":"#N/A"}},{"$f":"VLOOKUP($BZ27,'Vejehold 6'!$A$7:$P$23,'Opsamling, slagt+smågrise'!CG$2,FALSE)","v":{"$error":"#N/A"}}]
[null,49,{"$f":"'Vejehold 1'!$F14","v":0},{"$f":"'Vejehold 2'!$F14","v":0},{"$f":"'Vejehold 3'!$F14","v":0},{"$f":"'Vejehold 4'!$F14","v":0},{"$f":"'Vejehold 5'!$F14","v":0},{"$f":"'Vejehold 6'!$F14","v":0},null,null,null,null,null,null,null,null,null,null,null,null,null,null,null,null,null,null,24,"1900-01-24",{"$f":"VLOOKUP($AB28,'Vejehold 1'!$A$7:$P$23,'Opsamling, slagt+smågrise'!AC$2,FALSE)","v":{"$error":"#N/A"}},{"$f":"VLOOKUP($AB28,'Vejehold 1'!$A$7:$P$23,'Opsamling, slagt+smågrise'!AD$2,FALSE)","v":{"$error":"#N/A"}},{"$f":"VLOOKUP($AB28,'Vejehold 1'!$A$7:$P$23,'Opsamling, slagt+smågrise'!AE$2,FALSE)","v":{"$error":"#N/A"}},{"$f":"VLOOKUP($AB28,'Vejehold 1'!$A$7:$P$23,'Opsamling, slagt+smågrise'!AF$2,FALSE)","v":{"$error":"#N/A"}},{"$f":"VLOOKUP($AB28,'Vejehold 1'!$A$7:$P$23,'Opsamling, slagt+smågrise'!AG$2,FALSE)","v":{"$error":"#N/A"}},{"$f":"VLOOKUP($AB28,'Vejehold 1'!$A$7:$P$23,'Opsamling, slagt+smågrise'!AH$2,FALSE)","v":{"$error":"#N/A"}},{"$f":"VLOOKUP($AB28,'Vejehold 1'!$A$7:$P$23,'Opsamling, slagt+smågrise'!AI$2,FALSE)","v":{"$error":"#N/A"}},null,24,"1900-01-24",{"$f":"VLOOKUP($AL28,'Vejehold 2'!$A$7:$P$23,'Opsamling, slagt+smågrise'!AM$2,FALSE)","v":{"$error":"#N/A"}},{"$f":"VLOOKUP($AL28,'Vejehold 2'!$A$7:$P$23,'Opsamling, slagt+smågrise'!AN$2,FALSE)","v":{"$error":"#N/A"}},{"$f":"VLOOKUP($AL28,'Vejehold 2'!$A$7:$P$23,'Opsamling, slagt+smågrise'!AO$2,FALSE)","v":{"$error":"#N/A"}},{"$f":"VLOOKUP($AL28,'Vejehold 2'!$A$7:$P$23,'Opsamling, slagt+smågrise'!AP$2,FALSE)","v":{"$error":"#N/A"}},{"$f":"VLOOKUP($AL28,'Vejehold 2'!$A$7:$P$23,'Opsamling, slagt+smågrise'!AQ$2,FALSE)","v":{"$error":"#N/A"}},{"$f":"VLOOKUP($AL28,'Vejehold 2'!$A$7:$P$23,'Opsamling, slagt+smågrise'!AR$2,FALSE)","v":{"$error":"#N/A"}},{"$f":"VLOOKUP($AL28,'Vejehold 2'!$A$7:$P$23,'Opsamling, slagt+smågrise'!AS$2,FALSE)","v":{"$error":"#N/A"}},null,24,"1900-01-24",{"$f":"VLOOKUP($AV28,'Vejehold 3'!$A$7:$P$23,'Opsamling, slagt+smågrise'!AW$2,FALSE)","v":{"$error":"#N/A"}},{"$f":"VLOOKUP($AV28,'Vejehold 3'!$A$7:$P$23,'Opsamling, slagt+smågrise'!AX$2,FALSE)","v":{"$error":"#N/A"}},{"$f":"VLOOKUP($AV28,'Vejehold 3'!$A$7:$P$23,'Opsamling, slagt+smågrise'!AY$2,FALSE)","v":{"$error":"#N/A"}},{"$f":"VLOOKUP($AV28,'Vejehold 3'!$A$7:$P$23,'Opsamling, slagt+smågrise'!AZ$2,FALSE)","v":{"$error":"#N/A"}},{"$f":"VLOOKUP($AV28,'Vejehold 3'!$A$7:$P$23,'Opsamling, slagt+smågrise'!BA$2,FALSE)","v":{"$error":"#N/A"}},{"$f":"VLOOKUP($AV28,'Vejehold 3'!$A$7:$P$23,'Opsamling, slagt+smågrise'!BB$2,FALSE)","v":{"$error":"#N/A"}},{"$f":"VLOOKUP($AV28,'Vejehold 3'!$A$7:$P$23,'Opsamling, slagt+smågrise'!BC$2,FALSE)","v":{"$error":"#N/A"}},null,24,"1900-01-24",{"$f":"VLOOKUP($BF28,'Vejehold 4'!$A$7:$P$23,'Opsamling, slagt+smågrise'!BG$2,FALSE)","v":{"$error":"#N/A"}},{"$f":"VLOOKUP($BF28,'Vejehold 4'!$A$7:$P$23,'Opsamling, slagt+smågrise'!BH$2,FALSE)","v":{"$error":"#N/A"}},{"$f":"VLOOKUP($BF28,'Vejehold 4'!$A$7:$P$23,'Opsamling, slagt+smågrise'!BI$2,FALSE)","v":{"$error":"#N/A"}},{"$f":"VLOOKUP($BF28,'Vejehold 4'!$A$7:$P$23,'Opsamling, slagt+smågrise'!BJ$2,FALSE)","v":{"$error":"#N/A"}},{"$f":"VLOOKUP($BF28,'Vejehold 4'!$A$7:$P$23,'Opsamling, slagt+smågrise'!BK$2,FALSE)","v":{"$error":"#N/A"}},{"$f":"VLOOKUP($BF28,'Vejehold 4'!$A$7:$P$23,'Opsamling, slagt+smågrise'!BL$2,FALSE)","v":{"$error":"#N/A"}},{"$f":"VLOOKUP($BF28,'Vejehold 4'!$A$7:$P$23,'Opsamling, slagt+smågrise'!BM$2,FALSE)","v":{"$error":"#N/A"}},null,24,"1900-01-24",{"$f":"VLOOKUP($BP28,'Vejehold 5'!$A$7:$P$23,'Opsamling, slagt+smågrise'!BQ$2,FALSE)","v":{"$error":"#N/A"}},{"$f":"VLOOKUP($BP28,'Vejehold 5'!$A$7:$P$23,'Opsamling, slagt+smågrise'!BR$2,FALSE)","v":{"$error":"#N/A"}},{"$f":"VLOOKUP($BP28,'Vejehold 5'!$A$7:$P$23,'Opsamling, slagt+smågrise'!BS$2,FALSE)","v":{"$error":"#N/A"}},{"$f":"VLOOKUP($BP28,'Vejehold 5'!$A$7:$P$23,'Opsamling, slagt+smågrise'!BT$2,FALSE)","v":{"$error":"#N/A"}},{"$f":"VLOOKUP($BP28,'Vejehold 5'!$A$7:$P$23,'Opsamling, slagt+smågrise'!BU$2,FALSE)","v":{"$error":"#N/A"}},{"$f":"VLOOKUP($BP28,'Vejehold 5'!$A$7:$P$23,'Opsamling, slagt+smågrise'!BV$2,FALSE)","v":{"$error":"#N/A"}},{"$f":"VLOOKUP($BP28,'Vejehold 5'!$A$7:$P$23,'Opsamling, slagt+smågrise'!BW$2,FALSE)","v":{"$error":"#N/A"}},null,24,"1900-01-24",{"$f":"VLOOKUP($BZ28,'Vejehold 6'!$A$7:$P$23,'Opsamling, slagt+smågrise'!CA$2,FALSE)","v":{"$error":"#N/A"}},{"$f":"VLOOKUP($BZ28,'Vejehold 6'!$A$7:$P$23,'Opsamling, slagt+smågrise'!CB$2,FALSE)","v":{"$error":"#N/A"}},{"$f":"VLOOKUP($BZ28,'Vejehold 6'!$A$7:$P$23,'Opsamling, slagt+smågrise'!CC$2,FALSE)","v":{"$error":"#N/A"}},{"$f":"VLOOKUP($BZ28,'Vejehold 6'!$A$7:$P$23,'Opsamling, slagt+smågrise'!CD$2,FALSE)","v":{"$error":"#N/A"}},{"$f":"VLOOKUP($BZ28,'Vejehold 6'!$A$7:$P$23,'Opsamling, slagt+smågrise'!CE$2,FALSE)","v":{"$error":"#N/A"}},{"$f":"VLOOKUP($BZ28,'Vejehold 6'!$A$7:$P$23,'Opsamling, slagt+smågrise'!CF$2,FALSE)","v":{"$error":"#N/A"}},{"$f":"VLOOKUP($BZ28,'Vejehold 6'!$A$7:$P$23,'Opsamling, slagt+smågrise'!CG$2,FALSE)","v":{"$error":"#N/A"}}]
[null,56,{"$f":"'Vejehold 1'!$F15","v":0},{"$f":"'Vejehold 2'!$F15","v":0},{"$f":"'Vejehold 3'!$F15","v":0},{"$f":"'Vejehold 4'!$F15","v":0},{"$f":"'Vejehold 5'!$F15","v":0},{"$f":"'Vejehold 6'!$F15","v":0},null,null,null,null,null,null,null,null,null,null,null,null,null,null,null,null,null,null,25,"1900-01-25",{"$f":"VLOOKUP($AB29,'Vejehold 1'!$A$7:$P$23,'Opsamling, slagt+smågrise'!AC$2,FALSE)","v":{"$error":"#N/A"}},{"$f":"VLOOKUP($AB29,'Vejehold 1'!$A$7:$P$23,'Opsamling, slagt+smågrise'!AD$2,FALSE)","v":{"$error":"#N/A"}},{"$f":"VLOOKUP($AB29,'Vejehold 1'!$A$7:$P$23,'Opsamling, slagt+smågrise'!AE$2,FALSE)","v":{"$error":"#N/A"}},{"$f":"VLOOKUP($AB29,'Vejehold 1'!$A$7:$P$23,'Opsamling, slagt+smågrise'!AF$2,FALSE)","v":{"$error":"#N/A"}},{"$f":"VLOOKUP($AB29,'Vejehold 1'!$A$7:$P$23,'Opsamling, slagt+smågrise'!AG$2,FALSE)","v":{"$error":"#N/A"}},{"$f":"VLOOKUP($AB29,'Vejehold 1'!$A$7:$P$23,'Opsamling, slagt+smågrise'!AH$2,FALSE)","v":{"$error":"#N/A"}},{"$f":"VLOOKUP($AB29,'Vejehold 1'!$A$7:$P$23,'Opsamling, slagt+smågrise'!AI$2,FALSE)","v":{"$error":"#N/A"}},null,25,"1900-01-25",{"$f":"VLOOKUP($AL29,'Vejehold 2'!$A$7:$P$23,'Opsamling, slagt+smågrise'!AM$2,FALSE)","v":{"$error":"#N/A"}},{"$f":"VLOOKUP($AL29,'Vejehold 2'!$A$7:$P$23,'Opsamling, slagt+smågrise'!AN$2,FALSE)","v":{"$error":"#N/A"}},{"$f":"VLOOKUP($AL29,'Vejehold 2'!$A$7:$P$23,'Opsamling, slagt+smågrise'!AO$2,FALSE)","v":{"$error":"#N/A"}},{"$f":"VLOOKUP($AL29,'Vejehold 2'!$A$7:$P$23,'Opsamling, slagt+smågrise'!AP$2,FALSE)","v":{"$error":"#N/A"}},{"$f":"VLOOKUP($AL29,'Vejehold 2'!$A$7:$P$23,'Opsamling, slagt+smågrise'!AQ$2,FALSE)","v":{"$error":"#N/A"}},{"$f":"VLOOKUP($AL29,'Vejehold 2'!$A$7:$P$23,'Opsamling, slagt+smågrise'!AR$2,FALSE)","v":{"$error":"#N/A"}},{"$f":"VLOOKUP($AL29,'Vejehold 2'!$A$7:$P$23,'Opsamling, slagt+smågrise'!AS$2,FALSE)","v":{"$error":"#N/A"}},null,25,"1900-01-25",{"$f":"VLOOKUP($AV29,'Vejehold 3'!$A$7:$P$23,'Opsamling, slagt+smågrise'!AW$2,FALSE)","v":{"$error":"#N/A"}},{"$f":"VLOOKUP($AV29,'Vejehold 3'!$A$7:$P$23,'Opsamling, slagt+smågrise'!AX$2,FALSE)","v":{"$error":"#N/A"}},{"$f":"VLOOKUP($AV29,'Vejehold 3'!$A$7:$P$23,'Opsamling, slagt+smågrise'!AY$2,FALSE)","v":{"$error":"#N/A"}},{"$f":"VLOOKUP($AV29,'Vejehold 3'!$A$7:$P$23,'Opsamling, slagt+smågrise'!AZ$2,FALSE)","v":{"$error":"#N/A"}},{"$f":"VLOOKUP($AV29,'Vejehold 3'!$A$7:$P$23,'Opsamling, slagt+smågrise'!BA$2,FALSE)","v":{"$error":"#N/A"}},{"$f":"VLOOKUP($AV29,'Vejehold 3'!$A$7:$P$23,'Opsamling, slagt+smågrise'!BB$2,FALSE)","v":{"$error":"#N/A"}},{"$f":"VLOOKUP($AV29,'Vejehold 3'!$A$7:$P$23,'Opsamling, slagt+smågrise'!BC$2,FALSE)","v":{"$error":"#N/A"}},null,25,"1900-01-25",{"$f":"VLOOKUP($BF29,'Vejehold 4'!$A$7:$P$23,'Opsamling, slagt+smågrise'!BG$2,FALSE)","v":{"$error":"#N/A"}},{"$f":"VLOOKUP($BF29,'Vejehold 4'!$A$7:$P$23,'Opsamling, slagt+smågrise'!BH$2,FALSE)","v":{"$error":"#N/A"}},{"$f":"VLOOKUP($BF29,'Vejehold 4'!$A$7:$P$23,'Opsamling, slagt+smågrise'!BI$2,FALSE)","v":{"$error":"#N/A"}},{"$f":"VLOOKUP($BF29,'Vejehold 4'!$A$7:$P$23,'Opsamling, slagt+smågrise'!BJ$2,FALSE)","v":{"$error":"#N/A"}},{"$f":"VLOOKUP($BF29,'Vejehold 4'!$A$7:$P$23,'Opsamling, slagt+smågrise'!BK$2,FALSE)","v":{"$error":"#N/A"}},{"$f":"VLOOKUP($BF29,'Vejehold 4'!$A$7:$P$23,'Opsamling, slagt+smågrise'!BL$2,FALSE)","v":{"$error":"#N/A"}},{"$f":"VLOOKUP($BF29,'Vejehold 4'!$A$7:$P$23,'Opsamling, slagt+smågrise'!BM$2,FALSE)","v":{"$error":"#N/A"}},null,25,"1900-01-25",{"$f":"VLOOKUP($BP29,'Vejehold 5'!$A$7:$P$23,'Opsamling, slagt+smågrise'!BQ$2,FALSE)","v":{"$error":"#N/A"}},{"$f":"VLOOKUP($BP29,'Vejehold 5'!$A$7:$P$23,'Opsamling, slagt+smågrise'!BR$2,FALSE)","v":{"$error":"#N/A"}},{"$f":"VLOOKUP($BP29,'Vejehold 5'!$A$7:$P$23,'Opsamling, slagt+smågrise'!BS$2,FALSE)","v":{"$error":"#N/A"}},{"$f":"VLOOKUP($BP29,'Vejehold 5'!$A$7:$P$23,'Opsamling, slagt+smågrise'!BT$2,FALSE)","v":{"$error":"#N/A"}},{"$f":"VLOOKUP($BP29,'Vejehold 5'!$A$7:$P$23,'Opsamling, slagt+smågrise'!BU$2,FALSE)","v":{"$error":"#N/A"}},{"$f":"VLOOKUP($BP29,'Vejehold 5'!$A$7:$P$23,'Opsamling, slagt+smågrise'!BV$2,FALSE)","v":{"$error":"#N/A"}},{"$f":"VLOOKUP($BP29,'Vejehold 5'!$A$7:$P$23,'Opsamling, slagt+smågrise'!BW$2,FALSE)","v":{"$error":"#N/A"}},null,25,"1900-01-25",{"$f":"VLOOKUP($BZ29,'Vejehold 6'!$A$7:$P$23,'Opsamling, slagt+smågrise'!CA$2,FALSE)","v":{"$error":"#N/A"}},{"$f":"VLOOKUP($BZ29,'Vejehold 6'!$A$7:$P$23,'Opsamling, slagt+smågrise'!CB$2,FALSE)","v":{"$error":"#N/A"}},{"$f":"VLOOKUP($BZ29,'Vejehold 6'!$A$7:$P$23,'Opsamling, slagt+smågrise'!CC$2,FALSE)","v":{"$error":"#N/A"}},{"$f":"VLOOKUP($BZ29,'Vejehold 6'!$A$7:$P$23,'Opsamling, slagt+smågrise'!CD$2,FALSE)","v":{"$error":"#N/A"}},{"$f":"VLOOKUP($BZ29,'Vejehold 6'!$A$7:$P$23,'Opsamling, slagt+smågrise'!CE$2,FALSE)","v":{"$error":"#N/A"}},{"$f":"VLOOKUP($BZ29,'Vejehold 6'!$A$7:$P$23,'Opsamling, slagt+smågrise'!CF$2,FALSE)","v":{"$error":"#N/A"}},{"$f":"VLOOKUP($BZ29,'Vejehold 6'!$A$7:$P$23,'Opsamling, slagt+smågrise'!CG$2,FALSE)","v":{"$error":"#N/A"}}]
[null,63,{"$f":"'Vejehold 1'!$F16","v":0},{"$f":"'Vejehold 2'!$F16","v":0},{"$f":"'Vejehold 3'!$F16","v":0},{"$f":"'Vejehold 4'!$F16","v":0},{"$f":"'Vejehold 5'!$F16","v":0},{"$f":"'Vejehold 6'!$F16","v":0},null,null,null,null,null,null,null,null,null,null,null,null,null,null,null,null,null,null,26,"1900-01-26",{"$f":"VLOOKUP($AB30,'Vejehold 1'!$A$7:$P$23,'Opsamling, slagt+smågrise'!AC$2,FALSE)","v":{"$error":"#N/A"}},{"$f":"VLOOKUP($AB30,'Vejehold 1'!$A$7:$P$23,'Opsamling, slagt+smågrise'!AD$2,FALSE)","v":{"$error":"#N/A"}},{"$f":"VLOOKUP($AB30,'Vejehold 1'!$A$7:$P$23,'Opsamling, slagt+smågrise'!AE$2,FALSE)","v":{"$error":"#N/A"}},{"$f":"VLOOKUP($AB30,'Vejehold 1'!$A$7:$P$23,'Opsamling, slagt+smågrise'!AF$2,FALSE)","v":{"$error":"#N/A"}},{"$f":"VLOOKUP($AB30,'Vejehold 1'!$A$7:$P$23,'Opsamling, slagt+smågrise'!AG$2,FALSE)","v":{"$error":"#N/A"}},{"$f":"VLOOKUP($AB30,'Vejehold 1'!$A$7:$P$23,'Opsamling, slagt+smågrise'!AH$2,FALSE)","v":{"$error":"#N/A"}},{"$f":"VLOOKUP($AB30,'Vejehold 1'!$A$7:$P$23,'Opsamling, slagt+smågrise'!AI$2,FALSE)","v":{"$error":"#N/A"}},null,26,"1900-01-26",{"$f":"VLOOKUP($AL30,'Vejehold 2'!$A$7:$P$23,'Opsamling, slagt+smågrise'!AM$2,FALSE)","v":{"$error":"#N/A"}},{"$f":"VLOOKUP($AL30,'Vejehold 2'!$A$7:$P$23,'Opsamling, slagt+smågrise'!AN$2,FALSE)","v":{"$error":"#N/A"}},{"$f":"VLOOKUP($AL30,'Vejehold 2'!$A$7:$P$23,'Opsamling, slagt+smågrise'!AO$2,FALSE)","v":{"$error":"#N/A"}},{"$f":"VLOOKUP($AL30,'Vejehold 2'!$A$7:$P$23,'Opsamling, slagt+smågrise'!AP$2,FALSE)","v":{"$error":"#N/A"}},{"$f":"VLOOKUP($AL30,'Vejehold 2'!$A$7:$P$23,'Opsamling, slagt+smågrise'!AQ$2,FALSE)","v":{"$error":"#N/A"}},{"$f":"VLOOKUP($AL30,'Vejehold 2'!$A$7:$P$23,'Opsamling, slagt+smågrise'!AR$2,FALSE)","v":{"$error":"#N/A"}},{"$f":"VLOOKUP($AL30,'Vejehold 2'!$A$7:$P$23,'Opsamling, slagt+smågrise'!AS$2,FALSE)","v":{"$error":"#N/A"}},null,26,"1900-01-26",{"$f":"VLOOKUP($AV30,'Vejehold 3'!$A$7:$P$23,'Opsamling, slagt+smågrise'!AW$2,FALSE)","v":{"$error":"#N/A"}},{"$f":"VLOOKUP($AV30,'Vejehold 3'!$A$7:$P$23,'Opsamling, slagt+smågrise'!AX$2,FALSE)","v":{"$error":"#N/A"}},{"$f":"VLOOKUP($AV30,'Vejehold 3'!$A$7:$P$23,'Opsamling, slagt+smågrise'!AY$2,FALSE)","v":{"$error":"#N/A"}},{"$f":"VLOOKUP($AV30,'Vejehold 3'!$A$7:$P$23,'Opsamling, slagt+smågrise'!AZ$2,FALSE)","v":{"$error":"#N/A"}},{"$f":"VLOOKUP($AV30,'Vejehold 3'!$A$7:$P$23,'Opsamling, slagt+smågrise'!BA$2,FALSE)","v":{"$error":"#N/A"}},{"$f":"VLOOKUP($AV30,'Vejehold 3'!$A$7:$P$23,'Opsamling, slagt+smågrise'!BB$2,FALSE)","v":{"$error":"#N/A"}},{"$f":"VLOOKUP($AV30,'Vejehold 3'!$A$7:$P$23,'Opsamling, slagt+smågrise'!BC$2,FALSE)","v":{"$error":"#N/A"}},null,26,"1900-01-26",{"$f":"VLOOKUP($BF30,'Vejehold 4'!$A$7:$P$23,'Opsamling, slagt+smågrise'!BG$2,FALSE)","v":{"$error":"#N/A"}},{"$f":"VLOOKUP($BF30,'Vejehold 4'!$A$7:$P$23,'Opsamling, slagt+smågrise'!BH$2,FALSE)","v":{"$error":"#N/A"}},{"$f":"VLOOKUP($BF30,'Vejehold 4'!$A$7:$P$23,'Opsamling, slagt+smågrise'!BI$2,FALSE)","v":{"$error":"#N/A"}},{"$f":"VLOOKUP($BF30,'Vejehold 4'!$A$7:$P$23,'Opsamling, slagt+smågrise'!BJ$2,FALSE)","v":{"$error":"#N/A"}},{"$f":"VLOOKUP($BF30,'Vejehold 4'!$A$7:$P$23,'Opsamling, slagt+smågrise'!BK$2,FALSE)","v":{"$error":"#N/A"}},{"$f":"VLOOKUP($BF30,'Vejehold 4'!$A$7:$P$23,'Opsamling, slagt+smågrise'!BL$2,FALSE)","v":{"$error":"#N/A"}},{"$f":"VLOOKUP($BF30,'Vejehold 4'!$A$7:$P$23,'Opsamling, slagt+smågrise'!BM$2,FALSE)","v":{"$error":"#N/A"}},null,26,"1900-01-26",{"$f":"VLOOKUP($BP30,'Vejehold 5'!$A$7:$P$23,'Opsamling, slagt+smågrise'!BQ$2,FALSE)","v":{"$error":"#N/A"}},{"$f":"VLOOKUP($BP30,'Vejehold 5'!$A$7:$P$23,'Opsamling, slagt+smågrise'!BR$2,FALSE)","v":{"$error":"#N/A"}},{"$f":"VLOOKUP($BP30,'Vejehold 5'!$A$7:$P$23,'Opsamling, slagt+smågrise'!BS$2,FALSE)","v":{"$error":"#N/A"}},{"$f":"VLOOKUP($BP30,'Vejehold 5'!$A$7:$P$23,'Opsamling, slagt+smågrise'!BT$2,FALSE)","v":{"$error":"#N/A"}},{"$f":"VLOOKUP($BP30,'Vejehold 5'!$A$7:$P$23,'Opsamling, slagt+smågrise'!BU$2,FALSE)","v":{"$error":"#N/A"}},{"$f":"VLOOKUP($BP30,'Vejehold 5'!$A$7:$P$23,'Opsamling, slagt+smågrise'!BV$2,FALSE)","v":{"$error":"#N/A"}},{"$f":"VLOOKUP($BP30,'Vejehold 5'!$A$7:$P$23,'Opsamling, slagt+smågrise'!BW$2,FALSE)","v":{"$error":"#N/A"}},null,26,"1900-01-26",{"$f":"VLOOKUP($BZ30,'Vejehold 6'!$A$7:$P$23,'Opsamling, slagt+smågrise'!CA$2,FALSE)","v":{"$error":"#N/A"}},{"$f":"VLOOKUP($BZ30,'Vejehold 6'!$A$7:$P$23,'Opsamling, slagt+smågrise'!CB$2,FALSE)","v":{"$error":"#N/A"}},{"$f":"VLOOKUP($BZ30,'Vejehold 6'!$A$7:$P$23,'Opsamling, slagt+smågrise'!CC$2,FALSE)","v":{"$error":"#N/A"}},{"$f":"VLOOKUP($BZ30,'Vejehold 6'!$A$7:$P$23,'Opsamling, slagt+smågrise'!CD$2,FALSE)","v":{"$error":"#N/A"}},{"$f":"VLOOKUP($BZ30,'Vejehold 6'!$A$7:$P$23,'Opsamling, slagt+smågrise'!CE$2,FALSE)","v":{"$error":"#N/A"}},{"$f":"VLOOKUP($BZ30,'Vejehold 6'!$A$7:$P$23,'Opsamling, slagt+smågrise'!CF$2,FALSE)","v":{"$error":"#N/A"}},{"$f":"VLOOKUP($BZ30,'Vejehold 6'!$A$7:$P$23,'Opsamling, slagt+smågrise'!CG$2,FALSE)","v":{"$error":"#N/A"}}]
[null,70,{"$f":"'Vejehold 1'!$F17","v":0},{"$f":"'Vejehold 2'!$F17","v":0},{"$f":"'Vejehold 3'!$F17","v":0},{"$f":"'Vejehold 4'!$F17","v":0},{"$f":"'Vejehold 5'!$F17","v":0},{"$f":"'Vejehold 6'!$F17","v":0},null,null,null,null,null,null,null,null,null,null,null,null,null,null,null,null,null,null,27,"1900-01-27",{"$f":"VLOOKUP($AB31,'Vejehold 1'!$A$7:$P$23,'Opsamling, slagt+smågrise'!AC$2,FALSE)","v":{"$error":"#N/A"}},{"$f":"VLOOKUP($AB31,'Vejehold 1'!$A$7:$P$23,'Opsamling, slagt+smågrise'!AD$2,FALSE)","v":{"$error":"#N/A"}},{"$f":"VLOOKUP($AB31,'Vejehold 1'!$A$7:$P$23,'Opsamling, slagt+smågrise'!AE$2,FALSE)","v":{"$error":"#N/A"}},{"$f":"VLOOKUP($AB31,'Vejehold 1'!$A$7:$P$23,'Opsamling, slagt+smågrise'!AF$2,FALSE)","v":{"$error":"#N/A"}},{"$f":"VLOOKUP($AB31,'Vejehold 1'!$A$7:$P$23,'Opsamling, slagt+smågrise'!AG$2,FALSE)","v":{"$error":"#N/A"}},{"$f":"VLOOKUP($AB31,'Vejehold 1'!$A$7:$P$23,'Opsamling, slagt+smågrise'!AH$2,FALSE)","v":{"$error":"#N/A"}},{"$f":"VLOOKUP($AB31,'Vejehold 1'!$A$7:$P$23,'Opsamling, slagt+smågrise'!AI$2,FALSE)","v":{"$error":"#N/A"}},null,27,"1900-01-27",{"$f":"VLOOKUP($AL31,'Vejehold 2'!$A$7:$P$23,'Opsamling, slagt+smågrise'!AM$2,FALSE)","v":{"$error":"#N/A"}},{"$f":"VLOOKUP($AL31,'Vejehold 2'!$A$7:$P$23,'Opsamling, slagt+smågrise'!AN$2,FALSE)","v":{"$error":"#N/A"}},{"$f":"VLOOKUP($AL31,'Vejehold 2'!$A$7:$P$23,'Opsamling, slagt+smågrise'!AO$2,FALSE)","v":{"$error":"#N/A"}},{"$f":"VLOOKUP($AL31,'Vejehold 2'!$A$7:$P$23,'Opsamling, slagt+smågrise'!AP$2,FALSE)","v":{"$error":"#N/A"}},{"$f":"VLOOKUP($AL31,'Vejehold 2'!$A$7:$P$23,'Opsamling, slagt+smågrise'!AQ$2,FALSE)","v":{"$error":"#N/A"}},{"$f":"VLOOKUP($AL31,'Vejehold 2'!$A$7:$P$23,'Opsamling, slagt+smågrise'!AR$2,FALSE)","v":{"$error":"#N/A"}},{"$f":"VLOOKUP($AL31,'Vejehold 2'!$A$7:$P$23,'Opsamling, slagt+smågrise'!AS$2,FALSE)","v":{"$error":"#N/A"}},null,27,"1900-01-27",{"$f":"VLOOKUP($AV31,'Vejehold 3'!$A$7:$P$23,'Opsamling, slagt+smågrise'!AW$2,FALSE)","v":{"$error":"#N/A"}},{"$f":"VLOOKUP($AV31,'Vejehold 3'!$A$7:$P$23,'Opsamling, slagt+smågrise'!AX$2,FALSE)","v":{"$error":"#N/A"}},{"$f":"VLOOKUP($AV31,'Vejehold 3'!$A$7:$P$23,'Opsamling, slagt+smågrise'!AY$2,FALSE)","v":{"$error":"#N/A"}},{"$f":"VLOOKUP($AV31,'Vejehold 3'!$A$7:$P$23,'Opsamling, slagt+smågrise'!AZ$2,FALSE)","v":{"$error":"#N/A"}},{"$f":"VLOOKUP($AV31,'Vejehold 3'!$A$7:$P$23,'Opsamling, slagt+smågrise'!BA$2,FALSE)","v":{"$error":"#N/A"}},{"$f":"VLOOKUP($AV31,'Vejehold 3'!$A$7:$P$23,'Opsamling, slagt+smågrise'!BB$2,FALSE)","v":{"$error":"#N/A"}},{"$f":"VLOOKUP($AV31,'Vejehold 3'!$A$7:$P$23,'Opsamling, slagt+smågrise'!BC$2,FALSE)","v":{"$error":"#N/A"}},null,27,"1900-01-27",{"$f":"VLOOKUP($BF31,'Vejehold 4'!$A$7:$P$23,'Opsamling, slagt+smågrise'!BG$2,FALSE)","v":{"$error":"#N/A"}},{"$f":"VLOOKUP($BF31,'Vejehold 4'!$A$7:$P$23,'Opsamling, slagt+smågrise'!BH$2,FALSE)","v":{"$error":"#N/A"}},{"$f":"VLOOKUP($BF31,'Vejehold 4'!$A$7:$P$23,'Opsamling, slagt+smågrise'!BI$2,FALSE)","v":{"$error":"#N/A"}},{"$f":"VLOOKUP($BF31,'Vejehold 4'!$A$7:$P$23,'Opsamling, slagt+smågrise'!BJ$2,FALSE)","v":{"$error":"#N/A"}},{"$f":"VLOOKUP($BF31,'Vejehold 4'!$A$7:$P$23,'Opsamling, slagt+smågrise'!BK$2,FALSE)","v":{"$error":"#N/A"}},{"$f":"VLOOKUP($BF31,'Vejehold 4'!$A$7:$P$23,'Opsamling, slagt+smågrise'!BL$2,FALSE)","v":{"$error":"#N/A"}},{"$f":"VLOOKUP($BF31,'Vejehold 4'!$A$7:$P$23,'Opsamling, slagt+smågrise'!BM$2,FALSE)","v":{"$error":"#N/A"}},null,27,"1900-01-27",{"$f":"VLOOKUP($BP31,'Vejehold 5'!$A$7:$P$23,'Opsamling, slagt+smågrise'!BQ$2,FALSE)","v":{"$error":"#N/A"}},{"$f":"VLOOKUP($BP31,'Vejehold 5'!$A$7:$P$23,'Opsamling, slagt+smågrise'!BR$2,FALSE)","v":{"$error":"#N/A"}},{"$f":"VLOOKUP($BP31,'Vejehold 5'!$A$7:$P$23,'Opsamling, slagt+smågrise'!BS$2,FALSE)","v":{"$error":"#N/A"}},{"$f":"VLOOKUP($BP31,'Vejehold 5'!$A$7:$P$23,'Opsamling, slagt+smågrise'!BT$2,FALSE)","v":{"$error":"#N/A"}},{"$f":"VLOOKUP($BP31,'Vejehold 5'!$A$7:$P$23,'Opsamling, slagt+smågrise'!BU$2,FALSE)","v":{"$error":"#N/A"}},{"$f":"VLOOKUP($BP31,'Vejehold 5'!$A$7:$P$23,'Opsamling, slagt+smågrise'!BV$2,FALSE)","v":{"$error":"#N/A"}},{"$f":"VLOOKUP($BP31,'Vejehold 5'!$A$7:$P$23,'Opsamling, slagt+smågrise'!BW$2,FALSE)","v":{"$error":"#N/A"}},null,27,"1900-01-27",{"$f":"VLOOKUP($BZ31,'Vejehold 6'!$A$7:$P$23,'Opsamling, slagt+smågrise'!CA$2,FALSE)","v":{"$error":"#N/A"}},{"$f":"VLOOKUP($BZ31,'Vejehold 6'!$A$7:$P$23,'Opsamling, slagt+smågrise'!CB$2,FALSE)","v":{"$error":"#N/A"}},{"$f":"VLOOKUP($BZ31,'Vejehold 6'!$A$7:$P$23,'Opsamling, slagt+smågrise'!CC$2,FALSE)","v":{"$error":"#N/A"}},{"$f":"VLOOKUP($BZ31,'Vejehold 6'!$A$7:$P$23,'Opsamling, slagt+smågrise'!CD$2,FALSE)","v":{"$error":"#N/A"}},{"$f":"VLOOKUP($BZ31,'Vejehold 6'!$A$7:$P$23,'Opsamling, slagt+smågrise'!CE$2,FALSE)","v":{"$error":"#N/A"}},{"$f":"VLOOKUP($BZ31,'Vejehold 6'!$A$7:$P$23,'Opsamling, slagt+smågrise'!CF$2,FALSE)","v":{"$error":"#N/A"}},{"$f":"VLOOKUP($BZ31,'Vejehold 6'!$A$7:$P$23,'Opsamling, slagt+smågrise'!CG$2,FALSE)","v":{"$error":"#N/A"}}]
[null,77,{"$f":"'Vejehold 1'!$F18","v":0},{"$f":"'Vejehold 2'!$F18","v":0},{"$f":"'Vejehold 3'!$F18","v":0},{"$f":"'Vejehold 4'!$F18","v":0},{"$f":"'Vejehold 5'!$F18","v":0},{"$f":"'Vejehold 6'!$F18","v":0},null,null,null,null,null,null,null,null,null,null,null,null,null,null,null,null,null,null,28,"1900-01-28",{"$f":"VLOOKUP($AB32,'Vejehold 1'!$A$7:$P$23,'Opsamling, slagt+smågrise'!AC$2,FALSE)","v":{"$error":"#N/A"}},{"$f":"VLOOKUP($AB32,'Vejehold 1'!$A$7:$P$23,'Opsamling, slagt+smågrise'!AD$2,FALSE)","v":{"$error":"#N/A"}},{"$f":"VLOOKUP($AB32,'Vejehold 1'!$A$7:$P$23,'Opsamling, slagt+smågrise'!AE$2,FALSE)","v":{"$error":"#N/A"}},{"$f":"VLOOKUP($AB32,'Vejehold 1'!$A$7:$P$23,'Opsamling, slagt+smågrise'!AF$2,FALSE)","v":{"$error":"#N/A"}},{"$f":"VLOOKUP($AB32,'Vejehold 1'!$A$7:$P$23,'Opsamling, slagt+smågrise'!AG$2,FALSE)","v":{"$error":"#N/A"}},{"$f":"VLOOKUP($AB32,'Vejehold 1'!$A$7:$P$23,'Opsamling, slagt+smågrise'!AH$2,FALSE)","v":{"$error":"#N/A"}},{"$f":"VLOOKUP($AB32,'Vejehold 1'!$A$7:$P$23,'Opsamling, slagt+smågrise'!AI$2,FALSE)","v":{"$error":"#N/A"}},null,28,"1900-01-28",{"$f":"VLOOKUP($AL32,'Vejehold 2'!$A$7:$P$23,'Opsamling, slagt+smågrise'!AM$2,FALSE)","v":{"$error":"#N/A"}},{"$f":"VLOOKUP($AL32,'Vejehold 2'!$A$7:$P$23,'Opsamling, slagt+smågrise'!AN$2,FALSE)","v":{"$error":"#N/A"}},{"$f":"VLOOKUP($AL32,'Vejehold 2'!$A$7:$P$23,'Opsamling, slagt+smågrise'!AO$2,FALSE)","v":{"$error":"#N/A"}},{"$f":"VLOOKUP($AL32,'Vejehold 2'!$A$7:$P$23,'Opsamling, slagt+smågrise'!AP$2,FALSE)","v":{"$error":"#N/A"}},{"$f":"VLOOKUP($AL32,'Vejehold 2'!$A$7:$P$23,'Opsamling, slagt+smågrise'!AQ$2,FALSE)","v":{"$error":"#N/A"}},{"$f":"VLOOKUP($AL32,'Vejehold 2'!$A$7:$P$23,'Opsamling, slagt+smågrise'!AR$2,FALSE)","v":{"$error":"#N/A"}},{"$f":"VLOOKUP($AL32,'Vejehold 2'!$A$7:$P$23,'Opsamling, slagt+smågrise'!AS$2,FALSE)","v":{"$error":"#N/A"}},null,28,"1900-01-28",{"$f":"VLOOKUP($AV32,'Vejehold 3'!$A$7:$P$23,'Opsamling, slagt+smågrise'!AW$2,FALSE)","v":{"$error":"#N/A"}},{"$f":"VLOOKUP($AV32,'Vejehold 3'!$A$7:$P$23,'Opsamling, slagt+smågrise'!AX$2,FALSE)","v":{"$error":"#N/A"}},{"$f":"VLOOKUP($AV32,'Vejehold 3'!$A$7:$P$23,'Opsamling, slagt+smågrise'!AY$2,FALSE)","v":{"$error":"#N/A"}},{"$f":"VLOOKUP($AV32,'Vejehold 3'!$A$7:$P$23,'Opsamling, slagt+smågrise'!AZ$2,FALSE)","v":{"$error":"#N/A"}},{"$f":"VLOOKUP($AV32,'Vejehold 3'!$A$7:$P$23,'Opsamling, slagt+smågrise'!BA$2,FALSE)","v":{"$error":"#N/A"}},{"$f":"VLOOKUP($AV32,'Vejehold 3'!$A$7:$P$23,'Opsamling, slagt+smågrise'!BB$2,FALSE)","v":{"$error":"#N/A"}},{"$f":"VLOOKUP($AV32,'Vejehold 3'!$A$7:$P$23,'Opsamling, slagt+smågrise'!BC$2,FALSE)","v":{"$error":"#N/A"}},null,28,"1900-01-28",{"$f":"VLOOKUP($BF32,'Vejehold 4'!$A$7:$P$23,'Opsamling, slagt+smågrise'!BG$2,FALSE)","v":{"$error":"#N/A"}},{"$f":"VLOOKUP($BF32,'Vejehold 4'!$A$7:$P$23,'Opsamling, slagt+smågrise'!BH$2,FALSE)","v":{"$error":"#N/A"}},{"$f":"VLOOKUP($BF32,'Vejehold 4'!$A$7:$P$23,'Opsamling, slagt+smågrise'!BI$2,FALSE)","v":{"$error":"#N/A"}},{"$f":"VLOOKUP($BF32,'Vejehold 4'!$A$7:$P$23,'Opsamling, slagt+smågrise'!BJ$2,FALSE)","v":{"$error":"#N/A"}},{"$f":"VLOOKUP($BF32,'Vejehold 4'!$A$7:$P$23,'Opsamling, slagt+smågrise'!BK$2,FALSE)","v":{"$error":"#N/A"}},{"$f":"VLOOKUP($BF32,'Vejehold 4'!$A$7:$P$23,'Opsamling, slagt+smågrise'!BL$2,FALSE)","v":{"$error":"#N/A"}},{"$f":"VLOOKUP($BF32,'Vejehold 4'!$A$7:$P$23,'Opsamling, slagt+smågrise'!BM$2,FALSE)","v":{"$error":"#N/A"}},null,28,"1900-01-28",{"$f":"VLOOKUP($BP32,'Vejehold 5'!$A$7:$P$23,'Opsamling, slagt+smågrise'!BQ$2,FALSE)","v":{"$error":"#N/A"}},{"$f":"VLOOKUP($BP32,'Vejehold 5'!$A$7:$P$23,'Opsamling, slagt+smågrise'!BR$2,FALSE)","v":{"$error":"#N/A"}},{"$f":"VLOOKUP($BP32,'Vejehold 5'!$A$7:$P$23,'Opsamling, slagt+smågrise'!BS$2,FALSE)","v":{"$error":"#N/A"}},{"$f":"VLOOKUP($BP32,'Vejehold 5'!$A$7:$P$23,'Opsamling, slagt+smågrise'!BT$2,FALSE)","v":{"$error":"#N/A"}},{"$f":"VLOOKUP($BP32,'Vejehold 5'!$A$7:$P$23,'Opsamling, slagt+smågrise'!BU$2,FALSE)","v":{"$error":"#N/A"}},{"$f":"VLOOKUP($BP32,'Vejehold 5'!$A$7:$P$23,'Opsamling, slagt+smågrise'!BV$2,FALSE)","v":{"$error":"#N/A"}},{"$f":"VLOOKUP($BP32,'Vejehold 5'!$A$7:$P$23,'Opsamling, slagt+smågrise'!BW$2,FALSE)","v":{"$error":"#N/A"}},null,28,"1900-01-28",{"$f":"VLOOKUP($BZ32,'Vejehold 6'!$A$7:$P$23,'Opsamling, slagt+smågrise'!CA$2,FALSE)","v":{"$error":"#N/A"}},{"$f":"VLOOKUP($BZ32,'Vejehold 6'!$A$7:$P$23,'Opsamling, slagt+smågrise'!CB$2,FALSE)","v":{"$error":"#N/A"}},{"$f":"VLOOKUP($BZ32,'Vejehold 6'!$A$7:$P$23,'Opsamling, slagt+smågrise'!CC$2,FALSE)","v":{"$error":"#N/A"}},{"$f":"VLOOKUP($BZ32,'Vejehold 6'!$A$7:$P$23,'Opsamling, slagt+smågrise'!CD$2,FALSE)","v":{"$error":"#N/A"}},{"$f":"VLOOKUP($BZ32,'Vejehold 6'!$A$7:$P$23,'Opsamling, slagt+smågrise'!CE$2,FALSE)","v":{"$error":"#N/A"}},{"$f":"VLOOKUP($BZ32,'Vejehold 6'!$A$7:$P$23,'Opsamling, slagt+smågrise'!CF$2,FALSE)","v":{"$error":"#N/A"}},{"$f":"VLOOKUP($BZ32,'Vejehold 6'!$A$7:$P$23,'Opsamling, slagt+smågrise'!CG$2,FALSE)","v":{"$error":"#N/A"}}]
[null,84,{"$f":"'Vejehold 1'!$F19","v":0},{"$f":"'Vejehold 2'!$F19","v":0},{"$f":"'Vejehold 3'!$F19","v":0},{"$f":"'Vejehold 4'!$F19","v":0},{"$f":"'Vejehold 5'!$F19","v":0},{"$f":"'Vejehold 6'!$F19","v":0},null,null,null,null,null,null,null,null,null,null,null,null,null,null,null,null,null,null,29,"1900-01-29",{"$f":"VLOOKUP($AB33,'Vejehold 1'!$A$7:$P$23,'Opsamling, slagt+smågrise'!AC$2,FALSE)","v":{"$error":"#N/A"}},{"$f":"VLOOKUP($AB33,'Vejehold 1'!$A$7:$P$23,'Opsamling, slagt+smågrise'!AD$2,FALSE)","v":{"$error":"#N/A"}},{"$f":"VLOOKUP($AB33,'Vejehold 1'!$A$7:$P$23,'Opsamling, slagt+smågrise'!AE$2,FALSE)","v":{"$error":"#N/A"}},{"$f":"VLOOKUP($AB33,'Vejehold 1'!$A$7:$P$23,'Opsamling, slagt+smågrise'!AF$2,FALSE)","v":{"$error":"#N/A"}},{"$f":"VLOOKUP($AB33,'Vejehold 1'!$A$7:$P$23,'Opsamling, slagt+smågrise'!AG$2,FALSE)","v":{"$error":"#N/A"}},{"$f":"VLOOKUP($AB33,'Vejehold 1'!$A$7:$P$23,'Opsamling, slagt+smågrise'!AH$2,FALSE)","v":{"$error":"#N/A"}},{"$f":"VLOOKUP($AB33,'Vejehold 1'!$A$7:$P$23,'Opsamling, slagt+smågrise'!AI$2,FALSE)","v":{"$error":"#N/A"}},null,29,"1900-01-29",{"$f":"VLOOKUP($AL33,'Vejehold 2'!$A$7:$P$23,'Opsamling, slagt+smågrise'!AM$2,FALSE)","v":{"$error":"#N/A"}},{"$f":"VLOOKUP($AL33,'Vejehold 2'!$A$7:$P$23,'Opsamling, slagt+smågrise'!AN$2,FALSE)","v":{"$error":"#N/A"}},{"$f":"VLOOKUP($AL33,'Vejehold 2'!$A$7:$P$23,'Opsamling, slagt+smågrise'!AO$2,FALSE)","v":{"$error":"#N/A"}},{"$f":"VLOOKUP($AL33,'Vejehold 2'!$A$7:$P$23,'Opsamling, slagt+smågrise'!AP$2,FALSE)","v":{"$error":"#N/A"}},{"$f":"VLOOKUP($AL33,'Vejehold 2'!$A$7:$P$23,'Opsamling, slagt+smågrise'!AQ$2,FALSE)","v":{"$error":"#N/A"}},{"$f":"VLOOKUP($AL33,'Vejehold 2'!$A$7:$P$23,'Opsamling, slagt+smågrise'!AR$2,FALSE)","v":{"$error":"#N/A"}},{"$f":"VLOOKUP($AL33,'Vejehold 2'!$A$7:$P$23,'Opsamling, slagt+smågrise'!AS$2,FALSE)","v":{"$error":"#N/A"}},null,29,"1900-01-29",{"$f":"VLOOKUP($AV33,'Vejehold 3'!$A$7:$P$23,'Opsamling, slagt+smågrise'!AW$2,FALSE)","v":{"$error":"#N/A"}},{"$f":"VLOOKUP($AV33,'Vejehold 3'!$A$7:$P$23,'Opsamling, slagt+smågrise'!AX$2,FALSE)","v":{"$error":"#N/A"}},{"$f":"VLOOKUP($AV33,'Vejehold 3'!$A$7:$P$23,'Opsamling, slagt+smågrise'!AY$2,FALSE)","v":{"$error":"#N/A"}},{"$f":"VLOOKUP($AV33,'Vejehold 3'!$A$7:$P$23,'Opsamling, slagt+smågrise'!AZ$2,FALSE)","v":{"$error":"#N/A"}},{"$f":"VLOOKUP($AV33,'Vejehold 3'!$A$7:$P$23,'Opsamling, slagt+smågrise'!BA$2,FALSE)","v":{"$error":"#N/A"}},{"$f":"VLOOKUP($AV33,'Vejehold 3'!$A$7:$P$23,'Opsamling, slagt+smågrise'!BB$2,FALSE)","v":{"$error":"#N/A"}},{"$f":"VLOOKUP($AV33,'Vejehold 3'!$A$7:$P$23,'Opsamling, slagt+smågrise'!BC$2,FALSE)","v":{"$error":"#N/A"}},null,29,"1900-01-29",{"$f":"VLOOKUP($BF33,'Vejehold 4'!$A$7:$P$23,'Opsamling, slagt+smågrise'!BG$2,FALSE)","v":{"$error":"#N/A"}},{"$f":"VLOOKUP($BF33,'Vejehold 4'!$A$7:$P$23,'Opsamling, slagt+smågrise'!BH$2,FALSE)","v":{"$error":"#N/A"}},{"$f":"VLOOKUP($BF33,'Vejehold 4'!$A$7:$P$23,'Opsamling, slagt+smågrise'!BI$2,FALSE)","v":{"$error":"#N/A"}},{"$f":"VLOOKUP($BF33,'Vejehold 4'!$A$7:$P$23,'Opsamling, slagt+smågrise'!BJ$2,FALSE)","v":{"$error":"#N/A"}},{"$f":"VLOOKUP($BF33,'Vejehold 4'!$A$7:$P$23,'Opsamling, slagt+smågrise'!BK$2,FALSE)","v":{"$error":"#N/A"}},{"$f":"VLOOKUP($BF33,'Vejehold 4'!$A$7:$P$23,'Opsamling, slagt+smågrise'!BL$2,FALSE)","v":{"$error":"#N/A"}},{"$f":"VLOOKUP($BF33,'Vejehold 4'!$A$7:$P$23,'Opsamling, slagt+smågrise'!BM$2,FALSE)","v":{"$error":"#N/A"}},null,29,"1900-01-29",{"$f":"VLOOKUP($BP33,'Vejehold 5'!$A$7:$P$23,'Opsamling, slagt+smågrise'!BQ$2,FALSE)","v":{"$error":"#N/A"}},{"$f":"VLOOKUP($BP33,'Vejehold 5'!$A$7:$P$23,'Opsamling, slagt+smågrise'!BR$2,FALSE)","v":{"$error":"#N/A"}},{"$f":"VLOOKUP($BP33,'Vejehold 5'!$A$7:$P$23,'Opsamling, slagt+smågrise'!BS$2,FALSE)","v":{"$error":"#N/A"}},{"$f":"VLOOKUP($BP33,'Vejehold 5'!$A$7:$P$23,'Opsamling, slagt+smågrise'!BT$2,FALSE)","v":{"$error":"#N/A"}},{"$f":"VLOOKUP($BP33,'Vejehold 5'!$A$7:$P$23,'Opsamling, slagt+smågrise'!BU$2,FALSE)","v":{"$error":"#N/A"}},{"$f":"VLOOKUP($BP33,'Vejehold 5'!$A$7:$P$23,'Opsamling, slagt+smågrise'!BV$2,FALSE)","v":{"$error":"#N/A"}},{"$f":"VLOOKUP($BP33,'Vejehold 5'!$A$7:$P$23,'Opsamling, slagt+smågrise'!BW$2,FALSE)","v":{"$error":"#N/A"}},null,29,"1900-01-29",{"$f":"VLOOKUP($BZ33,'Vejehold 6'!$A$7:$P$23,'Opsamling, slagt+smågrise'!CA$2,FALSE)","v":{"$error":"#N/A"}},{"$f":"VLOOKUP($BZ33,'Vejehold 6'!$A$7:$P$23,'Opsamling, slagt+smågrise'!CB$2,FALSE)","v":{"$error":"#N/A"}},{"$f":"VLOOKUP($BZ33,'Vejehold 6'!$A$7:$P$23,'Opsamling, slagt+smågrise'!CC$2,FALSE)","v":{"$error":"#N/A"}},{"$f":"VLOOKUP($BZ33,'Vejehold 6'!$A$7:$P$23,'Opsamling, slagt+smågrise'!CD$2,FALSE)","v":{"$error":"#N/A"}},{"$f":"VLOOKUP($BZ33,'Vejehold 6'!$A$7:$P$23,'Opsamling, slagt+smågrise'!CE$2,FALSE)","v":{"$error":"#N/A"}},{"$f":"VLOOKUP($BZ33,'Vejehold 6'!$A$7:$P$23,'Opsamling, slagt+smågrise'!CF$2,FALSE)","v":{"$error":"#N/A"}},{"$f":"VLOOKUP($BZ33,'Vejehold 6'!$A$7:$P$23,'Opsamling, slagt+smågrise'!CG$2,FALSE)","v":{"$error":"#N/A"}}]
[null,91,{"$f":"'Vejehold 1'!$F20","v":0},{"$f":"'Vejehold 2'!$F20","v":0},{"$f":"'Vejehold 3'!$F20","v":0},{"$f":"'Vejehold 4'!$F20","v":0},{"$f":"'Vejehold 5'!$F20","v":0},{"$f":"'Vejehold 6'!$F20","v":0},null,null,null,null,null,null,null,null,null,null,null,null,null,null,null,null,null,null,30,"1900-01-30",{"$f":"VLOOKUP($AB34,'Vejehold 1'!$A$7:$P$23,'Opsamling, slagt+smågrise'!AC$2,FALSE)","v":{"$error":"#N/A"}},{"$f":"VLOOKUP($AB34,'Vejehold 1'!$A$7:$P$23,'Opsamling, slagt+smågrise'!AD$2,FALSE)","v":{"$error":"#N/A"}},{"$f":"VLOOKUP($AB34,'Vejehold 1'!$A$7:$P$23,'Opsamling, slagt+smågrise'!AE$2,FALSE)","v":{"$error":"#N/A"}},{"$f":"VLOOKUP($AB34,'Vejehold 1'!$A$7:$P$23,'Opsamling, slagt+smågrise'!AF$2,FALSE)","v":{"$error":"#N/A"}},{"$f":"VLOOKUP($AB34,'Vejehold 1'!$A$7:$P$23,'Opsamling, slagt+smågrise'!AG$2,FALSE)","v":{"$error":"#N/A"}},{"$f":"VLOOKUP($AB34,'Vejehold 1'!$A$7:$P$23,'Opsamling, slagt+smågrise'!AH$2,FALSE)","v":{"$error":"#N/A"}},{"$f":"VLOOKUP($AB34,'Vejehold 1'!$A$7:$P$23,'Opsamling, slagt+smågrise'!AI$2,FALSE)","v":{"$error":"#N/A"}},null,30,"1900-01-30",{"$f":"VLOOKUP($AL34,'Vejehold 2'!$A$7:$P$23,'Opsamling, slagt+smågrise'!AM$2,FALSE)","v":{"$error":"#N/A"}},{"$f":"VLOOKUP($AL34,'Vejehold 2'!$A$7:$P$23,'Opsamling, slagt+smågrise'!AN$2,FALSE)","v":{"$error":"#N/A"}},{"$f":"VLOOKUP($AL34,'Vejehold 2'!$A$7:$P$23,'Opsamling, slagt+smågrise'!AO$2,FALSE)","v":{"$error":"#N/A"}},{"$f":"VLOOKUP($AL34,'Vejehold 2'!$A$7:$P$23,'Opsamling, slagt+smågrise'!AP$2,FALSE)","v":{"$error":"#N/A"}},{"$f":"VLOOKUP($AL34,'Vejehold 2'!$A$7:$P$23,'Opsamling, slagt+smågrise'!AQ$2,FALSE)","v":{"$error":"#N/A"}},{"$f":"VLOOKUP($AL34,'Vejehold 2'!$A$7:$P$23,'Opsamling, slagt+smågrise'!AR$2,FALSE)","v":{"$error":"#N/A"}},{"$f":"VLOOKUP($AL34,'Vejehold 2'!$A$7:$P$23,'Opsamling, slagt+smågrise'!AS$2,FALSE)","v":{"$error":"#N/A"}},null,30,"1900-01-30",{"$f":"VLOOKUP($AV34,'Vejehold 3'!$A$7:$P$23,'Opsamling, slagt+smågrise'!AW$2,FALSE)","v":{"$error":"#N/A"}},{"$f":"VLOOKUP($AV34,'Vejehold 3'!$A$7:$P$23,'Opsamling, slagt+smågrise'!AX$2,FALSE)","v":{"$error":"#N/A"}},{"$f":"VLOOKUP($AV34,'Vejehold 3'!$A$7:$P$23,'Opsamling, slagt+smågrise'!AY$2,FALSE)","v":{"$error":"#N/A"}},{"$f":"VLOOKUP($AV34,'Vejehold 3'!$A$7:$P$23,'Opsamling, slagt+smågrise'!AZ$2,FALSE)","v":{"$error":"#N/A"}},{"$f":"VLOOKUP($AV34,'Vejehold 3'!$A$7:$P$23,'Opsamling, slagt+smågrise'!BA$2,FALSE)","v":{"$error":"#N/A"}},{"$f":"VLOOKUP($AV34,'Vejehold 3'!$A$7:$P$23,'Opsamling, slagt+smågrise'!BB$2,FALSE)","v":{"$error":"#N/A"}},{"$f":"VLOOKUP($AV34,'Vejehold 3'!$A$7:$P$23,'Opsamling, slagt+smågrise'!BC$2,FALSE)","v":{"$error":"#N/A"}},null,30,"1900-01-30",{"$f":"VLOOKUP($BF34,'Vejehold 4'!$A$7:$P$23,'Opsamling, slagt+smågrise'!BG$2,FALSE)","v":{"$error":"#N/A"}},{"$f":"VLOOKUP($BF34,'Vejehold 4'!$A$7:$P$23,'Opsamling, slagt+smågrise'!BH$2,FALSE)","v":{"$error":"#N/A"}},{"$f":"VLOOKUP($BF34,'Vejehold 4'!$A$7:$P$23,'Opsamling, slagt+smågrise'!BI$2,FALSE)","v":{"$error":"#N/A"}},{"$f":"VLOOKUP($BF34,'Vejehold 4'!$A$7:$P$23,'Opsamling, slagt+smågrise'!BJ$2,FALSE)","v":{"$error":"#N/A"}},{"$f":"VLOOKUP($BF34,'Vejehold 4'!$A$7:$P$23,'Opsamling, slagt+smågrise'!BK$2,FALSE)","v":{"$error":"#N/A"}},{"$f":"VLOOKUP($BF34,'Vejehold 4'!$A$7:$P$23,'Opsamling, slagt+smågrise'!BL$2,FALSE)","v":{"$error":"#N/A"}},{"$f":"VLOOKUP($BF34,'Vejehold 4'!$A$7:$P$23,'Opsamling, slagt+smågrise'!BM$2,FALSE)","v":{"$error":"#N/A"}},null,30,"1900-01-30",{"$f":"VLOOKUP($BP34,'Vejehold 5'!$A$7:$P$23,'Opsamling, slagt+smågrise'!BQ$2,FALSE)","v":{"$error":"#N/A"}},{"$f":"VLOOKUP($BP34,'Vejehold 5'!$A$7:$P$23,'Opsamling, slagt+smågrise'!BR$2,FALSE)","v":{"$error":"#N/A"}},{"$f":"VLOOKUP($BP34,'Vejehold 5'!$A$7:$P$23,'Opsamling, slagt+smågrise'!BS$2,FALSE)","v":{"$error":"#N/A"}},{"$f":"VLOOKUP($BP34,'Vejehold 5'!$A$7:$P$23,'Opsamling, slagt+smågrise'!BT$2,FALSE)","v":{"$error":"#N/A"}},{"$f":"VLOOKUP($BP34,'Vejehold 5'!$A$7:$P$23,'Opsamling, slagt+smågrise'!BU$2,FALSE)","v":{"$error":"#N/A"}},{"$f":"VLOOKUP($BP34,'Vejehold 5'!$A$7:$P$23,'Opsamling, slagt+smågrise'!BV$2,FALSE)","v":{"$error":"#N/A"}},{"$f":"VLOOKUP($BP34,'Vejehold 5'!$A$7:$P$23,'Opsamling, slagt+smågrise'!BW$2,FALSE)","v":{"$error":"#N/A"}},null,30,"1900-01-30",{"$f":"VLOOKUP($BZ34,'Vejehold 6'!$A$7:$P$23,'Opsamling, slagt+smågrise'!CA$2,FALSE)","v":{"$error":"#N/A"}},{"$f":"VLOOKUP($BZ34,'Vejehold 6'!$A$7:$P$23,'Opsamling, slagt+smågrise'!CB$2,FALSE)","v":{"$error":"#N/A"}},{"$f":"VLOOKUP($BZ34,'Vejehold 6'!$A$7:$P$23,'Opsamling, slagt+smågrise'!CC$2,FALSE)","v":{"$error":"#N/A"}},{"$f":"VLOOKUP($BZ34,'Vejehold 6'!$A$7:$P$23,'Opsamling, slagt+smågrise'!CD$2,FALSE)","v":{"$error":"#N/A"}},{"$f":"VLOOKUP($BZ34,'Vejehold 6'!$A$7:$P$23,'Opsamling, slagt+smågrise'!CE$2,FALSE)","v":{"$error":"#N/A"}},{"$f":"VLOOKUP($BZ34,'Vejehold 6'!$A$7:$P$23,'Opsamling, slagt+smågrise'!CF$2,FALSE)","v":{"$error":"#N/A"}},{"$f":"VLOOKUP($BZ34,'Vejehold 6'!$A$7:$P$23,'Opsamling, slagt+smågrise'!CG$2,FALSE)","v":{"$error":"#N/A"}}]
[null,98,{"$f":"'Vejehold 1'!$F21","v":0},{"$f":"'Vejehold 2'!$F21","v":0},{"$f":"'Vejehold 3'!$F21","v":0},{"$f":"'Vejehold 4'!$F21","v":0},{"$f":"'Vejehold 5'!$F21","v":0},{"$f":"'Vejehold 6'!$F21","v":0},null,null,null,null,null,null,null,null,null,null,null,null,null,null,null,null,null,null,31,"1900-01-31",{"$f":"VLOOKUP($AB35,'Vejehold 1'!$A$7:$P$23,'Opsamling, slagt+smågrise'!AC$2,FALSE)","v":{"$error":"#N/A"}},{"$f":"VLOOKUP($AB35,'Vejehold 1'!$A$7:$P$23,'Opsamling, slagt+smågrise'!AD$2,FALSE)","v":{"$error":"#N/A"}},{"$f":"VLOOKUP($AB35,'Vejehold 1'!$A$7:$P$23,'Opsamling, slagt+smågrise'!AE$2,FALSE)","v":{"$error":"#N/A"}},{"$f":"VLOOKUP($AB35,'Vejehold 1'!$A$7:$P$23,'Opsamling, slagt+smågrise'!AF$2,FALSE)","v":{"$error":"#N/A"}},{"$f":"VLOOKUP($AB35,'Vejehold 1'!$A$7:$P$23,'Opsamling, slagt+smågrise'!AG$2,FALSE)","v":{"$error":"#N/A"}},{"$f":"VLOOKUP($AB35,'Vejehold 1'!$A$7:$P$23,'Opsamling, slagt+smågrise'!AH$2,FALSE)","v":{"$error":"#N/A"}},{"$f":"VLOOKUP($AB35,'Vejehold 1'!$A$7:$P$23,'Opsamling, slagt+smågrise'!AI$2,FALSE)","v":{"$error":"#N/A"}},null,31,"1900-01-31",{"$f":"VLOOKUP($AL35,'Vejehold 2'!$A$7:$P$23,'Opsamling, slagt+smågrise'!AM$2,FALSE)","v":{"$error":"#N/A"}},{"$f":"VLOOKUP($AL35,'Vejehold 2'!$A$7:$P$23,'Opsamling, slagt+smågrise'!AN$2,FALSE)","v":{"$error":"#N/A"}},{"$f":"VLOOKUP($AL35,'Vejehold 2'!$A$7:$P$23,'Opsamling, slagt+smågrise'!AO$2,FALSE)","v":{"$error":"#N/A"}},{"$f":"VLOOKUP($AL35,'Vejehold 2'!$A$7:$P$23,'Opsamling, slagt+smågrise'!AP$2,FALSE)","v":{"$error":"#N/A"}},{"$f":"VLOOKUP($AL35,'Vejehold 2'!$A$7:$P$23,'Opsamling, slagt+smågrise'!AQ$2,FALSE)","v":{"$error":"#N/A"}},{"$f":"VLOOKUP($AL35,'Vejehold 2'!$A$7:$P$23,'Opsamling, slagt+smågrise'!AR$2,FALSE)","v":{"$error":"#N/A"}},{"$f":"VLOOKUP($AL35,'Vejehold 2'!$A$7:$P$23,'Opsamling, slagt+smågrise'!AS$2,FALSE)","v":{"$error":"#N/A"}},null,31,"1900-01-31",{"$f":"VLOOKUP($AV35,'Vejehold 3'!$A$7:$P$23,'Opsamling, slagt+smågrise'!AW$2,FALSE)","v":{"$error":"#N/A"}},{"$f":"VLOOKUP($AV35,'Vejehold 3'!$A$7:$P$23,'Opsamling, slagt+smågrise'!AX$2,FALSE)","v":{"$error":"#N/A"}},{"$f":"VLOOKUP($AV35,'Vejehold 3'!$A$7:$P$23,'Opsamling, slagt+smågrise'!AY$2,FALSE)","v":{"$error":"#N/A"}},{"$f":"VLOOKUP($AV35,'Vejehold 3'!$A$7:$P$23,'Opsamling, slagt+smågrise'!AZ$2,FALSE)","v":{"$error":"#N/A"}},{"$f":"VLOOKUP($AV35,'Vejehold 3'!$A$7:$P$23,'Opsamling, slagt+smågrise'!BA$2,FALSE)","v":{"$error":"#N/A"}},{"$f":"VLOOKUP($AV35,'Vejehold 3'!$A$7:$P$23,'Opsamling, slagt+smågrise'!BB$2,FALSE)","v":{"$error":"#N/A"}},{"$f":"VLOOKUP($AV35,'Vejehold 3'!$A$7:$P$23,'Opsamling, slagt+smågrise'!BC$2,FALSE)","v":{"$error":"#N/A"}},null,31,"1900-01-31",{"$f":"VLOOKUP($BF35,'Vejehold 4'!$A$7:$P$23,'Opsamling, slagt+smågrise'!BG$2,FALSE)","v":{"$error":"#N/A"}},{"$f":"VLOOKUP($BF35,'Vejehold 4'!$A$7:$P$23,'Opsamling, slagt+smågrise'!BH$2,FALSE)","v":{"$error":"#N/A"}},{"$f":"VLOOKUP($BF35,'Vejehold 4'!$A$7:$P$23,'Opsamling, slagt+smågrise'!BI$2,FALSE)","v":{"$error":"#N/A"}},{"$f":"VLOOKUP($BF35,'Vejehold 4'!$A$7:$P$23,'Opsamling, slagt+smågrise'!BJ$2,FALSE)","v":{"$error":"#N/A"}},{"$f":"VLOOKUP($BF35,'Vejehold 4'!$A$7:$P$23,'Opsamling, slagt+smågrise'!BK$2,FALSE)","v":{"$error":"#N/A"}},{"$f":"VLOOKUP($BF35,'Vejehold 4'!$A$7:$P$23,'Opsamling, slagt+smågrise'!BL$2,FALSE)","v":{"$error":"#N/A"}},{"$f":"VLOOKUP($BF35,'Vejehold 4'!$A$7:$P$23,'Opsamling, slagt+smågrise'!BM$2,FALSE)","v":{"$error":"#N/A"}},null,31,"1900-01-31",{"$f":"VLOOKUP($BP35,'Vejehold 5'!$A$7:$P$23,'Opsamling, slagt+smågrise'!BQ$2,FALSE)","v":{"$error":"#N/A"}},{"$f":"VLOOKUP($BP35,'Vejehold 5'!$A$7:$P$23,'Opsamling, slagt+smågrise'!BR$2,FALSE)","v":{"$error":"#N/A"}},{"$f":"VLOOKUP($BP35,'Vejehold 5'!$A$7:$P$23,'Opsamling, slagt+smågrise'!BS$2,FALSE)","v":{"$error":"#N/A"}},{"$f":"VLOOKUP($BP35,'Vejehold 5'!$A$7:$P$23,'Opsamling, slagt+smågrise'!BT$2,FALSE)","v":{"$error":"#N/A"}},{"$f":"VLOOKUP($BP35,'Vejehold 5'!$A$7:$P$23,'Opsamling, slagt+smågrise'!BU$2,FALSE)","v":{"$error":"#N/A"}},{"$f":"VLOOKUP($BP35,'Vejehold 5'!$A$7:$P$23,'Opsamling, slagt+smågrise'!BV$2,FALSE)","v":{"$error":"#N/A"}},{"$f":"VLOOKUP($BP35,'Vejehold 5'!$A$7:$P$23,'Opsamling, slagt+smågrise'!BW$2,FALSE)","v":{"$error":"#N/A"}},null,31,"1900-01-31",{"$f":"VLOOKUP($BZ35,'Vejehold 6'!$A$7:$P$23,'Opsamling, slagt+smågrise'!CA$2,FALSE)","v":{"$error":"#N/A"}},{"$f":"VLOOKUP($BZ35,'Vejehold 6'!$A$7:$P$23,'Opsamling, slagt+smågrise'!CB$2,FALSE)","v":{"$error":"#N/A"}},{"$f":"VLOOKUP($BZ35,'Vejehold 6'!$A$7:$P$23,'Opsamling, slagt+smågrise'!CC$2,FALSE)","v":{"$error":"#N/A"}},{"$f":"VLOOKUP($BZ35,'Vejehold 6'!$A$7:$P$23,'Opsamling, slagt+smågrise'!CD$2,FALSE)","v":{"$error":"#N/A"}},{"$f":"VLOOKUP($BZ35,'Vejehold 6'!$A$7:$P$23,'Opsamling, slagt+smågrise'!CE$2,FALSE)","v":{"$error":"#N/A"}},{"$f":"VLOOKUP($BZ35,'Vejehold 6'!$A$7:$P$23,'Opsamling, slagt+smågrise'!CF$2,FALSE)","v":{"$error":"#N/A"}},{"$f":"VLOOKUP($BZ35,'Vejehold 6'!$A$7:$P$23,'Opsamling, slagt+smågrise'!CG$2,FALSE)","v":{"$error":"#N/A"}}]
[null,null,null,null,null,null,null,null,null,null,null,null,null,null,null,null,null,null,null,null,null,null,null,null,null,null,32,"1900-02-01",{"$f":"VLOOKUP($AB36,'Vejehold 1'!$A$7:$P$23,'Opsamling, slagt+smågrise'!AC$2,FALSE)","v":{"$error":"#N/A"}},{"$f":"VLOOKUP($AB36,'Vejehold 1'!$A$7:$P$23,'Opsamling, slagt+smågrise'!AD$2,FALSE)","v":{"$error":"#N/A"}},{"$f":"VLOOKUP($AB36,'Vejehold 1'!$A$7:$P$23,'Opsamling, slagt+smågrise'!AE$2,FALSE)","v":{"$error":"#N/A"}},{"$f":"VLOOKUP($AB36,'Vejehold 1'!$A$7:$P$23,'Opsamling, slagt+smågrise'!AF$2,FALSE)","v":{"$error":"#N/A"}},{"$f":"VLOOKUP($AB36,'Vejehold 1'!$A$7:$P$23,'Opsamling, slagt+smågrise'!AG$2,FALSE)","v":{"$error":"#N/A"}},{"$f":"VLOOKUP($AB36,'Vejehold 1'!$A$7:$P$23,'Opsamling, slagt+smågrise'!AH$2,FALSE)","v":{"$error":"#N/A"}},{"$f":"VLOOKUP($AB36,'Vejehold 1'!$A$7:$P$23,'Opsamling, slagt+smågrise'!AI$2,FALSE)","v":{"$error":"#N/A"}},null,32,"1900-02-01",{"$f":"VLOOKUP($AL36,'Vejehold 2'!$A$7:$P$23,'Opsamling, slagt+smågrise'!AM$2,FALSE)","v":{"$error":"#N/A"}},{"$f":"VLOOKUP($AL36,'Vejehold 2'!$A$7:$P$23,'Opsamling, slagt+smågrise'!AN$2,FALSE)","v":{"$error":"#N/A"}},{"$f":"VLOOKUP($AL36,'Vejehold 2'!$A$7:$P$23,'Opsamling, slagt+smågrise'!AO$2,FALSE)","v":{"$error":"#N/A"}},{"$f":"VLOOKUP($AL36,'Vejehold 2'!$A$7:$P$23,'Opsamling, slagt+smågrise'!AP$2,FALSE)","v":{"$error":"#N/A"}},{"$f":"VLOOKUP($AL36,'Vejehold 2'!$A$7:$P$23,'Opsamling, slagt+smågrise'!AQ$2,FALSE)","v":{"$error":"#N/A"}},{"$f":"VLOOKUP($AL36,'Vejehold 2'!$A$7:$P$23,'Opsamling, slagt+smågrise'!AR$2,FALSE)","v":{"$error":"#N/A"}},{"$f":"VLOOKUP($AL36,'Vejehold 2'!$A$7:$P$23,'Opsamling, slagt+smågrise'!AS$2,FALSE)","v":{"$error":"#N/A"}},null,32,"1900-02-01",{"$f":"VLOOKUP($AV36,'Vejehold 3'!$A$7:$P$23,'Opsamling, slagt+smågrise'!AW$2,FALSE)","v":{"$error":"#N/A"}},{"$f":"VLOOKUP($AV36,'Vejehold 3'!$A$7:$P$23,'Opsamling, slagt+smågrise'!AX$2,FALSE)","v":{"$error":"#N/A"}},{"$f":"VLOOKUP($AV36,'Vejehold 3'!$A$7:$P$23,'Opsamling, slagt+smågrise'!AY$2,FALSE)","v":{"$error":"#N/A"}},{"$f":"VLOOKUP($AV36,'Vejehold 3'!$A$7:$P$23,'Opsamling, slagt+smågrise'!AZ$2,FALSE)","v":{"$error":"#N/A"}},{"$f":"VLOOKUP($AV36,'Vejehold 3'!$A$7:$P$23,'Opsamling, slagt+smågrise'!BA$2,FALSE)","v":{"$error":"#N/A"}},{"$f":"VLOOKUP($AV36,'Vejehold 3'!$A$7:$P$23,'Opsamling, slagt+smågrise'!BB$2,FALSE)","v":{"$error":"#N/A"}},{"$f":"VLOOKUP($AV36,'Vejehold 3'!$A$7:$P$23,'Opsamling, slagt+smågrise'!BC$2,FALSE)","v":{"$error":"#N/A"}},null,32,"1900-02-01",{"$f":"VLOOKUP($BF36,'Vejehold 4'!$A$7:$P$23,'Opsamling, slagt+smågrise'!BG$2,FALSE)","v":{"$error":"#N/A"}},{"$f":"VLOOKUP($BF36,'Vejehold 4'!$A$7:$P$23,'Opsamling, slagt+smågrise'!BH$2,FALSE)","v":{"$error":"#N/A"}},{"$f":"VLOOKUP($BF36,'Vejehold 4'!$A$7:$P$23,'Opsamling, slagt+smågrise'!BI$2,FALSE)","v":{"$error":"#N/A"}},{"$f":"VLOOKUP($BF36,'Vejehold 4'!$A$7:$P$23,'Opsamling, slagt+smågrise'!BJ$2,FALSE)","v":{"$error":"#N/A"}},{"$f":"VLOOKUP($BF36,'Vejehold 4'!$A$7:$P$23,'Opsamling, slagt+smågrise'!BK$2,FALSE)","v":{"$error":"#N/A"}},{"$f":"VLOOKUP($BF36,'Vejehold 4'!$A$7:$P$23,'Opsamling, slagt+smågrise'!BL$2,FALSE)","v":{"$error":"#N/A"}},{"$f":"VLOOKUP($BF36,'Vejehold 4'!$A$7:$P$23,'Opsamling, slagt+smågrise'!BM$2,FALSE)","v":{"$error":"#N/A"}},null,32,"1900-02-01",{"$f":"VLOOKUP($BP36,'Vejehold 5'!$A$7:$P$23,'Opsamling, slagt+smågrise'!BQ$2,FALSE)","v":{"$error":"#N/A"}},{"$f":"VLOOKUP($BP36,'Vejehold 5'!$A$7:$P$23,'Opsamling, slagt+smågrise'!BR$2,FALSE)","v":{"$error":"#N/A"}},{"$f":"VLOOKUP($BP36,'Vejehold 5'!$A$7:$P$23,'Opsamling, slagt+smågrise'!BS$2,FALSE)","v":{"$error":"#N/A"}},{"$f":"VLOOKUP($BP36,'Vejehold 5'!$A$7:$P$23,'Opsamling, slagt+smågrise'!BT$2,FALSE)","v":{"$error":"#N/A"}},{"$f":"VLOOKUP($BP36,'Vejehold 5'!$A$7:$P$23,'Opsamling, slagt+smågrise'!BU$2,FALSE)","v":{"$error":"#N/A"}},{"$f":"VLOOKUP($BP36,'Vejehold 5'!$A$7:$P$23,'Opsamling, slagt+smågrise'!BV$2,FALSE)","v":{"$error":"#N/A"}},{"$f":"VLOOKUP($BP36,'Vejehold 5'!$A$7:$P$23,'Opsamling, slagt+smågrise'!BW$2,FALSE)","v":{"$error":"#N/A"}},null,32,"1900-02-01",{"$f":"VLOOKUP($BZ36,'Vejehold 6'!$A$7:$P$23,'Opsamling, slagt+smågrise'!CA$2,FALSE)","v":{"$error":"#N/A"}},{"$f":"VLOOKUP($BZ36,'Vejehold 6'!$A$7:$P$23,'Opsamling, slagt+smågrise'!CB$2,FALSE)","v":{"$error":"#N/A"}},{"$f":"VLOOKUP($BZ36,'Vejehold 6'!$A$7:$P$23,'Opsamling, slagt+smågrise'!CC$2,FALSE)","v":{"$error":"#N/A"}},{"$f":"VLOOKUP($BZ36,'Vejehold 6'!$A$7:$P$23,'Opsamling, slagt+smågrise'!CD$2,FALSE)","v":{"$error":"#N/A"}},{"$f":"VLOOKUP($BZ36,'Vejehold 6'!$A$7:$P$23,'Opsamling, slagt+smågrise'!CE$2,FALSE)","v":{"$error":"#N/A"}},{"$f":"VLOOKUP($BZ36,'Vejehold 6'!$A$7:$P$23,'Opsamling, slagt+smågrise'!CF$2,FALSE)","v":{"$error":"#N/A"}},{"$f":"VLOOKUP($BZ36,'Vejehold 6'!$A$7:$P$23,'Opsamling, slagt+smågrise'!CG$2,FALSE)","v":{"$error":"#N/A"}}]
[null,null,null,null,null,null,null,null,null,null,null,null,null,null,null,null,null,null,null,null,null,null,null,null,null,null,33,"1900-02-02",{"$f":"VLOOKUP($AB37,'Vejehold 1'!$A$7:$P$23,'Opsamling, slagt+smågrise'!AC$2,FALSE)","v":{"$error":"#N/A"}},{"$f":"VLOOKUP($AB37,'Vejehold 1'!$A$7:$P$23,'Opsamling, slagt+smågrise'!AD$2,FALSE)","v":{"$error":"#N/A"}},{"$f":"VLOOKUP($AB37,'Vejehold 1'!$A$7:$P$23,'Opsamling, slagt+smågrise'!AE$2,FALSE)","v":{"$error":"#N/A"}},{"$f":"VLOOKUP($AB37,'Vejehold 1'!$A$7:$P$23,'Opsamling, slagt+smågrise'!AF$2,FALSE)","v":{"$error":"#N/A"}},{"$f":"VLOOKUP($AB37,'Vejehold 1'!$A$7:$P$23,'Opsamling, slagt+smågrise'!AG$2,FALSE)","v":{"$error":"#N/A"}},{"$f":"VLOOKUP($AB37,'Vejehold 1'!$A$7:$P$23,'Opsamling, slagt+smågrise'!AH$2,FALSE)","v":{"$error":"#N/A"}},{"$f":"VLOOKUP($AB37,'Vejehold 1'!$A$7:$P$23,'Opsamling, slagt+smågrise'!AI$2,FALSE)","v":{"$error":"#N/A"}},null,33,"1900-02-02",{"$f":"VLOOKUP($AL37,'Vejehold 2'!$A$7:$P$23,'Opsamling, slagt+smågrise'!AM$2,FALSE)","v":{"$error":"#N/A"}},{"$f":"VLOOKUP($AL37,'Vejehold 2'!$A$7:$P$23,'Opsamling, slagt+smågrise'!AN$2,FALSE)","v":{"$error":"#N/A"}},{"$f":"VLOOKUP($AL37,'Vejehold 2'!$A$7:$P$23,'Opsamling, slagt+smågrise'!AO$2,FALSE)","v":{"$error":"#N/A"}},{"$f":"VLOOKUP($AL37,'Vejehold 2'!$A$7:$P$23,'Opsamling, slagt+smågrise'!AP$2,FALSE)","v":{"$error":"#N/A"}},{"$f":"VLOOKUP($AL37,'Vejehold 2'!$A$7:$P$23,'Opsamling, slagt+smågrise'!AQ$2,FALSE)","v":{"$error":"#N/A"}},{"$f":"VLOOKUP($AL37,'Vejehold 2'!$A$7:$P$23,'Opsamling, slagt+smågrise'!AR$2,FALSE)","v":{"$error":"#N/A"}},{"$f":"VLOOKUP($AL37,'Vejehold 2'!$A$7:$P$23,'Opsamling, slagt+smågrise'!AS$2,FALSE)","v":{"$error":"#N/A"}},null,33,"1900-02-02",{"$f":"VLOOKUP($AV37,'Vejehold 3'!$A$7:$P$23,'Opsamling, slagt+smågrise'!AW$2,FALSE)","v":{"$error":"#N/A"}},{"$f":"VLOOKUP($AV37,'Vejehold 3'!$A$7:$P$23,'Opsamling, slagt+smågrise'!AX$2,FALSE)","v":{"$error":"#N/A"}},{"$f":"VLOOKUP($AV37,'Vejehold 3'!$A$7:$P$23,'Opsamling, slagt+smågrise'!AY$2,FALSE)","v":{"$error":"#N/A"}},{"$f":"VLOOKUP($AV37,'Vejehold 3'!$A$7:$P$23,'Opsamling, slagt+smågrise'!AZ$2,FALSE)","v":{"$error":"#N/A"}},{"$f":"VLOOKUP($AV37,'Vejehold 3'!$A$7:$P$23,'Opsamling, slagt+smågrise'!BA$2,FALSE)","v":{"$error":"#N/A"}},{"$f":"VLOOKUP($AV37,'Vejehold 3'!$A$7:$P$23,'Opsamling, slagt+smågrise'!BB$2,FALSE)","v":{"$error":"#N/A"}},{"$f":"VLOOKUP($AV37,'Vejehold 3'!$A$7:$P$23,'Opsamling, slagt+smågrise'!BC$2,FALSE)","v":{"$error":"#N/A"}},null,33,"1900-02-02",{"$f":"VLOOKUP($BF37,'Vejehold 4'!$A$7:$P$23,'Opsamling, slagt+smågrise'!BG$2,FALSE)","v":{"$error":"#N/A"}},{"$f":"VLOOKUP($BF37,'Vejehold 4'!$A$7:$P$23,'Opsamling, slagt+smågrise'!BH$2,FALSE)","v":{"$error":"#N/A"}},{"$f":"VLOOKUP($BF37,'Vejehold 4'!$A$7:$P$23,'Opsamling, slagt+smågrise'!BI$2,FALSE)","v":{"$error":"#N/A"}},{"$f":"VLOOKUP($BF37,'Vejehold 4'!$A$7:$P$23,'Opsamling, slagt+smågrise'!BJ$2,FALSE)","v":{"$error":"#N/A"}},{"$f":"VLOOKUP($BF37,'Vejehold 4'!$A$7:$P$23,'Opsamling, slagt+smågrise'!BK$2,FALSE)","v":{"$error":"#N/A"}},{"$f":"VLOOKUP($BF37,'Vejehold 4'!$A$7:$P$23,'Opsamling, slagt+smågrise'!BL$2,FALSE)","v":{"$error":"#N/A"}},{"$f":"VLOOKUP($BF37,'Vejehold 4'!$A$7:$P$23,'Opsamling, slagt+smågrise'!BM$2,FALSE)","v":{"$error":"#N/A"}},null,33,"1900-02-02",{"$f":"VLOOKUP($BP37,'Vejehold 5'!$A$7:$P$23,'Opsamling, slagt+smågrise'!BQ$2,FALSE)","v":{"$error":"#N/A"}},{"$f":"VLOOKUP($BP37,'Vejehold 5'!$A$7:$P$23,'Opsamling, slagt+smågrise'!BR$2,FALSE)","v":{"$error":"#N/A"}},{"$f":"VLOOKUP($BP37,'Vejehold 5'!$A$7:$P$23,'Opsamling, slagt+smågrise'!BS$2,FALSE)","v":{"$error":"#N/A"}},{"$f":"VLOOKUP($BP37,'Vejehold 5'!$A$7:$P$23,'Opsamling, slagt+smågrise'!BT$2,FALSE)","v":{"$error":"#N/A"}},{"$f":"VLOOKUP($BP37,'Vejehold 5'!$A$7:$P$23,'Opsamling, slagt+smågrise'!BU$2,FALSE)","v":{"$error":"#N/A"}},{"$f":"VLOOKUP($BP37,'Vejehold 5'!$A$7:$P$23,'Opsamling, slagt+smågrise'!BV$2,FALSE)","v":{"$error":"#N/A"}},{"$f":"VLOOKUP($BP37,'Vejehold 5'!$A$7:$P$23,'Opsamling, slagt+smågrise'!BW$2,FALSE)","v":{"$error":"#N/A"}},null,33,"1900-02-02",{"$f":"VLOOKUP($BZ37,'Vejehold 6'!$A$7:$P$23,'Opsamling, slagt+smågrise'!CA$2,FALSE)","v":{"$error":"#N/A"}},{"$f":"VLOOKUP($BZ37,'Vejehold 6'!$A$7:$P$23,'Opsamling, slagt+smågrise'!CB$2,FALSE)","v":{"$error":"#N/A"}},{"$f":"VLOOKUP($BZ37,'Vejehold 6'!$A$7:$P$23,'Opsamling, slagt+smågrise'!CC$2,FALSE)","v":{"$error":"#N/A"}},{"$f":"VLOOKUP($BZ37,'Vejehold 6'!$A$7:$P$23,'Opsamling, slagt+smågrise'!CD$2,FALSE)","v":{"$error":"#N/A"}},{"$f":"VLOOKUP($BZ37,'Vejehold 6'!$A$7:$P$23,'Opsamling, slagt+smågrise'!CE$2,FALSE)","v":{"$error":"#N/A"}},{"$f":"VLOOKUP($BZ37,'Vejehold 6'!$A$7:$P$23,'Opsamling, slagt+smågrise'!CF$2,FALSE)","v":{"$error":"#N/A"}},{"$f":"VLOOKUP($BZ37,'Vejehold 6'!$A$7:$P$23,'Opsamling, slagt+smågrise'!CG$2,FALSE)","v":{"$error":"#N/A"}}]
[null,"Daglig tilvækst til dato",null,null,null,null,null,null,null,null,null,null,null,null,null,null,null,null,null,null,null,null,null,null,null,null,34,"1900-02-03",{"$f":"VLOOKUP($AB38,'Vejehold 1'!$A$7:$P$23,'Opsamling, slagt+smågrise'!AC$2,FALSE)","v":{"$error":"#N/A"}},{"$f":"VLOOKUP($AB38,'Vejehold 1'!$A$7:$P$23,'Opsamling, slagt+smågrise'!AD$2,FALSE)","v":{"$error":"#N/A"}},{"$f":"VLOOKUP($AB38,'Vejehold 1'!$A$7:$P$23,'Opsamling, slagt+smågrise'!AE$2,FALSE)","v":{"$error":"#N/A"}},{"$f":"VLOOKUP($AB38,'Vejehold 1'!$A$7:$P$23,'Opsamling, slagt+smågrise'!AF$2,FALSE)","v":{"$error":"#N/A"}},{"$f":"VLOOKUP($AB38,'Vejehold 1'!$A$7:$P$23,'Opsamling, slagt+smågrise'!AG$2,FALSE)","v":{"$error":"#N/A"}},{"$f":"VLOOKUP($AB38,'Vejehold 1'!$A$7:$P$23,'Opsamling, slagt+smågrise'!AH$2,FALSE)","v":{"$error":"#N/A"}},{"$f":"VLOOKUP($AB38,'Vejehold 1'!$A$7:$P$23,'Opsamling, slagt+smågrise'!AI$2,FALSE)","v":{"$error":"#N/A"}},null,34,"1900-02-03",{"$f":"VLOOKUP($AL38,'Vejehold 2'!$A$7:$P$23,'Opsamling, slagt+smågrise'!AM$2,FALSE)","v":{"$error":"#N/A"}},{"$f":"VLOOKUP($AL38,'Vejehold 2'!$A$7:$P$23,'Opsamling, slagt+smågrise'!AN$2,FALSE)","v":{"$error":"#N/A"}},{"$f":"VLOOKUP($AL38,'Vejehold 2'!$A$7:$P$23,'Opsamling, slagt+smågrise'!AO$2,FALSE)","v":{"$error":"#N/A"}},{"$f":"VLOOKUP($AL38,'Vejehold 2'!$A$7:$P$23,'Opsamling, slagt+smågrise'!AP$2,FALSE)","v":{"$error":"#N/A"}},{"$f":"VLOOKUP($AL38,'Vejehold 2'!$A$7:$P$23,'Opsamling, slagt+smågrise'!AQ$2,FALSE)","v":{"$error":"#N/A"}},{"$f":"VLOOKUP($AL38,'Vejehold 2'!$A$7:$P$23,'Opsamling, slagt+smågrise'!AR$2,FALSE)","v":{"$error":"#N/A"}},{"$f":"VLOOKUP($AL38,'Vejehold 2'!$A$7:$P$23,'Opsamling, slagt+smågrise'!AS$2,FALSE)","v":{"$error":"#N/A"}},null,34,"1900-02-03",{"$f":"VLOOKUP($AV38,'Vejehold 3'!$A$7:$P$23,'Opsamling, slagt+smågrise'!AW$2,FALSE)","v":{"$error":"#N/A"}},{"$f":"VLOOKUP($AV38,'Vejehold 3'!$A$7:$P$23,'Opsamling, slagt+smågrise'!AX$2,FALSE)","v":{"$error":"#N/A"}},{"$f":"VLOOKUP($AV38,'Vejehold 3'!$A$7:$P$23,'Opsamling, slagt+smågrise'!AY$2,FALSE)","v":{"$error":"#N/A"}},{"$f":"VLOOKUP($AV38,'Vejehold 3'!$A$7:$P$23,'Opsamling, slagt+smågrise'!AZ$2,FALSE)","v":{"$error":"#N/A"}},{"$f":"VLOOKUP($AV38,'Vejehold 3'!$A$7:$P$23,'Opsamling, slagt+smågrise'!BA$2,FALSE)","v":{"$error":"#N/A"}},{"$f":"VLOOKUP($AV38,'Vejehold 3'!$A$7:$P$23,'Opsamling, slagt+smågrise'!BB$2,FALSE)","v":{"$error":"#N/A"}},{"$f":"VLOOKUP($AV38,'Vejehold 3'!$A$7:$P$23,'Opsamling, slagt+smågrise'!BC$2,FALSE)","v":{"$error":"#N/A"}},null,34,"1900-02-03",{"$f":"VLOOKUP($BF38,'Vejehold 4'!$A$7:$P$23,'Opsamling, slagt+smågrise'!BG$2,FALSE)","v":{"$error":"#N/A"}},{"$f":"VLOOKUP($BF38,'Vejehold 4'!$A$7:$P$23,'Opsamling, slagt+smågrise'!BH$2,FALSE)","v":{"$error":"#N/A"}},{"$f":"VLOOKUP($BF38,'Vejehold 4'!$A$7:$P$23,'Opsamling, slagt+smågrise'!BI$2,FALSE)","v":{"$error":"#N/A"}},{"$f":"VLOOKUP($BF38,'Vejehold 4'!$A$7:$P$23,'Opsamling, slagt+smågrise'!BJ$2,FALSE)","v":{"$error":"#N/A"}},{"$f":"VLOOKUP($BF38,'Vejehold 4'!$A$7:$P$23,'Opsamling, slagt+smågrise'!BK$2,FALSE)","v":{"$error":"#N/A"}},{"$f":"VLOOKUP($BF38,'Vejehold 4'!$A$7:$P$23,'Opsamling, slagt+smågrise'!BL$2,FALSE)","v":{"$error":"#N/A"}},{"$f":"VLOOKUP($BF38,'Vejehold 4'!$A$7:$P$23,'Opsamling, slagt+smågrise'!BM$2,FALSE)","v":{"$error":"#N/A"}},null,34,"1900-02-03",{"$f":"VLOOKUP($BP38,'Vejehold 5'!$A$7:$P$23,'Opsamling, slagt+smågrise'!BQ$2,FALSE)","v":{"$error":"#N/A"}},{"$f":"VLOOKUP($BP38,'Vejehold 5'!$A$7:$P$23,'Opsamling, slagt+smågrise'!BR$2,FALSE)","v":{"$error":"#N/A"}},{"$f":"VLOOKUP($BP38,'Vejehold 5'!$A$7:$P$23,'Opsamling, slagt+smågrise'!BS$2,FALSE)","v":{"$error":"#N/A"}},{"$f":"VLOOKUP($BP38,'Vejehold 5'!$A$7:$P$23,'Opsamling, slagt+smågrise'!BT$2,FALSE)","v":{"$error":"#N/A"}},{"$f":"VLOOKUP($BP38,'Vejehold 5'!$A$7:$P$23,'Opsamling, slagt+smågrise'!BU$2,FALSE)","v":{"$error":"#N/A"}},{"$f":"VLOOKUP($BP38,'Vejehold 5'!$A$7:$P$23,'Opsamling, slagt+smågrise'!BV$2,FALSE)","v":{"$error":"#N/A"}},{"$f":"VLOOKUP($BP38,'Vejehold 5'!$A$7:$P$23,'Opsamling, slagt+smågrise'!BW$2,FALSE)","v":{"$error":"#N/A"}},null,34,"1900-02-03",{"$f":"VLOOKUP($BZ38,'Vejehold 6'!$A$7:$P$23,'Opsamling, slagt+smågrise'!CA$2,FALSE)","v":{"$error":"#N/A"}},{"$f":"VLOOKUP($BZ38,'Vejehold 6'!$A$7:$P$23,'Opsamling, slagt+smågrise'!CB$2,FALSE)","v":{"$error":"#N/A"}},{"$f":"VLOOKUP($BZ38,'Vejehold 6'!$A$7:$P$23,'Opsamling, slagt+smågrise'!CC$2,FALSE)","v":{"$error":"#N/A"}},{"$f":"VLOOKUP($BZ38,'Vejehold 6'!$A$7:$P$23,'Opsamling, slagt+smågrise'!CD$2,FALSE)","v":{"$error":"#N/A"}},{"$f":"VLOOKUP($BZ38,'Vejehold 6'!$A$7:$P$23,'Opsamling, slagt+smågrise'!CE$2,FALSE)","v":{"$error":"#N/A"}},{"$f":"VLOOKUP($BZ38,'Vejehold 6'!$A$7:$P$23,'Opsamling, slagt+smågrise'!CF$2,FALSE)","v":{"$error":"#N/A"}},{"$f":"VLOOKUP($BZ38,'Vejehold 6'!$A$7:$P$23,'Opsamling, slagt+smågrise'!CG$2,FALSE)","v":{"$error":"#N/A"}}]
[null,"Dag","Hold 1","Hold 2","Hold 3","Hold 4","Hold 5","Hold 6",null,null,null,null,null,null,null,null,null,null,null,null,null,null,null,null,null,null,35,"1900-02-04",{"$f":"VLOOKUP($AB39,'Vejehold 1'!$A$7:$P$23,'Opsamling, slagt+smågrise'!AC$2,FALSE)","v":{"$error":"#N/A"}},{"$f":"VLOOKUP($AB39,'Vejehold 1'!$A$7:$P$23,'Opsamling, slagt+smågrise'!AD$2,FALSE)","v":{"$error":"#N/A"}},{"$f":"VLOOKUP($AB39,'Vejehold 1'!$A$7:$P$23,'Opsamling, slagt+smågrise'!AE$2,FALSE)","v":{"$error":"#N/A"}},{"$f":"VLOOKUP($AB39,'Vejehold 1'!$A$7:$P$23,'Opsamling, slagt+smågrise'!AF$2,FALSE)","v":{"$error":"#N/A"}},{"$f":"VLOOKUP($AB39,'Vejehold 1'!$A$7:$P$23,'Opsamling, slagt+smågrise'!AG$2,FALSE)","v":{"$error":"#N/A"}},{"$f":"VLOOKUP($AB39,'Vejehold 1'!$A$7:$P$23,'Opsamling, slagt+smågrise'!AH$2,FALSE)","v":{"$error":"#N/A"}},{"$f":"VLOOKUP($AB39,'Vejehold 1'!$A$7:$P$23,'Opsamling, slagt+smågrise'!AI$2,FALSE)","v":{"$error":"#N/A"}},null,35,"1900-02-04",{"$f":"VLOOKUP($AL39,'Vejehold 2'!$A$7:$P$23,'Opsamling, slagt+smågrise'!AM$2,FALSE)","v":{"$error":"#N/A"}},{"$f":"VLOOKUP($AL39,'Vejehold 2'!$A$7:$P$23,'Opsamling, slagt+smågrise'!AN$2,FALSE)","v":{"$error":"#N/A"}},{"$f":"VLOOKUP($AL39,'Vejehold 2'!$A$7:$P$23,'Opsamling, slagt+smågrise'!AO$2,FALSE)","v":{"$error":"#N/A"}},{"$f":"VLOOKUP($AL39,'Vejehold 2'!$A$7:$P$23,'Opsamling, slagt+smågrise'!AP$2,FALSE)","v":{"$error":"#N/A"}},{"$f":"VLOOKUP($AL39,'Vejehold 2'!$A$7:$P$23,'Opsamling, slagt+smågrise'!AQ$2,FALSE)","v":{"$error":"#N/A"}},{"$f":"VLOOKUP($AL39,'Vejehold 2'!$A$7:$P$23,'Opsamling, slagt+smågrise'!AR$2,FALSE)","v":{"$error":"#N/A"}},{"$f":"VLOOKUP($AL39,'Vejehold 2'!$A$7:$P$23,'Opsamling, slagt+smågrise'!AS$2,FALSE)","v":{"$error":"#N/A"}},null,35,"1900-02-04",{"$f":"VLOOKUP($AV39,'Vejehold 3'!$A$7:$P$23,'Opsamling, slagt+smågrise'!AW$2,FALSE)","v":{"$error":"#N/A"}},{"$f":"VLOOKUP($AV39,'Vejehold 3'!$A$7:$P$23,'Opsamling, slagt+smågrise'!AX$2,FALSE)","v":{"$error":"#N/A"}},{"$f":"VLOOKUP($AV39,'Vejehold 3'!$A$7:$P$23,'Opsamling, slagt+smågrise'!AY$2,FALSE)","v":{"$error":"#N/A"}},{"$f":"VLOOKUP($AV39,'Vejehold 3'!$A$7:$P$23,'Opsamling, slagt+smågrise'!AZ$2,FALSE)","v":{"$error":"#N/A"}},{"$f":"VLOOKUP($AV39,'Vejehold 3'!$A$7:$P$23,'Opsamling, slagt+smågrise'!BA$2,FALSE)","v":{"$error":"#N/A"}},{"$f":"VLOOKUP($AV39,'Vejehold 3'!$A$7:$P$23,'Opsamling, slagt+smågrise'!BB$2,FALSE)","v":{"$error":"#N/A"}},{"$f":"VLOOKUP($AV39,'Vejehold 3'!$A$7:$P$23,'Opsamling, slagt+smågrise'!BC$2,FALSE)","v":{"$error":"#N/A"}},null,35,"1900-02-04",{"$f":"VLOOKUP($BF39,'Vejehold 4'!$A$7:$P$23,'Opsamling, slagt+smågrise'!BG$2,FALSE)","v":{"$error":"#N/A"}},{"$f":"VLOOKUP($BF39,'Vejehold 4'!$A$7:$P$23,'Opsamling, slagt+smågrise'!BH$2,FALSE)","v":{"$error":"#N/A"}},{"$f":"VLOOKUP($BF39,'Vejehold 4'!$A$7:$P$23,'Opsamling, slagt+smågrise'!BI$2,FALSE)","v":{"$error":"#N/A"}},{"$f":"VLOOKUP($BF39,'Vejehold 4'!$A$7:$P$23,'Opsamling, slagt+smågrise'!BJ$2,FALSE)","v":{"$error":"#N/A"}},{"$f":"VLOOKUP($BF39,'Vejehold 4'!$A$7:$P$23,'Opsamling, slagt+smågrise'!BK$2,FALSE)","v":{"$error":"#N/A"}},{"$f":"VLOOKUP($BF39,'Vejehold 4'!$A$7:$P$23,'Opsamling, slagt+smågrise'!BL$2,FALSE)","v":{"$error":"#N/A"}},{"$f":"VLOOKUP($BF39,'Vejehold 4'!$A$7:$P$23,'Opsamling, slagt+smågrise'!BM$2,FALSE)","v":{"$error":"#N/A"}},null,35,"1900-02-04",{"$f":"VLOOKUP($BP39,'Vejehold 5'!$A$7:$P$23,'Opsamling, slagt+smågrise'!BQ$2,FALSE)","v":{"$error":"#N/A"}},{"$f":"VLOOKUP($BP39,'Vejehold 5'!$A$7:$P$23,'Opsamling, slagt+smågrise'!BR$2,FALSE)","v":{"$error":"#N/A"}},{"$f":"VLOOKUP($BP39,'Vejehold 5'!$A$7:$P$23,'Opsamling, slagt+smågrise'!BS$2,FALSE)","v":{"$error":"#N/A"}},{"$f":"VLOOKUP($BP39,'Vejehold 5'!$A$7:$P$23,'Opsamling, slagt+smågrise'!BT$2,FALSE)","v":{"$error":"#N/A"}},{"$f":"VLOOKUP($BP39,'Vejehold 5'!$A$7:$P$23,'Opsamling, slagt+smågrise'!BU$2,FALSE)","v":{"$error":"#N/A"}},{"$f":"VLOOKUP($BP39,'Vejehold 5'!$A$7:$P$23,'Opsamling, slagt+smågrise'!BV$2,FALSE)","v":{"$error":"#N/A"}},{"$f":"VLOOKUP($BP39,'Vejehold 5'!$A$7:$P$23,'Opsamling, slagt+smågrise'!BW$2,FALSE)","v":{"$error":"#N/A"}},null,35,"1900-02-04",{"$f":"VLOOKUP($BZ39,'Vejehold 6'!$A$7:$P$23,'Opsamling, slagt+smågrise'!CA$2,FALSE)","v":{"$error":"#N/A"}},{"$f":"VLOOKUP($BZ39,'Vejehold 6'!$A$7:$P$23,'Opsamling, slagt+smågrise'!CB$2,FALSE)","v":{"$error":"#N/A"}},{"$f":"VLOOKUP($BZ39,'Vejehold 6'!$A$7:$P$23,'Opsamling, slagt+smågrise'!CC$2,FALSE)","v":{"$error":"#N/A"}},{"$f":"VLOOKUP($BZ39,'Vejehold 6'!$A$7:$P$23,'Opsamling, slagt+smågrise'!CD$2,FALSE)","v":{"$error":"#N/A"}},{"$f":"VLOOKUP($BZ39,'Vejehold 6'!$A$7:$P$23,'Opsamling, slagt+smågrise'!CE$2,FALSE)","v":{"$error":"#N/A"}},{"$f":"VLOOKUP($BZ39,'Vejehold 6'!$A$7:$P$23,'Opsamling, slagt+smågrise'!CF$2,FALSE)","v":{"$error":"#N/A"}},{"$f":"VLOOKUP($BZ39,'Vejehold 6'!$A$7:$P$23,'Opsamling, slagt+smågrise'!CG$2,FALSE)","v":{"$error":"#N/A"}}]
[null,7,{"$f":"'Vejehold 1'!$G8","v":0},{"$f":"'Vejehold 2'!$G8","v":0},{"$f":"'Vejehold 3'!$G8","v":0},{"$f":"'Vejehold 4'!$G8","v":0},{"$f":"'Vejehold 5'!$G8","v":0},{"$f":"'Vejehold 6'!$G8","v":0},null,null,null,null,null,null,null,null,null,null,null,null,null,null,null,null,null,null,36,"1900-02-05",{"$f":"VLOOKUP($AB40,'Vejehold 1'!$A$7:$P$23,'Opsamling, slagt+smågrise'!AC$2,FALSE)","v":{"$error":"#N/A"}},{"$f":"VLOOKUP($AB40,'Vejehold 1'!$A$7:$P$23,'Opsamling, slagt+smågrise'!AD$2,FALSE)","v":{"$error":"#N/A"}},{"$f":"VLOOKUP($AB40,'Vejehold 1'!$A$7:$P$23,'Opsamling, slagt+smågrise'!AE$2,FALSE)","v":{"$error":"#N/A"}},{"$f":"VLOOKUP($AB40,'Vejehold 1'!$A$7:$P$23,'Opsamling, slagt+smågrise'!AF$2,FALSE)","v":{"$error":"#N/A"}},{"$f":"VLOOKUP($AB40,'Vejehold 1'!$A$7:$P$23,'Opsamling, slagt+smågrise'!AG$2,FALSE)","v":{"$error":"#N/A"}},{"$f":"VLOOKUP($AB40,'Vejehold 1'!$A$7:$P$23,'Opsamling, slagt+smågrise'!AH$2,FALSE)","v":{"$error":"#N/A"}},{"$f":"VLOOKUP($AB40,'Vejehold 1'!$A$7:$P$23,'Opsamling, slagt+smågrise'!AI$2,FALSE)","v":{"$error":"#N/A"}},null,36,"1900-02-05",{"$f":"VLOOKUP($AL40,'Vejehold 2'!$A$7:$P$23,'Opsamling, slagt+smågrise'!AM$2,FALSE)","v":{"$error":"#N/A"}},{"$f":"VLOOKUP($AL40,'Vejehold 2'!$A$7:$P$23,'Opsamling, slagt+smågrise'!AN$2,FALSE)","v":{"$error":"#N/A"}},{"$f":"VLOOKUP($AL40,'Vejehold 2'!$A$7:$P$23,'Opsamling, slagt+smågrise'!AO$2,FALSE)","v":{"$error":"#N/A"}},{"$f":"VLOOKUP($AL40,'Vejehold 2'!$A$7:$P$23,'Opsamling, slagt+smågrise'!AP$2,FALSE)","v":{"$error":"#N/A"}},{"$f":"VLOOKUP($AL40,'Vejehold 2'!$A$7:$P$23,'Opsamling, slagt+smågrise'!AQ$2,FALSE)","v":{"$error":"#N/A"}},{"$f":"VLOOKUP($AL40,'Vejehold 2'!$A$7:$P$23,'Opsamling, slagt+smågrise'!AR$2,FALSE)","v":{"$error":"#N/A"}},{"$f":"VLOOKUP($AL40,'Vejehold 2'!$A$7:$P$23,'Opsamling, slagt+smågrise'!AS$2,FALSE)","v":{"$error":"#N/A"}},null,36,"1900-02-05",{"$f":"VLOOKUP($AV40,'Vejehold 3'!$A$7:$P$23,'Opsamling, slagt+smågrise'!AW$2,FALSE)","v":{"$error":"#N/A"}},{"$f":"VLOOKUP($AV40,'Vejehold 3'!$A$7:$P$23,'Opsamling, slagt+smågrise'!AX$2,FALSE)","v":{"$error":"#N/A"}},{"$f":"VLOOKUP($AV40,'Vejehold 3'!$A$7:$P$23,'Opsamling, slagt+smågrise'!AY$2,FALSE)","v":{"$error":"#N/A"}},{"$f":"VLOOKUP($AV40,'Vejehold 3'!$A$7:$P$23,'Opsamling, slagt+smågrise'!AZ$2,FALSE)","v":{"$error":"#N/A"}},{"$f":"VLOOKUP($AV40,'Vejehold 3'!$A$7:$P$23,'Opsamling, slagt+smågrise'!BA$2,FALSE)","v":{"$error":"#N/A"}},{"$f":"VLOOKUP($AV40,'Vejehold 3'!$A$7:$P$23,'Opsamling, slagt+smågrise'!BB$2,FALSE)","v":{"$error":"#N/A"}},{"$f":"VLOOKUP($AV40,'Vejehold 3'!$A$7:$P$23,'Opsamling, slagt+smågrise'!BC$2,FALSE)","v":{"$error":"#N/A"}},null,36,"1900-02-05",{"$f":"VLOOKUP($BF40,'Vejehold 4'!$A$7:$P$23,'Opsamling, slagt+smågrise'!BG$2,FALSE)","v":{"$error":"#N/A"}},{"$f":"VLOOKUP($BF40,'Vejehold 4'!$A$7:$P$23,'Opsamling, slagt+smågrise'!BH$2,FALSE)","v":{"$error":"#N/A"}},{"$f":"VLOOKUP($BF40,'Vejehold 4'!$A$7:$P$23,'Opsamling, slagt+smågrise'!BI$2,FALSE)","v":{"$error":"#N/A"}},{"$f":"VLOOKUP($BF40,'Vejehold 4'!$A$7:$P$23,'Opsamling, slagt+smågrise'!BJ$2,FALSE)","v":{"$error":"#N/A"}},{"$f":"VLOOKUP($BF40,'Vejehold 4'!$A$7:$P$23,'Opsamling, slagt+smågrise'!BK$2,FALSE)","v":{"$error":"#N/A"}},{"$f":"VLOOKUP($BF40,'Vejehold 4'!$A$7:$P$23,'Opsamling, slagt+smågrise'!BL$2,FALSE)","v":{"$error":"#N/A"}},{"$f":"VLOOKUP($BF40,'Vejehold 4'!$A$7:$P$23,'Opsamling, slagt+smågrise'!BM$2,FALSE)","v":{"$error":"#N/A"}},null,36,"1900-02-05",{"$f":"VLOOKUP($BP40,'Vejehold 5'!$A$7:$P$23,'Opsamling, slagt+smågrise'!BQ$2,FALSE)","v":{"$error":"#N/A"}},{"$f":"VLOOKUP($BP40,'Vejehold 5'!$A$7:$P$23,'Opsamling, slagt+smågrise'!BR$2,FALSE)","v":{"$error":"#N/A"}},{"$f":"VLOOKUP($BP40,'Vejehold 5'!$A$7:$P$23,'Opsamling, slagt+smågrise'!BS$2,FALSE)","v":{"$error":"#N/A"}},{"$f":"VLOOKUP($BP40,'Vejehold 5'!$A$7:$P$23,'Opsamling, slagt+smågrise'!BT$2,FALSE)","v":{"$error":"#N/A"}},{"$f":"VLOOKUP($BP40,'Vejehold 5'!$A$7:$P$23,'Opsamling, slagt+smågrise'!BU$2,FALSE)","v":{"$error":"#N/A"}},{"$f":"VLOOKUP($BP40,'Vejehold 5'!$A$7:$P$23,'Opsamling, slagt+smågrise'!BV$2,FALSE)","v":{"$error":"#N/A"}},{"$f":"VLOOKUP($BP40,'Vejehold 5'!$A$7:$P$23,'Opsamling, slagt+smågrise'!BW$2,FALSE)","v":{"$error":"#N/A"}},null,36,"1900-02-05",{"$f":"VLOOKUP($BZ40,'Vejehold 6'!$A$7:$P$23,'Opsamling, slagt+smågrise'!CA$2,FALSE)","v":{"$error":"#N/A"}},{"$f":"VLOOKUP($BZ40,'Vejehold 6'!$A$7:$P$23,'Opsamling, slagt+smågrise'!CB$2,FALSE)","v":{"$error":"#N/A"}},{"$f":"VLOOKUP($BZ40,'Vejehold 6'!$A$7:$P$23,'Opsamling, slagt+smågrise'!CC$2,FALSE)","v":{"$error":"#N/A"}},{"$f":"VLOOKUP($BZ40,'Vejehold 6'!$A$7:$P$23,'Opsamling, slagt+smågrise'!CD$2,FALSE)","v":{"$error":"#N/A"}},{"$f":"VLOOKUP($BZ40,'Vejehold 6'!$A$7:$P$23,'Opsamling, slagt+smågrise'!CE$2,FALSE)","v":{"$error":"#N/A"}},{"$f":"VLOOKUP($BZ40,'Vejehold 6'!$A$7:$P$23,'Opsamling, slagt+smågrise'!CF$2,FALSE)","v":{"$error":"#N/A"}},{"$f":"VLOOKUP($BZ40,'Vejehold 6'!$A$7:$P$23,'Opsamling, slagt+smågrise'!CG$2,FALSE)","v":{"$error":"#N/A"}}]
[null,14,{"$f":"'Vejehold 1'!$G9","v":0},{"$f":"'Vejehold 2'!$G9","v":0},{"$f":"'Vejehold 3'!$G9","v":0},{"$f":"'Vejehold 4'!$G9","v":0},{"$f":"'Vejehold 5'!$G9","v":0},{"$f":"'Vejehold 6'!$G9","v":0},null,null,null,null,null,null,null,null,null,null,null,null,null,null,null,null,null,null,37,"1900-02-06",{"$f":"VLOOKUP($AB41,'Vejehold 1'!$A$7:$P$23,'Opsamling, slagt+smågrise'!AC$2,FALSE)","v":{"$error":"#N/A"}},{"$f":"VLOOKUP($AB41,'Vejehold 1'!$A$7:$P$23,'Opsamling, slagt+smågrise'!AD$2,FALSE)","v":{"$error":"#N/A"}},{"$f":"VLOOKUP($AB41,'Vejehold 1'!$A$7:$P$23,'Opsamling, slagt+smågrise'!AE$2,FALSE)","v":{"$error":"#N/A"}},{"$f":"VLOOKUP($AB41,'Vejehold 1'!$A$7:$P$23,'Opsamling, slagt+smågrise'!AF$2,FALSE)","v":{"$error":"#N/A"}},{"$f":"VLOOKUP($AB41,'Vejehold 1'!$A$7:$P$23,'Opsamling, slagt+smågrise'!AG$2,FALSE)","v":{"$error":"#N/A"}},{"$f":"VLOOKUP($AB41,'Vejehold 1'!$A$7:$P$23,'Opsamling, slagt+smågrise'!AH$2,FALSE)","v":{"$error":"#N/A"}},{"$f":"VLOOKUP($AB41,'Vejehold 1'!$A$7:$P$23,'Opsamling, slagt+smågrise'!AI$2,FALSE)","v":{"$error":"#N/A"}},null,37,"1900-02-06",{"$f":"VLOOKUP($AL41,'Vejehold 2'!$A$7:$P$23,'Opsamling, slagt+smågrise'!AM$2,FALSE)","v":{"$error":"#N/A"}},{"$f":"VLOOKUP($AL41,'Vejehold 2'!$A$7:$P$23,'Opsamling, slagt+smågrise'!AN$2,FALSE)","v":{"$error":"#N/A"}},{"$f":"VLOOKUP($AL41,'Vejehold 2'!$A$7:$P$23,'Opsamling, slagt+smågrise'!AO$2,FALSE)","v":{"$error":"#N/A"}},{"$f":"VLOOKUP($AL41,'Vejehold 2'!$A$7:$P$23,'Opsamling, slagt+smågrise'!AP$2,FALSE)","v":{"$error":"#N/A"}},{"$f":"VLOOKUP($AL41,'Vejehold 2'!$A$7:$P$23,'Opsamling, slagt+smågrise'!AQ$2,FALSE)","v":{"$error":"#N/A"}},{"$f":"VLOOKUP($AL41,'Vejehold 2'!$A$7:$P$23,'Opsamling, slagt+smågrise'!AR$2,FALSE)","v":{"$error":"#N/A"}},{"$f":"VLOOKUP($AL41,'Vejehold 2'!$A$7:$P$23,'Opsamling, slagt+smågrise'!AS$2,FALSE)","v":{"$error":"#N/A"}},null,37,"1900-02-06",{"$f":"VLOOKUP($AV41,'Vejehold 3'!$A$7:$P$23,'Opsamling, slagt+smågrise'!AW$2,FALSE)","v":{"$error":"#N/A"}},{"$f":"VLOOKUP($AV41,'Vejehold 3'!$A$7:$P$23,'Opsamling, slagt+smågrise'!AX$2,FALSE)","v":{"$error":"#N/A"}},{"$f":"VLOOKUP($AV41,'Vejehold 3'!$A$7:$P$23,'Opsamling, slagt+smågrise'!AY$2,FALSE)","v":{"$error":"#N/A"}},{"$f":"VLOOKUP($AV41,'Vejehold 3'!$A$7:$P$23,'Opsamling, slagt+smågrise'!AZ$2,FALSE)","v":{"$error":"#N/A"}},{"$f":"VLOOKUP($AV41,'Vejehold 3'!$A$7:$P$23,'Opsamling, slagt+smågrise'!BA$2,FALSE)","v":{"$error":"#N/A"}},{"$f":"VLOOKUP($AV41,'Vejehold 3'!$A$7:$P$23,'Opsamling, slagt+smågrise'!BB$2,FALSE)","v":{"$error":"#N/A"}},{"$f":"VLOOKUP($AV41,'Vejehold 3'!$A$7:$P$23,'Opsamling, slagt+smågrise'!BC$2,FALSE)","v":{"$error":"#N/A"}},null,37,"1900-02-06",{"$f":"VLOOKUP($BF41,'Vejehold 4'!$A$7:$P$23,'Opsamling, slagt+smågrise'!BG$2,FALSE)","v":{"$error":"#N/A"}},{"$f":"VLOOKUP($BF41,'Vejehold 4'!$A$7:$P$23,'Opsamling, slagt+smågrise'!BH$2,FALSE)","v":{"$error":"#N/A"}},{"$f":"VLOOKUP($BF41,'Vejehold 4'!$A$7:$P$23,'Opsamling, slagt+smågrise'!BI$2,FALSE)","v":{"$error":"#N/A"}},{"$f":"VLOOKUP($BF41,'Vejehold 4'!$A$7:$P$23,'Opsamling, slagt+smågrise'!BJ$2,FALSE)","v":{"$error":"#N/A"}},{"$f":"VLOOKUP($BF41,'Vejehold 4'!$A$7:$P$23,'Opsamling, slagt+smågrise'!BK$2,FALSE)","v":{"$error":"#N/A"}},{"$f":"VLOOKUP($BF41,'Vejehold 4'!$A$7:$P$23,'Opsamling, slagt+smågrise'!BL$2,FALSE)","v":{"$error":"#N/A"}},{"$f":"VLOOKUP($BF41,'Vejehold 4'!$A$7:$P$23,'Opsamling, slagt+smågrise'!BM$2,FALSE)","v":{"$error":"#N/A"}},null,37,"1900-02-06",{"$f":"VLOOKUP($BP41,'Vejehold 5'!$A$7:$P$23,'Opsamling, slagt+smågrise'!BQ$2,FALSE)","v":{"$error":"#N/A"}},{"$f":"VLOOKUP($BP41,'Vejehold 5'!$A$7:$P$23,'Opsamling, slagt+smågrise'!BR$2,FALSE)","v":{"$error":"#N/A"}},{"$f":"VLOOKUP($BP41,'Vejehold 5'!$A$7:$P$23,'Opsamling, slagt+smågrise'!BS$2,FALSE)","v":{"$error":"#N/A"}},{"$f":"VLOOKUP($BP41,'Vejehold 5'!$A$7:$P$23,'Opsamling, slagt+smågrise'!BT$2,FALSE)","v":{"$error":"#N/A"}},{"$f":"VLOOKUP($BP41,'Vejehold 5'!$A$7:$P$23,'Opsamling, slagt+smågrise'!BU$2,FALSE)","v":{"$error":"#N/A"}},{"$f":"VLOOKUP($BP41,'Vejehold 5'!$A$7:$P$23,'Opsamling, slagt+smågrise'!BV$2,FALSE)","v":{"$error":"#N/A"}},{"$f":"VLOOKUP($BP41,'Vejehold 5'!$A$7:$P$23,'Opsamling, slagt+smågrise'!BW$2,FALSE)","v":{"$error":"#N/A"}},null,37,"1900-02-06",{"$f":"VLOOKUP($BZ41,'Vejehold 6'!$A$7:$P$23,'Opsamling, slagt+smågrise'!CA$2,FALSE)","v":{"$error":"#N/A"}},{"$f":"VLOOKUP($BZ41,'Vejehold 6'!$A$7:$P$23,'Opsamling, slagt+smågrise'!CB$2,FALSE)","v":{"$error":"#N/A"}},{"$f":"VLOOKUP($BZ41,'Vejehold 6'!$A$7:$P$23,'Opsamling, slagt+smågrise'!CC$2,FALSE)","v":{"$error":"#N/A"}},{"$f":"VLOOKUP($BZ41,'Vejehold 6'!$A$7:$P$23,'Opsamling, slagt+smågrise'!CD$2,FALSE)","v":{"$error":"#N/A"}},{"$f":"VLOOKUP($BZ41,'Vejehold 6'!$A$7:$P$23,'Opsamling, slagt+smågrise'!CE$2,FALSE)","v":{"$error":"#N/A"}},{"$f":"VLOOKUP($BZ41,'Vejehold 6'!$A$7:$P$23,'Opsamling, slagt+smågrise'!CF$2,FALSE)","v":{"$error":"#N/A"}},{"$f":"VLOOKUP($BZ41,'Vejehold 6'!$A$7:$P$23,'Opsamling, slagt+smågrise'!CG$2,FALSE)","v":{"$error":"#N/A"}}]
[null,21,{"$f":"'Vejehold 1'!$G10","v":0},{"$f":"'Vejehold 2'!$G10","v":0},{"$f":"'Vejehold 3'!$G10","v":0},{"$f":"'Vejehold 4'!$G10","v":0},{"$f":"'Vejehold 5'!$G10","v":0},{"$f":"'Vejehold 6'!$G10","v":0},null,null,null,null,null,null,null,null,null,null,null,null,null,null,null,null,null,null,38,"1900-02-07",{"$f":"VLOOKUP($AB42,'Vejehold 1'!$A$7:$P$23,'Opsamling, slagt+smågrise'!AC$2,FALSE)","v":{"$error":"#N/A"}},{"$f":"VLOOKUP($AB42,'Vejehold 1'!$A$7:$P$23,'Opsamling, slagt+smågrise'!AD$2,FALSE)","v":{"$error":"#N/A"}},{"$f":"VLOOKUP($AB42,'Vejehold 1'!$A$7:$P$23,'Opsamling, slagt+smågrise'!AE$2,FALSE)","v":{"$error":"#N/A"}},{"$f":"VLOOKUP($AB42,'Vejehold 1'!$A$7:$P$23,'Opsamling, slagt+smågrise'!AF$2,FALSE)","v":{"$error":"#N/A"}},{"$f":"VLOOKUP($AB42,'Vejehold 1'!$A$7:$P$23,'Opsamling, slagt+smågrise'!AG$2,FALSE)","v":{"$error":"#N/A"}},{"$f":"VLOOKUP($AB42,'Vejehold 1'!$A$7:$P$23,'Opsamling, slagt+smågrise'!AH$2,FALSE)","v":{"$error":"#N/A"}},{"$f":"VLOOKUP($AB42,'Vejehold 1'!$A$7:$P$23,'Opsamling, slagt+smågrise'!AI$2,FALSE)","v":{"$error":"#N/A"}},null,38,"1900-02-07",{"$f":"VLOOKUP($AL42,'Vejehold 2'!$A$7:$P$23,'Opsamling, slagt+smågrise'!AM$2,FALSE)","v":{"$error":"#N/A"}},{"$f":"VLOOKUP($AL42,'Vejehold 2'!$A$7:$P$23,'Opsamling, slagt+smågrise'!AN$2,FALSE)","v":{"$error":"#N/A"}},{"$f":"VLOOKUP($AL42,'Vejehold 2'!$A$7:$P$23,'Opsamling, slagt+smågrise'!AO$2,FALSE)","v":{"$error":"#N/A"}},{"$f":"VLOOKUP($AL42,'Vejehold 2'!$A$7:$P$23,'Opsamling, slagt+smågrise'!AP$2,FALSE)","v":{"$error":"#N/A"}},{"$f":"VLOOKUP($AL42,'Vejehold 2'!$A$7:$P$23,'Opsamling, slagt+smågrise'!AQ$2,FALSE)","v":{"$error":"#N/A"}},{"$f":"VLOOKUP($AL42,'Vejehold 2'!$A$7:$P$23,'Opsamling, slagt+smågrise'!AR$2,FALSE)","v":{"$error":"#N/A"}},{"$f":"VLOOKUP($AL42,'Vejehold 2'!$A$7:$P$23,'Opsamling, slagt+smågrise'!AS$2,FALSE)","v":{"$error":"#N/A"}},null,38,"1900-02-07",{"$f":"VLOOKUP($AV42,'Vejehold 3'!$A$7:$P$23,'Opsamling, slagt+smågrise'!AW$2,FALSE)","v":{"$error":"#N/A"}},{"$f":"VLOOKUP($AV42,'Vejehold 3'!$A$7:$P$23,'Opsamling, slagt+smågrise'!AX$2,FALSE)","v":{"$error":"#N/A"}},{"$f":"VLOOKUP($AV42,'Vejehold 3'!$A$7:$P$23,'Opsamling, slagt+smågrise'!AY$2,FALSE)","v":{"$error":"#N/A"}},{"$f":"VLOOKUP($AV42,'Vejehold 3'!$A$7:$P$23,'Opsamling, slagt+smågrise'!AZ$2,FALSE)","v":{"$error":"#N/A"}},{"$f":"VLOOKUP($AV42,'Vejehold 3'!$A$7:$P$23,'Opsamling, slagt+smågrise'!BA$2,FALSE)","v":{"$error":"#N/A"}},{"$f":"VLOOKUP($AV42,'Vejehold 3'!$A$7:$P$23,'Opsamling, slagt+smågrise'!BB$2,FALSE)","v":{"$error":"#N/A"}},{"$f":"VLOOKUP($AV42,'Vejehold 3'!$A$7:$P$23,'Opsamling, slagt+smågrise'!BC$2,FALSE)","v":{"$error":"#N/A"}},null,38,"1900-02-07",{"$f":"VLOOKUP($BF42,'Vejehold 4'!$A$7:$P$23,'Opsamling, slagt+smågrise'!BG$2,FALSE)","v":{"$error":"#N/A"}},{"$f":"VLOOKUP($BF42,'Vejehold 4'!$A$7:$P$23,'Opsamling, slagt+smågrise'!BH$2,FALSE)","v":{"$error":"#N/A"}},{"$f":"VLOOKUP($BF42,'Vejehold 4'!$A$7:$P$23,'Opsamling, slagt+smågrise'!BI$2,FALSE)","v":{"$error":"#N/A"}},{"$f":"VLOOKUP($BF42,'Vejehold 4'!$A$7:$P$23,'Opsamling, slagt+smågrise'!BJ$2,FALSE)","v":{"$error":"#N/A"}},{"$f":"VLOOKUP($BF42,'Vejehold 4'!$A$7:$P$23,'Opsamling, slagt+smågrise'!BK$2,FALSE)","v":{"$error":"#N/A"}},{"$f":"VLOOKUP($BF42,'Vejehold 4'!$A$7:$P$23,'Opsamling, slagt+smågrise'!BL$2,FALSE)","v":{"$error":"#N/A"}},{"$f":"VLOOKUP($BF42,'Vejehold 4'!$A$7:$P$23,'Opsamling, slagt+smågrise'!BM$2,FALSE)","v":{"$error":"#N/A"}},null,38,"1900-02-07",{"$f":"VLOOKUP($BP42,'Vejehold 5'!$A$7:$P$23,'Opsamling, slagt+smågrise'!BQ$2,FALSE)","v":{"$error":"#N/A"}},{"$f":"VLOOKUP($BP42,'Vejehold 5'!$A$7:$P$23,'Opsamling, slagt+smågrise'!BR$2,FALSE)","v":{"$error":"#N/A"}},{"$f":"VLOOKUP($BP42,'Vejehold 5'!$A$7:$P$23,'Opsamling, slagt+smågrise'!BS$2,FALSE)","v":{"$error":"#N/A"}},{"$f":"VLOOKUP($BP42,'Vejehold 5'!$A$7:$P$23,'Opsamling, slagt+smågrise'!BT$2,FALSE)","v":{"$error":"#N/A"}},{"$f":"VLOOKUP($BP42,'Vejehold 5'!$A$7:$P$23,'Opsamling, slagt+smågrise'!BU$2,FALSE)","v":{"$error":"#N/A"}},{"$f":"VLOOKUP($BP42,'Vejehold 5'!$A$7:$P$23,'Opsamling, slagt+smågrise'!BV$2,FALSE)","v":{"$error":"#N/A"}},{"$f":"VLOOKUP($BP42,'Vejehold 5'!$A$7:$P$23,'Opsamling, slagt+smågrise'!BW$2,FALSE)","v":{"$error":"#N/A"}},null,38,"1900-02-07",{"$f":"VLOOKUP($BZ42,'Vejehold 6'!$A$7:$P$23,'Opsamling, slagt+smågrise'!CA$2,FALSE)","v":{"$error":"#N/A"}},{"$f":"VLOOKUP($BZ42,'Vejehold 6'!$A$7:$P$23,'Opsamling, slagt+smågrise'!CB$2,FALSE)","v":{"$error":"#N/A"}},{"$f":"VLOOKUP($BZ42,'Vejehold 6'!$A$7:$P$23,'Opsamling, slagt+smågrise'!CC$2,FALSE)","v":{"$error":"#N/A"}},{"$f":"VLOOKUP($BZ42,'Vejehold 6'!$A$7:$P$23,'Opsamling, slagt+smågrise'!CD$2,FALSE)","v":{"$error":"#N/A"}},{"$f":"VLOOKUP($BZ42,'Vejehold 6'!$A$7:$P$23,'Opsamling, slagt+smågrise'!CE$2,FALSE)","v":{"$error":"#N/A"}},{"$f":"VLOOKUP($BZ42,'Vejehold 6'!$A$7:$P$23,'Opsamling, slagt+smågrise'!CF$2,FALSE)","v":{"$error":"#N/A"}},{"$f":"VLOOKUP($BZ42,'Vejehold 6'!$A$7:$P$23,'Opsamling, slagt+smågrise'!CG$2,FALSE)","v":{"$error":"#N/A"}}]
[null,28,{"$f":"'Vejehold 1'!$G11","v":0},{"$f":"'Vejehold 2'!$G11","v":0},{"$f":"'Vejehold 3'!$G11","v":0},{"$f":"'Vejehold 4'!$G11","v":0},{"$f":"'Vejehold 5'!$G11","v":0},{"$f":"'Vejehold 6'!$G11","v":0},null,null,null,null,null,null,null,null,null,null,null,null,null,null,null,null,null,null,39,"1900-02-08",{"$f":"VLOOKUP($AB43,'Vejehold 1'!$A$7:$P$23,'Opsamling, slagt+smågrise'!AC$2,FALSE)","v":{"$error":"#N/A"}},{"$f":"VLOOKUP($AB43,'Vejehold 1'!$A$7:$P$23,'Opsamling, slagt+smågrise'!AD$2,FALSE)","v":{"$error":"#N/A"}},{"$f":"VLOOKUP($AB43,'Vejehold 1'!$A$7:$P$23,'Opsamling, slagt+smågrise'!AE$2,FALSE)","v":{"$error":"#N/A"}},{"$f":"VLOOKUP($AB43,'Vejehold 1'!$A$7:$P$23,'Opsamling, slagt+smågrise'!AF$2,FALSE)","v":{"$error":"#N/A"}},{"$f":"VLOOKUP($AB43,'Vejehold 1'!$A$7:$P$23,'Opsamling, slagt+smågrise'!AG$2,FALSE)","v":{"$error":"#N/A"}},{"$f":"VLOOKUP($AB43,'Vejehold 1'!$A$7:$P$23,'Opsamling, slagt+smågrise'!AH$2,FALSE)","v":{"$error":"#N/A"}},{"$f":"VLOOKUP($AB43,'Vejehold 1'!$A$7:$P$23,'Opsamling, slagt+smågrise'!AI$2,FALSE)","v":{"$error":"#N/A"}},null,39,"1900-02-08",{"$f":"VLOOKUP($AL43,'Vejehold 2'!$A$7:$P$23,'Opsamling, slagt+smågrise'!AM$2,FALSE)","v":{"$error":"#N/A"}},{"$f":"VLOOKUP($AL43,'Vejehold 2'!$A$7:$P$23,'Opsamling, slagt+smågrise'!AN$2,FALSE)","v":{"$error":"#N/A"}},{"$f":"VLOOKUP($AL43,'Vejehold 2'!$A$7:$P$23,'Opsamling, slagt+smågrise'!AO$2,FALSE)","v":{"$error":"#N/A"}},{"$f":"VLOOKUP($AL43,'Vejehold 2'!$A$7:$P$23,'Opsamling, slagt+smågrise'!AP$2,FALSE)","v":{"$error":"#N/A"}},{"$f":"VLOOKUP($AL43,'Vejehold 2'!$A$7:$P$23,'Opsamling, slagt+smågrise'!AQ$2,FALSE)","v":{"$error":"#N/A"}},{"$f":"VLOOKUP($AL43,'Vejehold 2'!$A$7:$P$23,'Opsamling, slagt+smågrise'!AR$2,FALSE)","v":{"$error":"#N/A"}},{"$f":"VLOOKUP($AL43,'Vejehold 2'!$A$7:$P$23,'Opsamling, slagt+smågrise'!AS$2,FALSE)","v":{"$error":"#N/A"}},null,39,"1900-02-08",{"$f":"VLOOKUP($AV43,'Vejehold 3'!$A$7:$P$23,'Opsamling, slagt+smågrise'!AW$2,FALSE)","v":{"$error":"#N/A"}},{"$f":"VLOOKUP($AV43,'Vejehold 3'!$A$7:$P$23,'Opsamling, slagt+smågrise'!AX$2,FALSE)","v":{"$error":"#N/A"}},{"$f":"VLOOKUP($AV43,'Vejehold 3'!$A$7:$P$23,'Opsamling, slagt+smågrise'!AY$2,FALSE)","v":{"$error":"#N/A"}},{"$f":"VLOOKUP($AV43,'Vejehold 3'!$A$7:$P$23,'Opsamling, slagt+smågrise'!AZ$2,FALSE)","v":{"$error":"#N/A"}},{"$f":"VLOOKUP($AV43,'Vejehold 3'!$A$7:$P$23,'Opsamling, slagt+smågrise'!BA$2,FALSE)","v":{"$error":"#N/A"}},{"$f":"VLOOKUP($AV43,'Vejehold 3'!$A$7:$P$23,'Opsamling, slagt+smågrise'!BB$2,FALSE)","v":{"$error":"#N/A"}},{"$f":"VLOOKUP($AV43,'Vejehold 3'!$A$7:$P$23,'Opsamling, slagt+smågrise'!BC$2,FALSE)","v":{"$error":"#N/A"}},null,39,"1900-02-08",{"$f":"VLOOKUP($BF43,'Vejehold 4'!$A$7:$P$23,'Opsamling, slagt+smågrise'!BG$2,FALSE)","v":{"$error":"#N/A"}},{"$f":"VLOOKUP($BF43,'Vejehold 4'!$A$7:$P$23,'Opsamling, slagt+smågrise'!BH$2,FALSE)","v":{"$error":"#N/A"}},{"$f":"VLOOKUP($BF43,'Vejehold 4'!$A$7:$P$23,'Opsamling, slagt+smågrise'!BI$2,FALSE)","v":{"$error":"#N/A"}},{"$f":"VLOOKUP($BF43,'Vejehold 4'!$A$7:$P$23,'Opsamling, slagt+smågrise'!BJ$2,FALSE)","v":{"$error":"#N/A"}},{"$f":"VLOOKUP($BF43,'Vejehold 4'!$A$7:$P$23,'Opsamling, slagt+smågrise'!BK$2,FALSE)","v":{"$error":"#N/A"}},{"$f":"VLOOKUP($BF43,'Vejehold 4'!$A$7:$P$23,'Opsamling, slagt+smågrise'!BL$2,FALSE)","v":{"$error":"#N/A"}},{"$f":"VLOOKUP($BF43,'Vejehold 4'!$A$7:$P$23,'Opsamling, slagt+smågrise'!BM$2,FALSE)","v":{"$error":"#N/A"}},null,39,"1900-02-08",{"$f":"VLOOKUP($BP43,'Vejehold 5'!$A$7:$P$23,'Opsamling, slagt+smågrise'!BQ$2,FALSE)","v":{"$error":"#N/A"}},{"$f":"VLOOKUP($BP43,'Vejehold 5'!$A$7:$P$23,'Opsamling, slagt+smågrise'!BR$2,FALSE)","v":{"$error":"#N/A"}},{"$f":"VLOOKUP($BP43,'Vejehold 5'!$A$7:$P$23,'Opsamling, slagt+smågrise'!BS$2,FALSE)","v":{"$error":"#N/A"}},{"$f":"VLOOKUP($BP43,'Vejehold 5'!$A$7:$P$23,'Opsamling, slagt+smågrise'!BT$2,FALSE)","v":{"$error":"#N/A"}},{"$f":"VLOOKUP($BP43,'Vejehold 5'!$A$7:$P$23,'Opsamling, slagt+smågrise'!BU$2,FALSE)","v":{"$error":"#N/A"}},{"$f":"VLOOKUP($BP43,'Vejehold 5'!$A$7:$P$23,'Opsamling, slagt+smågrise'!BV$2,FALSE)","v":{"$error":"#N/A"}},{"$f":"VLOOKUP($BP43,'Vejehold 5'!$A$7:$P$23,'Opsamling, slagt+smågrise'!BW$2,FALSE)","v":{"$error":"#N/A"}},null,39,"1900-02-08",{"$f":"VLOOKUP($BZ43,'Vejehold 6'!$A$7:$P$23,'Opsamling, slagt+smågrise'!CA$2,FALSE)","v":{"$error":"#N/A"}},{"$f":"VLOOKUP($BZ43,'Vejehold 6'!$A$7:$P$23,'Opsamling, slagt+smågrise'!CB$2,FALSE)","v":{"$error":"#N/A"}},{"$f":"VLOOKUP($BZ43,'Vejehold 6'!$A$7:$P$23,'Opsamling, slagt+smågrise'!CC$2,FALSE)","v":{"$error":"#N/A"}},{"$f":"VLOOKUP($BZ43,'Vejehold 6'!$A$7:$P$23,'Opsamling, slagt+smågrise'!CD$2,FALSE)","v":{"$error":"#N/A"}},{"$f":"VLOOKUP($BZ43,'Vejehold 6'!$A$7:$P$23,'Opsamling, slagt+smågrise'!CE$2,FALSE)","v":{"$error":"#N/A"}},{"$f":"VLOOKUP($BZ43,'Vejehold 6'!$A$7:$P$23,'Opsamling, slagt+smågrise'!CF$2,FALSE)","v":{"$error":"#N/A"}},{"$f":"VLOOKUP($BZ43,'Vejehold 6'!$A$7:$P$23,'Opsamling, slagt+smågrise'!CG$2,FALSE)","v":{"$error":"#N/A"}}]
[null,35,{"$f":"'Vejehold 1'!$G12","v":0},{"$f":"'Vejehold 2'!$G12","v":0},{"$f":"'Vejehold 3'!$G12","v":0},{"$f":"'Vejehold 4'!$G12","v":0},{"$f":"'Vejehold 5'!$G12","v":0},{"$f":"'Vejehold 6'!$G12","v":0},null,null,null,null,null,null,null,null,null,null,null,null,null,null,null,null,null,null,40,"1900-02-09",{"$f":"VLOOKUP($AB44,'Vejehold 1'!$A$7:$P$23,'Opsamling, slagt+smågrise'!AC$2,FALSE)","v":{"$error":"#N/A"}},{"$f":"VLOOKUP($AB44,'Vejehold 1'!$A$7:$P$23,'Opsamling, slagt+smågrise'!AD$2,FALSE)","v":{"$error":"#N/A"}},{"$f":"VLOOKUP($AB44,'Vejehold 1'!$A$7:$P$23,'Opsamling, slagt+smågrise'!AE$2,FALSE)","v":{"$error":"#N/A"}},{"$f":"VLOOKUP($AB44,'Vejehold 1'!$A$7:$P$23,'Opsamling, slagt+smågrise'!AF$2,FALSE)","v":{"$error":"#N/A"}},{"$f":"VLOOKUP($AB44,'Vejehold 1'!$A$7:$P$23,'Opsamling, slagt+smågrise'!AG$2,FALSE)","v":{"$error":"#N/A"}},{"$f":"VLOOKUP($AB44,'Vejehold 1'!$A$7:$P$23,'Opsamling, slagt+smågrise'!AH$2,FALSE)","v":{"$error":"#N/A"}},{"$f":"VLOOKUP($AB44,'Vejehold 1'!$A$7:$P$23,'Opsamling, slagt+smågrise'!AI$2,FALSE)","v":{"$error":"#N/A"}},null,40,"1900-02-09",{"$f":"VLOOKUP($AL44,'Vejehold 2'!$A$7:$P$23,'Opsamling, slagt+smågrise'!AM$2,FALSE)","v":{"$error":"#N/A"}},{"$f":"VLOOKUP($AL44,'Vejehold 2'!$A$7:$P$23,'Opsamling, slagt+smågrise'!AN$2,FALSE)","v":{"$error":"#N/A"}},{"$f":"VLOOKUP($AL44,'Vejehold 2'!$A$7:$P$23,'Opsamling, slagt+smågrise'!AO$2,FALSE)","v":{"$error":"#N/A"}},{"$f":"VLOOKUP($AL44,'Vejehold 2'!$A$7:$P$23,'Opsamling, slagt+smågrise'!AP$2,FALSE)","v":{"$error":"#N/A"}},{"$f":"VLOOKUP($AL44,'Vejehold 2'!$A$7:$P$23,'Opsamling, slagt+smågrise'!AQ$2,FALSE)","v":{"$error":"#N/A"}},{"$f":"VLOOKUP($AL44,'Vejehold 2'!$A$7:$P$23,'Opsamling, slagt+smågrise'!AR$2,FALSE)","v":{"$error":"#N/A"}},{"$f":"VLOOKUP($AL44,'Vejehold 2'!$A$7:$P$23,'Opsamling, slagt+smågrise'!AS$2,FALSE)","v":{"$error":"#N/A"}},null,40,"1900-02-09",{"$f":"VLOOKUP($AV44,'Vejehold 3'!$A$7:$P$23,'Opsamling, slagt+smågrise'!AW$2,FALSE)","v":{"$error":"#N/A"}},{"$f":"VLOOKUP($AV44,'Vejehold 3'!$A$7:$P$23,'Opsamling, slagt+smågrise'!AX$2,FALSE)","v":{"$error":"#N/A"}},{"$f":"VLOOKUP($AV44,'Vejehold 3'!$A$7:$P$23,'Opsamling, slagt+smågrise'!AY$2,FALSE)","v":{"$error":"#N/A"}},{"$f":"VLOOKUP($AV44,'Vejehold 3'!$A$7:$P$23,'Opsamling, slagt+smågrise'!AZ$2,FALSE)","v":{"$error":"#N/A"}},{"$f":"VLOOKUP($AV44,'Vejehold 3'!$A$7:$P$23,'Opsamling, slagt+smågrise'!BA$2,FALSE)","v":{"$error":"#N/A"}},{"$f":"VLOOKUP($AV44,'Vejehold 3'!$A$7:$P$23,'Opsamling, slagt+smågrise'!BB$2,FALSE)","v":{"$error":"#N/A"}},{"$f":"VLOOKUP($AV44,'Vejehold 3'!$A$7:$P$23,'Opsamling, slagt+smågrise'!BC$2,FALSE)","v":{"$error":"#N/A"}},null,40,"1900-02-09",{"$f":"VLOOKUP($BF44,'Vejehold 4'!$A$7:$P$23,'Opsamling, slagt+smågrise'!BG$2,FALSE)","v":{"$error":"#N/A"}},{"$f":"VLOOKUP($BF44,'Vejehold 4'!$A$7:$P$23,'Opsamling, slagt+smågrise'!BH$2,FALSE)","v":{"$error":"#N/A"}},{"$f":"VLOOKUP($BF44,'Vejehold 4'!$A$7:$P$23,'Opsamling, slagt+smågrise'!BI$2,FALSE)","v":{"$error":"#N/A"}},{"$f":"VLOOKUP($BF44,'Vejehold 4'!$A$7:$P$23,'Opsamling, slagt+smågrise'!BJ$2,FALSE)","v":{"$error":"#N/A"}},{"$f":"VLOOKUP($BF44,'Vejehold 4'!$A$7:$P$23,'Opsamling, slagt+smågrise'!BK$2,FALSE)","v":{"$error":"#N/A"}},{"$f":"VLOOKUP($BF44,'Vejehold 4'!$A$7:$P$23,'Opsamling, slagt+smågrise'!BL$2,FALSE)","v":{"$error":"#N/A"}},{"$f":"VLOOKUP($BF44,'Vejehold 4'!$A$7:$P$23,'Opsamling, slagt+smågrise'!BM$2,FALSE)","v":{"$error":"#N/A"}},null,40,"1900-02-09",{"$f":"VLOOKUP($BP44,'Vejehold 5'!$A$7:$P$23,'Opsamling, slagt+smågrise'!BQ$2,FALSE)","v":{"$error":"#N/A"}},{"$f":"VLOOKUP($BP44,'Vejehold 5'!$A$7:$P$23,'Opsamling, slagt+smågrise'!BR$2,FALSE)","v":{"$error":"#N/A"}},{"$f":"VLOOKUP($BP44,'Vejehold 5'!$A$7:$P$23,'Opsamling, slagt+smågrise'!BS$2,FALSE)","v":{"$error":"#N/A"}},{"$f":"VLOOKUP($BP44,'Vejehold 5'!$A$7:$P$23,'Opsamling, slagt+smågrise'!BT$2,FALSE)","v":{"$error":"#N/A"}},{"$f":"VLOOKUP($BP44,'Vejehold 5'!$A$7:$P$23,'Opsamling, slagt+smågrise'!BU$2,FALSE)","v":{"$error":"#N/A"}},{"$f":"VLOOKUP($BP44,'Vejehold 5'!$A$7:$P$23,'Opsamling, slagt+smågrise'!BV$2,FALSE)","v":{"$error":"#N/A"}},{"$f":"VLOOKUP($BP44,'Vejehold 5'!$A$7:$P$23,'Opsamling, slagt+smågrise'!BW$2,FALSE)","v":{"$error":"#N/A"}},null,40,"1900-02-09",{"$f":"VLOOKUP($BZ44,'Vejehold 6'!$A$7:$P$23,'Opsamling, slagt+smågrise'!CA$2,FALSE)","v":{"$error":"#N/A"}},{"$f":"VLOOKUP($BZ44,'Vejehold 6'!$A$7:$P$23,'Opsamling, slagt+smågrise'!CB$2,FALSE)","v":{"$error":"#N/A"}},{"$f":"VLOOKUP($BZ44,'Vejehold 6'!$A$7:$P$23,'Opsamling, slagt+smågrise'!CC$2,FALSE)","v":{"$error":"#N/A"}},{"$f":"VLOOKUP($BZ44,'Vejehold 6'!$A$7:$P$23,'Opsamling, slagt+smågrise'!CD$2,FALSE)","v":{"$error":"#N/A"}},{"$f":"VLOOKUP($BZ44,'Vejehold 6'!$A$7:$P$23,'Opsamling, slagt+smågrise'!CE$2,FALSE)","v":{"$error":"#N/A"}},{"$f":"VLOOKUP($BZ44,'Vejehold 6'!$A$7:$P$23,'Opsamling, slagt+smågrise'!CF$2,FALSE)","v":{"$error":"#N/A"}},{"$f":"VLOOKUP($BZ44,'Vejehold 6'!$A$7:$P$23,'Opsamling, slagt+smågrise'!CG$2,FALSE)","v":{"$error":"#N/A"}}]
[null,42,{"$f":"'Vejehold 1'!$G13","v":0},{"$f":"'Vejehold 2'!$G13","v":0},{"$f":"'Vejehold 3'!$G13","v":0},{"$f":"'Vejehold 4'!$G13","v":0},{"$f":"'Vejehold 5'!$G13","v":0},{"$f":"'Vejehold 6'!$G13","v":0},null,null,null,null,null,null,null,null,null,null,null,null,null,null,null,null,null,null,41,"1900-02-10",{"$f":"VLOOKUP($AB45,'Vejehold 1'!$A$7:$P$23,'Opsamling, slagt+smågrise'!AC$2,FALSE)","v":{"$error":"#N/A"}},{"$f":"VLOOKUP($AB45,'Vejehold 1'!$A$7:$P$23,'Opsamling, slagt+smågrise'!AD$2,FALSE)","v":{"$error":"#N/A"}},{"$f":"VLOOKUP($AB45,'Vejehold 1'!$A$7:$P$23,'Opsamling, slagt+smågrise'!AE$2,FALSE)","v":{"$error":"#N/A"}},{"$f":"VLOOKUP($AB45,'Vejehold 1'!$A$7:$P$23,'Opsamling, slagt+smågrise'!AF$2,FALSE)","v":{"$error":"#N/A"}},{"$f":"VLOOKUP($AB45,'Vejehold 1'!$A$7:$P$23,'Opsamling, slagt+smågrise'!AG$2,FALSE)","v":{"$error":"#N/A"}},{"$f":"VLOOKUP($AB45,'Vejehold 1'!$A$7:$P$23,'Opsamling, slagt+smågrise'!AH$2,FALSE)","v":{"$error":"#N/A"}},{"$f":"VLOOKUP($AB45,'Vejehold 1'!$A$7:$P$23,'Opsamling, slagt+smågrise'!AI$2,FALSE)","v":{"$error":"#N/A"}},null,41,"1900-02-10",{"$f":"VLOOKUP($AL45,'Vejehold 2'!$A$7:$P$23,'Opsamling, slagt+smågrise'!AM$2,FALSE)","v":{"$error":"#N/A"}},{"$f":"VLOOKUP($AL45,'Vejehold 2'!$A$7:$P$23,'Opsamling, slagt+smågrise'!AN$2,FALSE)","v":{"$error":"#N/A"}},{"$f":"VLOOKUP($AL45,'Vejehold 2'!$A$7:$P$23,'Opsamling, slagt+smågrise'!AO$2,FALSE)","v":{"$error":"#N/A"}},{"$f":"VLOOKUP($AL45,'Vejehold 2'!$A$7:$P$23,'Opsamling, slagt+smågrise'!AP$2,FALSE)","v":{"$error":"#N/A"}},{"$f":"VLOOKUP($AL45,'Vejehold 2'!$A$7:$P$23,'Opsamling, slagt+smågrise'!AQ$2,FALSE)","v":{"$error":"#N/A"}},{"$f":"VLOOKUP($AL45,'Vejehold 2'!$A$7:$P$23,'Opsamling, slagt+smågrise'!AR$2,FALSE)","v":{"$error":"#N/A"}},{"$f":"VLOOKUP($AL45,'Vejehold 2'!$A$7:$P$23,'Opsamling, slagt+smågrise'!AS$2,FALSE)","v":{"$error":"#N/A"}},null,41,"1900-02-10",{"$f":"VLOOKUP($AV45,'Vejehold 3'!$A$7:$P$23,'Opsamling, slagt+smågrise'!AW$2,FALSE)","v":{"$error":"#N/A"}},{"$f":"VLOOKUP($AV45,'Vejehold 3'!$A$7:$P$23,'Opsamling, slagt+smågrise'!AX$2,FALSE)","v":{"$error":"#N/A"}},{"$f":"VLOOKUP($AV45,'Vejehold 3'!$A$7:$P$23,'Opsamling, slagt+smågrise'!AY$2,FALSE)","v":{"$error":"#N/A"}},{"$f":"VLOOKUP($AV45,'Vejehold 3'!$A$7:$P$23,'Opsamling, slagt+smågrise'!AZ$2,FALSE)","v":{"$error":"#N/A"}},{"$f":"VLOOKUP($AV45,'Vejehold 3'!$A$7:$P$23,'Opsamling, slagt+smågrise'!BA$2,FALSE)","v":{"$error":"#N/A"}},{"$f":"VLOOKUP($AV45,'Vejehold 3'!$A$7:$P$23,'Opsamling, slagt+smågrise'!BB$2,FALSE)","v":{"$error":"#N/A"}},{"$f":"VLOOKUP($AV45,'Vejehold 3'!$A$7:$P$23,'Opsamling, slagt+smågrise'!BC$2,FALSE)","v":{"$error":"#N/A"}},null,41,"1900-02-10",{"$f":"VLOOKUP($BF45,'Vejehold 4'!$A$7:$P$23,'Opsamling, slagt+smågrise'!BG$2,FALSE)","v":{"$error":"#N/A"}},{"$f":"VLOOKUP($BF45,'Vejehold 4'!$A$7:$P$23,'Opsamling, slagt+smågrise'!BH$2,FALSE)","v":{"$error":"#N/A"}},{"$f":"VLOOKUP($BF45,'Vejehold 4'!$A$7:$P$23,'Opsamling, slagt+smågrise'!BI$2,FALSE)","v":{"$error":"#N/A"}},{"$f":"VLOOKUP($BF45,'Vejehold 4'!$A$7:$P$23,'Opsamling, slagt+smågrise'!BJ$2,FALSE)","v":{"$error":"#N/A"}},{"$f":"VLOOKUP($BF45,'Vejehold 4'!$A$7:$P$23,'Opsamling, slagt+smågrise'!BK$2,FALSE)","v":{"$error":"#N/A"}},{"$f":"VLOOKUP($BF45,'Vejehold 4'!$A$7:$P$23,'Opsamling, slagt+smågrise'!BL$2,FALSE)","v":{"$error":"#N/A"}},{"$f":"VLOOKUP($BF45,'Vejehold 4'!$A$7:$P$23,'Opsamling, slagt+smågrise'!BM$2,FALSE)","v":{"$error":"#N/A"}},null,41,"1900-02-10",{"$f":"VLOOKUP($BP45,'Vejehold 5'!$A$7:$P$23,'Opsamling, slagt+smågrise'!BQ$2,FALSE)","v":{"$error":"#N/A"}},{"$f":"VLOOKUP($BP45,'Vejehold 5'!$A$7:$P$23,'Opsamling, slagt+smågrise'!BR$2,FALSE)","v":{"$error":"#N/A"}},{"$f":"VLOOKUP($BP45,'Vejehold 5'!$A$7:$P$23,'Opsamling, slagt+smågrise'!BS$2,FALSE)","v":{"$error":"#N/A"}},{"$f":"VLOOKUP($BP45,'Vejehold 5'!$A$7:$P$23,'Opsamling, slagt+smågrise'!BT$2,FALSE)","v":{"$error":"#N/A"}},{"$f":"VLOOKUP($BP45,'Vejehold 5'!$A$7:$P$23,'Opsamling, slagt+smågrise'!BU$2,FALSE)","v":{"$error":"#N/A"}},{"$f":"VLOOKUP($BP45,'Vejehold 5'!$A$7:$P$23,'Opsamling, slagt+smågrise'!BV$2,FALSE)","v":{"$error":"#N/A"}},{"$f":"VLOOKUP($BP45,'Vejehold 5'!$A$7:$P$23,'Opsamling, slagt+smågrise'!BW$2,FALSE)","v":{"$error":"#N/A"}},null,41,"1900-02-10",{"$f":"VLOOKUP($BZ45,'Vejehold 6'!$A$7:$P$23,'Opsamling, slagt+smågrise'!CA$2,FALSE)","v":{"$error":"#N/A"}},{"$f":"VLOOKUP($BZ45,'Vejehold 6'!$A$7:$P$23,'Opsamling, slagt+smågrise'!CB$2,FALSE)","v":{"$error":"#N/A"}},{"$f":"VLOOKUP($BZ45,'Vejehold 6'!$A$7:$P$23,'Opsamling, slagt+smågrise'!CC$2,FALSE)","v":{"$error":"#N/A"}},{"$f":"VLOOKUP($BZ45,'Vejehold 6'!$A$7:$P$23,'Opsamling, slagt+smågrise'!CD$2,FALSE)","v":{"$error":"#N/A"}},{"$f":"VLOOKUP($BZ45,'Vejehold 6'!$A$7:$P$23,'Opsamling, slagt+smågrise'!CE$2,FALSE)","v":{"$error":"#N/A"}},{"$f":"VLOOKUP($BZ45,'Vejehold 6'!$A$7:$P$23,'Opsamling, slagt+smågrise'!CF$2,FALSE)","v":{"$error":"#N/A"}},{"$f":"VLOOKUP($BZ45,'Vejehold 6'!$A$7:$P$23,'Opsamling, slagt+smågrise'!CG$2,FALSE)","v":{"$error":"#N/A"}}]
[null,49,{"$f":"'Vejehold 1'!$G14","v":0},{"$f":"'Vejehold 2'!$G14","v":0},{"$f":"'Vejehold 3'!$G14","v":0},{"$f":"'Vejehold 4'!$G14","v":0},{"$f":"'Vejehold 5'!$G14","v":0},{"$f":"'Vejehold 6'!$G14","v":0},null,null,null,null,null,null,null,null,null,null,null,null,null,null,null,null,null,null,42,"1900-02-11",{"$f":"VLOOKUP($AB46,'Vejehold 1'!$A$7:$P$23,'Opsamling, slagt+smågrise'!AC$2,FALSE)","v":{"$error":"#N/A"}},{"$f":"VLOOKUP($AB46,'Vejehold 1'!$A$7:$P$23,'Opsamling, slagt+smågrise'!AD$2,FALSE)","v":{"$error":"#N/A"}},{"$f":"VLOOKUP($AB46,'Vejehold 1'!$A$7:$P$23,'Opsamling, slagt+smågrise'!AE$2,FALSE)","v":{"$error":"#N/A"}},{"$f":"VLOOKUP($AB46,'Vejehold 1'!$A$7:$P$23,'Opsamling, slagt+smågrise'!AF$2,FALSE)","v":{"$error":"#N/A"}},{"$f":"VLOOKUP($AB46,'Vejehold 1'!$A$7:$P$23,'Opsamling, slagt+smågrise'!AG$2,FALSE)","v":{"$error":"#N/A"}},{"$f":"VLOOKUP($AB46,'Vejehold 1'!$A$7:$P$23,'Opsamling, slagt+smågrise'!AH$2,FALSE)","v":{"$error":"#N/A"}},{"$f":"VLOOKUP($AB46,'Vejehold 1'!$A$7:$P$23,'Opsamling, slagt+smågrise'!AI$2,FALSE)","v":{"$error":"#N/A"}},null,42,"1900-02-11",{"$f":"VLOOKUP($AL46,'Vejehold 2'!$A$7:$P$23,'Opsamling, slagt+smågrise'!AM$2,FALSE)","v":{"$error":"#N/A"}},{"$f":"VLOOKUP($AL46,'Vejehold 2'!$A$7:$P$23,'Opsamling, slagt+smågrise'!AN$2,FALSE)","v":{"$error":"#N/A"}},{"$f":"VLOOKUP($AL46,'Vejehold 2'!$A$7:$P$23,'Opsamling, slagt+smågrise'!AO$2,FALSE)","v":{"$error":"#N/A"}},{"$f":"VLOOKUP($AL46,'Vejehold 2'!$A$7:$P$23,'Opsamling, slagt+smågrise'!AP$2,FALSE)","v":{"$error":"#N/A"}},{"$f":"VLOOKUP($AL46,'Vejehold 2'!$A$7:$P$23,'Opsamling, slagt+smågrise'!AQ$2,FALSE)","v":{"$error":"#N/A"}},{"$f":"VLOOKUP($AL46,'Vejehold 2'!$A$7:$P$23,'Opsamling, slagt+smågrise'!AR$2,FALSE)","v":{"$error":"#N/A"}},{"$f":"VLOOKUP($AL46,'Vejehold 2'!$A$7:$P$23,'Opsamling, slagt+smågrise'!AS$2,FALSE)","v":{"$error":"#N/A"}},null,42,"1900-02-11",{"$f":"VLOOKUP($AV46,'Vejehold 3'!$A$7:$P$23,'Opsamling, slagt+smågrise'!AW$2,FALSE)","v":{"$error":"#N/A"}},{"$f":"VLOOKUP($AV46,'Vejehold 3'!$A$7:$P$23,'Opsamling, slagt+smågrise'!AX$2,FALSE)","v":{"$error":"#N/A"}},{"$f":"VLOOKUP($AV46,'Vejehold 3'!$A$7:$P$23,'Opsamling, slagt+smågrise'!AY$2,FALSE)","v":{"$error":"#N/A"}},{"$f":"VLOOKUP($AV46,'Vejehold 3'!$A$7:$P$23,'Opsamling, slagt+smågrise'!AZ$2,FALSE)","v":{"$error":"#N/A"}},{"$f":"VLOOKUP($AV46,'Vejehold 3'!$A$7:$P$23,'Opsamling, slagt+smågrise'!BA$2,FALSE)","v":{"$error":"#N/A"}},{"$f":"VLOOKUP($AV46,'Vejehold 3'!$A$7:$P$23,'Opsamling, slagt+smågrise'!BB$2,FALSE)","v":{"$error":"#N/A"}},{"$f":"VLOOKUP($AV46,'Vejehold 3'!$A$7:$P$23,'Opsamling, slagt+smågrise'!BC$2,FALSE)","v":{"$error":"#N/A"}},null,42,"1900-02-11",{"$f":"VLOOKUP($BF46,'Vejehold 4'!$A$7:$P$23,'Opsamling, slagt+smågrise'!BG$2,FALSE)","v":{"$error":"#N/A"}},{"$f":"VLOOKUP($BF46,'Vejehold 4'!$A$7:$P$23,'Opsamling, slagt+smågrise'!BH$2,FALSE)","v":{"$error":"#N/A"}},{"$f":"VLOOKUP($BF46,'Vejehold 4'!$A$7:$P$23,'Opsamling, slagt+smågrise'!BI$2,FALSE)","v":{"$error":"#N/A"}},{"$f":"VLOOKUP($BF46,'Vejehold 4'!$A$7:$P$23,'Opsamling, slagt+smågrise'!BJ$2,FALSE)","v":{"$error":"#N/A"}},{"$f":"VLOOKUP($BF46,'Vejehold 4'!$A$7:$P$23,'Opsamling, slagt+smågrise'!BK$2,FALSE)","v":{"$error":"#N/A"}},{"$f":"VLOOKUP($BF46,'Vejehold 4'!$A$7:$P$23,'Opsamling, slagt+smågrise'!BL$2,FALSE)","v":{"$error":"#N/A"}},{"$f":"VLOOKUP($BF46,'Vejehold 4'!$A$7:$P$23,'Opsamling, slagt+smågrise'!BM$2,FALSE)","v":{"$error":"#N/A"}},null,42,"1900-02-11",{"$f":"VLOOKUP($BP46,'Vejehold 5'!$A$7:$P$23,'Opsamling, slagt+smågrise'!BQ$2,FALSE)","v":{"$error":"#N/A"}},{"$f":"VLOOKUP($BP46,'Vejehold 5'!$A$7:$P$23,'Opsamling, slagt+smågrise'!BR$2,FALSE)","v":{"$error":"#N/A"}},{"$f":"VLOOKUP($BP46,'Vejehold 5'!$A$7:$P$23,'Opsamling, slagt+smågrise'!BS$2,FALSE)","v":{"$error":"#N/A"}},{"$f":"VLOOKUP($BP46,'Vejehold 5'!$A$7:$P$23,'Opsamling, slagt+smågrise'!BT$2,FALSE)","v":{"$error":"#N/A"}},{"$f":"VLOOKUP($BP46,'Vejehold 5'!$A$7:$P$23,'Opsamling, slagt+smågrise'!BU$2,FALSE)","v":{"$error":"#N/A"}},{"$f":"VLOOKUP($BP46,'Vejehold 5'!$A$7:$P$23,'Opsamling, slagt+smågrise'!BV$2,FALSE)","v":{"$error":"#N/A"}},{"$f":"VLOOKUP($BP46,'Vejehold 5'!$A$7:$P$23,'Opsamling, slagt+smågrise'!BW$2,FALSE)","v":{"$error":"#N/A"}},null,42,"1900-02-11",{"$f":"VLOOKUP($BZ46,'Vejehold 6'!$A$7:$P$23,'Opsamling, slagt+smågrise'!CA$2,FALSE)","v":{"$error":"#N/A"}},{"$f":"VLOOKUP($BZ46,'Vejehold 6'!$A$7:$P$23,'Opsamling, slagt+smågrise'!CB$2,FALSE)","v":{"$error":"#N/A"}},{"$f":"VLOOKUP($BZ46,'Vejehold 6'!$A$7:$P$23,'Opsamling, slagt+smågrise'!CC$2,FALSE)","v":{"$error":"#N/A"}},{"$f":"VLOOKUP($BZ46,'Vejehold 6'!$A$7:$P$23,'Opsamling, slagt+smågrise'!CD$2,FALSE)","v":{"$error":"#N/A"}},{"$f":"VLOOKUP($BZ46,'Vejehold 6'!$A$7:$P$23,'Opsamling, slagt+smågrise'!CE$2,FALSE)","v":{"$error":"#N/A"}},{"$f":"VLOOKUP($BZ46,'Vejehold 6'!$A$7:$P$23,'Opsamling, slagt+smågrise'!CF$2,FALSE)","v":{"$error":"#N/A"}},{"$f":"VLOOKUP($BZ46,'Vejehold 6'!$A$7:$P$23,'Opsamling, slagt+smågrise'!CG$2,FALSE)","v":{"$error":"#N/A"}}]
[null,56,{"$f":"'Vejehold 1'!$G15","v":0},{"$f":"'Vejehold 2'!$G15","v":0},{"$f":"'Vejehold 3'!$G15","v":0},{"$f":"'Vejehold 4'!$G15","v":0},{"$f":"'Vejehold 5'!$G15","v":0},{"$f":"'Vejehold 6'!$G15","v":0},null,null,null,null,null,null,null,null,null,null,null,null,null,null,null,null,null,null,43,"1900-02-12",{"$f":"VLOOKUP($AB47,'Vejehold 1'!$A$7:$P$23,'Opsamling, slagt+smågrise'!AC$2,FALSE)","v":{"$error":"#N/A"}},{"$f":"VLOOKUP($AB47,'Vejehold 1'!$A$7:$P$23,'Opsamling, slagt+smågrise'!AD$2,FALSE)","v":{"$error":"#N/A"}},{"$f":"VLOOKUP($AB47,'Vejehold 1'!$A$7:$P$23,'Opsamling, slagt+smågrise'!AE$2,FALSE)","v":{"$error":"#N/A"}},{"$f":"VLOOKUP($AB47,'Vejehold 1'!$A$7:$P$23,'Opsamling, slagt+smågrise'!AF$2,FALSE)","v":{"$error":"#N/A"}},{"$f":"VLOOKUP($AB47,'Vejehold 1'!$A$7:$P$23,'Opsamling, slagt+smågrise'!AG$2,FALSE)","v":{"$error":"#N/A"}},{"$f":"VLOOKUP($AB47,'Vejehold 1'!$A$7:$P$23,'Opsamling, slagt+smågrise'!AH$2,FALSE)","v":{"$error":"#N/A"}},{"$f":"VLOOKUP($AB47,'Vejehold 1'!$A$7:$P$23,'Opsamling, slagt+smågrise'!AI$2,FALSE)","v":{"$error":"#N/A"}},null,43,"1900-02-12",{"$f":"VLOOKUP($AL47,'Vejehold 2'!$A$7:$P$23,'Opsamling, slagt+smågrise'!AM$2,FALSE)","v":{"$error":"#N/A"}},{"$f":"VLOOKUP($AL47,'Vejehold 2'!$A$7:$P$23,'Opsamling, slagt+smågrise'!AN$2,FALSE)","v":{"$error":"#N/A"}},{"$f":"VLOOKUP($AL47,'Vejehold 2'!$A$7:$P$23,'Opsamling, slagt+smågrise'!AO$2,FALSE)","v":{"$error":"#N/A"}},{"$f":"VLOOKUP($AL47,'Vejehold 2'!$A$7:$P$23,'Opsamling, slagt+smågrise'!AP$2,FALSE)","v":{"$error":"#N/A"}},{"$f":"VLOOKUP($AL47,'Vejehold 2'!$A$7:$P$23,'Opsamling, slagt+smågrise'!AQ$2,FALSE)","v":{"$error":"#N/A"}},{"$f":"VLOOKUP($AL47,'Vejehold 2'!$A$7:$P$23,'Opsamling, slagt+smågrise'!AR$2,FALSE)","v":{"$error":"#N/A"}},{"$f":"VLOOKUP($AL47,'Vejehold 2'!$A$7:$P$23,'Opsamling, slagt+smågrise'!AS$2,FALSE)","v":{"$error":"#N/A"}},null,43,"1900-02-12",{"$f":"VLOOKUP($AV47,'Vejehold 3'!$A$7:$P$23,'Opsamling, slagt+smågrise'!AW$2,FALSE)","v":{"$error":"#N/A"}},{"$f":"VLOOKUP($AV47,'Vejehold 3'!$A$7:$P$23,'Opsamling, slagt+smågrise'!AX$2,FALSE)","v":{"$error":"#N/A"}},{"$f":"VLOOKUP($AV47,'Vejehold 3'!$A$7:$P$23,'Opsamling, slagt+smågrise'!AY$2,FALSE)","v":{"$error":"#N/A"}},{"$f":"VLOOKUP($AV47,'Vejehold 3'!$A$7:$P$23,'Opsamling, slagt+smågrise'!AZ$2,FALSE)","v":{"$error":"#N/A"}},{"$f":"VLOOKUP($AV47,'Vejehold 3'!$A$7:$P$23,'Opsamling, slagt+smågrise'!BA$2,FALSE)","v":{"$error":"#N/A"}},{"$f":"VLOOKUP($AV47,'Vejehold 3'!$A$7:$P$23,'Opsamling, slagt+smågrise'!BB$2,FALSE)","v":{"$error":"#N/A"}},{"$f":"VLOOKUP($AV47,'Vejehold 3'!$A$7:$P$23,'Opsamling, slagt+smågrise'!BC$2,FALSE)","v":{"$error":"#N/A"}},null,43,"1900-02-12",{"$f":"VLOOKUP($BF47,'Vejehold 4'!$A$7:$P$23,'Opsamling, slagt+smågrise'!BG$2,FALSE)","v":{"$error":"#N/A"}},{"$f":"VLOOKUP($BF47,'Vejehold 4'!$A$7:$P$23,'Opsamling, slagt+smågrise'!BH$2,FALSE)","v":{"$error":"#N/A"}},{"$f":"VLOOKUP($BF47,'Vejehold 4'!$A$7:$P$23,'Opsamling, slagt+smågrise'!BI$2,FALSE)","v":{"$error":"#N/A"}},{"$f":"VLOOKUP($BF47,'Vejehold 4'!$A$7:$P$23,'Opsamling, slagt+smågrise'!BJ$2,FALSE)","v":{"$error":"#N/A"}},{"$f":"VLOOKUP($BF47,'Vejehold 4'!$A$7:$P$23,'Opsamling, slagt+smågrise'!BK$2,FALSE)","v":{"$error":"#N/A"}},{"$f":"VLOOKUP($BF47,'Vejehold 4'!$A$7:$P$23,'Opsamling, slagt+smågrise'!BL$2,FALSE)","v":{"$error":"#N/A"}},{"$f":"VLOOKUP($BF47,'Vejehold 4'!$A$7:$P$23,'Opsamling, slagt+smågrise'!BM$2,FALSE)","v":{"$error":"#N/A"}},null,43,"1900-02-12",{"$f":"VLOOKUP($BP47,'Vejehold 5'!$A$7:$P$23,'Opsamling, slagt+smågrise'!BQ$2,FALSE)","v":{"$error":"#N/A"}},{"$f":"VLOOKUP($BP47,'Vejehold 5'!$A$7:$P$23,'Opsamling, slagt+smågrise'!BR$2,FALSE)","v":{"$error":"#N/A"}},{"$f":"VLOOKUP($BP47,'Vejehold 5'!$A$7:$P$23,'Opsamling, slagt+smågrise'!BS$2,FALSE)","v":{"$error":"#N/A"}},{"$f":"VLOOKUP($BP47,'Vejehold 5'!$A$7:$P$23,'Opsamling, slagt+smågrise'!BT$2,FALSE)","v":{"$error":"#N/A"}},{"$f":"VLOOKUP($BP47,'Vejehold 5'!$A$7:$P$23,'Opsamling, slagt+smågrise'!BU$2,FALSE)","v":{"$error":"#N/A"}},{"$f":"VLOOKUP($BP47,'Vejehold 5'!$A$7:$P$23,'Opsamling, slagt+smågrise'!BV$2,FALSE)","v":{"$error":"#N/A"}},{"$f":"VLOOKUP($BP47,'Vejehold 5'!$A$7:$P$23,'Opsamling, slagt+smågrise'!BW$2,FALSE)","v":{"$error":"#N/A"}},null,43,"1900-02-12",{"$f":"VLOOKUP($BZ47,'Vejehold 6'!$A$7:$P$23,'Opsamling, slagt+smågrise'!CA$2,FALSE)","v":{"$error":"#N/A"}},{"$f":"VLOOKUP($BZ47,'Vejehold 6'!$A$7:$P$23,'Opsamling, slagt+smågrise'!CB$2,FALSE)","v":{"$error":"#N/A"}},{"$f":"VLOOKUP($BZ47,'Vejehold 6'!$A$7:$P$23,'Opsamling, slagt+smågrise'!CC$2,FALSE)","v":{"$error":"#N/A"}},{"$f":"VLOOKUP($BZ47,'Vejehold 6'!$A$7:$P$23,'Opsamling, slagt+smågrise'!CD$2,FALSE)","v":{"$error":"#N/A"}},{"$f":"VLOOKUP($BZ47,'Vejehold 6'!$A$7:$P$23,'Opsamling, slagt+smågrise'!CE$2,FALSE)","v":{"$error":"#N/A"}},{"$f":"VLOOKUP($BZ47,'Vejehold 6'!$A$7:$P$23,'Opsamling, slagt+smågrise'!CF$2,FALSE)","v":{"$error":"#N/A"}},{"$f":"VLOOKUP($BZ47,'Vejehold 6'!$A$7:$P$23,'Opsamling, slagt+smågrise'!CG$2,FALSE)","v":{"$error":"#N/A"}}]
[null,63,{"$f":"'Vejehold 1'!$G16","v":0},{"$f":"'Vejehold 2'!$G16","v":0},{"$f":"'Vejehold 3'!$G16","v":0},{"$f":"'Vejehold 4'!$G16","v":0},{"$f":"'Vejehold 5'!$G16","v":0},{"$f":"'Vejehold 6'!$G16","v":0},null,null,null,null,null,null,null,null,null,null,null,null,null,null,null,null,null,null,44,"1900-02-13",{"$f":"VLOOKUP($AB48,'Vejehold 1'!$A$7:$P$23,'Opsamling, slagt+smågrise'!AC$2,FALSE)","v":{"$error":"#N/A"}},{"$f":"VLOOKUP($AB48,'Vejehold 1'!$A$7:$P$23,'Opsamling, slagt+smågrise'!AD$2,FALSE)","v":{"$error":"#N/A"}},{"$f":"VLOOKUP($AB48,'Vejehold 1'!$A$7:$P$23,'Opsamling, slagt+smågrise'!AE$2,FALSE)","v":{"$error":"#N/A"}},{"$f":"VLOOKUP($AB48,'Vejehold 1'!$A$7:$P$23,'Opsamling, slagt+smågrise'!AF$2,FALSE)","v":{"$error":"#N/A"}},{"$f":"VLOOKUP($AB48,'Vejehold 1'!$A$7:$P$23,'Opsamling, slagt+smågrise'!AG$2,FALSE)","v":{"$error":"#N/A"}},{"$f":"VLOOKUP($AB48,'Vejehold 1'!$A$7:$P$23,'Opsamling, slagt+smågrise'!AH$2,FALSE)","v":{"$error":"#N/A"}},{"$f":"VLOOKUP($AB48,'Vejehold 1'!$A$7:$P$23,'Opsamling, slagt+smågrise'!AI$2,FALSE)","v":{"$error":"#N/A"}},null,44,"1900-02-13",{"$f":"VLOOKUP($AL48,'Vejehold 2'!$A$7:$P$23,'Opsamling, slagt+smågrise'!AM$2,FALSE)","v":{"$error":"#N/A"}},{"$f":"VLOOKUP($AL48,'Vejehold 2'!$A$7:$P$23,'Opsamling, slagt+smågrise'!AN$2,FALSE)","v":{"$error":"#N/A"}},{"$f":"VLOOKUP($AL48,'Vejehold 2'!$A$7:$P$23,'Opsamling, slagt+smågrise'!AO$2,FALSE)","v":{"$error":"#N/A"}},{"$f":"VLOOKUP($AL48,'Vejehold 2'!$A$7:$P$23,'Opsamling, slagt+smågrise'!AP$2,FALSE)","v":{"$error":"#N/A"}},{"$f":"VLOOKUP($AL48,'Vejehold 2'!$A$7:$P$23,'Opsamling, slagt+smågrise'!AQ$2,FALSE)","v":{"$error":"#N/A"}},{"$f":"VLOOKUP($AL48,'Vejehold 2'!$A$7:$P$23,'Opsamling, slagt+smågrise'!AR$2,FALSE)","v":{"$error":"#N/A"}},{"$f":"VLOOKUP($AL48,'Vejehold 2'!$A$7:$P$23,'Opsamling, slagt+smågrise'!AS$2,FALSE)","v":{"$error":"#N/A"}},null,44,"1900-02-13",{"$f":"VLOOKUP($AV48,'Vejehold 3'!$A$7:$P$23,'Opsamling, slagt+smågrise'!AW$2,FALSE)","v":{"$error":"#N/A"}},{"$f":"VLOOKUP($AV48,'Vejehold 3'!$A$7:$P$23,'Opsamling, slagt+smågrise'!AX$2,FALSE)","v":{"$error":"#N/A"}},{"$f":"VLOOKUP($AV48,'Vejehold 3'!$A$7:$P$23,'Opsamling, slagt+smågrise'!AY$2,FALSE)","v":{"$error":"#N/A"}},{"$f":"VLOOKUP($AV48,'Vejehold 3'!$A$7:$P$23,'Opsamling, slagt+smågrise'!AZ$2,FALSE)","v":{"$error":"#N/A"}},{"$f":"VLOOKUP($AV48,'Vejehold 3'!$A$7:$P$23,'Opsamling, slagt+smågrise'!BA$2,FALSE)","v":{"$error":"#N/A"}},{"$f":"VLOOKUP($AV48,'Vejehold 3'!$A$7:$P$23,'Opsamling, slagt+smågrise'!BB$2,FALSE)","v":{"$error":"#N/A"}},{"$f":"VLOOKUP($AV48,'Vejehold 3'!$A$7:$P$23,'Opsamling, slagt+smågrise'!BC$2,FALSE)","v":{"$error":"#N/A"}},null,44,"1900-02-13",{"$f":"VLOOKUP($BF48,'Vejehold 4'!$A$7:$P$23,'Opsamling, slagt+smågrise'!BG$2,FALSE)","v":{"$error":"#N/A"}},{"$f":"VLOOKUP($BF48,'Vejehold 4'!$A$7:$P$23,'Opsamling, slagt+smågrise'!BH$2,FALSE)","v":{"$error":"#N/A"}},{"$f":"VLOOKUP($BF48,'Vejehold 4'!$A$7:$P$23,'Opsamling, slagt+smågrise'!BI$2,FALSE)","v":{"$error":"#N/A"}},{"$f":"VLOOKUP($BF48,'Vejehold 4'!$A$7:$P$23,'Opsamling, slagt+smågrise'!BJ$2,FALSE)","v":{"$error":"#N/A"}},{"$f":"VLOOKUP($BF48,'Vejehold 4'!$A$7:$P$23,'Opsamling, slagt+smågrise'!BK$2,FALSE)","v":{"$error":"#N/A"}},{"$f":"VLOOKUP($BF48,'Vejehold 4'!$A$7:$P$23,'Opsamling, slagt+smågrise'!BL$2,FALSE)","v":{"$error":"#N/A"}},{"$f":"VLOOKUP($BF48,'Vejehold 4'!$A$7:$P$23,'Opsamling, slagt+smågrise'!BM$2,FALSE)","v":{"$error":"#N/A"}},null,44,"1900-02-13",{"$f":"VLOOKUP($BP48,'Vejehold 5'!$A$7:$P$23,'Opsamling, slagt+smågrise'!BQ$2,FALSE)","v":{"$error":"#N/A"}},{"$f":"VLOOKUP($BP48,'Vejehold 5'!$A$7:$P$23,'Opsamling, slagt+smågrise'!BR$2,FALSE)","v":{"$error":"#N/A"}},{"$f":"VLOOKUP($BP48,'Vejehold 5'!$A$7:$P$23,'Opsamling, slagt+smågrise'!BS$2,FALSE)","v":{"$error":"#N/A"}},{"$f":"VLOOKUP($BP48,'Vejehold 5'!$A$7:$P$23,'Opsamling, slagt+smågrise'!BT$2,FALSE)","v":{"$error":"#N/A"}},{"$f":"VLOOKUP($BP48,'Vejehold 5'!$A$7:$P$23,'Opsamling, slagt+smågrise'!BU$2,FALSE)","v":{"$error":"#N/A"}},{"$f":"VLOOKUP($BP48,'Vejehold 5'!$A$7:$P$23,'Opsamling, slagt+smågrise'!BV$2,FALSE)","v":{"$error":"#N/A"}},{"$f":"VLOOKUP($BP48,'Vejehold 5'!$A$7:$P$23,'Opsamling, slagt+smågrise'!BW$2,FALSE)","v":{"$error":"#N/A"}},null,44,"1900-02-13",{"$f":"VLOOKUP($BZ48,'Vejehold 6'!$A$7:$P$23,'Opsamling, slagt+smågrise'!CA$2,FALSE)","v":{"$error":"#N/A"}},{"$f":"VLOOKUP($BZ48,'Vejehold 6'!$A$7:$P$23,'Opsamling, slagt+smågrise'!CB$2,FALSE)","v":{"$error":"#N/A"}},{"$f":"VLOOKUP($BZ48,'Vejehold 6'!$A$7:$P$23,'Opsamling, slagt+smågrise'!CC$2,FALSE)","v":{"$error":"#N/A"}},{"$f":"VLOOKUP($BZ48,'Vejehold 6'!$A$7:$P$23,'Opsamling, slagt+smågrise'!CD$2,FALSE)","v":{"$error":"#N/A"}},{"$f":"VLOOKUP($BZ48,'Vejehold 6'!$A$7:$P$23,'Opsamling, slagt+smågrise'!CE$2,FALSE)","v":{"$error":"#N/A"}},{"$f":"VLOOKUP($BZ48,'Vejehold 6'!$A$7:$P$23,'Opsamling, slagt+smågrise'!CF$2,FALSE)","v":{"$error":"#N/A"}},{"$f":"VLOOKUP($BZ48,'Vejehold 6'!$A$7:$P$23,'Opsamling, slagt+smågrise'!CG$2,FALSE)","v":{"$error":"#N/A"}}]
[null,70,{"$f":"'Vejehold 1'!$G17","v":0},{"$f":"'Vejehold 2'!$G17","v":0},{"$f":"'Vejehold 3'!$G17","v":0},{"$f":"'Vejehold 4'!$G17","v":0},{"$f":"'Vejehold 5'!$G17","v":0},{"$f":"'Vejehold 6'!$G17","v":0},null,null,null,null,null,null,null,null,null,null,null,null,null,null,null,null,null,null,45,"1900-02-14",{"$f":"VLOOKUP($AB49,'Vejehold 1'!$A$7:$P$23,'Opsamling, slagt+smågrise'!AC$2,FALSE)","v":{"$error":"#N/A"}},{"$f":"VLOOKUP($AB49,'Vejehold 1'!$A$7:$P$23,'Opsamling, slagt+smågrise'!AD$2,FALSE)","v":{"$error":"#N/A"}},{"$f":"VLOOKUP($AB49,'Vejehold 1'!$A$7:$P$23,'Opsamling, slagt+smågrise'!AE$2,FALSE)","v":{"$error":"#N/A"}},{"$f":"VLOOKUP($AB49,'Vejehold 1'!$A$7:$P$23,'Opsamling, slagt+smågrise'!AF$2,FALSE)","v":{"$error":"#N/A"}},{"$f":"VLOOKUP($AB49,'Vejehold 1'!$A$7:$P$23,'Opsamling, slagt+smågrise'!AG$2,FALSE)","v":{"$error":"#N/A"}},{"$f":"VLOOKUP($AB49,'Vejehold 1'!$A$7:$P$23,'Opsamling, slagt+smågrise'!AH$2,FALSE)","v":{"$error":"#N/A"}},{"$f":"VLOOKUP($AB49,'Vejehold 1'!$A$7:$P$23,'Opsamling, slagt+smågrise'!AI$2,FALSE)","v":{"$error":"#N/A"}},null,45,"1900-02-14",{"$f":"VLOOKUP($AL49,'Vejehold 2'!$A$7:$P$23,'Opsamling, slagt+smågrise'!AM$2,FALSE)","v":{"$error":"#N/A"}},{"$f":"VLOOKUP($AL49,'Vejehold 2'!$A$7:$P$23,'Opsamling, slagt+smågrise'!AN$2,FALSE)","v":{"$error":"#N/A"}},{"$f":"VLOOKUP($AL49,'Vejehold 2'!$A$7:$P$23,'Opsamling, slagt+smågrise'!AO$2,FALSE)","v":{"$error":"#N/A"}},{"$f":"VLOOKUP($AL49,'Vejehold 2'!$A$7:$P$23,'Opsamling, slagt+smågrise'!AP$2,FALSE)","v":{"$error":"#N/A"}},{"$f":"VLOOKUP($AL49,'Vejehold 2'!$A$7:$P$23,'Opsamling, slagt+smågrise'!AQ$2,FALSE)","v":{"$error":"#N/A"}},{"$f":"VLOOKUP($AL49,'Vejehold 2'!$A$7:$P$23,'Opsamling, slagt+smågrise'!AR$2,FALSE)","v":{"$error":"#N/A"}},{"$f":"VLOOKUP($AL49,'Vejehold 2'!$A$7:$P$23,'Opsamling, slagt+smågrise'!AS$2,FALSE)","v":{"$error":"#N/A"}},null,45,"1900-02-14",{"$f":"VLOOKUP($AV49,'Vejehold 3'!$A$7:$P$23,'Opsamling, slagt+smågrise'!AW$2,FALSE)","v":{"$error":"#N/A"}},{"$f":"VLOOKUP($AV49,'Vejehold 3'!$A$7:$P$23,'Opsamling, slagt+smågrise'!AX$2,FALSE)","v":{"$error":"#N/A"}},{"$f":"VLOOKUP($AV49,'Vejehold 3'!$A$7:$P$23,'Opsamling, slagt+smågrise'!AY$2,FALSE)","v":{"$error":"#N/A"}},{"$f":"VLOOKUP($AV49,'Vejehold 3'!$A$7:$P$23,'Opsamling, slagt+smågrise'!AZ$2,FALSE)","v":{"$error":"#N/A"}},{"$f":"VLOOKUP($AV49,'Vejehold 3'!$A$7:$P$23,'Opsamling, slagt+smågrise'!BA$2,FALSE)","v":{"$error":"#N/A"}},{"$f":"VLOOKUP($AV49,'Vejehold 3'!$A$7:$P$23,'Opsamling, slagt+smågrise'!BB$2,FALSE)","v":{"$error":"#N/A"}},{"$f":"VLOOKUP($AV49,'Vejehold 3'!$A$7:$P$23,'Opsamling, slagt+smågrise'!BC$2,FALSE)","v":{"$error":"#N/A"}},null,45,"1900-02-14",{"$f":"VLOOKUP($BF49,'Vejehold 4'!$A$7:$P$23,'Opsamling, slagt+smågrise'!BG$2,FALSE)","v":{"$error":"#N/A"}},{"$f":"VLOOKUP($BF49,'Vejehold 4'!$A$7:$P$23,'Opsamling, slagt+smågrise'!BH$2,FALSE)","v":{"$error":"#N/A"}},{"$f":"VLOOKUP($BF49,'Vejehold 4'!$A$7:$P$23,'Opsamling, slagt+smågrise'!BI$2,FALSE)","v":{"$error":"#N/A"}},{"$f":"VLOOKUP($BF49,'Vejehold 4'!$A$7:$P$23,'Opsamling, slagt+smågrise'!BJ$2,FALSE)","v":{"$error":"#N/A"}},{"$f":"VLOOKUP($BF49,'Vejehold 4'!$A$7:$P$23,'Opsamling, slagt+smågrise'!BK$2,FALSE)","v":{"$error":"#N/A"}},{"$f":"VLOOKUP($BF49,'Vejehold 4'!$A$7:$P$23,'Opsamling, slagt+smågrise'!BL$2,FALSE)","v":{"$error":"#N/A"}},{"$f":"VLOOKUP($BF49,'Vejehold 4'!$A$7:$P$23,'Opsamling, slagt+smågrise'!BM$2,FALSE)","v":{"$error":"#N/A"}},null,45,"1900-02-14",{"$f":"VLOOKUP($BP49,'Vejehold 5'!$A$7:$P$23,'Opsamling, slagt+smågrise'!BQ$2,FALSE)","v":{"$error":"#N/A"}},{"$f":"VLOOKUP($BP49,'Vejehold 5'!$A$7:$P$23,'Opsamling, slagt+smågrise'!BR$2,FALSE)","v":{"$error":"#N/A"}},{"$f":"VLOOKUP($BP49,'Vejehold 5'!$A$7:$P$23,'Opsamling, slagt+smågrise'!BS$2,FALSE)","v":{"$error":"#N/A"}},{"$f":"VLOOKUP($BP49,'Vejehold 5'!$A$7:$P$23,'Opsamling, slagt+smågrise'!BT$2,FALSE)","v":{"$error":"#N/A"}},{"$f":"VLOOKUP($BP49,'Vejehold 5'!$A$7:$P$23,'Opsamling, slagt+smågrise'!BU$2,FALSE)","v":{"$error":"#N/A"}},{"$f":"VLOOKUP($BP49,'Vejehold 5'!$A$7:$P$23,'Opsamling, slagt+smågrise'!BV$2,FALSE)","v":{"$error":"#N/A"}},{"$f":"VLOOKUP($BP49,'Vejehold 5'!$A$7:$P$23,'Opsamling, slagt+smågrise'!BW$2,FALSE)","v":{"$error":"#N/A"}},null,45,"1900-02-14",{"$f":"VLOOKUP($BZ49,'Vejehold 6'!$A$7:$P$23,'Opsamling, slagt+smågrise'!CA$2,FALSE)","v":{"$error":"#N/A"}},{"$f":"VLOOKUP($BZ49,'Vejehold 6'!$A$7:$P$23,'Opsamling, slagt+smågrise'!CB$2,FALSE)","v":{"$error":"#N/A"}},{"$f":"VLOOKUP($BZ49,'Vejehold 6'!$A$7:$P$23,'Opsamling, slagt+smågrise'!CC$2,FALSE)","v":{"$error":"#N/A"}},{"$f":"VLOOKUP($BZ49,'Vejehold 6'!$A$7:$P$23,'Opsamling, slagt+smågrise'!CD$2,FALSE)","v":{"$error":"#N/A"}},{"$f":"VLOOKUP($BZ49,'Vejehold 6'!$A$7:$P$23,'Opsamling, slagt+smågrise'!CE$2,FALSE)","v":{"$error":"#N/A"}},{"$f":"VLOOKUP($BZ49,'Vejehold 6'!$A$7:$P$23,'Opsamling, slagt+smågrise'!CF$2,FALSE)","v":{"$error":"#N/A"}},{"$f":"VLOOKUP($BZ49,'Vejehold 6'!$A$7:$P$23,'Opsamling, slagt+smågrise'!CG$2,FALSE)","v":{"$error":"#N/A"}}]
[null,77,{"$f":"'Vejehold 1'!$G18","v":0},{"$f":"'Vejehold 2'!$G18","v":0},{"$f":"'Vejehold 3'!$G18","v":0},{"$f":"'Vejehold 4'!$G18","v":0},{"$f":"'Vejehold 5'!$G18","v":0},{"$f":"'Vejehold 6'!$G18","v":0},null,null,null,null,null,null,null,null,null,null,null,null,null,null,null,null,null,null,46,"1900-02-15",{"$f":"VLOOKUP($AB50,'Vejehold 1'!$A$7:$P$23,'Opsamling, slagt+smågrise'!AC$2,FALSE)","v":{"$error":"#N/A"}},{"$f":"VLOOKUP($AB50,'Vejehold 1'!$A$7:$P$23,'Opsamling, slagt+smågrise'!AD$2,FALSE)","v":{"$error":"#N/A"}},{"$f":"VLOOKUP($AB50,'Vejehold 1'!$A$7:$P$23,'Opsamling, slagt+smågrise'!AE$2,FALSE)","v":{"$error":"#N/A"}},{"$f":"VLOOKUP($AB50,'Vejehold 1'!$A$7:$P$23,'Opsamling, slagt+smågrise'!AF$2,FALSE)","v":{"$error":"#N/A"}},{"$f":"VLOOKUP($AB50,'Vejehold 1'!$A$7:$P$23,'Opsamling, slagt+smågrise'!AG$2,FALSE)","v":{"$error":"#N/A"}},{"$f":"VLOOKUP($AB50,'Vejehold 1'!$A$7:$P$23,'Opsamling, slagt+smågrise'!AH$2,FALSE)","v":{"$error":"#N/A"}},{"$f":"VLOOKUP($AB50,'Vejehold 1'!$A$7:$P$23,'Opsamling, slagt+smågrise'!AI$2,FALSE)","v":{"$error":"#N/A"}},null,46,"1900-02-15",{"$f":"VLOOKUP($AL50,'Vejehold 2'!$A$7:$P$23,'Opsamling, slagt+smågrise'!AM$2,FALSE)","v":{"$error":"#N/A"}},{"$f":"VLOOKUP($AL50,'Vejehold 2'!$A$7:$P$23,'Opsamling, slagt+smågrise'!AN$2,FALSE)","v":{"$error":"#N/A"}},{"$f":"VLOOKUP($AL50,'Vejehold 2'!$A$7:$P$23,'Opsamling, slagt+smågrise'!AO$2,FALSE)","v":{"$error":"#N/A"}},{"$f":"VLOOKUP($AL50,'Vejehold 2'!$A$7:$P$23,'Opsamling, slagt+smågrise'!AP$2,FALSE)","v":{"$error":"#N/A"}},{"$f":"VLOOKUP($AL50,'Vejehold 2'!$A$7:$P$23,'Opsamling, slagt+smågrise'!AQ$2,FALSE)","v":{"$error":"#N/A"}},{"$f":"VLOOKUP($AL50,'Vejehold 2'!$A$7:$P$23,'Opsamling, slagt+smågrise'!AR$2,FALSE)","v":{"$error":"#N/A"}},{"$f":"VLOOKUP($AL50,'Vejehold 2'!$A$7:$P$23,'Opsamling, slagt+smågrise'!AS$2,FALSE)","v":{"$error":"#N/A"}},null,46,"1900-02-15",{"$f":"VLOOKUP($AV50,'Vejehold 3'!$A$7:$P$23,'Opsamling, slagt+smågrise'!AW$2,FALSE)","v":{"$error":"#N/A"}},{"$f":"VLOOKUP($AV50,'Vejehold 3'!$A$7:$P$23,'Opsamling, slagt+smågrise'!AX$2,FALSE)","v":{"$error":"#N/A"}},{"$f":"VLOOKUP($AV50,'Vejehold 3'!$A$7:$P$23,'Opsamling, slagt+smågrise'!AY$2,FALSE)","v":{"$error":"#N/A"}},{"$f":"VLOOKUP($AV50,'Vejehold 3'!$A$7:$P$23,'Opsamling, slagt+smågrise'!AZ$2,FALSE)","v":{"$error":"#N/A"}},{"$f":"VLOOKUP($AV50,'Vejehold 3'!$A$7:$P$23,'Opsamling, slagt+smågrise'!BA$2,FALSE)","v":{"$error":"#N/A"}},{"$f":"VLOOKUP($AV50,'Vejehold 3'!$A$7:$P$23,'Opsamling, slagt+smågrise'!BB$2,FALSE)","v":{"$error":"#N/A"}},{"$f":"VLOOKUP($AV50,'Vejehold 3'!$A$7:$P$23,'Opsamling, slagt+smågrise'!BC$2,FALSE)","v":{"$error":"#N/A"}},null,46,"1900-02-15",{"$f":"VLOOKUP($BF50,'Vejehold 4'!$A$7:$P$23,'Opsamling, slagt+smågrise'!BG$2,FALSE)","v":{"$error":"#N/A"}},{"$f":"VLOOKUP($BF50,'Vejehold 4'!$A$7:$P$23,'Opsamling, slagt+smågrise'!BH$2,FALSE)","v":{"$error":"#N/A"}},{"$f":"VLOOKUP($BF50,'Vejehold 4'!$A$7:$P$23,'Opsamling, slagt+smågrise'!BI$2,FALSE)","v":{"$error":"#N/A"}},{"$f":"VLOOKUP($BF50,'Vejehold 4'!$A$7:$P$23,'Opsamling, slagt+smågrise'!BJ$2,FALSE)","v":{"$error":"#N/A"}},{"$f":"VLOOKUP($BF50,'Vejehold 4'!$A$7:$P$23,'Opsamling, slagt+smågrise'!BK$2,FALSE)","v":{"$error":"#N/A"}},{"$f":"VLOOKUP($BF50,'Vejehold 4'!$A$7:$P$23,'Opsamling, slagt+smågrise'!BL$2,FALSE)","v":{"$error":"#N/A"}},{"$f":"VLOOKUP($BF50,'Vejehold 4'!$A$7:$P$23,'Opsamling, slagt+smågrise'!BM$2,FALSE)","v":{"$error":"#N/A"}},null,46,"1900-02-15",{"$f":"VLOOKUP($BP50,'Vejehold 5'!$A$7:$P$23,'Opsamling, slagt+smågrise'!BQ$2,FALSE)","v":{"$error":"#N/A"}},{"$f":"VLOOKUP($BP50,'Vejehold 5'!$A$7:$P$23,'Opsamling, slagt+smågrise'!BR$2,FALSE)","v":{"$error":"#N/A"}},{"$f":"VLOOKUP($BP50,'Vejehold 5'!$A$7:$P$23,'Opsamling, slagt+smågrise'!BS$2,FALSE)","v":{"$error":"#N/A"}},{"$f":"VLOOKUP($BP50,'Vejehold 5'!$A$7:$P$23,'Opsamling, slagt+smågrise'!BT$2,FALSE)","v":{"$error":"#N/A"}},{"$f":"VLOOKUP($BP50,'Vejehold 5'!$A$7:$P$23,'Opsamling, slagt+smågrise'!BU$2,FALSE)","v":{"$error":"#N/A"}},{"$f":"VLOOKUP($BP50,'Vejehold 5'!$A$7:$P$23,'Opsamling, slagt+smågrise'!BV$2,FALSE)","v":{"$error":"#N/A"}},{"$f":"VLOOKUP($BP50,'Vejehold 5'!$A$7:$P$23,'Opsamling, slagt+smågrise'!BW$2,FALSE)","v":{"$error":"#N/A"}},null,46,"1900-02-15",{"$f":"VLOOKUP($BZ50,'Vejehold 6'!$A$7:$P$23,'Opsamling, slagt+smågrise'!CA$2,FALSE)","v":{"$error":"#N/A"}},{"$f":"VLOOKUP($BZ50,'Vejehold 6'!$A$7:$P$23,'Opsamling, slagt+smågrise'!CB$2,FALSE)","v":{"$error":"#N/A"}},{"$f":"VLOOKUP($BZ50,'Vejehold 6'!$A$7:$P$23,'Opsamling, slagt+smågrise'!CC$2,FALSE)","v":{"$error":"#N/A"}},{"$f":"VLOOKUP($BZ50,'Vejehold 6'!$A$7:$P$23,'Opsamling, slagt+smågrise'!CD$2,FALSE)","v":{"$error":"#N/A"}},{"$f":"VLOOKUP($BZ50,'Vejehold 6'!$A$7:$P$23,'Opsamling, slagt+smågrise'!CE$2,FALSE)","v":{"$error":"#N/A"}},{"$f":"VLOOKUP($BZ50,'Vejehold 6'!$A$7:$P$23,'Opsamling, slagt+smågrise'!CF$2,FALSE)","v":{"$error":"#N/A"}},{"$f":"VLOOKUP($BZ50,'Vejehold 6'!$A$7:$P$23,'Opsamling, slagt+smågrise'!CG$2,FALSE)","v":{"$error":"#N/A"}}]
[null,84,{"$f":"'Vejehold 1'!$G19","v":0},{"$f":"'Vejehold 2'!$G19","v":0},{"$f":"'Vejehold 3'!$G19","v":0},{"$f":"'Vejehold 4'!$G19","v":0},{"$f":"'Vejehold 5'!$G19","v":0},{"$f":"'Vejehold 6'!$G19","v":0},null,null,null,null,null,null,null,null,null,null,null,null,null,null,null,null,null,null,47,"1900-02-16",{"$f":"VLOOKUP($AB51,'Vejehold 1'!$A$7:$P$23,'Opsamling, slagt+smågrise'!AC$2,FALSE)","v":{"$error":"#N/A"}},{"$f":"VLOOKUP($AB51,'Vejehold 1'!$A$7:$P$23,'Opsamling, slagt+smågrise'!AD$2,FALSE)","v":{"$error":"#N/A"}},{"$f":"VLOOKUP($AB51,'Vejehold 1'!$A$7:$P$23,'Opsamling, slagt+smågrise'!AE$2,FALSE)","v":{"$error":"#N/A"}},{"$f":"VLOOKUP($AB51,'Vejehold 1'!$A$7:$P$23,'Opsamling, slagt+smågrise'!AF$2,FALSE)","v":{"$error":"#N/A"}},{"$f":"VLOOKUP($AB51,'Vejehold 1'!$A$7:$P$23,'Opsamling, slagt+smågrise'!AG$2,FALSE)","v":{"$error":"#N/A"}},{"$f":"VLOOKUP($AB51,'Vejehold 1'!$A$7:$P$23,'Opsamling, slagt+smågrise'!AH$2,FALSE)","v":{"$error":"#N/A"}},{"$f":"VLOOKUP($AB51,'Vejehold 1'!$A$7:$P$23,'Opsamling, slagt+smågrise'!AI$2,FALSE)","v":{"$error":"#N/A"}},null,47,"1900-02-16",{"$f":"VLOOKUP($AL51,'Vejehold 2'!$A$7:$P$23,'Opsamling, slagt+smågrise'!AM$2,FALSE)","v":{"$error":"#N/A"}},{"$f":"VLOOKUP($AL51,'Vejehold 2'!$A$7:$P$23,'Opsamling, slagt+smågrise'!AN$2,FALSE)","v":{"$error":"#N/A"}},{"$f":"VLOOKUP($AL51,'Vejehold 2'!$A$7:$P$23,'Opsamling, slagt+smågrise'!AO$2,FALSE)","v":{"$error":"#N/A"}},{"$f":"VLOOKUP($AL51,'Vejehold 2'!$A$7:$P$23,'Opsamling, slagt+smågrise'!AP$2,FALSE)","v":{"$error":"#N/A"}},{"$f":"VLOOKUP($AL51,'Vejehold 2'!$A$7:$P$23,'Opsamling, slagt+smågrise'!AQ$2,FALSE)","v":{"$error":"#N/A"}},{"$f":"VLOOKUP($AL51,'Vejehold 2'!$A$7:$P$23,'Opsamling, slagt+smågrise'!AR$2,FALSE)","v":{"$error":"#N/A"}},{"$f":"VLOOKUP($AL51,'Vejehold 2'!$A$7:$P$23,'Opsamling, slagt+smågrise'!AS$2,FALSE)","v":{"$error":"#N/A"}},null,47,"1900-02-16",{"$f":"VLOOKUP($AV51,'Vejehold 3'!$A$7:$P$23,'Opsamling, slagt+smågrise'!AW$2,FALSE)","v":{"$error":"#N/A"}},{"$f":"VLOOKUP($AV51,'Vejehold 3'!$A$7:$P$23,'Opsamling, slagt+smågrise'!AX$2,FALSE)","v":{"$error":"#N/A"}},{"$f":"VLOOKUP($AV51,'Vejehold 3'!$A$7:$P$23,'Opsamling, slagt+smågrise'!AY$2,FALSE)","v":{"$error":"#N/A"}},{"$f":"VLOOKUP($AV51,'Vejehold 3'!$A$7:$P$23,'Opsamling, slagt+smågrise'!AZ$2,FALSE)","v":{"$error":"#N/A"}},{"$f":"VLOOKUP($AV51,'Vejehold 3'!$A$7:$P$23,'Opsamling, slagt+smågrise'!BA$2,FALSE)","v":{"$error":"#N/A"}},{"$f":"VLOOKUP($AV51,'Vejehold 3'!$A$7:$P$23,'Opsamling, slagt+smågrise'!BB$2,FALSE)","v":{"$error":"#N/A"}},{"$f":"VLOOKUP($AV51,'Vejehold 3'!$A$7:$P$23,'Opsamling, slagt+smågrise'!BC$2,FALSE)","v":{"$error":"#N/A"}},null,47,"1900-02-16",{"$f":"VLOOKUP($BF51,'Vejehold 4'!$A$7:$P$23,'Opsamling, slagt+smågrise'!BG$2,FALSE)","v":{"$error":"#N/A"}},{"$f":"VLOOKUP($BF51,'Vejehold 4'!$A$7:$P$23,'Opsamling, slagt+smågrise'!BH$2,FALSE)","v":{"$error":"#N/A"}},{"$f":"VLOOKUP($BF51,'Vejehold 4'!$A$7:$P$23,'Opsamling, slagt+smågrise'!BI$2,FALSE)","v":{"$error":"#N/A"}},{"$f":"VLOOKUP($BF51,'Vejehold 4'!$A$7:$P$23,'Opsamling, slagt+smågrise'!BJ$2,FALSE)","v":{"$error":"#N/A"}},{"$f":"VLOOKUP($BF51,'Vejehold 4'!$A$7:$P$23,'Opsamling, slagt+smågrise'!BK$2,FALSE)","v":{"$error":"#N/A"}},{"$f":"VLOOKUP($BF51,'Vejehold 4'!$A$7:$P$23,'Opsamling, slagt+smågrise'!BL$2,FALSE)","v":{"$error":"#N/A"}},{"$f":"VLOOKUP($BF51,'Vejehold 4'!$A$7:$P$23,'Opsamling, slagt+smågrise'!BM$2,FALSE)","v":{"$error":"#N/A"}},null,47,"1900-02-16",{"$f":"VLOOKUP($BP51,'Vejehold 5'!$A$7:$P$23,'Opsamling, slagt+smågrise'!BQ$2,FALSE)","v":{"$error":"#N/A"}},{"$f":"VLOOKUP($BP51,'Vejehold 5'!$A$7:$P$23,'Opsamling, slagt+smågrise'!BR$2,FALSE)","v":{"$error":"#N/A"}},{"$f":"VLOOKUP($BP51,'Vejehold 5'!$A$7:$P$23,'Opsamling, slagt+smågrise'!BS$2,FALSE)","v":{"$error":"#N/A"}},{"$f":"VLOOKUP($BP51,'Vejehold 5'!$A$7:$P$23,'Opsamling, slagt+smågrise'!BT$2,FALSE)","v":{"$error":"#N/A"}},{"$f":"VLOOKUP($BP51,'Vejehold 5'!$A$7:$P$23,'Opsamling, slagt+smågrise'!BU$2,FALSE)","v":{"$error":"#N/A"}},{"$f":"VLOOKUP($BP51,'Vejehold 5'!$A$7:$P$23,'Opsamling, slagt+smågrise'!BV$2,FALSE)","v":{"$error":"#N/A"}},{"$f":"VLOOKUP($BP51,'Vejehold 5'!$A$7:$P$23,'Opsamling, slagt+smågrise'!BW$2,FALSE)","v":{"$error":"#N/A"}},null,47,"1900-02-16",{"$f":"VLOOKUP($BZ51,'Vejehold 6'!$A$7:$P$23,'Opsamling, slagt+smågrise'!CA$2,FALSE)","v":{"$error":"#N/A"}},{"$f":"VLOOKUP($BZ51,'Vejehold 6'!$A$7:$P$23,'Opsamling, slagt+smågrise'!CB$2,FALSE)","v":{"$error":"#N/A"}},{"$f":"VLOOKUP($BZ51,'Vejehold 6'!$A$7:$P$23,'Opsamling, slagt+smågrise'!CC$2,FALSE)","v":{"$error":"#N/A"}},{"$f":"VLOOKUP($BZ51,'Vejehold 6'!$A$7:$P$23,'Opsamling, slagt+smågrise'!CD$2,FALSE)","v":{"$error":"#N/A"}},{"$f":"VLOOKUP($BZ51,'Vejehold 6'!$A$7:$P$23,'Opsamling, slagt+smågrise'!CE$2,FALSE)","v":{"$error":"#N/A"}},{"$f":"VLOOKUP($BZ51,'Vejehold 6'!$A$7:$P$23,'Opsamling, slagt+smågrise'!CF$2,FALSE)","v":{"$error":"#N/A"}},{"$f":"VLOOKUP($BZ51,'Vejehold 6'!$A$7:$P$23,'Opsamling, slagt+smågrise'!CG$2,FALSE)","v":{"$error":"#N/A"}}]
[null,91,{"$f":"'Vejehold 1'!$G20","v":0},{"$f":"'Vejehold 2'!$G20","v":0},{"$f":"'Vejehold 3'!$G20","v":0},{"$f":"'Vejehold 4'!$G20","v":0},{"$f":"'Vejehold 5'!$G20","v":0},{"$f":"'Vejehold 6'!$G20","v":0},null,null,null,null,null,null,null,null,null,null,null,null,null,null,null,null,null,null,48,"1900-02-17",{"$f":"VLOOKUP($AB52,'Vejehold 1'!$A$7:$P$23,'Opsamling, slagt+smågrise'!AC$2,FALSE)","v":{"$error":"#N/A"}},{"$f":"VLOOKUP($AB52,'Vejehold 1'!$A$7:$P$23,'Opsamling, slagt+smågrise'!AD$2,FALSE)","v":{"$error":"#N/A"}},{"$f":"VLOOKUP($AB52,'Vejehold 1'!$A$7:$P$23,'Opsamling, slagt+smågrise'!AE$2,FALSE)","v":{"$error":"#N/A"}},{"$f":"VLOOKUP($AB52,'Vejehold 1'!$A$7:$P$23,'Opsamling, slagt+smågrise'!AF$2,FALSE)","v":{"$error":"#N/A"}},{"$f":"VLOOKUP($AB52,'Vejehold 1'!$A$7:$P$23,'Opsamling, slagt+smågrise'!AG$2,FALSE)","v":{"$error":"#N/A"}},{"$f":"VLOOKUP($AB52,'Vejehold 1'!$A$7:$P$23,'Opsamling, slagt+smågrise'!AH$2,FALSE)","v":{"$error":"#N/A"}},{"$f":"VLOOKUP($AB52,'Vejehold 1'!$A$7:$P$23,'Opsamling, slagt+smågrise'!AI$2,FALSE)","v":{"$error":"#N/A"}},null,48,"1900-02-17",{"$f":"VLOOKUP($AL52,'Vejehold 2'!$A$7:$P$23,'Opsamling, slagt+smågrise'!AM$2,FALSE)","v":{"$error":"#N/A"}},{"$f":"VLOOKUP($AL52,'Vejehold 2'!$A$7:$P$23,'Opsamling, slagt+smågrise'!AN$2,FALSE)","v":{"$error":"#N/A"}},{"$f":"VLOOKUP($AL52,'Vejehold 2'!$A$7:$P$23,'Opsamling, slagt+smågrise'!AO$2,FALSE)","v":{"$error":"#N/A"}},{"$f":"VLOOKUP($AL52,'Vejehold 2'!$A$7:$P$23,'Opsamling, slagt+smågrise'!AP$2,FALSE)","v":{"$error":"#N/A"}},{"$f":"VLOOKUP($AL52,'Vejehold 2'!$A$7:$P$23,'Opsamling, slagt+smågrise'!AQ$2,FALSE)","v":{"$error":"#N/A"}},{"$f":"VLOOKUP($AL52,'Vejehold 2'!$A$7:$P$23,'Opsamling, slagt+smågrise'!AR$2,FALSE)","v":{"$error":"#N/A"}},{"$f":"VLOOKUP($AL52,'Vejehold 2'!$A$7:$P$23,'Opsamling, slagt+smågrise'!AS$2,FALSE)","v":{"$error":"#N/A"}},null,48,"1900-02-17",{"$f":"VLOOKUP($AV52,'Vejehold 3'!$A$7:$P$23,'Opsamling, slagt+smågrise'!AW$2,FALSE)","v":{"$error":"#N/A"}},{"$f":"VLOOKUP($AV52,'Vejehold 3'!$A$7:$P$23,'Opsamling, slagt+smågrise'!AX$2,FALSE)","v":{"$error":"#N/A"}},{"$f":"VLOOKUP($AV52,'Vejehold 3'!$A$7:$P$23,'Opsamling, slagt+smågrise'!AY$2,FALSE)","v":{"$error":"#N/A"}},{"$f":"VLOOKUP($AV52,'Vejehold 3'!$A$7:$P$23,'Opsamling, slagt+smågrise'!AZ$2,FALSE)","v":{"$error":"#N/A"}},{"$f":"VLOOKUP($AV52,'Vejehold 3'!$A$7:$P$23,'Opsamling, slagt+smågrise'!BA$2,FALSE)","v":{"$error":"#N/A"}},{"$f":"VLOOKUP($AV52,'Vejehold 3'!$A$7:$P$23,'Opsamling, slagt+smågrise'!BB$2,FALSE)","v":{"$error":"#N/A"}},{"$f":"VLOOKUP($AV52,'Vejehold 3'!$A$7:$P$23,'Opsamling, slagt+smågrise'!BC$2,FALSE)","v":{"$error":"#N/A"}},null,48,"1900-02-17",{"$f":"VLOOKUP($BF52,'Vejehold 4'!$A$7:$P$23,'Opsamling, slagt+smågrise'!BG$2,FALSE)","v":{"$error":"#N/A"}},{"$f":"VLOOKUP($BF52,'Vejehold 4'!$A$7:$P$23,'Opsamling, slagt+smågrise'!BH$2,FALSE)","v":{"$error":"#N/A"}},{"$f":"VLOOKUP($BF52,'Vejehold 4'!$A$7:$P$23,'Opsamling, slagt+smågrise'!BI$2,FALSE)","v":{"$error":"#N/A"}},{"$f":"VLOOKUP($BF52,'Vejehold 4'!$A$7:$P$23,'Opsamling, slagt+smågrise'!BJ$2,FALSE)","v":{"$error":"#N/A"}},{"$f":"VLOOKUP($BF52,'Vejehold 4'!$A$7:$P$23,'Opsamling, slagt+smågrise'!BK$2,FALSE)","v":{"$error":"#N/A"}},{"$f":"VLOOKUP($BF52,'Vejehold 4'!$A$7:$P$23,'Opsamling, slagt+smågrise'!BL$2,FALSE)","v":{"$error":"#N/A"}},{"$f":"VLOOKUP($BF52,'Vejehold 4'!$A$7:$P$23,'Opsamling, slagt+smågrise'!BM$2,FALSE)","v":{"$error":"#N/A"}},null,48,"1900-02-17",{"$f":"VLOOKUP($BP52,'Vejehold 5'!$A$7:$P$23,'Opsamling, slagt+smågrise'!BQ$2,FALSE)","v":{"$error":"#N/A"}},{"$f":"VLOOKUP($BP52,'Vejehold 5'!$A$7:$P$23,'Opsamling, slagt+smågrise'!BR$2,FALSE)","v":{"$error":"#N/A"}},{"$f":"VLOOKUP($BP52,'Vejehold 5'!$A$7:$P$23,'Opsamling, slagt+smågrise'!BS$2,FALSE)","v":{"$error":"#N/A"}},{"$f":"VLOOKUP($BP52,'Vejehold 5'!$A$7:$P$23,'Opsamling, slagt+smågrise'!BT$2,FALSE)","v":{"$error":"#N/A"}},{"$f":"VLOOKUP($BP52,'Vejehold 5'!$A$7:$P$23,'Opsamling, slagt+smågrise'!BU$2,FALSE)","v":{"$error":"#N/A"}},{"$f":"VLOOKUP($BP52,'Vejehold 5'!$A$7:$P$23,'Opsamling, slagt+smågrise'!BV$2,FALSE)","v":{"$error":"#N/A"}},{"$f":"VLOOKUP($BP52,'Vejehold 5'!$A$7:$P$23,'Opsamling, slagt+smågrise'!BW$2,FALSE)","v":{"$error":"#N/A"}},null,48,"1900-02-17",{"$f":"VLOOKUP($BZ52,'Vejehold 6'!$A$7:$P$23,'Opsamling, slagt+smågrise'!CA$2,FALSE)","v":{"$error":"#N/A"}},{"$f":"VLOOKUP($BZ52,'Vejehold 6'!$A$7:$P$23,'Opsamling, slagt+smågrise'!CB$2,FALSE)","v":{"$error":"#N/A"}},{"$f":"VLOOKUP($BZ52,'Vejehold 6'!$A$7:$P$23,'Opsamling, slagt+smågrise'!CC$2,FALSE)","v":{"$error":"#N/A"}},{"$f":"VLOOKUP($BZ52,'Vejehold 6'!$A$7:$P$23,'Opsamling, slagt+smågrise'!CD$2,FALSE)","v":{"$error":"#N/A"}},{"$f":"VLOOKUP($BZ52,'Vejehold 6'!$A$7:$P$23,'Opsamling, slagt+smågrise'!CE$2,FALSE)","v":{"$error":"#N/A"}},{"$f":"VLOOKUP($BZ52,'Vejehold 6'!$A$7:$P$23,'Opsamling, slagt+smågrise'!CF$2,FALSE)","v":{"$error":"#N/A"}},{"$f":"VLOOKUP($BZ52,'Vejehold 6'!$A$7:$P$23,'Opsamling, slagt+smågrise'!CG$2,FALSE)","v":{"$error":"#N/A"}}]
[null,98,{"$f":"'Vejehold 1'!$G21","v":0},{"$f":"'Vejehold 2'!$G21","v":0},{"$f":"'Vejehold 3'!$G21","v":0},{"$f":"'Vejehold 4'!$G21","v":0},{"$f":"'Vejehold 5'!$G21","v":0},{"$f":"'Vejehold 6'!$G21","v":0},null,null,null,null,null,null,null,null,null,null,null,null,null,null,null,null,null,null,49,"1900-02-18",{"$f":"VLOOKUP($AB53,'Vejehold 1'!$A$7:$P$23,'Opsamling, slagt+smågrise'!AC$2,FALSE)","v":{"$error":"#N/A"}},{"$f":"VLOOKUP($AB53,'Vejehold 1'!$A$7:$P$23,'Opsamling, slagt+smågrise'!AD$2,FALSE)","v":{"$error":"#N/A"}},{"$f":"VLOOKUP($AB53,'Vejehold 1'!$A$7:$P$23,'Opsamling, slagt+smågrise'!AE$2,FALSE)","v":{"$error":"#N/A"}},{"$f":"VLOOKUP($AB53,'Vejehold 1'!$A$7:$P$23,'Opsamling, slagt+smågrise'!AF$2,FALSE)","v":{"$error":"#N/A"}},{"$f":"VLOOKUP($AB53,'Vejehold 1'!$A$7:$P$23,'Opsamling, slagt+smågrise'!AG$2,FALSE)","v":{"$error":"#N/A"}},{"$f":"VLOOKUP($AB53,'Vejehold 1'!$A$7:$P$23,'Opsamling, slagt+smågrise'!AH$2,FALSE)","v":{"$error":"#N/A"}},{"$f":"VLOOKUP($AB53,'Vejehold 1'!$A$7:$P$23,'Opsamling, slagt+smågrise'!AI$2,FALSE)","v":{"$error":"#N/A"}},null,49,"1900-02-18",{"$f":"VLOOKUP($AL53,'Vejehold 2'!$A$7:$P$23,'Opsamling, slagt+smågrise'!AM$2,FALSE)","v":{"$error":"#N/A"}},{"$f":"VLOOKUP($AL53,'Vejehold 2'!$A$7:$P$23,'Opsamling, slagt+smågrise'!AN$2,FALSE)","v":{"$error":"#N/A"}},{"$f":"VLOOKUP($AL53,'Vejehold 2'!$A$7:$P$23,'Opsamling, slagt+smågrise'!AO$2,FALSE)","v":{"$error":"#N/A"}},{"$f":"VLOOKUP($AL53,'Vejehold 2'!$A$7:$P$23,'Opsamling, slagt+smågrise'!AP$2,FALSE)","v":{"$error":"#N/A"}},{"$f":"VLOOKUP($AL53,'Vejehold 2'!$A$7:$P$23,'Opsamling, slagt+smågrise'!AQ$2,FALSE)","v":{"$error":"#N/A"}},{"$f":"VLOOKUP($AL53,'Vejehold 2'!$A$7:$P$23,'Opsamling, slagt+smågrise'!AR$2,FALSE)","v":{"$error":"#N/A"}},{"$f":"VLOOKUP($AL53,'Vejehold 2'!$A$7:$P$23,'Opsamling, slagt+smågrise'!AS$2,FALSE)","v":{"$error":"#N/A"}},null,49,"1900-02-18",{"$f":"VLOOKUP($AV53,'Vejehold 3'!$A$7:$P$23,'Opsamling, slagt+smågrise'!AW$2,FALSE)","v":{"$error":"#N/A"}},{"$f":"VLOOKUP($AV53,'Vejehold 3'!$A$7:$P$23,'Opsamling, slagt+smågrise'!AX$2,FALSE)","v":{"$error":"#N/A"}},{"$f":"VLOOKUP($AV53,'Vejehold 3'!$A$7:$P$23,'Opsamling, slagt+smågrise'!AY$2,FALSE)","v":{"$error":"#N/A"}},{"$f":"VLOOKUP($AV53,'Vejehold 3'!$A$7:$P$23,'Opsamling, slagt+smågrise'!AZ$2,FALSE)","v":{"$error":"#N/A"}},{"$f":"VLOOKUP($AV53,'Vejehold 3'!$A$7:$P$23,'Opsamling, slagt+smågrise'!BA$2,FALSE)","v":{"$error":"#N/A"}},{"$f":"VLOOKUP($AV53,'Vejehold 3'!$A$7:$P$23,'Opsamling, slagt+smågrise'!BB$2,FALSE)","v":{"$error":"#N/A"}},{"$f":"VLOOKUP($AV53,'Vejehold 3'!$A$7:$P$23,'Opsamling, slagt+smågrise'!BC$2,FALSE)","v":{"$error":"#N/A"}},null,49,"1900-02-18",{"$f":"VLOOKUP($BF53,'Vejehold 4'!$A$7:$P$23,'Opsamling, slagt+smågrise'!BG$2,FALSE)","v":{"$error":"#N/A"}},{"$f":"VLOOKUP($BF53,'Vejehold 4'!$A$7:$P$23,'Opsamling, slagt+smågrise'!BH$2,FALSE)","v":{"$error":"#N/A"}},{"$f":"VLOOKUP($BF53,'Vejehold 4'!$A$7:$P$23,'Opsamling, slagt+smågrise'!BI$2,FALSE)","v":{"$error":"#N/A"}},{"$f":"VLOOKUP($BF53,'Vejehold 4'!$A$7:$P$23,'Opsamling, slagt+smågrise'!BJ$2,FALSE)","v":{"$error":"#N/A"}},{"$f":"VLOOKUP($BF53,'Vejehold 4'!$A$7:$P$23,'Opsamling, slagt+smågrise'!BK$2,FALSE)","v":{"$error":"#N/A"}},{"$f":"VLOOKUP($BF53,'Vejehold 4'!$A$7:$P$23,'Opsamling, slagt+smågrise'!BL$2,FALSE)","v":{"$error":"#N/A"}},{"$f":"VLOOKUP($BF53,'Vejehold 4'!$A$7:$P$23,'Opsamling, slagt+smågrise'!BM$2,FALSE)","v":{"$error":"#N/A"}},null,49,"1900-02-18",{"$f":"VLOOKUP($BP53,'Vejehold 5'!$A$7:$P$23,'Opsamling, slagt+smågrise'!BQ$2,FALSE)","v":{"$error":"#N/A"}},{"$f":"VLOOKUP($BP53,'Vejehold 5'!$A$7:$P$23,'Opsamling, slagt+smågrise'!BR$2,FALSE)","v":{"$error":"#N/A"}},{"$f":"VLOOKUP($BP53,'Vejehold 5'!$A$7:$P$23,'Opsamling, slagt+smågrise'!BS$2,FALSE)","v":{"$error":"#N/A"}},{"$f":"VLOOKUP($BP53,'Vejehold 5'!$A$7:$P$23,'Opsamling, slagt+smågrise'!BT$2,FALSE)","v":{"$error":"#N/A"}},{"$f":"VLOOKUP($BP53,'Vejehold 5'!$A$7:$P$23,'Opsamling, slagt+smågrise'!BU$2,FALSE)","v":{"$error":"#N/A"}},{"$f":"VLOOKUP($BP53,'Vejehold 5'!$A$7:$P$23,'Opsamling, slagt+smågrise'!BV$2,FALSE)","v":{"$error":"#N/A"}},{"$f":"VLOOKUP($BP53,'Vejehold 5'!$A$7:$P$23,'Opsamling, slagt+smågrise'!BW$2,FALSE)","v":{"$error":"#N/A"}},null,49,"1900-02-18",{"$f":"VLOOKUP($BZ53,'Vejehold 6'!$A$7:$P$23,'Opsamling, slagt+smågrise'!CA$2,FALSE)","v":{"$error":"#N/A"}},{"$f":"VLOOKUP($BZ53,'Vejehold 6'!$A$7:$P$23,'Opsamling, slagt+smågrise'!CB$2,FALSE)","v":{"$error":"#N/A"}},{"$f":"VLOOKUP($BZ53,'Vejehold 6'!$A$7:$P$23,'Opsamling, slagt+smågrise'!CC$2,FALSE)","v":{"$error":"#N/A"}},{"$f":"VLOOKUP($BZ53,'Vejehold 6'!$A$7:$P$23,'Opsamling, slagt+smågrise'!CD$2,FALSE)","v":{"$error":"#N/A"}},{"$f":"VLOOKUP($BZ53,'Vejehold 6'!$A$7:$P$23,'Opsamling, slagt+smågrise'!CE$2,FALSE)","v":{"$error":"#N/A"}},{"$f":"VLOOKUP($BZ53,'Vejehold 6'!$A$7:$P$23,'Opsamling, slagt+smågrise'!CF$2,FALSE)","v":{"$error":"#N/A"}},{"$f":"VLOOKUP($BZ53,'Vejehold 6'!$A$7:$P$23,'Opsamling, slagt+smågrise'!CG$2,FALSE)","v":{"$error":"#N/A"}}]
[null,null,null,null,null,null,null,null,null,null,null,null,null,null,null,null,null,null,null,null,null,null,null,null,null,null,50,"1900-02-19",{"$f":"VLOOKUP($AB54,'Vejehold 1'!$A$7:$P$23,'Opsamling, slagt+smågrise'!AC$2,FALSE)","v":{"$error":"#N/A"}},{"$f":"VLOOKUP($AB54,'Vejehold 1'!$A$7:$P$23,'Opsamling, slagt+smågrise'!AD$2,FALSE)","v":{"$error":"#N/A"}},{"$f":"VLOOKUP($AB54,'Vejehold 1'!$A$7:$P$23,'Opsamling, slagt+smågrise'!AE$2,FALSE)","v":{"$error":"#N/A"}},{"$f":"VLOOKUP($AB54,'Vejehold 1'!$A$7:$P$23,'Opsamling, slagt+smågrise'!AF$2,FALSE)","v":{"$error":"#N/A"}},{"$f":"VLOOKUP($AB54,'Vejehold 1'!$A$7:$P$23,'Opsamling, slagt+smågrise'!AG$2,FALSE)","v":{"$error":"#N/A"}},{"$f":"VLOOKUP($AB54,'Vejehold 1'!$A$7:$P$23,'Opsamling, slagt+smågrise'!AH$2,FALSE)","v":{"$error":"#N/A"}},{"$f":"VLOOKUP($AB54,'Vejehold 1'!$A$7:$P$23,'Opsamling, slagt+smågrise'!AI$2,FALSE)","v":{"$error":"#N/A"}},null,50,"1900-02-19",{"$f":"VLOOKUP($AL54,'Vejehold 2'!$A$7:$P$23,'Opsamling, slagt+smågrise'!AM$2,FALSE)","v":{"$error":"#N/A"}},{"$f":"VLOOKUP($AL54,'Vejehold 2'!$A$7:$P$23,'Opsamling, slagt+smågrise'!AN$2,FALSE)","v":{"$error":"#N/A"}},{"$f":"VLOOKUP($AL54,'Vejehold 2'!$A$7:$P$23,'Opsamling, slagt+smågrise'!AO$2,FALSE)","v":{"$error":"#N/A"}},{"$f":"VLOOKUP($AL54,'Vejehold 2'!$A$7:$P$23,'Opsamling, slagt+smågrise'!AP$2,FALSE)","v":{"$error":"#N/A"}},{"$f":"VLOOKUP($AL54,'Vejehold 2'!$A$7:$P$23,'Opsamling, slagt+smågrise'!AQ$2,FALSE)","v":{"$error":"#N/A"}},{"$f":"VLOOKUP($AL54,'Vejehold 2'!$A$7:$P$23,'Opsamling, slagt+smågrise'!AR$2,FALSE)","v":{"$error":"#N/A"}},{"$f":"VLOOKUP($AL54,'Vejehold 2'!$A$7:$P$23,'Opsamling, slagt+smågrise'!AS$2,FALSE)","v":{"$error":"#N/A"}},null,50,"1900-02-19",{"$f":"VLOOKUP($AV54,'Vejehold 3'!$A$7:$P$23,'Opsamling, slagt+smågrise'!AW$2,FALSE)","v":{"$error":"#N/A"}},{"$f":"VLOOKUP($AV54,'Vejehold 3'!$A$7:$P$23,'Opsamling, slagt+smågrise'!AX$2,FALSE)","v":{"$error":"#N/A"}},{"$f":"VLOOKUP($AV54,'Vejehold 3'!$A$7:$P$23,'Opsamling, slagt+smågrise'!AY$2,FALSE)","v":{"$error":"#N/A"}},{"$f":"VLOOKUP($AV54,'Vejehold 3'!$A$7:$P$23,'Opsamling, slagt+smågrise'!AZ$2,FALSE)","v":{"$error":"#N/A"}},{"$f":"VLOOKUP($AV54,'Vejehold 3'!$A$7:$P$23,'Opsamling, slagt+smågrise'!BA$2,FALSE)","v":{"$error":"#N/A"}},{"$f":"VLOOKUP($AV54,'Vejehold 3'!$A$7:$P$23,'Opsamling, slagt+smågrise'!BB$2,FALSE)","v":{"$error":"#N/A"}},{"$f":"VLOOKUP($AV54,'Vejehold 3'!$A$7:$P$23,'Opsamling, slagt+smågrise'!BC$2,FALSE)","v":{"$error":"#N/A"}},null,50,"1900-02-19",{"$f":"VLOOKUP($BF54,'Vejehold 4'!$A$7:$P$23,'Opsamling, slagt+smågrise'!BG$2,FALSE)","v":{"$error":"#N/A"}},{"$f":"VLOOKUP($BF54,'Vejehold 4'!$A$7:$P$23,'Opsamling, slagt+smågrise'!BH$2,FALSE)","v":{"$error":"#N/A"}},{"$f":"VLOOKUP($BF54,'Vejehold 4'!$A$7:$P$23,'Opsamling, slagt+smågrise'!BI$2,FALSE)","v":{"$error":"#N/A"}},{"$f":"VLOOKUP($BF54,'Vejehold 4'!$A$7:$P$23,'Opsamling, slagt+smågrise'!BJ$2,FALSE)","v":{"$error":"#N/A"}},{"$f":"VLOOKUP($BF54,'Vejehold 4'!$A$7:$P$23,'Opsamling, slagt+smågrise'!BK$2,FALSE)","v":{"$error":"#N/A"}},{"$f":"VLOOKUP($BF54,'Vejehold 4'!$A$7:$P$23,'Opsamling, slagt+smågrise'!BL$2,FALSE)","v":{"$error":"#N/A"}},{"$f":"VLOOKUP($BF54,'Vejehold 4'!$A$7:$P$23,'Opsamling, slagt+smågrise'!BM$2,FALSE)","v":{"$error":"#N/A"}},null,50,"1900-02-19",{"$f":"VLOOKUP($BP54,'Vejehold 5'!$A$7:$P$23,'Opsamling, slagt+smågrise'!BQ$2,FALSE)","v":{"$error":"#N/A"}},{"$f":"VLOOKUP($BP54,'Vejehold 5'!$A$7:$P$23,'Opsamling, slagt+smågrise'!BR$2,FALSE)","v":{"$error":"#N/A"}},{"$f":"VLOOKUP($BP54,'Vejehold 5'!$A$7:$P$23,'Opsamling, slagt+smågrise'!BS$2,FALSE)","v":{"$error":"#N/A"}},{"$f":"VLOOKUP($BP54,'Vejehold 5'!$A$7:$P$23,'Opsamling, slagt+smågrise'!BT$2,FALSE)","v":{"$error":"#N/A"}},{"$f":"VLOOKUP($BP54,'Vejehold 5'!$A$7:$P$23,'Opsamling, slagt+smågrise'!BU$2,FALSE)","v":{"$error":"#N/A"}},{"$f":"VLOOKUP($BP54,'Vejehold 5'!$A$7:$P$23,'Opsamling, slagt+smågrise'!BV$2,FALSE)","v":{"$error":"#N/A"}},{"$f":"VLOOKUP($BP54,'Vejehold 5'!$A$7:$P$23,'Opsamling, slagt+smågrise'!BW$2,FALSE)","v":{"$error":"#N/A"}},null,50,"1900-02-19",{"$f":"VLOOKUP($BZ54,'Vejehold 6'!$A$7:$P$23,'Opsamling, slagt+smågrise'!CA$2,FALSE)","v":{"$error":"#N/A"}},{"$f":"VLOOKUP($BZ54,'Vejehold 6'!$A$7:$P$23,'Opsamling, slagt+smågrise'!CB$2,FALSE)","v":{"$error":"#N/A"}},{"$f":"VLOOKUP($BZ54,'Vejehold 6'!$A$7:$P$23,'Opsamling, slagt+smågrise'!CC$2,FALSE)","v":{"$error":"#N/A"}},{"$f":"VLOOKUP($BZ54,'Vejehold 6'!$A$7:$P$23,'Opsamling, slagt+smågrise'!CD$2,FALSE)","v":{"$error":"#N/A"}},{"$f":"VLOOKUP($BZ54,'Vejehold 6'!$A$7:$P$23,'Opsamling, slagt+smågrise'!CE$2,FALSE)","v":{"$error":"#N/A"}},{"$f":"VLOOKUP($BZ54,'Vejehold 6'!$A$7:$P$23,'Opsamling, slagt+smågrise'!CF$2,FALSE)","v":{"$error":"#N/A"}},{"$f":"VLOOKUP($BZ54,'Vejehold 6'!$A$7:$P$23,'Opsamling, slagt+smågrise'!CG$2,FALSE)","v":{"$error":"#N/A"}}]
[null,null,null,null,null,null,null,null,null,null,null,null,null,null,null,null,null,null,null,null,null,null,null,null,null,null,51,"1900-02-20",{"$f":"VLOOKUP($AB55,'Vejehold 1'!$A$7:$P$23,'Opsamling, slagt+smågrise'!AC$2,FALSE)","v":{"$error":"#N/A"}},{"$f":"VLOOKUP($AB55,'Vejehold 1'!$A$7:$P$23,'Opsamling, slagt+smågrise'!AD$2,FALSE)","v":{"$error":"#N/A"}},{"$f":"VLOOKUP($AB55,'Vejehold 1'!$A$7:$P$23,'Opsamling, slagt+smågrise'!AE$2,FALSE)","v":{"$error":"#N/A"}},{"$f":"VLOOKUP($AB55,'Vejehold 1'!$A$7:$P$23,'Opsamling, slagt+smågrise'!AF$2,FALSE)","v":{"$error":"#N/A"}},{"$f":"VLOOKUP($AB55,'Vejehold 1'!$A$7:$P$23,'Opsamling, slagt+smågrise'!AG$2,FALSE)","v":{"$error":"#N/A"}},{"$f":"VLOOKUP($AB55,'Vejehold 1'!$A$7:$P$23,'Opsamling, slagt+smågrise'!AH$2,FALSE)","v":{"$error":"#N/A"}},{"$f":"VLOOKUP($AB55,'Vejehold 1'!$A$7:$P$23,'Opsamling, slagt+smågrise'!AI$2,FALSE)","v":{"$error":"#N/A"}},null,51,"1900-02-20",{"$f":"VLOOKUP($AL55,'Vejehold 2'!$A$7:$P$23,'Opsamling, slagt+smågrise'!AM$2,FALSE)","v":{"$error":"#N/A"}},{"$f":"VLOOKUP($AL55,'Vejehold 2'!$A$7:$P$23,'Opsamling, slagt+smågrise'!AN$2,FALSE)","v":{"$error":"#N/A"}},{"$f":"VLOOKUP($AL55,'Vejehold 2'!$A$7:$P$23,'Opsamling, slagt+smågrise'!AO$2,FALSE)","v":{"$error":"#N/A"}},{"$f":"VLOOKUP($AL55,'Vejehold 2'!$A$7:$P$23,'Opsamling, slagt+smågrise'!AP$2,FALSE)","v":{"$error":"#N/A"}},{"$f":"VLOOKUP($AL55,'Vejehold 2'!$A$7:$P$23,'Opsamling, slagt+smågrise'!AQ$2,FALSE)","v":{"$error":"#N/A"}},{"$f":"VLOOKUP($AL55,'Vejehold 2'!$A$7:$P$23,'Opsamling, slagt+smågrise'!AR$2,FALSE)","v":{"$error":"#N/A"}},{"$f":"VLOOKUP($AL55,'Vejehold 2'!$A$7:$P$23,'Opsamling, slagt+smågrise'!AS$2,FALSE)","v":{"$error":"#N/A"}},null,51,"1900-02-20",{"$f":"VLOOKUP($AV55,'Vejehold 3'!$A$7:$P$23,'Opsamling, slagt+smågrise'!AW$2,FALSE)","v":{"$error":"#N/A"}},{"$f":"VLOOKUP($AV55,'Vejehold 3'!$A$7:$P$23,'Opsamling, slagt+smågrise'!AX$2,FALSE)","v":{"$error":"#N/A"}},{"$f":"VLOOKUP($AV55,'Vejehold 3'!$A$7:$P$23,'Opsamling, slagt+smågrise'!AY$2,FALSE)","v":{"$error":"#N/A"}},{"$f":"VLOOKUP($AV55,'Vejehold 3'!$A$7:$P$23,'Opsamling, slagt+smågrise'!AZ$2,FALSE)","v":{"$error":"#N/A"}},{"$f":"VLOOKUP($AV55,'Vejehold 3'!$A$7:$P$23,'Opsamling, slagt+smågrise'!BA$2,FALSE)","v":{"$error":"#N/A"}},{"$f":"VLOOKUP($AV55,'Vejehold 3'!$A$7:$P$23,'Opsamling, slagt+smågrise'!BB$2,FALSE)","v":{"$error":"#N/A"}},{"$f":"VLOOKUP($AV55,'Vejehold 3'!$A$7:$P$23,'Opsamling, slagt+smågrise'!BC$2,FALSE)","v":{"$error":"#N/A"}},null,51,"1900-02-20",{"$f":"VLOOKUP($BF55,'Vejehold 4'!$A$7:$P$23,'Opsamling, slagt+smågrise'!BG$2,FALSE)","v":{"$error":"#N/A"}},{"$f":"VLOOKUP($BF55,'Vejehold 4'!$A$7:$P$23,'Opsamling, slagt+smågrise'!BH$2,FALSE)","v":{"$error":"#N/A"}},{"$f":"VLOOKUP($BF55,'Vejehold 4'!$A$7:$P$23,'Opsamling, slagt+smågrise'!BI$2,FALSE)","v":{"$error":"#N/A"}},{"$f":"VLOOKUP($BF55,'Vejehold 4'!$A$7:$P$23,'Opsamling, slagt+smågrise'!BJ$2,FALSE)","v":{"$error":"#N/A"}},{"$f":"VLOOKUP($BF55,'Vejehold 4'!$A$7:$P$23,'Opsamling, slagt+smågrise'!BK$2,FALSE)","v":{"$error":"#N/A"}},{"$f":"VLOOKUP($BF55,'Vejehold 4'!$A$7:$P$23,'Opsamling, slagt+smågrise'!BL$2,FALSE)","v":{"$error":"#N/A"}},{"$f":"VLOOKUP($BF55,'Vejehold 4'!$A$7:$P$23,'Opsamling, slagt+smågrise'!BM$2,FALSE)","v":{"$error":"#N/A"}},null,51,"1900-02-20",{"$f":"VLOOKUP($BP55,'Vejehold 5'!$A$7:$P$23,'Opsamling, slagt+smågrise'!BQ$2,FALSE)","v":{"$error":"#N/A"}},{"$f":"VLOOKUP($BP55,'Vejehold 5'!$A$7:$P$23,'Opsamling, slagt+smågrise'!BR$2,FALSE)","v":{"$error":"#N/A"}},{"$f":"VLOOKUP($BP55,'Vejehold 5'!$A$7:$P$23,'Opsamling, slagt+smågrise'!BS$2,FALSE)","v":{"$error":"#N/A"}},{"$f":"VLOOKUP($BP55,'Vejehold 5'!$A$7:$P$23,'Opsamling, slagt+smågrise'!BT$2,FALSE)","v":{"$error":"#N/A"}},{"$f":"VLOOKUP($BP55,'Vejehold 5'!$A$7:$P$23,'Opsamling, slagt+smågrise'!BU$2,FALSE)","v":{"$error":"#N/A"}},{"$f":"VLOOKUP($BP55,'Vejehold 5'!$A$7:$P$23,'Opsamling, slagt+smågrise'!BV$2,FALSE)","v":{"$error":"#N/A"}},{"$f":"VLOOKUP($BP55,'Vejehold 5'!$A$7:$P$23,'Opsamling, slagt+smågrise'!BW$2,FALSE)","v":{"$error":"#N/A"}},null,51,"1900-02-20",{"$f":"VLOOKUP($BZ55,'Vejehold 6'!$A$7:$P$23,'Opsamling, slagt+smågrise'!CA$2,FALSE)","v":{"$error":"#N/A"}},{"$f":"VLOOKUP($BZ55,'Vejehold 6'!$A$7:$P$23,'Opsamling, slagt+smågrise'!CB$2,FALSE)","v":{"$error":"#N/A"}},{"$f":"VLOOKUP($BZ55,'Vejehold 6'!$A$7:$P$23,'Opsamling, slagt+smågrise'!CC$2,FALSE)","v":{"$error":"#N/A"}},{"$f":"VLOOKUP($BZ55,'Vejehold 6'!$A$7:$P$23,'Opsamling, slagt+smågrise'!CD$2,FALSE)","v":{"$error":"#N/A"}},{"$f":"VLOOKUP($BZ55,'Vejehold 6'!$A$7:$P$23,'Opsamling, slagt+smågrise'!CE$2,FALSE)","v":{"$error":"#N/A"}},{"$f":"VLOOKUP($BZ55,'Vejehold 6'!$A$7:$P$23,'Opsamling, slagt+smågrise'!CF$2,FALSE)","v":{"$error":"#N/A"}},{"$f":"VLOOKUP($BZ55,'Vejehold 6'!$A$7:$P$23,'Opsamling, slagt+smågrise'!CG$2,FALSE)","v":{"$error":"#N/A"}}]
[null,"FE pr. kg tilvækst perioden",null,null,null,null,null,null,null,null,null,null,null,null,null,null,null,null,null,null,null,null,null,null,null,null,52,"1900-02-21",{"$f":"VLOOKUP($AB56,'Vejehold 1'!$A$7:$P$23,'Opsamling, slagt+smågrise'!AC$2,FALSE)","v":{"$error":"#N/A"}},{"$f":"VLOOKUP($AB56,'Vejehold 1'!$A$7:$P$23,'Opsamling, slagt+smågrise'!AD$2,FALSE)","v":{"$error":"#N/A"}},{"$f":"VLOOKUP($AB56,'Vejehold 1'!$A$7:$P$23,'Opsamling, slagt+smågrise'!AE$2,FALSE)","v":{"$error":"#N/A"}},{"$f":"VLOOKUP($AB56,'Vejehold 1'!$A$7:$P$23,'Opsamling, slagt+smågrise'!AF$2,FALSE)","v":{"$error":"#N/A"}},{"$f":"VLOOKUP($AB56,'Vejehold 1'!$A$7:$P$23,'Opsamling, slagt+smågrise'!AG$2,FALSE)","v":{"$error":"#N/A"}},{"$f":"VLOOKUP($AB56,'Vejehold 1'!$A$7:$P$23,'Opsamling, slagt+smågrise'!AH$2,FALSE)","v":{"$error":"#N/A"}},{"$f":"VLOOKUP($AB56,'Vejehold 1'!$A$7:$P$23,'Opsamling, slagt+smågrise'!AI$2,FALSE)","v":{"$error":"#N/A"}},null,52,"1900-02-21",{"$f":"VLOOKUP($AL56,'Vejehold 2'!$A$7:$P$23,'Opsamling, slagt+smågrise'!AM$2,FALSE)","v":{"$error":"#N/A"}},{"$f":"VLOOKUP($AL56,'Vejehold 2'!$A$7:$P$23,'Opsamling, slagt+smågrise'!AN$2,FALSE)","v":{"$error":"#N/A"}},{"$f":"VLOOKUP($AL56,'Vejehold 2'!$A$7:$P$23,'Opsamling, slagt+smågrise'!AO$2,FALSE)","v":{"$error":"#N/A"}},{"$f":"VLOOKUP($AL56,'Vejehold 2'!$A$7:$P$23,'Opsamling, slagt+smågrise'!AP$2,FALSE)","v":{"$error":"#N/A"}},{"$f":"VLOOKUP($AL56,'Vejehold 2'!$A$7:$P$23,'Opsamling, slagt+smågrise'!AQ$2,FALSE)","v":{"$error":"#N/A"}},{"$f":"VLOOKUP($AL56,'Vejehold 2'!$A$7:$P$23,'Opsamling, slagt+smågrise'!AR$2,FALSE)","v":{"$error":"#N/A"}},{"$f":"VLOOKUP($AL56,'Vejehold 2'!$A$7:$P$23,'Opsamling, slagt+smågrise'!AS$2,FALSE)","v":{"$error":"#N/A"}},null,52,"1900-02-21",{"$f":"VLOOKUP($AV56,'Vejehold 3'!$A$7:$P$23,'Opsamling, slagt+smågrise'!AW$2,FALSE)","v":{"$error":"#N/A"}},{"$f":"VLOOKUP($AV56,'Vejehold 3'!$A$7:$P$23,'Opsamling, slagt+smågrise'!AX$2,FALSE)","v":{"$error":"#N/A"}},{"$f":"VLOOKUP($AV56,'Vejehold 3'!$A$7:$P$23,'Opsamling, slagt+smågrise'!AY$2,FALSE)","v":{"$error":"#N/A"}},{"$f":"VLOOKUP($AV56,'Vejehold 3'!$A$7:$P$23,'Opsamling, slagt+smågrise'!AZ$2,FALSE)","v":{"$error":"#N/A"}},{"$f":"VLOOKUP($AV56,'Vejehold 3'!$A$7:$P$23,'Opsamling, slagt+smågrise'!BA$2,FALSE)","v":{"$error":"#N/A"}},{"$f":"VLOOKUP($AV56,'Vejehold 3'!$A$7:$P$23,'Opsamling, slagt+smågrise'!BB$2,FALSE)","v":{"$error":"#N/A"}},{"$f":"VLOOKUP($AV56,'Vejehold 3'!$A$7:$P$23,'Opsamling, slagt+smågrise'!BC$2,FALSE)","v":{"$error":"#N/A"}},null,52,"1900-02-21",{"$f":"VLOOKUP($BF56,'Vejehold 4'!$A$7:$P$23,'Opsamling, slagt+smågrise'!BG$2,FALSE)","v":{"$error":"#N/A"}},{"$f":"VLOOKUP($BF56,'Vejehold 4'!$A$7:$P$23,'Opsamling, slagt+smågrise'!BH$2,FALSE)","v":{"$error":"#N/A"}},{"$f":"VLOOKUP($BF56,'Vejehold 4'!$A$7:$P$23,'Opsamling, slagt+smågrise'!BI$2,FALSE)","v":{"$error":"#N/A"}},{"$f":"VLOOKUP($BF56,'Vejehold 4'!$A$7:$P$23,'Opsamling, slagt+smågrise'!BJ$2,FALSE)","v":{"$error":"#N/A"}},{"$f":"VLOOKUP($BF56,'Vejehold 4'!$A$7:$P$23,'Opsamling, slagt+smågrise'!BK$2,FALSE)","v":{"$error":"#N/A"}},{"$f":"VLOOKUP($BF56,'Vejehold 4'!$A$7:$P$23,'Opsamling, slagt+smågrise'!BL$2,FALSE)","v":{"$error":"#N/A"}},{"$f":"VLOOKUP($BF56,'Vejehold 4'!$A$7:$P$23,'Opsamling, slagt+smågrise'!BM$2,FALSE)","v":{"$error":"#N/A"}},null,52,"1900-02-21",{"$f":"VLOOKUP($BP56,'Vejehold 5'!$A$7:$P$23,'Opsamling, slagt+smågrise'!BQ$2,FALSE)","v":{"$error":"#N/A"}},{"$f":"VLOOKUP($BP56,'Vejehold 5'!$A$7:$P$23,'Opsamling, slagt+smågrise'!BR$2,FALSE)","v":{"$error":"#N/A"}},{"$f":"VLOOKUP($BP56,'Vejehold 5'!$A$7:$P$23,'Opsamling, slagt+smågrise'!BS$2,FALSE)","v":{"$error":"#N/A"}},{"$f":"VLOOKUP($BP56,'Vejehold 5'!$A$7:$P$23,'Opsamling, slagt+smågrise'!BT$2,FALSE)","v":{"$error":"#N/A"}},{"$f":"VLOOKUP($BP56,'Vejehold 5'!$A$7:$P$23,'Opsamling, slagt+smågrise'!BU$2,FALSE)","v":{"$error":"#N/A"}},{"$f":"VLOOKUP($BP56,'Vejehold 5'!$A$7:$P$23,'Opsamling, slagt+smågrise'!BV$2,FALSE)","v":{"$error":"#N/A"}},{"$f":"VLOOKUP($BP56,'Vejehold 5'!$A$7:$P$23,'Opsamling, slagt+smågrise'!BW$2,FALSE)","v":{"$error":"#N/A"}},null,52,"1900-02-21",{"$f":"VLOOKUP($BZ56,'Vejehold 6'!$A$7:$P$23,'Opsamling, slagt+smågrise'!CA$2,FALSE)","v":{"$error":"#N/A"}},{"$f":"VLOOKUP($BZ56,'Vejehold 6'!$A$7:$P$23,'Opsamling, slagt+smågrise'!CB$2,FALSE)","v":{"$error":"#N/A"}},{"$f":"VLOOKUP($BZ56,'Vejehold 6'!$A$7:$P$23,'Opsamling, slagt+smågrise'!CC$2,FALSE)","v":{"$error":"#N/A"}},{"$f":"VLOOKUP($BZ56,'Vejehold 6'!$A$7:$P$23,'Opsamling, slagt+smågrise'!CD$2,FALSE)","v":{"$error":"#N/A"}},{"$f":"VLOOKUP($BZ56,'Vejehold 6'!$A$7:$P$23,'Opsamling, slagt+smågrise'!CE$2,FALSE)","v":{"$error":"#N/A"}},{"$f":"VLOOKUP($BZ56,'Vejehold 6'!$A$7:$P$23,'Opsamling, slagt+smågrise'!CF$2,FALSE)","v":{"$error":"#N/A"}},{"$f":"VLOOKUP($BZ56,'Vejehold 6'!$A$7:$P$23,'Opsamling, slagt+smågrise'!CG$2,FALSE)","v":{"$error":"#N/A"}}]
[null,"Dag","Hold 1","Hold 2","Hold 3","Hold 4","Hold 5","Hold 6",null,null,null,null,null,null,null,null,null,null,null,null,null,null,null,null,null,null,53,"1900-02-22",{"$f":"VLOOKUP($AB57,'Vejehold 1'!$A$7:$P$23,'Opsamling, slagt+smågrise'!AC$2,FALSE)","v":{"$error":"#N/A"}},{"$f":"VLOOKUP($AB57,'Vejehold 1'!$A$7:$P$23,'Opsamling, slagt+smågrise'!AD$2,FALSE)","v":{"$error":"#N/A"}},{"$f":"VLOOKUP($AB57,'Vejehold 1'!$A$7:$P$23,'Opsamling, slagt+smågrise'!AE$2,FALSE)","v":{"$error":"#N/A"}},{"$f":"VLOOKUP($AB57,'Vejehold 1'!$A$7:$P$23,'Opsamling, slagt+smågrise'!AF$2,FALSE)","v":{"$error":"#N/A"}},{"$f":"VLOOKUP($AB57,'Vejehold 1'!$A$7:$P$23,'Opsamling, slagt+smågrise'!AG$2,FALSE)","v":{"$error":"#N/A"}},{"$f":"VLOOKUP($AB57,'Vejehold 1'!$A$7:$P$23,'Opsamling, slagt+smågrise'!AH$2,FALSE)","v":{"$error":"#N/A"}},{"$f":"VLOOKUP($AB57,'Vejehold 1'!$A$7:$P$23,'Opsamling, slagt+smågrise'!AI$2,FALSE)","v":{"$error":"#N/A"}},null,53,"1900-02-22",{"$f":"VLOOKUP($AL57,'Vejehold 2'!$A$7:$P$23,'Opsamling, slagt+smågrise'!AM$2,FALSE)","v":{"$error":"#N/A"}},{"$f":"VLOOKUP($AL57,'Vejehold 2'!$A$7:$P$23,'Opsamling, slagt+smågrise'!AN$2,FALSE)","v":{"$error":"#N/A"}},{"$f":"VLOOKUP($AL57,'Vejehold 2'!$A$7:$P$23,'Opsamling, slagt+smågrise'!AO$2,FALSE)","v":{"$error":"#N/A"}},{"$f":"VLOOKUP($AL57,'Vejehold 2'!$A$7:$P$23,'Opsamling, slagt+smågrise'!AP$2,FALSE)","v":{"$error":"#N/A"}},{"$f":"VLOOKUP($AL57,'Vejehold 2'!$A$7:$P$23,'Opsamling, slagt+smågrise'!AQ$2,FALSE)","v":{"$error":"#N/A"}},{"$f":"VLOOKUP($AL57,'Vejehold 2'!$A$7:$P$23,'Opsamling, slagt+smågrise'!AR$2,FALSE)","v":{"$error":"#N/A"}},{"$f":"VLOOKUP($AL57,'Vejehold 2'!$A$7:$P$23,'Opsamling, slagt+smågrise'!AS$2,FALSE)","v":{"$error":"#N/A"}},null,53,"1900-02-22",{"$f":"VLOOKUP($AV57,'Vejehold 3'!$A$7:$P$23,'Opsamling, slagt+smågrise'!AW$2,FALSE)","v":{"$error":"#N/A"}},{"$f":"VLOOKUP($AV57,'Vejehold 3'!$A$7:$P$23,'Opsamling, slagt+smågrise'!AX$2,FALSE)","v":{"$error":"#N/A"}},{"$f":"VLOOKUP($AV57,'Vejehold 3'!$A$7:$P$23,'Opsamling, slagt+smågrise'!AY$2,FALSE)","v":{"$error":"#N/A"}},{"$f":"VLOOKUP($AV57,'Vejehold 3'!$A$7:$P$23,'Opsamling, slagt+smågrise'!AZ$2,FALSE)","v":{"$error":"#N/A"}},{"$f":"VLOOKUP($AV57,'Vejehold 3'!$A$7:$P$23,'Opsamling, slagt+smågrise'!BA$2,FALSE)","v":{"$error":"#N/A"}},{"$f":"VLOOKUP($AV57,'Vejehold 3'!$A$7:$P$23,'Opsamling, slagt+smågrise'!BB$2,FALSE)","v":{"$error":"#N/A"}},{"$f":"VLOOKUP($AV57,'Vejehold 3'!$A$7:$P$23,'Opsamling, slagt+smågrise'!BC$2,FALSE)","v":{"$error":"#N/A"}},null,53,"1900-02-22",{"$f":"VLOOKUP($BF57,'Vejehold 4'!$A$7:$P$23,'Opsamling, slagt+smågrise'!BG$2,FALSE)","v":{"$error":"#N/A"}},{"$f":"VLOOKUP($BF57,'Vejehold 4'!$A$7:$P$23,'Opsamling, slagt+smågrise'!BH$2,FALSE)","v":{"$error":"#N/A"}},{"$f":"VLOOKUP($BF57,'Vejehold 4'!$A$7:$P$23,'Opsamling, slagt+smågrise'!BI$2,FALSE)","v":{"$error":"#N/A"}},{"$f":"VLOOKUP($BF57,'Vejehold 4'!$A$7:$P$23,'Opsamling, slagt+smågrise'!BJ$2,FALSE)","v":{"$error":"#N/A"}},{"$f":"VLOOKUP($BF57,'Vejehold 4'!$A$7:$P$23,'Opsamling, slagt+smågrise'!BK$2,FALSE)","v":{"$error":"#N/A"}},{"$f":"VLOOKUP($BF57,'Vejehold 4'!$A$7:$P$23,'Opsamling, slagt+smågrise'!BL$2,FALSE)","v":{"$error":"#N/A"}},{"$f":"VLOOKUP($BF57,'Vejehold 4'!$A$7:$P$23,'Opsamling, slagt+smågrise'!BM$2,FALSE)","v":{"$error":"#N/A"}},null,53,"1900-02-22",{"$f":"VLOOKUP($BP57,'Vejehold 5'!$A$7:$P$23,'Opsamling, slagt+smågrise'!BQ$2,FALSE)","v":{"$error":"#N/A"}},{"$f":"VLOOKUP($BP57,'Vejehold 5'!$A$7:$P$23,'Opsamling, slagt+smågrise'!BR$2,FALSE)","v":{"$error":"#N/A"}},{"$f":"VLOOKUP($BP57,'Vejehold 5'!$A$7:$P$23,'Opsamling, slagt+smågrise'!BS$2,FALSE)","v":{"$error":"#N/A"}},{"$f":"VLOOKUP($BP57,'Vejehold 5'!$A$7:$P$23,'Opsamling, slagt+smågrise'!BT$2,FALSE)","v":{"$error":"#N/A"}},{"$f":"VLOOKUP($BP57,'Vejehold 5'!$A$7:$P$23,'Opsamling, slagt+smågrise'!BU$2,FALSE)","v":{"$error":"#N/A"}},{"$f":"VLOOKUP($BP57,'Vejehold 5'!$A$7:$P$23,'Opsamling, slagt+smågrise'!BV$2,FALSE)","v":{"$error":"#N/A"}},{"$f":"VLOOKUP($BP57,'Vejehold 5'!$A$7:$P$23,'Opsamling, slagt+smågrise'!BW$2,FALSE)","v":{"$error":"#N/A"}},null,53,"1900-02-22",{"$f":"VLOOKUP($BZ57,'Vejehold 6'!$A$7:$P$23,'Opsamling, slagt+smågrise'!CA$2,FALSE)","v":{"$error":"#N/A"}},{"$f":"VLOOKUP($BZ57,'Vejehold 6'!$A$7:$P$23,'Opsamling, slagt+smågrise'!CB$2,FALSE)","v":{"$error":"#N/A"}},{"$f":"VLOOKUP($BZ57,'Vejehold 6'!$A$7:$P$23,'Opsamling, slagt+smågrise'!CC$2,FALSE)","v":{"$error":"#N/A"}},{"$f":"VLOOKUP($BZ57,'Vejehold 6'!$A$7:$P$23,'Opsamling, slagt+smågrise'!CD$2,FALSE)","v":{"$error":"#N/A"}},{"$f":"VLOOKUP($BZ57,'Vejehold 6'!$A$7:$P$23,'Opsamling, slagt+smågrise'!CE$2,FALSE)","v":{"$error":"#N/A"}},{"$f":"VLOOKUP($BZ57,'Vejehold 6'!$A$7:$P$23,'Opsamling, slagt+smågrise'!CF$2,FALSE)","v":{"$error":"#N/A"}},{"$f":"VLOOKUP($BZ57,'Vejehold 6'!$A$7:$P$23,'Opsamling, slagt+smågrise'!CG$2,FALSE)","v":{"$error":"#N/A"}}]
[null,7,{"$f":"'Vejehold 1'!$K8","v":0},{"$f":"'Vejehold 2'!$K8","v":0},{"$f":"'Vejehold 3'!$K8","v":0},{"$f":"'Vejehold 4'!$K8","v":0},{"$f":"'Vejehold 5'!$K8","v":0},{"$f":"'Vejehold 6'!$K8","v":0},null,null,null,null,null,null,null,null,null,null,null,null,null,null,null,null,null,null,54,"1900-02-23",{"$f":"VLOOKUP($AB58,'Vejehold 1'!$A$7:$P$23,'Opsamling, slagt+smågrise'!AC$2,FALSE)","v":{"$error":"#N/A"}},{"$f":"VLOOKUP($AB58,'Vejehold 1'!$A$7:$P$23,'Opsamling, slagt+smågrise'!AD$2,FALSE)","v":{"$error":"#N/A"}},{"$f":"VLOOKUP($AB58,'Vejehold 1'!$A$7:$P$23,'Opsamling, slagt+smågrise'!AE$2,FALSE)","v":{"$error":"#N/A"}},{"$f":"VLOOKUP($AB58,'Vejehold 1'!$A$7:$P$23,'Opsamling, slagt+smågrise'!AF$2,FALSE)","v":{"$error":"#N/A"}},{"$f":"VLOOKUP($AB58,'Vejehold 1'!$A$7:$P$23,'Opsamling, slagt+smågrise'!AG$2,FALSE)","v":{"$error":"#N/A"}},{"$f":"VLOOKUP($AB58,'Vejehold 1'!$A$7:$P$23,'Opsamling, slagt+smågrise'!AH$2,FALSE)","v":{"$error":"#N/A"}},{"$f":"VLOOKUP($AB58,'Vejehold 1'!$A$7:$P$23,'Opsamling, slagt+smågrise'!AI$2,FALSE)","v":{"$error":"#N/A"}},null,54,"1900-02-23",{"$f":"VLOOKUP($AL58,'Vejehold 2'!$A$7:$P$23,'Opsamling, slagt+smågrise'!AM$2,FALSE)","v":{"$error":"#N/A"}},{"$f":"VLOOKUP($AL58,'Vejehold 2'!$A$7:$P$23,'Opsamling, slagt+smågrise'!AN$2,FALSE)","v":{"$error":"#N/A"}},{"$f":"VLOOKUP($AL58,'Vejehold 2'!$A$7:$P$23,'Opsamling, slagt+smågrise'!AO$2,FALSE)","v":{"$error":"#N/A"}},{"$f":"VLOOKUP($AL58,'Vejehold 2'!$A$7:$P$23,'Opsamling, slagt+smågrise'!AP$2,FALSE)","v":{"$error":"#N/A"}},{"$f":"VLOOKUP($AL58,'Vejehold 2'!$A$7:$P$23,'Opsamling, slagt+smågrise'!AQ$2,FALSE)","v":{"$error":"#N/A"}},{"$f":"VLOOKUP($AL58,'Vejehold 2'!$A$7:$P$23,'Opsamling, slagt+smågrise'!AR$2,FALSE)","v":{"$error":"#N/A"}},{"$f":"VLOOKUP($AL58,'Vejehold 2'!$A$7:$P$23,'Opsamling, slagt+smågrise'!AS$2,FALSE)","v":{"$error":"#N/A"}},null,54,"1900-02-23",{"$f":"VLOOKUP($AV58,'Vejehold 3'!$A$7:$P$23,'Opsamling, slagt+smågrise'!AW$2,FALSE)","v":{"$error":"#N/A"}},{"$f":"VLOOKUP($AV58,'Vejehold 3'!$A$7:$P$23,'Opsamling, slagt+smågrise'!AX$2,FALSE)","v":{"$error":"#N/A"}},{"$f":"VLOOKUP($AV58,'Vejehold 3'!$A$7:$P$23,'Opsamling, slagt+smågrise'!AY$2,FALSE)","v":{"$error":"#N/A"}},{"$f":"VLOOKUP($AV58,'Vejehold 3'!$A$7:$P$23,'Opsamling, slagt+smågrise'!AZ$2,FALSE)","v":{"$error":"#N/A"}},{"$f":"VLOOKUP($AV58,'Vejehold 3'!$A$7:$P$23,'Opsamling, slagt+smågrise'!BA$2,FALSE)","v":{"$error":"#N/A"}},{"$f":"VLOOKUP($AV58,'Vejehold 3'!$A$7:$P$23,'Opsamling, slagt+smågrise'!BB$2,FALSE)","v":{"$error":"#N/A"}},{"$f":"VLOOKUP($AV58,'Vejehold 3'!$A$7:$P$23,'Opsamling, slagt+smågrise'!BC$2,FALSE)","v":{"$error":"#N/A"}},null,54,"1900-02-23",{"$f":"VLOOKUP($BF58,'Vejehold 4'!$A$7:$P$23,'Opsamling, slagt+smågrise'!BG$2,FALSE)","v":{"$error":"#N/A"}},{"$f":"VLOOKUP($BF58,'Vejehold 4'!$A$7:$P$23,'Opsamling, slagt+smågrise'!BH$2,FALSE)","v":{"$error":"#N/A"}},{"$f":"VLOOKUP($BF58,'Vejehold 4'!$A$7:$P$23,'Opsamling, slagt+smågrise'!BI$2,FALSE)","v":{"$error":"#N/A"}},{"$f":"VLOOKUP($BF58,'Vejehold 4'!$A$7:$P$23,'Opsamling, slagt+smågrise'!BJ$2,FALSE)","v":{"$error":"#N/A"}},{"$f":"VLOOKUP($BF58,'Vejehold 4'!$A$7:$P$23,'Opsamling, slagt+smågrise'!BK$2,FALSE)","v":{"$error":"#N/A"}},{"$f":"VLOOKUP($BF58,'Vejehold 4'!$A$7:$P$23,'Opsamling, slagt+smågrise'!BL$2,FALSE)","v":{"$error":"#N/A"}},{"$f":"VLOOKUP($BF58,'Vejehold 4'!$A$7:$P$23,'Opsamling, slagt+smågrise'!BM$2,FALSE)","v":{"$error":"#N/A"}},null,54,"1900-02-23",{"$f":"VLOOKUP($BP58,'Vejehold 5'!$A$7:$P$23,'Opsamling, slagt+smågrise'!BQ$2,FALSE)","v":{"$error":"#N/A"}},{"$f":"VLOOKUP($BP58,'Vejehold 5'!$A$7:$P$23,'Opsamling, slagt+smågrise'!BR$2,FALSE)","v":{"$error":"#N/A"}},{"$f":"VLOOKUP($BP58,'Vejehold 5'!$A$7:$P$23,'Opsamling, slagt+smågrise'!BS$2,FALSE)","v":{"$error":"#N/A"}},{"$f":"VLOOKUP($BP58,'Vejehold 5'!$A$7:$P$23,'Opsamling, slagt+smågrise'!BT$2,FALSE)","v":{"$error":"#N/A"}},{"$f":"VLOOKUP($BP58,'Vejehold 5'!$A$7:$P$23,'Opsamling, slagt+smågrise'!BU$2,FALSE)","v":{"$error":"#N/A"}},{"$f":"VLOOKUP($BP58,'Vejehold 5'!$A$7:$P$23,'Opsamling, slagt+smågrise'!BV$2,FALSE)","v":{"$error":"#N/A"}},{"$f":"VLOOKUP($BP58,'Vejehold 5'!$A$7:$P$23,'Opsamling, slagt+smågrise'!BW$2,FALSE)","v":{"$error":"#N/A"}},null,54,"1900-02-23",{"$f":"VLOOKUP($BZ58,'Vejehold 6'!$A$7:$P$23,'Opsamling, slagt+smågrise'!CA$2,FALSE)","v":{"$error":"#N/A"}},{"$f":"VLOOKUP($BZ58,'Vejehold 6'!$A$7:$P$23,'Opsamling, slagt+smågrise'!CB$2,FALSE)","v":{"$error":"#N/A"}},{"$f":"VLOOKUP($BZ58,'Vejehold 6'!$A$7:$P$23,'Opsamling, slagt+smågrise'!CC$2,FALSE)","v":{"$error":"#N/A"}},{"$f":"VLOOKUP($BZ58,'Vejehold 6'!$A$7:$P$23,'Opsamling, slagt+smågrise'!CD$2,FALSE)","v":{"$error":"#N/A"}},{"$f":"VLOOKUP($BZ58,'Vejehold 6'!$A$7:$P$23,'Opsamling, slagt+smågrise'!CE$2,FALSE)","v":{"$error":"#N/A"}},{"$f":"VLOOKUP($BZ58,'Vejehold 6'!$A$7:$P$23,'Opsamling, slagt+smågrise'!CF$2,FALSE)","v":{"$error":"#N/A"}},{"$f":"VLOOKUP($BZ58,'Vejehold 6'!$A$7:$P$23,'Opsamling, slagt+smågrise'!CG$2,FALSE)","v":{"$error":"#N/A"}}]
[null,14,{"$f":"'Vejehold 1'!$K9","v":0},{"$f":"'Vejehold 2'!$K9","v":0},{"$f":"'Vejehold 3'!$K9","v":0},{"$f":"'Vejehold 4'!$K9","v":0},{"$f":"'Vejehold 5'!$K9","v":0},{"$f":"'Vejehold 6'!$K9","v":0},null,null,null,null,null,null,null,null,null,null,null,null,null,null,null,null,null,null,55,"1900-02-24",{"$f":"VLOOKUP($AB59,'Vejehold 1'!$A$7:$P$23,'Opsamling, slagt+smågrise'!AC$2,FALSE)","v":{"$error":"#N/A"}},{"$f":"VLOOKUP($AB59,'Vejehold 1'!$A$7:$P$23,'Opsamling, slagt+smågrise'!AD$2,FALSE)","v":{"$error":"#N/A"}},{"$f":"VLOOKUP($AB59,'Vejehold 1'!$A$7:$P$23,'Opsamling, slagt+smågrise'!AE$2,FALSE)","v":{"$error":"#N/A"}},{"$f":"VLOOKUP($AB59,'Vejehold 1'!$A$7:$P$23,'Opsamling, slagt+smågrise'!AF$2,FALSE)","v":{"$error":"#N/A"}},{"$f":"VLOOKUP($AB59,'Vejehold 1'!$A$7:$P$23,'Opsamling, slagt+smågrise'!AG$2,FALSE)","v":{"$error":"#N/A"}},{"$f":"VLOOKUP($AB59,'Vejehold 1'!$A$7:$P$23,'Opsamling, slagt+smågrise'!AH$2,FALSE)","v":{"$error":"#N/A"}},{"$f":"VLOOKUP($AB59,'Vejehold 1'!$A$7:$P$23,'Opsamling, slagt+smågrise'!AI$2,FALSE)","v":{"$error":"#N/A"}},null,55,"1900-02-24",{"$f":"VLOOKUP($AL59,'Vejehold 2'!$A$7:$P$23,'Opsamling, slagt+smågrise'!AM$2,FALSE)","v":{"$error":"#N/A"}},{"$f":"VLOOKUP($AL59,'Vejehold 2'!$A$7:$P$23,'Opsamling, slagt+smågrise'!AN$2,FALSE)","v":{"$error":"#N/A"}},{"$f":"VLOOKUP($AL59,'Vejehold 2'!$A$7:$P$23,'Opsamling, slagt+smågrise'!AO$2,FALSE)","v":{"$error":"#N/A"}},{"$f":"VLOOKUP($AL59,'Vejehold 2'!$A$7:$P$23,'Opsamling, slagt+smågrise'!AP$2,FALSE)","v":{"$error":"#N/A"}},{"$f":"VLOOKUP($AL59,'Vejehold 2'!$A$7:$P$23,'Opsamling, slagt+smågrise'!AQ$2,FALSE)","v":{"$error":"#N/A"}},{"$f":"VLOOKUP($AL59,'Vejehold 2'!$A$7:$P$23,'Opsamling, slagt+smågrise'!AR$2,FALSE)","v":{"$error":"#N/A"}},{"$f":"VLOOKUP($AL59,'Vejehold 2'!$A$7:$P$23,'Opsamling, slagt+smågrise'!AS$2,FALSE)","v":{"$error":"#N/A"}},null,55,"1900-02-24",{"$f":"VLOOKUP($AV59,'Vejehold 3'!$A$7:$P$23,'Opsamling, slagt+smågrise'!AW$2,FALSE)","v":{"$error":"#N/A"}},{"$f":"VLOOKUP($AV59,'Vejehold 3'!$A$7:$P$23,'Opsamling, slagt+smågrise'!AX$2,FALSE)","v":{"$error":"#N/A"}},{"$f":"VLOOKUP($AV59,'Vejehold 3'!$A$7:$P$23,'Opsamling, slagt+smågrise'!AY$2,FALSE)","v":{"$error":"#N/A"}},{"$f":"VLOOKUP($AV59,'Vejehold 3'!$A$7:$P$23,'Opsamling, slagt+smågrise'!AZ$2,FALSE)","v":{"$error":"#N/A"}},{"$f":"VLOOKUP($AV59,'Vejehold 3'!$A$7:$P$23,'Opsamling, slagt+smågrise'!BA$2,FALSE)","v":{"$error":"#N/A"}},{"$f":"VLOOKUP($AV59,'Vejehold 3'!$A$7:$P$23,'Opsamling, slagt+smågrise'!BB$2,FALSE)","v":{"$error":"#N/A"}},{"$f":"VLOOKUP($AV59,'Vejehold 3'!$A$7:$P$23,'Opsamling, slagt+smågrise'!BC$2,FALSE)","v":{"$error":"#N/A"}},null,55,"1900-02-24",{"$f":"VLOOKUP($BF59,'Vejehold 4'!$A$7:$P$23,'Opsamling, slagt+smågrise'!BG$2,FALSE)","v":{"$error":"#N/A"}},{"$f":"VLOOKUP($BF59,'Vejehold 4'!$A$7:$P$23,'Opsamling, slagt+smågrise'!BH$2,FALSE)","v":{"$error":"#N/A"}},{"$f":"VLOOKUP($BF59,'Vejehold 4'!$A$7:$P$23,'Opsamling, slagt+smågrise'!BI$2,FALSE)","v":{"$error":"#N/A"}},{"$f":"VLOOKUP($BF59,'Vejehold 4'!$A$7:$P$23,'Opsamling, slagt+smågrise'!BJ$2,FALSE)","v":{"$error":"#N/A"}},{"$f":"VLOOKUP($BF59,'Vejehold 4'!$A$7:$P$23,'Opsamling, slagt+smågrise'!BK$2,FALSE)","v":{"$error":"#N/A"}},{"$f":"VLOOKUP($BF59,'Vejehold 4'!$A$7:$P$23,'Opsamling, slagt+smågrise'!BL$2,FALSE)","v":{"$error":"#N/A"}},{"$f":"VLOOKUP($BF59,'Vejehold 4'!$A$7:$P$23,'Opsamling, slagt+smågrise'!BM$2,FALSE)","v":{"$error":"#N/A"}},null,55,"1900-02-24",{"$f":"VLOOKUP($BP59,'Vejehold 5'!$A$7:$P$23,'Opsamling, slagt+smågrise'!BQ$2,FALSE)","v":{"$error":"#N/A"}},{"$f":"VLOOKUP($BP59,'Vejehold 5'!$A$7:$P$23,'Opsamling, slagt+smågrise'!BR$2,FALSE)","v":{"$error":"#N/A"}},{"$f":"VLOOKUP($BP59,'Vejehold 5'!$A$7:$P$23,'Opsamling, slagt+smågrise'!BS$2,FALSE)","v":{"$error":"#N/A"}},{"$f":"VLOOKUP($BP59,'Vejehold 5'!$A$7:$P$23,'Opsamling, slagt+smågrise'!BT$2,FALSE)","v":{"$error":"#N/A"}},{"$f":"VLOOKUP($BP59,'Vejehold 5'!$A$7:$P$23,'Opsamling, slagt+smågrise'!BU$2,FALSE)","v":{"$error":"#N/A"}},{"$f":"VLOOKUP($BP59,'Vejehold 5'!$A$7:$P$23,'Opsamling, slagt+smågrise'!BV$2,FALSE)","v":{"$error":"#N/A"}},{"$f":"VLOOKUP($BP59,'Vejehold 5'!$A$7:$P$23,'Opsamling, slagt+smågrise'!BW$2,FALSE)","v":{"$error":"#N/A"}},null,55,"1900-02-24",{"$f":"VLOOKUP($BZ59,'Vejehold 6'!$A$7:$P$23,'Opsamling, slagt+smågrise'!CA$2,FALSE)","v":{"$error":"#N/A"}},{"$f":"VLOOKUP($BZ59,'Vejehold 6'!$A$7:$P$23,'Opsamling, slagt+smågrise'!CB$2,FALSE)","v":{"$error":"#N/A"}},{"$f":"VLOOKUP($BZ59,'Vejehold 6'!$A$7:$P$23,'Opsamling, slagt+smågrise'!CC$2,FALSE)","v":{"$error":"#N/A"}},{"$f":"VLOOKUP($BZ59,'Vejehold 6'!$A$7:$P$23,'Opsamling, slagt+smågrise'!CD$2,FALSE)","v":{"$error":"#N/A"}},{"$f":"VLOOKUP($BZ59,'Vejehold 6'!$A$7:$P$23,'Opsamling, slagt+smågrise'!CE$2,FALSE)","v":{"$error":"#N/A"}},{"$f":"VLOOKUP($BZ59,'Vejehold 6'!$A$7:$P$23,'Opsamling, slagt+smågrise'!CF$2,FALSE)","v":{"$error":"#N/A"}},{"$f":"VLOOKUP($BZ59,'Vejehold 6'!$A$7:$P$23,'Opsamling, slagt+smågrise'!CG$2,FALSE)","v":{"$error":"#N/A"}}]
[null,21,{"$f":"'Vejehold 1'!$K10","v":0},{"$f":"'Vejehold 2'!$K10","v":0},{"$f":"'Vejehold 3'!$K10","v":0},{"$f":"'Vejehold 4'!$K10","v":0},{"$f":"'Vejehold 5'!$K10","v":0},{"$f":"'Vejehold 6'!$K10","v":0},null,null,null,null,null,null,null,null,null,null,null,null,null,null,null,null,null,null,56,"1900-02-25",{"$f":"VLOOKUP($AB60,'Vejehold 1'!$A$7:$P$23,'Opsamling, slagt+smågrise'!AC$2,FALSE)","v":{"$error":"#N/A"}},{"$f":"VLOOKUP($AB60,'Vejehold 1'!$A$7:$P$23,'Opsamling, slagt+smågrise'!AD$2,FALSE)","v":{"$error":"#N/A"}},{"$f":"VLOOKUP($AB60,'Vejehold 1'!$A$7:$P$23,'Opsamling, slagt+smågrise'!AE$2,FALSE)","v":{"$error":"#N/A"}},{"$f":"VLOOKUP($AB60,'Vejehold 1'!$A$7:$P$23,'Opsamling, slagt+smågrise'!AF$2,FALSE)","v":{"$error":"#N/A"}},{"$f":"VLOOKUP($AB60,'Vejehold 1'!$A$7:$P$23,'Opsamling, slagt+smågrise'!AG$2,FALSE)","v":{"$error":"#N/A"}},{"$f":"VLOOKUP($AB60,'Vejehold 1'!$A$7:$P$23,'Opsamling, slagt+smågrise'!AH$2,FALSE)","v":{"$error":"#N/A"}},{"$f":"VLOOKUP($AB60,'Vejehold 1'!$A$7:$P$23,'Opsamling, slagt+smågrise'!AI$2,FALSE)","v":{"$error":"#N/A"}},null,56,"1900-02-25",{"$f":"VLOOKUP($AL60,'Vejehold 2'!$A$7:$P$23,'Opsamling, slagt+smågrise'!AM$2,FALSE)","v":{"$error":"#N/A"}},{"$f":"VLOOKUP($AL60,'Vejehold 2'!$A$7:$P$23,'Opsamling, slagt+smågrise'!AN$2,FALSE)","v":{"$error":"#N/A"}},{"$f":"VLOOKUP($AL60,'Vejehold 2'!$A$7:$P$23,'Opsamling, slagt+smågrise'!AO$2,FALSE)","v":{"$error":"#N/A"}},{"$f":"VLOOKUP($AL60,'Vejehold 2'!$A$7:$P$23,'Opsamling, slagt+smågrise'!AP$2,FALSE)","v":{"$error":"#N/A"}},{"$f":"VLOOKUP($AL60,'Vejehold 2'!$A$7:$P$23,'Opsamling, slagt+smågrise'!AQ$2,FALSE)","v":{"$error":"#N/A"}},{"$f":"VLOOKUP($AL60,'Vejehold 2'!$A$7:$P$23,'Opsamling, slagt+smågrise'!AR$2,FALSE)","v":{"$error":"#N/A"}},{"$f":"VLOOKUP($AL60,'Vejehold 2'!$A$7:$P$23,'Opsamling, slagt+smågrise'!AS$2,FALSE)","v":{"$error":"#N/A"}},null,56,"1900-02-25",{"$f":"VLOOKUP($AV60,'Vejehold 3'!$A$7:$P$23,'Opsamling, slagt+smågrise'!AW$2,FALSE)","v":{"$error":"#N/A"}},{"$f":"VLOOKUP($AV60,'Vejehold 3'!$A$7:$P$23,'Opsamling, slagt+smågrise'!AX$2,FALSE)","v":{"$error":"#N/A"}},{"$f":"VLOOKUP($AV60,'Vejehold 3'!$A$7:$P$23,'Opsamling, slagt+smågrise'!AY$2,FALSE)","v":{"$error":"#N/A"}},{"$f":"VLOOKUP($AV60,'Vejehold 3'!$A$7:$P$23,'Opsamling, slagt+smågrise'!AZ$2,FALSE)","v":{"$error":"#N/A"}},{"$f":"VLOOKUP($AV60,'Vejehold 3'!$A$7:$P$23,'Opsamling, slagt+smågrise'!BA$2,FALSE)","v":{"$error":"#N/A"}},{"$f":"VLOOKUP($AV60,'Vejehold 3'!$A$7:$P$23,'Opsamling, slagt+smågrise'!BB$2,FALSE)","v":{"$error":"#N/A"}},{"$f":"VLOOKUP($AV60,'Vejehold 3'!$A$7:$P$23,'Opsamling, slagt+smågrise'!BC$2,FALSE)","v":{"$error":"#N/A"}},null,56,"1900-02-25",{"$f":"VLOOKUP($BF60,'Vejehold 4'!$A$7:$P$23,'Opsamling, slagt+smågrise'!BG$2,FALSE)","v":{"$error":"#N/A"}},{"$f":"VLOOKUP($BF60,'Vejehold 4'!$A$7:$P$23,'Opsamling, slagt+smågrise'!BH$2,FALSE)","v":{"$error":"#N/A"}},{"$f":"VLOOKUP($BF60,'Vejehold 4'!$A$7:$P$23,'Opsamling, slagt+smågrise'!BI$2,FALSE)","v":{"$error":"#N/A"}},{"$f":"VLOOKUP($BF60,'Vejehold 4'!$A$7:$P$23,'Opsamling, slagt+smågrise'!BJ$2,FALSE)","v":{"$error":"#N/A"}},{"$f":"VLOOKUP($BF60,'Vejehold 4'!$A$7:$P$23,'Opsamling, slagt+smågrise'!BK$2,FALSE)","v":{"$error":"#N/A"}},{"$f":"VLOOKUP($BF60,'Vejehold 4'!$A$7:$P$23,'Opsamling, slagt+smågrise'!BL$2,FALSE)","v":{"$error":"#N/A"}},{"$f":"VLOOKUP($BF60,'Vejehold 4'!$A$7:$P$23,'Opsamling, slagt+smågrise'!BM$2,FALSE)","v":{"$error":"#N/A"}},null,56,"1900-02-25",{"$f":"VLOOKUP($BP60,'Vejehold 5'!$A$7:$P$23,'Opsamling, slagt+smågrise'!BQ$2,FALSE)","v":{"$error":"#N/A"}},{"$f":"VLOOKUP($BP60,'Vejehold 5'!$A$7:$P$23,'Opsamling, slagt+smågrise'!BR$2,FALSE)","v":{"$error":"#N/A"}},{"$f":"VLOOKUP($BP60,'Vejehold 5'!$A$7:$P$23,'Opsamling, slagt+smågrise'!BS$2,FALSE)","v":{"$error":"#N/A"}},{"$f":"VLOOKUP($BP60,'Vejehold 5'!$A$7:$P$23,'Opsamling, slagt+smågrise'!BT$2,FALSE)","v":{"$error":"#N/A"}},{"$f":"VLOOKUP($BP60,'Vejehold 5'!$A$7:$P$23,'Opsamling, slagt+smågrise'!BU$2,FALSE)","v":{"$error":"#N/A"}},{"$f":"VLOOKUP($BP60,'Vejehold 5'!$A$7:$P$23,'Opsamling, slagt+smågrise'!BV$2,FALSE)","v":{"$error":"#N/A"}},{"$f":"VLOOKUP($BP60,'Vejehold 5'!$A$7:$P$23,'Opsamling, slagt+smågrise'!BW$2,FALSE)","v":{"$error":"#N/A"}},null,56,"1900-02-25",{"$f":"VLOOKUP($BZ60,'Vejehold 6'!$A$7:$P$23,'Opsamling, slagt+smågrise'!CA$2,FALSE)","v":{"$error":"#N/A"}},{"$f":"VLOOKUP($BZ60,'Vejehold 6'!$A$7:$P$23,'Opsamling, slagt+smågrise'!CB$2,FALSE)","v":{"$error":"#N/A"}},{"$f":"VLOOKUP($BZ60,'Vejehold 6'!$A$7:$P$23,'Opsamling, slagt+smågrise'!CC$2,FALSE)","v":{"$error":"#N/A"}},{"$f":"VLOOKUP($BZ60,'Vejehold 6'!$A$7:$P$23,'Opsamling, slagt+smågrise'!CD$2,FALSE)","v":{"$error":"#N/A"}},{"$f":"VLOOKUP($BZ60,'Vejehold 6'!$A$7:$P$23,'Opsamling, slagt+smågrise'!CE$2,FALSE)","v":{"$error":"#N/A"}},{"$f":"VLOOKUP($BZ60,'Vejehold 6'!$A$7:$P$23,'Opsamling, slagt+smågrise'!CF$2,FALSE)","v":{"$error":"#N/A"}},{"$f":"VLOOKUP($BZ60,'Vejehold 6'!$A$7:$P$23,'Opsamling, slagt+smågrise'!CG$2,FALSE)","v":{"$error":"#N/A"}}]
[null,28,{"$f":"'Vejehold 1'!$K11","v":0},{"$f":"'Vejehold 2'!$K11","v":0},{"$f":"'Vejehold 3'!$K11","v":0},{"$f":"'Vejehold 4'!$K11","v":0},{"$f":"'Vejehold 5'!$K11","v":0},{"$f":"'Vejehold 6'!$K11","v":0},null,null,null,null,null,null,null,null,null,null,null,null,null,null,null,null,null,null,57,"1900-02-26",{"$f":"VLOOKUP($AB61,'Vejehold 1'!$A$7:$P$23,'Opsamling, slagt+smågrise'!AC$2,FALSE)","v":{"$error":"#N/A"}},{"$f":"VLOOKUP($AB61,'Vejehold 1'!$A$7:$P$23,'Opsamling, slagt+smågrise'!AD$2,FALSE)","v":{"$error":"#N/A"}},{"$f":"VLOOKUP($AB61,'Vejehold 1'!$A$7:$P$23,'Opsamling, slagt+smågrise'!AE$2,FALSE)","v":{"$error":"#N/A"}},{"$f":"VLOOKUP($AB61,'Vejehold 1'!$A$7:$P$23,'Opsamling, slagt+smågrise'!AF$2,FALSE)","v":{"$error":"#N/A"}},{"$f":"VLOOKUP($AB61,'Vejehold 1'!$A$7:$P$23,'Opsamling, slagt+smågrise'!AG$2,FALSE)","v":{"$error":"#N/A"}},{"$f":"VLOOKUP($AB61,'Vejehold 1'!$A$7:$P$23,'Opsamling, slagt+smågrise'!AH$2,FALSE)","v":{"$error":"#N/A"}},{"$f":"VLOOKUP($AB61,'Vejehold 1'!$A$7:$P$23,'Opsamling, slagt+smågrise'!AI$2,FALSE)","v":{"$error":"#N/A"}},null,57,"1900-02-26",{"$f":"VLOOKUP($AL61,'Vejehold 2'!$A$7:$P$23,'Opsamling, slagt+smågrise'!AM$2,FALSE)","v":{"$error":"#N/A"}},{"$f":"VLOOKUP($AL61,'Vejehold 2'!$A$7:$P$23,'Opsamling, slagt+smågrise'!AN$2,FALSE)","v":{"$error":"#N/A"}},{"$f":"VLOOKUP($AL61,'Vejehold 2'!$A$7:$P$23,'Opsamling, slagt+smågrise'!AO$2,FALSE)","v":{"$error":"#N/A"}},{"$f":"VLOOKUP($AL61,'Vejehold 2'!$A$7:$P$23,'Opsamling, slagt+smågrise'!AP$2,FALSE)","v":{"$error":"#N/A"}},{"$f":"VLOOKUP($AL61,'Vejehold 2'!$A$7:$P$23,'Opsamling, slagt+smågrise'!AQ$2,FALSE)","v":{"$error":"#N/A"}},{"$f":"VLOOKUP($AL61,'Vejehold 2'!$A$7:$P$23,'Opsamling, slagt+smågrise'!AR$2,FALSE)","v":{"$error":"#N/A"}},{"$f":"VLOOKUP($AL61,'Vejehold 2'!$A$7:$P$23,'Opsamling, slagt+smågrise'!AS$2,FALSE)","v":{"$error":"#N/A"}},null,57,"1900-02-26",{"$f":"VLOOKUP($AV61,'Vejehold 3'!$A$7:$P$23,'Opsamling, slagt+smågrise'!AW$2,FALSE)","v":{"$error":"#N/A"}},{"$f":"VLOOKUP($AV61,'Vejehold 3'!$A$7:$P$23,'Opsamling, slagt+smågrise'!AX$2,FALSE)","v":{"$error":"#N/A"}},{"$f":"VLOOKUP($AV61,'Vejehold 3'!$A$7:$P$23,'Opsamling, slagt+smågrise'!AY$2,FALSE)","v":{"$error":"#N/A"}},{"$f":"VLOOKUP($AV61,'Vejehold 3'!$A$7:$P$23,'Opsamling, slagt+smågrise'!AZ$2,FALSE)","v":{"$error":"#N/A"}},{"$f":"VLOOKUP($AV61,'Vejehold 3'!$A$7:$P$23,'Opsamling, slagt+smågrise'!BA$2,FALSE)","v":{"$error":"#N/A"}},{"$f":"VLOOKUP($AV61,'Vejehold 3'!$A$7:$P$23,'Opsamling, slagt+smågrise'!BB$2,FALSE)","v":{"$error":"#N/A"}},{"$f":"VLOOKUP($AV61,'Vejehold 3'!$A$7:$P$23,'Opsamling, slagt+smågrise'!BC$2,FALSE)","v":{"$error":"#N/A"}},null,57,"1900-02-26",{"$f":"VLOOKUP($BF61,'Vejehold 4'!$A$7:$P$23,'Opsamling, slagt+smågrise'!BG$2,FALSE)","v":{"$error":"#N/A"}},{"$f":"VLOOKUP($BF61,'Vejehold 4'!$A$7:$P$23,'Opsamling, slagt+smågrise'!BH$2,FALSE)","v":{"$error":"#N/A"}},{"$f":"VLOOKUP($BF61,'Vejehold 4'!$A$7:$P$23,'Opsamling, slagt+smågrise'!BI$2,FALSE)","v":{"$error":"#N/A"}},{"$f":"VLOOKUP($BF61,'Vejehold 4'!$A$7:$P$23,'Opsamling, slagt+smågrise'!BJ$2,FALSE)","v":{"$error":"#N/A"}},{"$f":"VLOOKUP($BF61,'Vejehold 4'!$A$7:$P$23,'Opsamling, slagt+smågrise'!BK$2,FALSE)","v":{"$error":"#N/A"}},{"$f":"VLOOKUP($BF61,'Vejehold 4'!$A$7:$P$23,'Opsamling, slagt+smågrise'!BL$2,FALSE)","v":{"$error":"#N/A"}},{"$f":"VLOOKUP($BF61,'Vejehold 4'!$A$7:$P$23,'Opsamling, slagt+smågrise'!BM$2,FALSE)","v":{"$error":"#N/A"}},null,57,"1900-02-26",{"$f":"VLOOKUP($BP61,'Vejehold 5'!$A$7:$P$23,'Opsamling, slagt+smågrise'!BQ$2,FALSE)","v":{"$error":"#N/A"}},{"$f":"VLOOKUP($BP61,'Vejehold 5'!$A$7:$P$23,'Opsamling, slagt+smågrise'!BR$2,FALSE)","v":{"$error":"#N/A"}},{"$f":"VLOOKUP($BP61,'Vejehold 5'!$A$7:$P$23,'Opsamling, slagt+smågrise'!BS$2,FALSE)","v":{"$error":"#N/A"}},{"$f":"VLOOKUP($BP61,'Vejehold 5'!$A$7:$P$23,'Opsamling, slagt+smågrise'!BT$2,FALSE)","v":{"$error":"#N/A"}},{"$f":"VLOOKUP($BP61,'Vejehold 5'!$A$7:$P$23,'Opsamling, slagt+smågrise'!BU$2,FALSE)","v":{"$error":"#N/A"}},{"$f":"VLOOKUP($BP61,'Vejehold 5'!$A$7:$P$23,'Opsamling, slagt+smågrise'!BV$2,FALSE)","v":{"$error":"#N/A"}},{"$f":"VLOOKUP($BP61,'Vejehold 5'!$A$7:$P$23,'Opsamling, slagt+smågrise'!BW$2,FALSE)","v":{"$error":"#N/A"}},null,57,"1900-02-26",{"$f":"VLOOKUP($BZ61,'Vejehold 6'!$A$7:$P$23,'Opsamling, slagt+smågrise'!CA$2,FALSE)","v":{"$error":"#N/A"}},{"$f":"VLOOKUP($BZ61,'Vejehold 6'!$A$7:$P$23,'Opsamling, slagt+smågrise'!CB$2,FALSE)","v":{"$error":"#N/A"}},{"$f":"VLOOKUP($BZ61,'Vejehold 6'!$A$7:$P$23,'Opsamling, slagt+smågrise'!CC$2,FALSE)","v":{"$error":"#N/A"}},{"$f":"VLOOKUP($BZ61,'Vejehold 6'!$A$7:$P$23,'Opsamling, slagt+smågrise'!CD$2,FALSE)","v":{"$error":"#N/A"}},{"$f":"VLOOKUP($BZ61,'Vejehold 6'!$A$7:$P$23,'Opsamling, slagt+smågrise'!CE$2,FALSE)","v":{"$error":"#N/A"}},{"$f":"VLOOKUP($BZ61,'Vejehold 6'!$A$7:$P$23,'Opsamling, slagt+smågrise'!CF$2,FALSE)","v":{"$error":"#N/A"}},{"$f":"VLOOKUP($BZ61,'Vejehold 6'!$A$7:$P$23,'Opsamling, slagt+smågrise'!CG$2,FALSE)","v":{"$error":"#N/A"}}]
[null,35,{"$f":"'Vejehold 1'!$K12","v":0},{"$f":"'Vejehold 2'!$K12","v":0},{"$f":"'Vejehold 3'!$K12","v":0},{"$f":"'Vejehold 4'!$K12","v":0},{"$f":"'Vejehold 5'!$K12","v":0},{"$f":"'Vejehold 6'!$K12","v":0},null,null,null,null,null,null,null,null,null,null,null,null,null,null,null,null,null,null,58,"1900-02-27",{"$f":"VLOOKUP($AB62,'Vejehold 1'!$A$7:$P$23,'Opsamling, slagt+smågrise'!AC$2,FALSE)","v":{"$error":"#N/A"}},{"$f":"VLOOKUP($AB62,'Vejehold 1'!$A$7:$P$23,'Opsamling, slagt+smågrise'!AD$2,FALSE)","v":{"$error":"#N/A"}},{"$f":"VLOOKUP($AB62,'Vejehold 1'!$A$7:$P$23,'Opsamling, slagt+smågrise'!AE$2,FALSE)","v":{"$error":"#N/A"}},{"$f":"VLOOKUP($AB62,'Vejehold 1'!$A$7:$P$23,'Opsamling, slagt+smågrise'!AF$2,FALSE)","v":{"$error":"#N/A"}},{"$f":"VLOOKUP($AB62,'Vejehold 1'!$A$7:$P$23,'Opsamling, slagt+smågrise'!AG$2,FALSE)","v":{"$error":"#N/A"}},{"$f":"VLOOKUP($AB62,'Vejehold 1'!$A$7:$P$23,'Opsamling, slagt+smågrise'!AH$2,FALSE)","v":{"$error":"#N/A"}},{"$f":"VLOOKUP($AB62,'Vejehold 1'!$A$7:$P$23,'Opsamling, slagt+smågrise'!AI$2,FALSE)","v":{"$error":"#N/A"}},null,58,"1900-02-27",{"$f":"VLOOKUP($AL62,'Vejehold 2'!$A$7:$P$23,'Opsamling, slagt+smågrise'!AM$2,FALSE)","v":{"$error":"#N/A"}},{"$f":"VLOOKUP($AL62,'Vejehold 2'!$A$7:$P$23,'Opsamling, slagt+smågrise'!AN$2,FALSE)","v":{"$error":"#N/A"}},{"$f":"VLOOKUP($AL62,'Vejehold 2'!$A$7:$P$23,'Opsamling, slagt+smågrise'!AO$2,FALSE)","v":{"$error":"#N/A"}},{"$f":"VLOOKUP($AL62,'Vejehold 2'!$A$7:$P$23,'Opsamling, slagt+smågrise'!AP$2,FALSE)","v":{"$error":"#N/A"}},{"$f":"VLOOKUP($AL62,'Vejehold 2'!$A$7:$P$23,'Opsamling, slagt+smågrise'!AQ$2,FALSE)","v":{"$error":"#N/A"}},{"$f":"VLOOKUP($AL62,'Vejehold 2'!$A$7:$P$23,'Opsamling, slagt+smågrise'!AR$2,FALSE)","v":{"$error":"#N/A"}},{"$f":"VLOOKUP($AL62,'Vejehold 2'!$A$7:$P$23,'Opsamling, slagt+smågrise'!AS$2,FALSE)","v":{"$error":"#N/A"}},null,58,"1900-02-27",{"$f":"VLOOKUP($AV62,'Vejehold 3'!$A$7:$P$23,'Opsamling, slagt+smågrise'!AW$2,FALSE)","v":{"$error":"#N/A"}},{"$f":"VLOOKUP($AV62,'Vejehold 3'!$A$7:$P$23,'Opsamling, slagt+smågrise'!AX$2,FALSE)","v":{"$error":"#N/A"}},{"$f":"VLOOKUP($AV62,'Vejehold 3'!$A$7:$P$23,'Opsamling, slagt+smågrise'!AY$2,FALSE)","v":{"$error":"#N/A"}},{"$f":"VLOOKUP($AV62,'Vejehold 3'!$A$7:$P$23,'Opsamling, slagt+smågrise'!AZ$2,FALSE)","v":{"$error":"#N/A"}},{"$f":"VLOOKUP($AV62,'Vejehold 3'!$A$7:$P$23,'Opsamling, slagt+smågrise'!BA$2,FALSE)","v":{"$error":"#N/A"}},{"$f":"VLOOKUP($AV62,'Vejehold 3'!$A$7:$P$23,'Opsamling, slagt+smågrise'!BB$2,FALSE)","v":{"$error":"#N/A"}},{"$f":"VLOOKUP($AV62,'Vejehold 3'!$A$7:$P$23,'Opsamling, slagt+smågrise'!BC$2,FALSE)","v":{"$error":"#N/A"}},null,58,"1900-02-27",{"$f":"VLOOKUP($BF62,'Vejehold 4'!$A$7:$P$23,'Opsamling, slagt+smågrise'!BG$2,FALSE)","v":{"$error":"#N/A"}},{"$f":"VLOOKUP($BF62,'Vejehold 4'!$A$7:$P$23,'Opsamling, slagt+smågrise'!BH$2,FALSE)","v":{"$error":"#N/A"}},{"$f":"VLOOKUP($BF62,'Vejehold 4'!$A$7:$P$23,'Opsamling, slagt+smågrise'!BI$2,FALSE)","v":{"$error":"#N/A"}},{"$f":"VLOOKUP($BF62,'Vejehold 4'!$A$7:$P$23,'Opsamling, slagt+smågrise'!BJ$2,FALSE)","v":{"$error":"#N/A"}},{"$f":"VLOOKUP($BF62,'Vejehold 4'!$A$7:$P$23,'Opsamling, slagt+smågrise'!BK$2,FALSE)","v":{"$error":"#N/A"}},{"$f":"VLOOKUP($BF62,'Vejehold 4'!$A$7:$P$23,'Opsamling, slagt+smågrise'!BL$2,FALSE)","v":{"$error":"#N/A"}},{"$f":"VLOOKUP($BF62,'Vejehold 4'!$A$7:$P$23,'Opsamling, slagt+smågrise'!BM$2,FALSE)","v":{"$error":"#N/A"}},null,58,"1900-02-27",{"$f":"VLOOKUP($BP62,'Vejehold 5'!$A$7:$P$23,'Opsamling, slagt+smågrise'!BQ$2,FALSE)","v":{"$error":"#N/A"}},{"$f":"VLOOKUP($BP62,'Vejehold 5'!$A$7:$P$23,'Opsamling, slagt+smågrise'!BR$2,FALSE)","v":{"$error":"#N/A"}},{"$f":"VLOOKUP($BP62,'Vejehold 5'!$A$7:$P$23,'Opsamling, slagt+smågrise'!BS$2,FALSE)","v":{"$error":"#N/A"}},{"$f":"VLOOKUP($BP62,'Vejehold 5'!$A$7:$P$23,'Opsamling, slagt+smågrise'!BT$2,FALSE)","v":{"$error":"#N/A"}},{"$f":"VLOOKUP($BP62,'Vejehold 5'!$A$7:$P$23,'Opsamling, slagt+smågrise'!BU$2,FALSE)","v":{"$error":"#N/A"}},{"$f":"VLOOKUP($BP62,'Vejehold 5'!$A$7:$P$23,'Opsamling, slagt+smågrise'!BV$2,FALSE)","v":{"$error":"#N/A"}},{"$f":"VLOOKUP($BP62,'Vejehold 5'!$A$7:$P$23,'Opsamling, slagt+smågrise'!BW$2,FALSE)","v":{"$error":"#N/A"}},null,58,"1900-02-27",{"$f":"VLOOKUP($BZ62,'Vejehold 6'!$A$7:$P$23,'Opsamling, slagt+smågrise'!CA$2,FALSE)","v":{"$error":"#N/A"}},{"$f":"VLOOKUP($BZ62,'Vejehold 6'!$A$7:$P$23,'Opsamling, slagt+smågrise'!CB$2,FALSE)","v":{"$error":"#N/A"}},{"$f":"VLOOKUP($BZ62,'Vejehold 6'!$A$7:$P$23,'Opsamling, slagt+smågrise'!CC$2,FALSE)","v":{"$error":"#N/A"}},{"$f":"VLOOKUP($BZ62,'Vejehold 6'!$A$7:$P$23,'Opsamling, slagt+smågrise'!CD$2,FALSE)","v":{"$error":"#N/A"}},{"$f":"VLOOKUP($BZ62,'Vejehold 6'!$A$7:$P$23,'Opsamling, slagt+smågrise'!CE$2,FALSE)","v":{"$error":"#N/A"}},{"$f":"VLOOKUP($BZ62,'Vejehold 6'!$A$7:$P$23,'Opsamling, slagt+smågrise'!CF$2,FALSE)","v":{"$error":"#N/A"}},{"$f":"VLOOKUP($BZ62,'Vejehold 6'!$A$7:$P$23,'Opsamling, slagt+smågrise'!CG$2,FALSE)","v":{"$error":"#N/A"}}]
[null,42,{"$f":"'Vejehold 1'!$K13","v":0},{"$f":"'Vejehold 2'!$K13","v":0},{"$f":"'Vejehold 3'!$K13","v":0},{"$f":"'Vejehold 4'!$K13","v":0},{"$f":"'Vejehold 5'!$K13","v":0},{"$f":"'Vejehold 6'!$K13","v":0},null,null,null,null,null,null,null,null,null,null,null,null,null,null,null,null,null,null,59,{"$f":"AB62+1","v":"1900-02-28"},{"$f":"VLOOKUP($AB63,'Vejehold 1'!$A$7:$P$23,'Opsamling, slagt+smågrise'!AC$2,FALSE)","v":{"$error":"#N/A"}},{"$f":"VLOOKUP($AB63,'Vejehold 1'!$A$7:$P$23,'Opsamling, slagt+smågrise'!AD$2,FALSE)","v":{"$error":"#N/A"}},{"$f":"VLOOKUP($AB63,'Vejehold 1'!$A$7:$P$23,'Opsamling, slagt+smågrise'!AE$2,FALSE)","v":{"$error":"#N/A"}},{"$f":"VLOOKUP($AB63,'Vejehold 1'!$A$7:$P$23,'Opsamling, slagt+smågrise'!AF$2,FALSE)","v":{"$error":"#N/A"}},{"$f":"VLOOKUP($AB63,'Vejehold 1'!$A$7:$P$23,'Opsamling, slagt+smågrise'!AG$2,FALSE)","v":{"$error":"#N/A"}},{"$f":"VLOOKUP($AB63,'Vejehold 1'!$A$7:$P$23,'Opsamling, slagt+smågrise'!AH$2,FALSE)","v":{"$error":"#N/A"}},{"$f":"VLOOKUP($AB63,'Vejehold 1'!$A$7:$P$23,'Opsamling, slagt+smågrise'!AI$2,FALSE)","v":{"$error":"#N/A"}},null,59,{"$f":"AL62+1","v":"1900-02-28"},{"$f":"VLOOKUP($AL63,'Vejehold 2'!$A$7:$P$23,'Opsamling, slagt+smågrise'!AM$2,FALSE)","v":{"$error":"#N/A"}},{"$f":"VLOOKUP($AL63,'Vejehold 2'!$A$7:$P$23,'Opsamling, slagt+smågrise'!AN$2,FALSE)","v":{"$error":"#N/A"}},{"$f":"VLOOKUP($AL63,'Vejehold 2'!$A$7:$P$23,'Opsamling, slagt+smågrise'!AO$2,FALSE)","v":{"$error":"#N/A"}},{"$f":"VLOOKUP($AL63,'Vejehold 2'!$A$7:$P$23,'Opsamling, slagt+smågrise'!AP$2,FALSE)","v":{"$error":"#N/A"}},{"$f":"VLOOKUP($AL63,'Vejehold 2'!$A$7:$P$23,'Opsamling, slagt+smågrise'!AQ$2,FALSE)","v":{"$error":"#N/A"}},{"$f":"VLOOKUP($AL63,'Vejehold 2'!$A$7:$P$23,'Opsamling, slagt+smågrise'!AR$2,FALSE)","v":{"$error":"#N/A"}},{"$f":"VLOOKUP($AL63,'Vejehold 2'!$A$7:$P$23,'Opsamling, slagt+smågrise'!AS$2,FALSE)","v":{"$error":"#N/A"}},null,59,{"$f":"AV62+1","v":"1900-02-28"},{"$f":"VLOOKUP($AV63,'Vejehold 3'!$A$7:$P$23,'Opsamling, slagt+smågrise'!AW$2,FALSE)","v":{"$error":"#N/A"}},{"$f":"VLOOKUP($AV63,'Vejehold 3'!$A$7:$P$23,'Opsamling, slagt+smågrise'!AX$2,FALSE)","v":{"$error":"#N/A"}},{"$f":"VLOOKUP($AV63,'Vejehold 3'!$A$7:$P$23,'Opsamling, slagt+smågrise'!AY$2,FALSE)","v":{"$error":"#N/A"}},{"$f":"VLOOKUP($AV63,'Vejehold 3'!$A$7:$P$23,'Opsamling, slagt+smågrise'!AZ$2,FALSE)","v":{"$error":"#N/A"}},{"$f":"VLOOKUP($AV63,'Vejehold 3'!$A$7:$P$23,'Opsamling, slagt+smågrise'!BA$2,FALSE)","v":{"$error":"#N/A"}},{"$f":"VLOOKUP($AV63,'Vejehold 3'!$A$7:$P$23,'Opsamling, slagt+smågrise'!BB$2,FALSE)","v":{"$error":"#N/A"}},{"$f":"VLOOKUP($AV63,'Vejehold 3'!$A$7:$P$23,'Opsamling, slagt+smågrise'!BC$2,FALSE)","v":{"$error":"#N/A"}},null,59,{"$f":"BF62+1","v":"1900-02-28"},{"$f":"VLOOKUP($BF63,'Vejehold 4'!$A$7:$P$23,'Opsamling, slagt+smågrise'!BG$2,FALSE)","v":{"$error":"#N/A"}},{"$f":"VLOOKUP($BF63,'Vejehold 4'!$A$7:$P$23,'Opsamling, slagt+smågrise'!BH$2,FALSE)","v":{"$error":"#N/A"}},{"$f":"VLOOKUP($BF63,'Vejehold 4'!$A$7:$P$23,'Opsamling, slagt+smågrise'!BI$2,FALSE)","v":{"$error":"#N/A"}},{"$f":"VLOOKUP($BF63,'Vejehold 4'!$A$7:$P$23,'Opsamling, slagt+smågrise'!BJ$2,FALSE)","v":{"$error":"#N/A"}},{"$f":"VLOOKUP($BF63,'Vejehold 4'!$A$7:$P$23,'Opsamling, slagt+smågrise'!BK$2,FALSE)","v":{"$error":"#N/A"}},{"$f":"VLOOKUP($BF63,'Vejehold 4'!$A$7:$P$23,'Opsamling, slagt+smågrise'!BL$2,FALSE)","v":{"$error":"#N/A"}},{"$f":"VLOOKUP($BF63,'Vejehold 4'!$A$7:$P$23,'Opsamling, slagt+smågrise'!BM$2,FALSE)","v":{"$error":"#N/A"}},null,59,{"$f":"BP62+1","v":"1900-02-28"},{"$f":"VLOOKUP($BP63,'Vejehold 5'!$A$7:$P$23,'Opsamling, slagt+smågrise'!BQ$2,FALSE)","v":{"$error":"#N/A"}},{"$f":"VLOOKUP($BP63,'Vejehold 5'!$A$7:$P$23,'Opsamling, slagt+smågrise'!BR$2,FALSE)","v":{"$error":"#N/A"}},{"$f":"VLOOKUP($BP63,'Vejehold 5'!$A$7:$P$23,'Opsamling, slagt+smågrise'!BS$2,FALSE)","v":{"$error":"#N/A"}},{"$f":"VLOOKUP($BP63,'Vejehold 5'!$A$7:$P$23,'Opsamling, slagt+smågrise'!BT$2,FALSE)","v":{"$error":"#N/A"}},{"$f":"VLOOKUP($BP63,'Vejehold 5'!$A$7:$P$23,'Opsamling, slagt+smågrise'!BU$2,FALSE)","v":{"$error":"#N/A"}},{"$f":"VLOOKUP($BP63,'Vejehold 5'!$A$7:$P$23,'Opsamling, slagt+smågrise'!BV$2,FALSE)","v":{"$error":"#N/A"}},{"$f":"VLOOKUP($BP63,'Vejehold 5'!$A$7:$P$23,'Opsamling, slagt+smågrise'!BW$2,FALSE)","v":{"$error":"#N/A"}},null,59,{"$f":"BZ62+1","v":"1900-02-28"},{"$f":"VLOOKUP($BZ63,'Vejehold 6'!$A$7:$P$23,'Opsamling, slagt+smågrise'!CA$2,FALSE)","v":{"$error":"#N/A"}},{"$f":"VLOOKUP($BZ63,'Vejehold 6'!$A$7:$P$23,'Opsamling, slagt+smågrise'!CB$2,FALSE)","v":{"$error":"#N/A"}},{"$f":"VLOOKUP($BZ63,'Vejehold 6'!$A$7:$P$23,'Opsamling, slagt+smågrise'!CC$2,FALSE)","v":{"$error":"#N/A"}},{"$f":"VLOOKUP($BZ63,'Vejehold 6'!$A$7:$P$23,'Opsamling, slagt+smågrise'!CD$2,FALSE)","v":{"$error":"#N/A"}},{"$f":"VLOOKUP($BZ63,'Vejehold 6'!$A$7:$P$23,'Opsamling, slagt+smågrise'!CE$2,FALSE)","v":{"$error":"#N/A"}},{"$f":"VLOOKUP($BZ63,'Vejehold 6'!$A$7:$P$23,'Opsamling, slagt+smågrise'!CF$2,FALSE)","v":{"$error":"#N/A"}},{"$f":"VLOOKUP($BZ63,'Vejehold 6'!$A$7:$P$23,'Opsamling, slagt+smågrise'!CG$2,FALSE)","v":{"$error":"#N/A"}}]
[null,49,{"$f":"'Vejehold 1'!$K14","v":0},{"$f":"'Vejehold 2'!$K14","v":0},{"$f":"'Vejehold 3'!$K14","v":0},{"$f":"'Vejehold 4'!$K14","v":0},{"$f":"'Vejehold 5'!$K14","v":0},{"$f":"'Vejehold 6'!$K14","v":0},null,null,null,null,null,null,null,null,null,null,null,null,null,null,null,null,null,null,60,60,{"$f":"VLOOKUP($AB64,'Vejehold 1'!$A$7:$P$23,'Opsamling, slagt+smågrise'!AC$2,FALSE)","v":{"$error":"#N/A"}},{"$f":"VLOOKUP($AB64,'Vejehold 1'!$A$7:$P$23,'Opsamling, slagt+smågrise'!AD$2,FALSE)","v":{"$error":"#N/A"}},{"$f":"VLOOKUP($AB64,'Vejehold 1'!$A$7:$P$23,'Opsamling, slagt+smågrise'!AE$2,FALSE)","v":{"$error":"#N/A"}},{"$f":"VLOOKUP($AB64,'Vejehold 1'!$A$7:$P$23,'Opsamling, slagt+smågrise'!AF$2,FALSE)","v":{"$error":"#N/A"}},{"$f":"VLOOKUP($AB64,'Vejehold 1'!$A$7:$P$23,'Opsamling, slagt+smågrise'!AG$2,FALSE)","v":{"$error":"#N/A"}},{"$f":"VLOOKUP($AB64,'Vejehold 1'!$A$7:$P$23,'Opsamling, slagt+smågrise'!AH$2,FALSE)","v":{"$error":"#N/A"}},{"$f":"VLOOKUP($AB64,'Vejehold 1'!$A$7:$P$23,'Opsamling, slagt+smågrise'!AI$2,FALSE)","v":{"$error":"#N/A"}},null,60,{"$f":"AL63+1","v":60},{"$f":"VLOOKUP($AL64,'Vejehold 2'!$A$7:$P$23,'Opsamling, slagt+smågrise'!AM$2,FALSE)","v":{"$error":"#N/A"}},{"$f":"VLOOKUP($AL64,'Vejehold 2'!$A$7:$P$23,'Opsamling, slagt+smågrise'!AN$2,FALSE)","v":{"$error":"#N/A"}},{"$f":"VLOOKUP($AL64,'Vejehold 2'!$A$7:$P$23,'Opsamling, slagt+smågrise'!AO$2,FALSE)","v":{"$error":"#N/A"}},{"$f":"VLOOKUP($AL64,'Vejehold 2'!$A$7:$P$23,'Opsamling, slagt+smågrise'!AP$2,FALSE)","v":{"$error":"#N/A"}},{"$f":"VLOOKUP($AL64,'Vejehold 2'!$A$7:$P$23,'Opsamling, slagt+smågrise'!AQ$2,FALSE)","v":{"$error":"#N/A"}},{"$f":"VLOOKUP($AL64,'Vejehold 2'!$A$7:$P$23,'Opsamling, slagt+smågrise'!AR$2,FALSE)","v":{"$error":"#N/A"}},{"$f":"VLOOKUP($AL64,'Vejehold 2'!$A$7:$P$23,'Opsamling, slagt+smågrise'!AS$2,FALSE)","v":{"$error":"#N/A"}},null,60,{"$f":"AV63+1","v":60},{"$f":"VLOOKUP($AV64,'Vejehold 3'!$A$7:$P$23,'Opsamling, slagt+smågrise'!AW$2,FALSE)","v":{"$error":"#N/A"}},{"$f":"VLOOKUP($AV64,'Vejehold 3'!$A$7:$P$23,'Opsamling, slagt+smågrise'!AX$2,FALSE)","v":{"$error":"#N/A"}},{"$f":"VLOOKUP($AV64,'Vejehold 3'!$A$7:$P$23,'Opsamling, slagt+smågrise'!AY$2,FALSE)","v":{"$error":"#N/A"}},{"$f":"VLOOKUP($AV64,'Vejehold 3'!$A$7:$P$23,'Opsamling, slagt+smågrise'!AZ$2,FALSE)","v":{"$error":"#N/A"}},{"$f":"VLOOKUP($AV64,'Vejehold 3'!$A$7:$P$23,'Opsamling, slagt+smågrise'!BA$2,FALSE)","v":{"$error":"#N/A"}},{"$f":"VLOOKUP($AV64,'Vejehold 3'!$A$7:$P$23,'Opsamling, slagt+smågrise'!BB$2,FALSE)","v":{"$error":"#N/A"}},{"$f":"VLOOKUP($AV64,'Vejehold 3'!$A$7:$P$23,'Opsamling, slagt+smågrise'!BC$2,FALSE)","v":{"$error":"#N/A"}},null,60,{"$f":"BF63+1","v":60},{"$f":"VLOOKUP($BF64,'Vejehold 4'!$A$7:$P$23,'Opsamling, slagt+smågrise'!BG$2,FALSE)","v":{"$error":"#N/A"}},{"$f":"VLOOKUP($BF64,'Vejehold 4'!$A$7:$P$23,'Opsamling, slagt+smågrise'!BH$2,FALSE)","v":{"$error":"#N/A"}},{"$f":"VLOOKUP($BF64,'Vejehold 4'!$A$7:$P$23,'Opsamling, slagt+smågrise'!BI$2,FALSE)","v":{"$error":"#N/A"}},{"$f":"VLOOKUP($BF64,'Vejehold 4'!$A$7:$P$23,'Opsamling, slagt+smågrise'!BJ$2,FALSE)","v":{"$error":"#N/A"}},{"$f":"VLOOKUP($BF64,'Vejehold 4'!$A$7:$P$23,'Opsamling, slagt+smågrise'!BK$2,FALSE)","v":{"$error":"#N/A"}},{"$f":"VLOOKUP($BF64,'Vejehold 4'!$A$7:$P$23,'Opsamling, slagt+smågrise'!BL$2,FALSE)","v":{"$error":"#N/A"}},{"$f":"VLOOKUP($BF64,'Vejehold 4'!$A$7:$P$23,'Opsamling, slagt+smågrise'!BM$2,FALSE)","v":{"$error":"#N/A"}},null,60,{"$f":"BP63+1","v":60},{"$f":"VLOOKUP($BP64,'Vejehold 5'!$A$7:$P$23,'Opsamling, slagt+smågrise'!BQ$2,FALSE)","v":{"$error":"#N/A"}},{"$f":"VLOOKUP($BP64,'Vejehold 5'!$A$7:$P$23,'Opsamling, slagt+smågrise'!BR$2,FALSE)","v":{"$error":"#N/A"}},{"$f":"VLOOKUP($BP64,'Vejehold 5'!$A$7:$P$23,'Opsamling, slagt+smågrise'!BS$2,FALSE)","v":{"$error":"#N/A"}},{"$f":"VLOOKUP($BP64,'Vejehold 5'!$A$7:$P$23,'Opsamling, slagt+smågrise'!BT$2,FALSE)","v":{"$error":"#N/A"}},{"$f":"VLOOKUP($BP64,'Vejehold 5'!$A$7:$P$23,'Opsamling, slagt+smågrise'!BU$2,FALSE)","v":{"$error":"#N/A"}},{"$f":"VLOOKUP($BP64,'Vejehold 5'!$A$7:$P$23,'Opsamling, slagt+smågrise'!BV$2,FALSE)","v":{"$error":"#N/A"}},{"$f":"VLOOKUP($BP64,'Vejehold 5'!$A$7:$P$23,'Opsamling, slagt+smågrise'!BW$2,FALSE)","v":{"$error":"#N/A"}},null,60,{"$f":"BZ63+1","v":60},{"$f":"VLOOKUP($BZ64,'Vejehold 6'!$A$7:$P$23,'Opsamling, slagt+smågrise'!CA$2,FALSE)","v":{"$error":"#N/A"}},{"$f":"VLOOKUP($BZ64,'Vejehold 6'!$A$7:$P$23,'Opsamling, slagt+smågrise'!CB$2,FALSE)","v":{"$error":"#N/A"}},{"$f":"VLOOKUP($BZ64,'Vejehold 6'!$A$7:$P$23,'Opsamling, slagt+smågrise'!CC$2,FALSE)","v":{"$error":"#N/A"}},{"$f":"VLOOKUP($BZ64,'Vejehold 6'!$A$7:$P$23,'Opsamling, slagt+smågrise'!CD$2,FALSE)","v":{"$error":"#N/A"}},{"$f":"VLOOKUP($BZ64,'Vejehold 6'!$A$7:$P$23,'Opsamling, slagt+smågrise'!CE$2,FALSE)","v":{"$error":"#N/A"}},{"$f":"VLOOKUP($BZ64,'Vejehold 6'!$A$7:$P$23,'Opsamling, slagt+smågrise'!CF$2,FALSE)","v":{"$error":"#N/A"}},{"$f":"VLOOKUP($BZ64,'Vejehold 6'!$A$7:$P$23,'Opsamling, slagt+smågrise'!CG$2,FALSE)","v":{"$error":"#N/A"}}]
[null,56,{"$f":"'Vejehold 1'!$K15","v":0},{"$f":"'Vejehold 2'!$K15","v":0},{"$f":"'Vejehold 3'!$K15","v":0},{"$f":"'Vejehold 4'!$K15","v":0},{"$f":"'Vejehold 5'!$K15","v":0},{"$f":"'Vejehold 6'!$K15","v":0},null,null,null,null,null,null,null,null,null,null,null,null,null,null,null,null,null,null,61,"1900-03-01",{"$f":"VLOOKUP($AB65,'Vejehold 1'!$A$7:$P$23,'Opsamling, slagt+smågrise'!AC$2,FALSE)","v":{"$error":"#N/A"}},{"$f":"VLOOKUP($AB65,'Vejehold 1'!$A$7:$P$23,'Opsamling, slagt+smågrise'!AD$2,FALSE)","v":{"$error":"#N/A"}},{"$f":"VLOOKUP($AB65,'Vejehold 1'!$A$7:$P$23,'Opsamling, slagt+smågrise'!AE$2,FALSE)","v":{"$error":"#N/A"}},{"$f":"VLOOKUP($AB65,'Vejehold 1'!$A$7:$P$23,'Opsamling, slagt+smågrise'!AF$2,FALSE)","v":{"$error":"#N/A"}},{"$f":"VLOOKUP($AB65,'Vejehold 1'!$A$7:$P$23,'Opsamling, slagt+smågrise'!AG$2,FALSE)","v":{"$error":"#N/A"}},{"$f":"VLOOKUP($AB65,'Vejehold 1'!$A$7:$P$23,'Opsamling, slagt+smågrise'!AH$2,FALSE)","v":{"$error":"#N/A"}},{"$f":"VLOOKUP($AB65,'Vejehold 1'!$A$7:$P$23,'Opsamling, slagt+smågrise'!AI$2,FALSE)","v":{"$error":"#N/A"}},null,61,"1900-03-01",{"$f":"VLOOKUP($AL65,'Vejehold 2'!$A$7:$P$23,'Opsamling, slagt+smågrise'!AM$2,FALSE)","v":{"$error":"#N/A"}},{"$f":"VLOOKUP($AL65,'Vejehold 2'!$A$7:$P$23,'Opsamling, slagt+smågrise'!AN$2,FALSE)","v":{"$error":"#N/A"}},{"$f":"VLOOKUP($AL65,'Vejehold 2'!$A$7:$P$23,'Opsamling, slagt+smågrise'!AO$2,FALSE)","v":{"$error":"#N/A"}},{"$f":"VLOOKUP($AL65,'Vejehold 2'!$A$7:$P$23,'Opsamling, slagt+smågrise'!AP$2,FALSE)","v":{"$error":"#N/A"}},{"$f":"VLOOKUP($AL65,'Vejehold 2'!$A$7:$P$23,'Opsamling, slagt+smågrise'!AQ$2,FALSE)","v":{"$error":"#N/A"}},{"$f":"VLOOKUP($AL65,'Vejehold 2'!$A$7:$P$23,'Opsamling, slagt+smågrise'!AR$2,FALSE)","v":{"$error":"#N/A"}},{"$f":"VLOOKUP($AL65,'Vejehold 2'!$A$7:$P$23,'Opsamling, slagt+smågrise'!AS$2,FALSE)","v":{"$error":"#N/A"}},null,61,"1900-03-01",{"$f":"VLOOKUP($AV65,'Vejehold 3'!$A$7:$P$23,'Opsamling, slagt+smågrise'!AW$2,FALSE)","v":{"$error":"#N/A"}},{"$f":"VLOOKUP($AV65,'Vejehold 3'!$A$7:$P$23,'Opsamling, slagt+smågrise'!AX$2,FALSE)","v":{"$error":"#N/A"}},{"$f":"VLOOKUP($AV65,'Vejehold 3'!$A$7:$P$23,'Opsamling, slagt+smågrise'!AY$2,FALSE)","v":{"$error":"#N/A"}},{"$f":"VLOOKUP($AV65,'Vejehold 3'!$A$7:$P$23,'Opsamling, slagt+smågrise'!AZ$2,FALSE)","v":{"$error":"#N/A"}},{"$f":"VLOOKUP($AV65,'Vejehold 3'!$A$7:$P$23,'Opsamling, slagt+smågrise'!BA$2,FALSE)","v":{"$error":"#N/A"}},{"$f":"VLOOKUP($AV65,'Vejehold 3'!$A$7:$P$23,'Opsamling, slagt+smågrise'!BB$2,FALSE)","v":{"$error":"#N/A"}},{"$f":"VLOOKUP($AV65,'Vejehold 3'!$A$7:$P$23,'Opsamling, slagt+smågrise'!BC$2,FALSE)","v":{"$error":"#N/A"}},null,61,"1900-03-01",{"$f":"VLOOKUP($BF65,'Vejehold 4'!$A$7:$P$23,'Opsamling, slagt+smågrise'!BG$2,FALSE)","v":{"$error":"#N/A"}},{"$f":"VLOOKUP($BF65,'Vejehold 4'!$A$7:$P$23,'Opsamling, slagt+smågrise'!BH$2,FALSE)","v":{"$error":"#N/A"}},{"$f":"VLOOKUP($BF65,'Vejehold 4'!$A$7:$P$23,'Opsamling, slagt+smågrise'!BI$2,FALSE)","v":{"$error":"#N/A"}},{"$f":"VLOOKUP($BF65,'Vejehold 4'!$A$7:$P$23,'Opsamling, slagt+smågrise'!BJ$2,FALSE)","v":{"$error":"#N/A"}},{"$f":"VLOOKUP($BF65,'Vejehold 4'!$A$7:$P$23,'Opsamling, slagt+smågrise'!BK$2,FALSE)","v":{"$error":"#N/A"}},{"$f":"VLOOKUP($BF65,'Vejehold 4'!$A$7:$P$23,'Opsamling, slagt+smågrise'!BL$2,FALSE)","v":{"$error":"#N/A"}},{"$f":"VLOOKUP($BF65,'Vejehold 4'!$A$7:$P$23,'Opsamling, slagt+smågrise'!BM$2,FALSE)","v":{"$error":"#N/A"}},null,61,"1900-03-01",{"$f":"VLOOKUP($BP65,'Vejehold 5'!$A$7:$P$23,'Opsamling, slagt+smågrise'!BQ$2,FALSE)","v":{"$error":"#N/A"}},{"$f":"VLOOKUP($BP65,'Vejehold 5'!$A$7:$P$23,'Opsamling, slagt+smågrise'!BR$2,FALSE)","v":{"$error":"#N/A"}},{"$f":"VLOOKUP($BP65,'Vejehold 5'!$A$7:$P$23,'Opsamling, slagt+smågrise'!BS$2,FALSE)","v":{"$error":"#N/A"}},{"$f":"VLOOKUP($BP65,'Vejehold 5'!$A$7:$P$23,'Opsamling, slagt+smågrise'!BT$2,FALSE)","v":{"$error":"#N/A"}},{"$f":"VLOOKUP($BP65,'Vejehold 5'!$A$7:$P$23,'Opsamling, slagt+smågrise'!BU$2,FALSE)","v":{"$error":"#N/A"}},{"$f":"VLOOKUP($BP65,'Vejehold 5'!$A$7:$P$23,'Opsamling, slagt+smågrise'!BV$2,FALSE)","v":{"$error":"#N/A"}},{"$f":"VLOOKUP($BP65,'Vejehold 5'!$A$7:$P$23,'Opsamling, slagt+smågrise'!BW$2,FALSE)","v":{"$error":"#N/A"}},null,61,"1900-03-01",{"$f":"VLOOKUP($BZ65,'Vejehold 6'!$A$7:$P$23,'Opsamling, slagt+smågrise'!CA$2,FALSE)","v":{"$error":"#N/A"}},{"$f":"VLOOKUP($BZ65,'Vejehold 6'!$A$7:$P$23,'Opsamling, slagt+smågrise'!CB$2,FALSE)","v":{"$error":"#N/A"}},{"$f":"VLOOKUP($BZ65,'Vejehold 6'!$A$7:$P$23,'Opsamling, slagt+smågrise'!CC$2,FALSE)","v":{"$error":"#N/A"}},{"$f":"VLOOKUP($BZ65,'Vejehold 6'!$A$7:$P$23,'Opsamling, slagt+smågrise'!CD$2,FALSE)","v":{"$error":"#N/A"}},{"$f":"VLOOKUP($BZ65,'Vejehold 6'!$A$7:$P$23,'Opsamling, slagt+smågrise'!CE$2,FALSE)","v":{"$error":"#N/A"}},{"$f":"VLOOKUP($BZ65,'Vejehold 6'!$A$7:$P$23,'Opsamling, slagt+smågrise'!CF$2,FALSE)","v":{"$error":"#N/A"}},{"$f":"VLOOKUP($BZ65,'Vejehold 6'!$A$7:$P$23,'Opsamling, slagt+smågrise'!CG$2,FALSE)","v":{"$error":"#N/A"}}]
[null,63,{"$f":"'Vejehold 1'!$K16","v":0},{"$f":"'Vejehold 2'!$K16","v":0},{"$f":"'Vejehold 3'!$K16","v":0},{"$f":"'Vejehold 4'!$K16","v":0},{"$f":"'Vejehold 5'!$K16","v":0},{"$f":"'Vejehold 6'!$K16","v":0},null,null,null,null,null,null,null,null,null,null,null,null,null,null,null,null,null,null,62,"1900-03-02",{"$f":"VLOOKUP($AB66,'Vejehold 1'!$A$7:$P$23,'Opsamling, slagt+smågrise'!AC$2,FALSE)","v":{"$error":"#N/A"}},{"$f":"VLOOKUP($AB66,'Vejehold 1'!$A$7:$P$23,'Opsamling, slagt+smågrise'!AD$2,FALSE)","v":{"$error":"#N/A"}},{"$f":"VLOOKUP($AB66,'Vejehold 1'!$A$7:$P$23,'Opsamling, slagt+smågrise'!AE$2,FALSE)","v":{"$error":"#N/A"}},{"$f":"VLOOKUP($AB66,'Vejehold 1'!$A$7:$P$23,'Opsamling, slagt+smågrise'!AF$2,FALSE)","v":{"$error":"#N/A"}},{"$f":"VLOOKUP($AB66,'Vejehold 1'!$A$7:$P$23,'Opsamling, slagt+smågrise'!AG$2,FALSE)","v":{"$error":"#N/A"}},{"$f":"VLOOKUP($AB66,'Vejehold 1'!$A$7:$P$23,'Opsamling, slagt+smågrise'!AH$2,FALSE)","v":{"$error":"#N/A"}},{"$f":"VLOOKUP($AB66,'Vejehold 1'!$A$7:$P$23,'Opsamling, slagt+smågrise'!AI$2,FALSE)","v":{"$error":"#N/A"}},null,62,"1900-03-02",{"$f":"VLOOKUP($AL66,'Vejehold 2'!$A$7:$P$23,'Opsamling, slagt+smågrise'!AM$2,FALSE)","v":{"$error":"#N/A"}},{"$f":"VLOOKUP($AL66,'Vejehold 2'!$A$7:$P$23,'Opsamling, slagt+smågrise'!AN$2,FALSE)","v":{"$error":"#N/A"}},{"$f":"VLOOKUP($AL66,'Vejehold 2'!$A$7:$P$23,'Opsamling, slagt+smågrise'!AO$2,FALSE)","v":{"$error":"#N/A"}},{"$f":"VLOOKUP($AL66,'Vejehold 2'!$A$7:$P$23,'Opsamling, slagt+smågrise'!AP$2,FALSE)","v":{"$error":"#N/A"}},{"$f":"VLOOKUP($AL66,'Vejehold 2'!$A$7:$P$23,'Opsamling, slagt+smågrise'!AQ$2,FALSE)","v":{"$error":"#N/A"}},{"$f":"VLOOKUP($AL66,'Vejehold 2'!$A$7:$P$23,'Opsamling, slagt+smågrise'!AR$2,FALSE)","v":{"$error":"#N/A"}},{"$f":"VLOOKUP($AL66,'Vejehold 2'!$A$7:$P$23,'Opsamling, slagt+smågrise'!AS$2,FALSE)","v":{"$error":"#N/A"}},null,62,"1900-03-02",{"$f":"VLOOKUP($AV66,'Vejehold 3'!$A$7:$P$23,'Opsamling, slagt+smågrise'!AW$2,FALSE)","v":{"$error":"#N/A"}},{"$f":"VLOOKUP($AV66,'Vejehold 3'!$A$7:$P$23,'Opsamling, slagt+smågrise'!AX$2,FALSE)","v":{"$error":"#N/A"}},{"$f":"VLOOKUP($AV66,'Vejehold 3'!$A$7:$P$23,'Opsamling, slagt+smågrise'!AY$2,FALSE)","v":{"$error":"#N/A"}},{"$f":"VLOOKUP($AV66,'Vejehold 3'!$A$7:$P$23,'Opsamling, slagt+smågrise'!AZ$2,FALSE)","v":{"$error":"#N/A"}},{"$f":"VLOOKUP($AV66,'Vejehold 3'!$A$7:$P$23,'Opsamling, slagt+smågrise'!BA$2,FALSE)","v":{"$error":"#N/A"}},{"$f":"VLOOKUP($AV66,'Vejehold 3'!$A$7:$P$23,'Opsamling, slagt+smågrise'!BB$2,FALSE)","v":{"$error":"#N/A"}},{"$f":"VLOOKUP($AV66,'Vejehold 3'!$A$7:$P$23,'Opsamling, slagt+smågrise'!BC$2,FALSE)","v":{"$error":"#N/A"}},null,62,"1900-03-02",{"$f":"VLOOKUP($BF66,'Vejehold 4'!$A$7:$P$23,'Opsamling, slagt+smågrise'!BG$2,FALSE)","v":{"$error":"#N/A"}},{"$f":"VLOOKUP($BF66,'Vejehold 4'!$A$7:$P$23,'Opsamling, slagt+smågrise'!BH$2,FALSE)","v":{"$error":"#N/A"}},{"$f":"VLOOKUP($BF66,'Vejehold 4'!$A$7:$P$23,'Opsamling, slagt+smågrise'!BI$2,FALSE)","v":{"$error":"#N/A"}},{"$f":"VLOOKUP($BF66,'Vejehold 4'!$A$7:$P$23,'Opsamling, slagt+smågrise'!BJ$2,FALSE)","v":{"$error":"#N/A"}},{"$f":"VLOOKUP($BF66,'Vejehold 4'!$A$7:$P$23,'Opsamling, slagt+smågrise'!BK$2,FALSE)","v":{"$error":"#N/A"}},{"$f":"VLOOKUP($BF66,'Vejehold 4'!$A$7:$P$23,'Opsamling, slagt+smågrise'!BL$2,FALSE)","v":{"$error":"#N/A"}},{"$f":"VLOOKUP($BF66,'Vejehold 4'!$A$7:$P$23,'Opsamling, slagt+smågrise'!BM$2,FALSE)","v":{"$error":"#N/A"}},null,62,"1900-03-02",{"$f":"VLOOKUP($BP66,'Vejehold 5'!$A$7:$P$23,'Opsamling, slagt+smågrise'!BQ$2,FALSE)","v":{"$error":"#N/A"}},{"$f":"VLOOKUP($BP66,'Vejehold 5'!$A$7:$P$23,'Opsamling, slagt+smågrise'!BR$2,FALSE)","v":{"$error":"#N/A"}},{"$f":"VLOOKUP($BP66,'Vejehold 5'!$A$7:$P$23,'Opsamling, slagt+smågrise'!BS$2,FALSE)","v":{"$error":"#N/A"}},{"$f":"VLOOKUP($BP66,'Vejehold 5'!$A$7:$P$23,'Opsamling, slagt+smågrise'!BT$2,FALSE)","v":{"$error":"#N/A"}},{"$f":"VLOOKUP($BP66,'Vejehold 5'!$A$7:$P$23,'Opsamling, slagt+smågrise'!BU$2,FALSE)","v":{"$error":"#N/A"}},{"$f":"VLOOKUP($BP66,'Vejehold 5'!$A$7:$P$23,'Opsamling, slagt+smågrise'!BV$2,FALSE)","v":{"$error":"#N/A"}},{"$f":"VLOOKUP($BP66,'Vejehold 5'!$A$7:$P$23,'Opsamling, slagt+smågrise'!BW$2,FALSE)","v":{"$error":"#N/A"}},null,62,"1900-03-02",{"$f":"VLOOKUP($BZ66,'Vejehold 6'!$A$7:$P$23,'Opsamling, slagt+smågrise'!CA$2,FALSE)","v":{"$error":"#N/A"}},{"$f":"VLOOKUP($BZ66,'Vejehold 6'!$A$7:$P$23,'Opsamling, slagt+smågrise'!CB$2,FALSE)","v":{"$error":"#N/A"}},{"$f":"VLOOKUP($BZ66,'Vejehold 6'!$A$7:$P$23,'Opsamling, slagt+smågrise'!CC$2,FALSE)","v":{"$error":"#N/A"}},{"$f":"VLOOKUP($BZ66,'Vejehold 6'!$A$7:$P$23,'Opsamling, slagt+smågrise'!CD$2,FALSE)","v":{"$error":"#N/A"}},{"$f":"VLOOKUP($BZ66,'Vejehold 6'!$A$7:$P$23,'Opsamling, slagt+smågrise'!CE$2,FALSE)","v":{"$error":"#N/A"}},{"$f":"VLOOKUP($BZ66,'Vejehold 6'!$A$7:$P$23,'Opsamling, slagt+smågrise'!CF$2,FALSE)","v":{"$error":"#N/A"}},{"$f":"VLOOKUP($BZ66,'Vejehold 6'!$A$7:$P$23,'Opsamling, slagt+smågrise'!CG$2,FALSE)","v":{"$error":"#N/A"}}]
[null,70,{"$f":"'Vejehold 1'!$K17","v":0},{"$f":"'Vejehold 2'!$K17","v":0},{"$f":"'Vejehold 3'!$K17","v":0},{"$f":"'Vejehold 4'!$K17","v":0},{"$f":"'Vejehold 5'!$K17","v":0},{"$f":"'Vejehold 6'!$K17","v":0},null,null,null,null,null,null,null,null,null,null,null,null,null,null,null,null,null,null,63,"1900-03-03",{"$f":"VLOOKUP($AB67,'Vejehold 1'!$A$7:$P$23,'Opsamling, slagt+smågrise'!AC$2,FALSE)","v":{"$error":"#N/A"}},{"$f":"VLOOKUP($AB67,'Vejehold 1'!$A$7:$P$23,'Opsamling, slagt+smågrise'!AD$2,FALSE)","v":{"$error":"#N/A"}},{"$f":"VLOOKUP($AB67,'Vejehold 1'!$A$7:$P$23,'Opsamling, slagt+smågrise'!AE$2,FALSE)","v":{"$error":"#N/A"}},{"$f":"VLOOKUP($AB67,'Vejehold 1'!$A$7:$P$23,'Opsamling, slagt+smågrise'!AF$2,FALSE)","v":{"$error":"#N/A"}},{"$f":"VLOOKUP($AB67,'Vejehold 1'!$A$7:$P$23,'Opsamling, slagt+smågrise'!AG$2,FALSE)","v":{"$error":"#N/A"}},{"$f":"VLOOKUP($AB67,'Vejehold 1'!$A$7:$P$23,'Opsamling, slagt+smågrise'!AH$2,FALSE)","v":{"$error":"#N/A"}},{"$f":"VLOOKUP($AB67,'Vejehold 1'!$A$7:$P$23,'Opsamling, slagt+smågrise'!AI$2,FALSE)","v":{"$error":"#N/A"}},null,63,"1900-03-03",{"$f":"VLOOKUP($AL67,'Vejehold 2'!$A$7:$P$23,'Opsamling, slagt+smågrise'!AM$2,FALSE)","v":{"$error":"#N/A"}},{"$f":"VLOOKUP($AL67,'Vejehold 2'!$A$7:$P$23,'Opsamling, slagt+smågrise'!AN$2,FALSE)","v":{"$error":"#N/A"}},{"$f":"VLOOKUP($AL67,'Vejehold 2'!$A$7:$P$23,'Opsamling, slagt+smågrise'!AO$2,FALSE)","v":{"$error":"#N/A"}},{"$f":"VLOOKUP($AL67,'Vejehold 2'!$A$7:$P$23,'Opsamling, slagt+smågrise'!AP$2,FALSE)","v":{"$error":"#N/A"}},{"$f":"VLOOKUP($AL67,'Vejehold 2'!$A$7:$P$23,'Opsamling, slagt+smågrise'!AQ$2,FALSE)","v":{"$error":"#N/A"}},{"$f":"VLOOKUP($AL67,'Vejehold 2'!$A$7:$P$23,'Opsamling, slagt+smågrise'!AR$2,FALSE)","v":{"$error":"#N/A"}},{"$f":"VLOOKUP($AL67,'Vejehold 2'!$A$7:$P$23,'Opsamling, slagt+smågrise'!AS$2,FALSE)","v":{"$error":"#N/A"}},null,63,"1900-03-03",{"$f":"VLOOKUP($AV67,'Vejehold 3'!$A$7:$P$23,'Opsamling, slagt+smågrise'!AW$2,FALSE)","v":{"$error":"#N/A"}},{"$f":"VLOOKUP($AV67,'Vejehold 3'!$A$7:$P$23,'Opsamling, slagt+smågrise'!AX$2,FALSE)","v":{"$error":"#N/A"}},{"$f":"VLOOKUP($AV67,'Vejehold 3'!$A$7:$P$23,'Opsamling, slagt+smågrise'!AY$2,FALSE)","v":{"$error":"#N/A"}},{"$f":"VLOOKUP($AV67,'Vejehold 3'!$A$7:$P$23,'Opsamling, slagt+smågrise'!AZ$2,FALSE)","v":{"$error":"#N/A"}},{"$f":"VLOOKUP($AV67,'Vejehold 3'!$A$7:$P$23,'Opsamling, slagt+smågrise'!BA$2,FALSE)","v":{"$error":"#N/A"}},{"$f":"VLOOKUP($AV67,'Vejehold 3'!$A$7:$P$23,'Opsamling, slagt+smågrise'!BB$2,FALSE)","v":{"$error":"#N/A"}},{"$f":"VLOOKUP($AV67,'Vejehold 3'!$A$7:$P$23,'Opsamling, slagt+smågrise'!BC$2,FALSE)","v":{"$error":"#N/A"}},null,63,"1900-03-03",{"$f":"VLOOKUP($BF67,'Vejehold 4'!$A$7:$P$23,'Opsamling, slagt+smågrise'!BG$2,FALSE)","v":{"$error":"#N/A"}},{"$f":"VLOOKUP($BF67,'Vejehold 4'!$A$7:$P$23,'Opsamling, slagt+smågrise'!BH$2,FALSE)","v":{"$error":"#N/A"}},{"$f":"VLOOKUP($BF67,'Vejehold 4'!$A$7:$P$23,'Opsamling, slagt+smågrise'!BI$2,FALSE)","v":{"$error":"#N/A"}},{"$f":"VLOOKUP($BF67,'Vejehold 4'!$A$7:$P$23,'Opsamling, slagt+smågrise'!BJ$2,FALSE)","v":{"$error":"#N/A"}},{"$f":"VLOOKUP($BF67,'Vejehold 4'!$A$7:$P$23,'Opsamling, slagt+smågrise'!BK$2,FALSE)","v":{"$error":"#N/A"}},{"$f":"VLOOKUP($BF67,'Vejehold 4'!$A$7:$P$23,'Opsamling, slagt+smågrise'!BL$2,FALSE)","v":{"$error":"#N/A"}},{"$f":"VLOOKUP($BF67,'Vejehold 4'!$A$7:$P$23,'Opsamling, slagt+smågrise'!BM$2,FALSE)","v":{"$error":"#N/A"}},null,63,"1900-03-03",{"$f":"VLOOKUP($BP67,'Vejehold 5'!$A$7:$P$23,'Opsamling, slagt+smågrise'!BQ$2,FALSE)","v":{"$error":"#N/A"}},{"$f":"VLOOKUP($BP67,'Vejehold 5'!$A$7:$P$23,'Opsamling, slagt+smågrise'!BR$2,FALSE)","v":{"$error":"#N/A"}},{"$f":"VLOOKUP($BP67,'Vejehold 5'!$A$7:$P$23,'Opsamling, slagt+smågrise'!BS$2,FALSE)","v":{"$error":"#N/A"}},{"$f":"VLOOKUP($BP67,'Vejehold 5'!$A$7:$P$23,'Opsamling, slagt+smågrise'!BT$2,FALSE)","v":{"$error":"#N/A"}},{"$f":"VLOOKUP($BP67,'Vejehold 5'!$A$7:$P$23,'Opsamling, slagt+smågrise'!BU$2,FALSE)","v":{"$error":"#N/A"}},{"$f":"VLOOKUP($BP67,'Vejehold 5'!$A$7:$P$23,'Opsamling, slagt+smågrise'!BV$2,FALSE)","v":{"$error":"#N/A"}},{"$f":"VLOOKUP($BP67,'Vejehold 5'!$A$7:$P$23,'Opsamling, slagt+smågrise'!BW$2,FALSE)","v":{"$error":"#N/A"}},null,63,"1900-03-03",{"$f":"VLOOKUP($BZ67,'Vejehold 6'!$A$7:$P$23,'Opsamling, slagt+smågrise'!CA$2,FALSE)","v":{"$error":"#N/A"}},{"$f":"VLOOKUP($BZ67,'Vejehold 6'!$A$7:$P$23,'Opsamling, slagt+smågrise'!CB$2,FALSE)","v":{"$error":"#N/A"}},{"$f":"VLOOKUP($BZ67,'Vejehold 6'!$A$7:$P$23,'Opsamling, slagt+smågrise'!CC$2,FALSE)","v":{"$error":"#N/A"}},{"$f":"VLOOKUP($BZ67,'Vejehold 6'!$A$7:$P$23,'Opsamling, slagt+smågrise'!CD$2,FALSE)","v":{"$error":"#N/A"}},{"$f":"VLOOKUP($BZ67,'Vejehold 6'!$A$7:$P$23,'Opsamling, slagt+smågrise'!CE$2,FALSE)","v":{"$error":"#N/A"}},{"$f":"VLOOKUP($BZ67,'Vejehold 6'!$A$7:$P$23,'Opsamling, slagt+smågrise'!CF$2,FALSE)","v":{"$error":"#N/A"}},{"$f":"VLOOKUP($BZ67,'Vejehold 6'!$A$7:$P$23,'Opsamling, slagt+smågrise'!CG$2,FALSE)","v":{"$error":"#N/A"}}]
[null,77,{"$f":"'Vejehold 1'!$K18","v":0},{"$f":"'Vejehold 2'!$K18","v":0},{"$f":"'Vejehold 3'!$K18","v":0},{"$f":"'Vejehold 4'!$K18","v":0},{"$f":"'Vejehold 5'!$K18","v":0},{"$f":"'Vejehold 6'!$K18","v":0},null,null,null,null,null,null,null,null,null,null,null,null,null,null,null,null,null,null,64,"1900-03-04",{"$f":"VLOOKUP($AB68,'Vejehold 1'!$A$7:$P$23,'Opsamling, slagt+smågrise'!AC$2,FALSE)","v":{"$error":"#N/A"}},{"$f":"VLOOKUP($AB68,'Vejehold 1'!$A$7:$P$23,'Opsamling, slagt+smågrise'!AD$2,FALSE)","v":{"$error":"#N/A"}},{"$f":"VLOOKUP($AB68,'Vejehold 1'!$A$7:$P$23,'Opsamling, slagt+smågrise'!AE$2,FALSE)","v":{"$error":"#N/A"}},{"$f":"VLOOKUP($AB68,'Vejehold 1'!$A$7:$P$23,'Opsamling, slagt+smågrise'!AF$2,FALSE)","v":{"$error":"#N/A"}},{"$f":"VLOOKUP($AB68,'Vejehold 1'!$A$7:$P$23,'Opsamling, slagt+smågrise'!AG$2,FALSE)","v":{"$error":"#N/A"}},{"$f":"VLOOKUP($AB68,'Vejehold 1'!$A$7:$P$23,'Opsamling, slagt+smågrise'!AH$2,FALSE)","v":{"$error":"#N/A"}},{"$f":"VLOOKUP($AB68,'Vejehold 1'!$A$7:$P$23,'Opsamling, slagt+smågrise'!AI$2,FALSE)","v":{"$error":"#N/A"}},null,64,"1900-03-04",{"$f":"VLOOKUP($AL68,'Vejehold 2'!$A$7:$P$23,'Opsamling, slagt+smågrise'!AM$2,FALSE)","v":{"$error":"#N/A"}},{"$f":"VLOOKUP($AL68,'Vejehold 2'!$A$7:$P$23,'Opsamling, slagt+smågrise'!AN$2,FALSE)","v":{"$error":"#N/A"}},{"$f":"VLOOKUP($AL68,'Vejehold 2'!$A$7:$P$23,'Opsamling, slagt+smågrise'!AO$2,FALSE)","v":{"$error":"#N/A"}},{"$f":"VLOOKUP($AL68,'Vejehold 2'!$A$7:$P$23,'Opsamling, slagt+smågrise'!AP$2,FALSE)","v":{"$error":"#N/A"}},{"$f":"VLOOKUP($AL68,'Vejehold 2'!$A$7:$P$23,'Opsamling, slagt+smågrise'!AQ$2,FALSE)","v":{"$error":"#N/A"}},{"$f":"VLOOKUP($AL68,'Vejehold 2'!$A$7:$P$23,'Opsamling, slagt+smågrise'!AR$2,FALSE)","v":{"$error":"#N/A"}},{"$f":"VLOOKUP($AL68,'Vejehold 2'!$A$7:$P$23,'Opsamling, slagt+smågrise'!AS$2,FALSE)","v":{"$error":"#N/A"}},null,64,"1900-03-04",{"$f":"VLOOKUP($AV68,'Vejehold 3'!$A$7:$P$23,'Opsamling, slagt+smågrise'!AW$2,FALSE)","v":{"$error":"#N/A"}},{"$f":"VLOOKUP($AV68,'Vejehold 3'!$A$7:$P$23,'Opsamling, slagt+smågrise'!AX$2,FALSE)","v":{"$error":"#N/A"}},{"$f":"VLOOKUP($AV68,'Vejehold 3'!$A$7:$P$23,'Opsamling, slagt+smågrise'!AY$2,FALSE)","v":{"$error":"#N/A"}},{"$f":"VLOOKUP($AV68,'Vejehold 3'!$A$7:$P$23,'Opsamling, slagt+smågrise'!AZ$2,FALSE)","v":{"$error":"#N/A"}},{"$f":"VLOOKUP($AV68,'Vejehold 3'!$A$7:$P$23,'Opsamling, slagt+smågrise'!BA$2,FALSE)","v":{"$error":"#N/A"}},{"$f":"VLOOKUP($AV68,'Vejehold 3'!$A$7:$P$23,'Opsamling, slagt+smågrise'!BB$2,FALSE)","v":{"$error":"#N/A"}},{"$f":"VLOOKUP($AV68,'Vejehold 3'!$A$7:$P$23,'Opsamling, slagt+smågrise'!BC$2,FALSE)","v":{"$error":"#N/A"}},null,64,"1900-03-04",{"$f":"VLOOKUP($BF68,'Vejehold 4'!$A$7:$P$23,'Opsamling, slagt+smågrise'!BG$2,FALSE)","v":{"$error":"#N/A"}},{"$f":"VLOOKUP($BF68,'Vejehold 4'!$A$7:$P$23,'Opsamling, slagt+smågrise'!BH$2,FALSE)","v":{"$error":"#N/A"}},{"$f":"VLOOKUP($BF68,'Vejehold 4'!$A$7:$P$23,'Opsamling, slagt+smågrise'!BI$2,FALSE)","v":{"$error":"#N/A"}},{"$f":"VLOOKUP($BF68,'Vejehold 4'!$A$7:$P$23,'Opsamling, slagt+smågrise'!BJ$2,FALSE)","v":{"$error":"#N/A"}},{"$f":"VLOOKUP($BF68,'Vejehold 4'!$A$7:$P$23,'Opsamling, slagt+smågrise'!BK$2,FALSE)","v":{"$error":"#N/A"}},{"$f":"VLOOKUP($BF68,'Vejehold 4'!$A$7:$P$23,'Opsamling, slagt+smågrise'!BL$2,FALSE)","v":{"$error":"#N/A"}},{"$f":"VLOOKUP($BF68,'Vejehold 4'!$A$7:$P$23,'Opsamling, slagt+smågrise'!BM$2,FALSE)","v":{"$error":"#N/A"}},null,64,"1900-03-04",{"$f":"VLOOKUP($BP68,'Vejehold 5'!$A$7:$P$23,'Opsamling, slagt+smågrise'!BQ$2,FALSE)","v":{"$error":"#N/A"}},{"$f":"VLOOKUP($BP68,'Vejehold 5'!$A$7:$P$23,'Opsamling, slagt+smågrise'!BR$2,FALSE)","v":{"$error":"#N/A"}},{"$f":"VLOOKUP($BP68,'Vejehold 5'!$A$7:$P$23,'Opsamling, slagt+smågrise'!BS$2,FALSE)","v":{"$error":"#N/A"}},{"$f":"VLOOKUP($BP68,'Vejehold 5'!$A$7:$P$23,'Opsamling, slagt+smågrise'!BT$2,FALSE)","v":{"$error":"#N/A"}},{"$f":"VLOOKUP($BP68,'Vejehold 5'!$A$7:$P$23,'Opsamling, slagt+smågrise'!BU$2,FALSE)","v":{"$error":"#N/A"}},{"$f":"VLOOKUP($BP68,'Vejehold 5'!$A$7:$P$23,'Opsamling, slagt+smågrise'!BV$2,FALSE)","v":{"$error":"#N/A"}},{"$f":"VLOOKUP($BP68,'Vejehold 5'!$A$7:$P$23,'Opsamling, slagt+smågrise'!BW$2,FALSE)","v":{"$error":"#N/A"}},null,64,"1900-03-04",{"$f":"VLOOKUP($BZ68,'Vejehold 6'!$A$7:$P$23,'Opsamling, slagt+smågrise'!CA$2,FALSE)","v":{"$error":"#N/A"}},{"$f":"VLOOKUP($BZ68,'Vejehold 6'!$A$7:$P$23,'Opsamling, slagt+smågrise'!CB$2,FALSE)","v":{"$error":"#N/A"}},{"$f":"VLOOKUP($BZ68,'Vejehold 6'!$A$7:$P$23,'Opsamling, slagt+smågrise'!CC$2,FALSE)","v":{"$error":"#N/A"}},{"$f":"VLOOKUP($BZ68,'Vejehold 6'!$A$7:$P$23,'Opsamling, slagt+smågrise'!CD$2,FALSE)","v":{"$error":"#N/A"}},{"$f":"VLOOKUP($BZ68,'Vejehold 6'!$A$7:$P$23,'Opsamling, slagt+smågrise'!CE$2,FALSE)","v":{"$error":"#N/A"}},{"$f":"VLOOKUP($BZ68,'Vejehold 6'!$A$7:$P$23,'Opsamling, slagt+smågrise'!CF$2,FALSE)","v":{"$error":"#N/A"}},{"$f":"VLOOKUP($BZ68,'Vejehold 6'!$A$7:$P$23,'Opsamling, slagt+smågrise'!CG$2,FALSE)","v":{"$error":"#N/A"}}]
[null,84,{"$f":"'Vejehold 1'!$K19","v":0},{"$f":"'Vejehold 2'!$K19","v":0},{"$f":"'Vejehold 3'!$K19","v":0},{"$f":"'Vejehold 4'!$K19","v":0},{"$f":"'Vejehold 5'!$K19","v":0},{"$f":"'Vejehold 6'!$K19","v":0},null,null,null,null,null,null,null,null,null,null,null,null,null,null,null,null,null,null,65,"1900-03-05",{"$f":"VLOOKUP($AB69,'Vejehold 1'!$A$7:$P$23,'Opsamling, slagt+smågrise'!AC$2,FALSE)","v":{"$error":"#N/A"}},{"$f":"VLOOKUP($AB69,'Vejehold 1'!$A$7:$P$23,'Opsamling, slagt+smågrise'!AD$2,FALSE)","v":{"$error":"#N/A"}},{"$f":"VLOOKUP($AB69,'Vejehold 1'!$A$7:$P$23,'Opsamling, slagt+smågrise'!AE$2,FALSE)","v":{"$error":"#N/A"}},{"$f":"VLOOKUP($AB69,'Vejehold 1'!$A$7:$P$23,'Opsamling, slagt+smågrise'!AF$2,FALSE)","v":{"$error":"#N/A"}},{"$f":"VLOOKUP($AB69,'Vejehold 1'!$A$7:$P$23,'Opsamling, slagt+smågrise'!AG$2,FALSE)","v":{"$error":"#N/A"}},{"$f":"VLOOKUP($AB69,'Vejehold 1'!$A$7:$P$23,'Opsamling, slagt+smågrise'!AH$2,FALSE)","v":{"$error":"#N/A"}},{"$f":"VLOOKUP($AB69,'Vejehold 1'!$A$7:$P$23,'Opsamling, slagt+smågrise'!AI$2,FALSE)","v":{"$error":"#N/A"}},null,65,"1900-03-05",{"$f":"VLOOKUP($AL69,'Vejehold 2'!$A$7:$P$23,'Opsamling, slagt+smågrise'!AM$2,FALSE)","v":{"$error":"#N/A"}},{"$f":"VLOOKUP($AL69,'Vejehold 2'!$A$7:$P$23,'Opsamling, slagt+smågrise'!AN$2,FALSE)","v":{"$error":"#N/A"}},{"$f":"VLOOKUP($AL69,'Vejehold 2'!$A$7:$P$23,'Opsamling, slagt+smågrise'!AO$2,FALSE)","v":{"$error":"#N/A"}},{"$f":"VLOOKUP($AL69,'Vejehold 2'!$A$7:$P$23,'Opsamling, slagt+smågrise'!AP$2,FALSE)","v":{"$error":"#N/A"}},{"$f":"VLOOKUP($AL69,'Vejehold 2'!$A$7:$P$23,'Opsamling, slagt+smågrise'!AQ$2,FALSE)","v":{"$error":"#N/A"}},{"$f":"VLOOKUP($AL69,'Vejehold 2'!$A$7:$P$23,'Opsamling, slagt+smågrise'!AR$2,FALSE)","v":{"$error":"#N/A"}},{"$f":"VLOOKUP($AL69,'Vejehold 2'!$A$7:$P$23,'Opsamling, slagt+smågrise'!AS$2,FALSE)","v":{"$error":"#N/A"}},null,65,"1900-03-05",{"$f":"VLOOKUP($AV69,'Vejehold 3'!$A$7:$P$23,'Opsamling, slagt+smågrise'!AW$2,FALSE)","v":{"$error":"#N/A"}},{"$f":"VLOOKUP($AV69,'Vejehold 3'!$A$7:$P$23,'Opsamling, slagt+smågrise'!AX$2,FALSE)","v":{"$error":"#N/A"}},{"$f":"VLOOKUP($AV69,'Vejehold 3'!$A$7:$P$23,'Opsamling, slagt+smågrise'!AY$2,FALSE)","v":{"$error":"#N/A"}},{"$f":"VLOOKUP($AV69,'Vejehold 3'!$A$7:$P$23,'Opsamling, slagt+smågrise'!AZ$2,FALSE)","v":{"$error":"#N/A"}},{"$f":"VLOOKUP($AV69,'Vejehold 3'!$A$7:$P$23,'Opsamling, slagt+smågrise'!BA$2,FALSE)","v":{"$error":"#N/A"}},{"$f":"VLOOKUP($AV69,'Vejehold 3'!$A$7:$P$23,'Opsamling, slagt+smågrise'!BB$2,FALSE)","v":{"$error":"#N/A"}},{"$f":"VLOOKUP($AV69,'Vejehold 3'!$A$7:$P$23,'Opsamling, slagt+smågrise'!BC$2,FALSE)","v":{"$error":"#N/A"}},null,65,"1900-03-05",{"$f":"VLOOKUP($BF69,'Vejehold 4'!$A$7:$P$23,'Opsamling, slagt+smågrise'!BG$2,FALSE)","v":{"$error":"#N/A"}},{"$f":"VLOOKUP($BF69,'Vejehold 4'!$A$7:$P$23,'Opsamling, slagt+smågrise'!BH$2,FALSE)","v":{"$error":"#N/A"}},{"$f":"VLOOKUP($BF69,'Vejehold 4'!$A$7:$P$23,'Opsamling, slagt+smågrise'!BI$2,FALSE)","v":{"$error":"#N/A"}},{"$f":"VLOOKUP($BF69,'Vejehold 4'!$A$7:$P$23,'Opsamling, slagt+smågrise'!BJ$2,FALSE)","v":{"$error":"#N/A"}},{"$f":"VLOOKUP($BF69,'Vejehold 4'!$A$7:$P$23,'Opsamling, slagt+smågrise'!BK$2,FALSE)","v":{"$error":"#N/A"}},{"$f":"VLOOKUP($BF69,'Vejehold 4'!$A$7:$P$23,'Opsamling, slagt+smågrise'!BL$2,FALSE)","v":{"$error":"#N/A"}},{"$f":"VLOOKUP($BF69,'Vejehold 4'!$A$7:$P$23,'Opsamling, slagt+smågrise'!BM$2,FALSE)","v":{"$error":"#N/A"}},null,65,"1900-03-05",{"$f":"VLOOKUP($BP69,'Vejehold 5'!$A$7:$P$23,'Opsamling, slagt+smågrise'!BQ$2,FALSE)","v":{"$error":"#N/A"}},{"$f":"VLOOKUP($BP69,'Vejehold 5'!$A$7:$P$23,'Opsamling, slagt+smågrise'!BR$2,FALSE)","v":{"$error":"#N/A"}},{"$f":"VLOOKUP($BP69,'Vejehold 5'!$A$7:$P$23,'Opsamling, slagt+smågrise'!BS$2,FALSE)","v":{"$error":"#N/A"}},{"$f":"VLOOKUP($BP69,'Vejehold 5'!$A$7:$P$23,'Opsamling, slagt+smågrise'!BT$2,FALSE)","v":{"$error":"#N/A"}},{"$f":"VLOOKUP($BP69,'Vejehold 5'!$A$7:$P$23,'Opsamling, slagt+smågrise'!BU$2,FALSE)","v":{"$error":"#N/A"}},{"$f":"VLOOKUP($BP69,'Vejehold 5'!$A$7:$P$23,'Opsamling, slagt+smågrise'!BV$2,FALSE)","v":{"$error":"#N/A"}},{"$f":"VLOOKUP($BP69,'Vejehold 5'!$A$7:$P$23,'Opsamling, slagt+smågrise'!BW$2,FALSE)","v":{"$error":"#N/A"}},null,65,"1900-03-05",{"$f":"VLOOKUP($BZ69,'Vejehold 6'!$A$7:$P$23,'Opsamling, slagt+smågrise'!CA$2,FALSE)","v":{"$error":"#N/A"}},{"$f":"VLOOKUP($BZ69,'Vejehold 6'!$A$7:$P$23,'Opsamling, slagt+smågrise'!CB$2,FALSE)","v":{"$error":"#N/A"}},{"$f":"VLOOKUP($BZ69,'Vejehold 6'!$A$7:$P$23,'Opsamling, slagt+smågrise'!CC$2,FALSE)","v":{"$error":"#N/A"}},{"$f":"VLOOKUP($BZ69,'Vejehold 6'!$A$7:$P$23,'Opsamling, slagt+smågrise'!CD$2,FALSE)","v":{"$error":"#N/A"}},{"$f":"VLOOKUP($BZ69,'Vejehold 6'!$A$7:$P$23,'Opsamling, slagt+smågrise'!CE$2,FALSE)","v":{"$error":"#N/A"}},{"$f":"VLOOKUP($BZ69,'Vejehold 6'!$A$7:$P$23,'Opsamling, slagt+smågrise'!CF$2,FALSE)","v":{"$error":"#N/A"}},{"$f":"VLOOKUP($BZ69,'Vejehold 6'!$A$7:$P$23,'Opsamling, slagt+smågrise'!CG$2,FALSE)","v":{"$error":"#N/A"}}]
[null,91,{"$f":"'Vejehold 1'!$K20","v":0},{"$f":"'Vejehold 2'!$K20","v":0},{"$f":"'Vejehold 3'!$K20","v":0},{"$f":"'Vejehold 4'!$K20","v":0},{"$f":"'Vejehold 5'!$K20","v":0},{"$f":"'Vejehold 6'!$K20","v":0},null,null,null,null,null,null,null,null,null,null,null,null,null,null,null,null,null,null,66,{"$f":"AB69+1","v":"1900-03-06"},{"$f":"VLOOKUP($AB70,'Vejehold 1'!$A$7:$P$23,'Opsamling, slagt+smågrise'!AC$2,FALSE)","v":{"$error":"#N/A"}},{"$f":"VLOOKUP($AB70,'Vejehold 1'!$A$7:$P$23,'Opsamling, slagt+smågrise'!AD$2,FALSE)","v":{"$error":"#N/A"}},{"$f":"VLOOKUP($AB70,'Vejehold 1'!$A$7:$P$23,'Opsamling, slagt+smågrise'!AE$2,FALSE)","v":{"$error":"#N/A"}},{"$f":"VLOOKUP($AB70,'Vejehold 1'!$A$7:$P$23,'Opsamling, slagt+smågrise'!AF$2,FALSE)","v":{"$error":"#N/A"}},{"$f":"VLOOKUP($AB70,'Vejehold 1'!$A$7:$P$23,'Opsamling, slagt+smågrise'!AG$2,FALSE)","v":{"$error":"#N/A"}},{"$f":"VLOOKUP($AB70,'Vejehold 1'!$A$7:$P$23,'Opsamling, slagt+smågrise'!AH$2,FALSE)","v":{"$error":"#N/A"}},{"$f":"VLOOKUP($AB70,'Vejehold 1'!$A$7:$P$23,'Opsamling, slagt+smågrise'!AI$2,FALSE)","v":{"$error":"#N/A"}},null,66,"1900-03-06",{"$f":"VLOOKUP($AL70,'Vejehold 2'!$A$7:$P$23,'Opsamling, slagt+smågrise'!AM$2,FALSE)","v":{"$error":"#N/A"}},{"$f":"VLOOKUP($AL70,'Vejehold 2'!$A$7:$P$23,'Opsamling, slagt+smågrise'!AN$2,FALSE)","v":{"$error":"#N/A"}},{"$f":"VLOOKUP($AL70,'Vejehold 2'!$A$7:$P$23,'Opsamling, slagt+smågrise'!AO$2,FALSE)","v":{"$error":"#N/A"}},{"$f":"VLOOKUP($AL70,'Vejehold 2'!$A$7:$P$23,'Opsamling, slagt+smågrise'!AP$2,FALSE)","v":{"$error":"#N/A"}},{"$f":"VLOOKUP($AL70,'Vejehold 2'!$A$7:$P$23,'Opsamling, slagt+smågrise'!AQ$2,FALSE)","v":{"$error":"#N/A"}},{"$f":"VLOOKUP($AL70,'Vejehold 2'!$A$7:$P$23,'Opsamling, slagt+smågrise'!AR$2,FALSE)","v":{"$error":"#N/A"}},{"$f":"VLOOKUP($AL70,'Vejehold 2'!$A$7:$P$23,'Opsamling, slagt+smågrise'!AS$2,FALSE)","v":{"$error":"#N/A"}},null,66,"1900-03-06",{"$f":"VLOOKUP($AV70,'Vejehold 3'!$A$7:$P$23,'Opsamling, slagt+smågrise'!AW$2,FALSE)","v":{"$error":"#N/A"}},{"$f":"VLOOKUP($AV70,'Vejehold 3'!$A$7:$P$23,'Opsamling, slagt+smågrise'!AX$2,FALSE)","v":{"$error":"#N/A"}},{"$f":"VLOOKUP($AV70,'Vejehold 3'!$A$7:$P$23,'Opsamling, slagt+smågrise'!AY$2,FALSE)","v":{"$error":"#N/A"}},{"$f":"VLOOKUP($AV70,'Vejehold 3'!$A$7:$P$23,'Opsamling, slagt+smågrise'!AZ$2,FALSE)","v":{"$error":"#N/A"}},{"$f":"VLOOKUP($AV70,'Vejehold 3'!$A$7:$P$23,'Opsamling, slagt+smågrise'!BA$2,FALSE)","v":{"$error":"#N/A"}},{"$f":"VLOOKUP($AV70,'Vejehold 3'!$A$7:$P$23,'Opsamling, slagt+smågrise'!BB$2,FALSE)","v":{"$error":"#N/A"}},{"$f":"VLOOKUP($AV70,'Vejehold 3'!$A$7:$P$23,'Opsamling, slagt+smågrise'!BC$2,FALSE)","v":{"$error":"#N/A"}},null,66,"1900-03-06",{"$f":"VLOOKUP($BF70,'Vejehold 4'!$A$7:$P$23,'Opsamling, slagt+smågrise'!BG$2,FALSE)","v":{"$error":"#N/A"}},{"$f":"VLOOKUP($BF70,'Vejehold 4'!$A$7:$P$23,'Opsamling, slagt+smågrise'!BH$2,FALSE)","v":{"$error":"#N/A"}},{"$f":"VLOOKUP($BF70,'Vejehold 4'!$A$7:$P$23,'Opsamling, slagt+smågrise'!BI$2,FALSE)","v":{"$error":"#N/A"}},{"$f":"VLOOKUP($BF70,'Vejehold 4'!$A$7:$P$23,'Opsamling, slagt+smågrise'!BJ$2,FALSE)","v":{"$error":"#N/A"}},{"$f":"VLOOKUP($BF70,'Vejehold 4'!$A$7:$P$23,'Opsamling, slagt+smågrise'!BK$2,FALSE)","v":{"$error":"#N/A"}},{"$f":"VLOOKUP($BF70,'Vejehold 4'!$A$7:$P$23,'Opsamling, slagt+smågrise'!BL$2,FALSE)","v":{"$error":"#N/A"}},{"$f":"VLOOKUP($BF70,'Vejehold 4'!$A$7:$P$23,'Opsamling, slagt+smågrise'!BM$2,FALSE)","v":{"$error":"#N/A"}},null,66,"1900-03-06",{"$f":"VLOOKUP($BP70,'Vejehold 5'!$A$7:$P$23,'Opsamling, slagt+smågrise'!BQ$2,FALSE)","v":{"$error":"#N/A"}},{"$f":"VLOOKUP($BP70,'Vejehold 5'!$A$7:$P$23,'Opsamling, slagt+smågrise'!BR$2,FALSE)","v":{"$error":"#N/A"}},{"$f":"VLOOKUP($BP70,'Vejehold 5'!$A$7:$P$23,'Opsamling, slagt+smågrise'!BS$2,FALSE)","v":{"$error":"#N/A"}},{"$f":"VLOOKUP($BP70,'Vejehold 5'!$A$7:$P$23,'Opsamling, slagt+smågrise'!BT$2,FALSE)","v":{"$error":"#N/A"}},{"$f":"VLOOKUP($BP70,'Vejehold 5'!$A$7:$P$23,'Opsamling, slagt+smågrise'!BU$2,FALSE)","v":{"$error":"#N/A"}},{"$f":"VLOOKUP($BP70,'Vejehold 5'!$A$7:$P$23,'Opsamling, slagt+smågrise'!BV$2,FALSE)","v":{"$error":"#N/A"}},{"$f":"VLOOKUP($BP70,'Vejehold 5'!$A$7:$P$23,'Opsamling, slagt+smågrise'!BW$2,FALSE)","v":{"$error":"#N/A"}},null,66,"1900-03-06",{"$f":"VLOOKUP($BZ70,'Vejehold 6'!$A$7:$P$23,'Opsamling, slagt+smågrise'!CA$2,FALSE)","v":{"$error":"#N/A"}},{"$f":"VLOOKUP($BZ70,'Vejehold 6'!$A$7:$P$23,'Opsamling, slagt+smågrise'!CB$2,FALSE)","v":{"$error":"#N/A"}},{"$f":"VLOOKUP($BZ70,'Vejehold 6'!$A$7:$P$23,'Opsamling, slagt+smågrise'!CC$2,FALSE)","v":{"$error":"#N/A"}},{"$f":"VLOOKUP($BZ70,'Vejehold 6'!$A$7:$P$23,'Opsamling, slagt+smågrise'!CD$2,FALSE)","v":{"$error":"#N/A"}},{"$f":"VLOOKUP($BZ70,'Vejehold 6'!$A$7:$P$23,'Opsamling, slagt+smågrise'!CE$2,FALSE)","v":{"$error":"#N/A"}},{"$f":"VLOOKUP($BZ70,'Vejehold 6'!$A$7:$P$23,'Opsamling, slagt+smågrise'!CF$2,FALSE)","v":{"$error":"#N/A"}},{"$f":"VLOOKUP($BZ70,'Vejehold 6'!$A$7:$P$23,'Opsamling, slagt+smågrise'!CG$2,FALSE)","v":{"$error":"#N/A"}}]
[null,98,{"$f":"'Vejehold 1'!$K21","v":0},{"$f":"'Vejehold 2'!$K21","v":0},{"$f":"'Vejehold 3'!$K21","v":0},{"$f":"'Vejehold 4'!$K21","v":0},{"$f":"'Vejehold 5'!$K21","v":0},{"$f":"'Vejehold 6'!$K21","v":0},null,null,null,null,null,null,null,null,null,null,null,null,null,null,null,null,null,null,67,"1900-03-07",{"$f":"VLOOKUP($AB71,'Vejehold 1'!$A$7:$P$23,'Opsamling, slagt+smågrise'!AC$2,FALSE)","v":{"$error":"#N/A"}},{"$f":"VLOOKUP($AB71,'Vejehold 1'!$A$7:$P$23,'Opsamling, slagt+smågrise'!AD$2,FALSE)","v":{"$error":"#N/A"}},{"$f":"VLOOKUP($AB71,'Vejehold 1'!$A$7:$P$23,'Opsamling, slagt+smågrise'!AE$2,FALSE)","v":{"$error":"#N/A"}},{"$f":"VLOOKUP($AB71,'Vejehold 1'!$A$7:$P$23,'Opsamling, slagt+smågrise'!AF$2,FALSE)","v":{"$error":"#N/A"}},{"$f":"VLOOKUP($AB71,'Vejehold 1'!$A$7:$P$23,'Opsamling, slagt+smågrise'!AG$2,FALSE)","v":{"$error":"#N/A"}},{"$f":"VLOOKUP($AB71,'Vejehold 1'!$A$7:$P$23,'Opsamling, slagt+smågrise'!AH$2,FALSE)","v":{"$error":"#N/A"}},{"$f":"VLOOKUP($AB71,'Vejehold 1'!$A$7:$P$23,'Opsamling, slagt+smågrise'!AI$2,FALSE)","v":{"$error":"#N/A"}},null,67,"1900-03-07",{"$f":"VLOOKUP($AL71,'Vejehold 2'!$A$7:$P$23,'Opsamling, slagt+smågrise'!AM$2,FALSE)","v":{"$error":"#N/A"}},{"$f":"VLOOKUP($AL71,'Vejehold 2'!$A$7:$P$23,'Opsamling, slagt+smågrise'!AN$2,FALSE)","v":{"$error":"#N/A"}},{"$f":"VLOOKUP($AL71,'Vejehold 2'!$A$7:$P$23,'Opsamling, slagt+smågrise'!AO$2,FALSE)","v":{"$error":"#N/A"}},{"$f":"VLOOKUP($AL71,'Vejehold 2'!$A$7:$P$23,'Opsamling, slagt+smågrise'!AP$2,FALSE)","v":{"$error":"#N/A"}},{"$f":"VLOOKUP($AL71,'Vejehold 2'!$A$7:$P$23,'Opsamling, slagt+smågrise'!AQ$2,FALSE)","v":{"$error":"#N/A"}},{"$f":"VLOOKUP($AL71,'Vejehold 2'!$A$7:$P$23,'Opsamling, slagt+smågrise'!AR$2,FALSE)","v":{"$error":"#N/A"}},{"$f":"VLOOKUP($AL71,'Vejehold 2'!$A$7:$P$23,'Opsamling, slagt+smågrise'!AS$2,FALSE)","v":{"$error":"#N/A"}},null,67,"1900-03-07",{"$f":"VLOOKUP($AV71,'Vejehold 3'!$A$7:$P$23,'Opsamling, slagt+smågrise'!AW$2,FALSE)","v":{"$error":"#N/A"}},{"$f":"VLOOKUP($AV71,'Vejehold 3'!$A$7:$P$23,'Opsamling, slagt+smågrise'!AX$2,FALSE)","v":{"$error":"#N/A"}},{"$f":"VLOOKUP($AV71,'Vejehold 3'!$A$7:$P$23,'Opsamling, slagt+smågrise'!AY$2,FALSE)","v":{"$error":"#N/A"}},{"$f":"VLOOKUP($AV71,'Vejehold 3'!$A$7:$P$23,'Opsamling, slagt+smågrise'!AZ$2,FALSE)","v":{"$error":"#N/A"}},{"$f":"VLOOKUP($AV71,'Vejehold 3'!$A$7:$P$23,'Opsamling, slagt+smågrise'!BA$2,FALSE)","v":{"$error":"#N/A"}},{"$f":"VLOOKUP($AV71,'Vejehold 3'!$A$7:$P$23,'Opsamling, slagt+smågrise'!BB$2,FALSE)","v":{"$error":"#N/A"}},{"$f":"VLOOKUP($AV71,'Vejehold 3'!$A$7:$P$23,'Opsamling, slagt+smågrise'!BC$2,FALSE)","v":{"$error":"#N/A"}},null,67,"1900-03-07",{"$f":"VLOOKUP($BF71,'Vejehold 4'!$A$7:$P$23,'Opsamling, slagt+smågrise'!BG$2,FALSE)","v":{"$error":"#N/A"}},{"$f":"VLOOKUP($BF71,'Vejehold 4'!$A$7:$P$23,'Opsamling, slagt+smågrise'!BH$2,FALSE)","v":{"$error":"#N/A"}},{"$f":"VLOOKUP($BF71,'Vejehold 4'!$A$7:$P$23,'Opsamling, slagt+smågrise'!BI$2,FALSE)","v":{"$error":"#N/A"}},{"$f":"VLOOKUP($BF71,'Vejehold 4'!$A$7:$P$23,'Opsamling, slagt+smågrise'!BJ$2,FALSE)","v":{"$error":"#N/A"}},{"$f":"VLOOKUP($BF71,'Vejehold 4'!$A$7:$P$23,'Opsamling, slagt+smågrise'!BK$2,FALSE)","v":{"$error":"#N/A"}},{"$f":"VLOOKUP($BF71,'Vejehold 4'!$A$7:$P$23,'Opsamling, slagt+smågrise'!BL$2,FALSE)","v":{"$error":"#N/A"}},{"$f":"VLOOKUP($BF71,'Vejehold 4'!$A$7:$P$23,'Opsamling, slagt+smågrise'!BM$2,FALSE)","v":{"$error":"#N/A"}},null,67,"1900-03-07",{"$f":"VLOOKUP($BP71,'Vejehold 5'!$A$7:$P$23,'Opsamling, slagt+smågrise'!BQ$2,FALSE)","v":{"$error":"#N/A"}},{"$f":"VLOOKUP($BP71,'Vejehold 5'!$A$7:$P$23,'Opsamling, slagt+smågrise'!BR$2,FALSE)","v":{"$error":"#N/A"}},{"$f":"VLOOKUP($BP71,'Vejehold 5'!$A$7:$P$23,'Opsamling, slagt+smågrise'!BS$2,FALSE)","v":{"$error":"#N/A"}},{"$f":"VLOOKUP($BP71,'Vejehold 5'!$A$7:$P$23,'Opsamling, slagt+smågrise'!BT$2,FALSE)","v":{"$error":"#N/A"}},{"$f":"VLOOKUP($BP71,'Vejehold 5'!$A$7:$P$23,'Opsamling, slagt+smågrise'!BU$2,FALSE)","v":{"$error":"#N/A"}},{"$f":"VLOOKUP($BP71,'Vejehold 5'!$A$7:$P$23,'Opsamling, slagt+smågrise'!BV$2,FALSE)","v":{"$error":"#N/A"}},{"$f":"VLOOKUP($BP71,'Vejehold 5'!$A$7:$P$23,'Opsamling, slagt+smågrise'!BW$2,FALSE)","v":{"$error":"#N/A"}},null,67,"1900-03-07",{"$f":"VLOOKUP($BZ71,'Vejehold 6'!$A$7:$P$23,'Opsamling, slagt+smågrise'!CA$2,FALSE)","v":{"$error":"#N/A"}},{"$f":"VLOOKUP($BZ71,'Vejehold 6'!$A$7:$P$23,'Opsamling, slagt+smågrise'!CB$2,FALSE)","v":{"$error":"#N/A"}},{"$f":"VLOOKUP($BZ71,'Vejehold 6'!$A$7:$P$23,'Opsamling, slagt+smågrise'!CC$2,FALSE)","v":{"$error":"#N/A"}},{"$f":"VLOOKUP($BZ71,'Vejehold 6'!$A$7:$P$23,'Opsamling, slagt+smågrise'!CD$2,FALSE)","v":{"$error":"#N/A"}},{"$f":"VLOOKUP($BZ71,'Vejehold 6'!$A$7:$P$23,'Opsamling, slagt+smågrise'!CE$2,FALSE)","v":{"$error":"#N/A"}},{"$f":"VLOOKUP($BZ71,'Vejehold 6'!$A$7:$P$23,'Opsamling, slagt+smågrise'!CF$2,FALSE)","v":{"$error":"#N/A"}},{"$f":"VLOOKUP($BZ71,'Vejehold 6'!$A$7:$P$23,'Opsamling, slagt+smågrise'!CG$2,FALSE)","v":{"$error":"#N/A"}}]
[null,null,null,null,null,null,null,null,null,null,null,null,null,null,null,null,null,null,null,null,null,null,null,null,null,null,68,"1900-03-08",{"$f":"VLOOKUP($AB72,'Vejehold 1'!$A$7:$P$23,'Opsamling, slagt+smågrise'!AC$2,FALSE)","v":{"$error":"#N/A"}},{"$f":"VLOOKUP($AB72,'Vejehold 1'!$A$7:$P$23,'Opsamling, slagt+smågrise'!AD$2,FALSE)","v":{"$error":"#N/A"}},{"$f":"VLOOKUP($AB72,'Vejehold 1'!$A$7:$P$23,'Opsamling, slagt+smågrise'!AE$2,FALSE)","v":{"$error":"#N/A"}},{"$f":"VLOOKUP($AB72,'Vejehold 1'!$A$7:$P$23,'Opsamling, slagt+smågrise'!AF$2,FALSE)","v":{"$error":"#N/A"}},{"$f":"VLOOKUP($AB72,'Vejehold 1'!$A$7:$P$23,'Opsamling, slagt+smågrise'!AG$2,FALSE)","v":{"$error":"#N/A"}},{"$f":"VLOOKUP($AB72,'Vejehold 1'!$A$7:$P$23,'Opsamling, slagt+smågrise'!AH$2,FALSE)","v":{"$error":"#N/A"}},{"$f":"VLOOKUP($AB72,'Vejehold 1'!$A$7:$P$23,'Opsamling, slagt+smågrise'!AI$2,FALSE)","v":{"$error":"#N/A"}},null,68,"1900-03-08",{"$f":"VLOOKUP($AL72,'Vejehold 2'!$A$7:$P$23,'Opsamling, slagt+smågrise'!AM$2,FALSE)","v":{"$error":"#N/A"}},{"$f":"VLOOKUP($AL72,'Vejehold 2'!$A$7:$P$23,'Opsamling, slagt+smågrise'!AN$2,FALSE)","v":{"$error":"#N/A"}},{"$f":"VLOOKUP($AL72,'Vejehold 2'!$A$7:$P$23,'Opsamling, slagt+smågrise'!AO$2,FALSE)","v":{"$error":"#N/A"}},{"$f":"VLOOKUP($AL72,'Vejehold 2'!$A$7:$P$23,'Opsamling, slagt+smågrise'!AP$2,FALSE)","v":{"$error":"#N/A"}},{"$f":"VLOOKUP($AL72,'Vejehold 2'!$A$7:$P$23,'Opsamling, slagt+smågrise'!AQ$2,FALSE)","v":{"$error":"#N/A"}},{"$f":"VLOOKUP($AL72,'Vejehold 2'!$A$7:$P$23,'Opsamling, slagt+smågrise'!AR$2,FALSE)","v":{"$error":"#N/A"}},{"$f":"VLOOKUP($AL72,'Vejehold 2'!$A$7:$P$23,'Opsamling, slagt+smågrise'!AS$2,FALSE)","v":{"$error":"#N/A"}},null,68,"1900-03-08",{"$f":"VLOOKUP($AV72,'Vejehold 3'!$A$7:$P$23,'Opsamling, slagt+smågrise'!AW$2,FALSE)","v":{"$error":"#N/A"}},{"$f":"VLOOKUP($AV72,'Vejehold 3'!$A$7:$P$23,'Opsamling, slagt+smågrise'!AX$2,FALSE)","v":{"$error":"#N/A"}},{"$f":"VLOOKUP($AV72,'Vejehold 3'!$A$7:$P$23,'Opsamling, slagt+smågrise'!AY$2,FALSE)","v":{"$error":"#N/A"}},{"$f":"VLOOKUP($AV72,'Vejehold 3'!$A$7:$P$23,'Opsamling, slagt+smågrise'!AZ$2,FALSE)","v":{"$error":"#N/A"}},{"$f":"VLOOKUP($AV72,'Vejehold 3'!$A$7:$P$23,'Opsamling, slagt+smågrise'!BA$2,FALSE)","v":{"$error":"#N/A"}},{"$f":"VLOOKUP($AV72,'Vejehold 3'!$A$7:$P$23,'Opsamling, slagt+smågrise'!BB$2,FALSE)","v":{"$error":"#N/A"}},{"$f":"VLOOKUP($AV72,'Vejehold 3'!$A$7:$P$23,'Opsamling, slagt+smågrise'!BC$2,FALSE)","v":{"$error":"#N/A"}},null,68,"1900-03-08",{"$f":"VLOOKUP($BF72,'Vejehold 4'!$A$7:$P$23,'Opsamling, slagt+smågrise'!BG$2,FALSE)","v":{"$error":"#N/A"}},{"$f":"VLOOKUP($BF72,'Vejehold 4'!$A$7:$P$23,'Opsamling, slagt+smågrise'!BH$2,FALSE)","v":{"$error":"#N/A"}},{"$f":"VLOOKUP($BF72,'Vejehold 4'!$A$7:$P$23,'Opsamling, slagt+smågrise'!BI$2,FALSE)","v":{"$error":"#N/A"}},{"$f":"VLOOKUP($BF72,'Vejehold 4'!$A$7:$P$23,'Opsamling, slagt+smågrise'!BJ$2,FALSE)","v":{"$error":"#N/A"}},{"$f":"VLOOKUP($BF72,'Vejehold 4'!$A$7:$P$23,'Opsamling, slagt+smågrise'!BK$2,FALSE)","v":{"$error":"#N/A"}},{"$f":"VLOOKUP($BF72,'Vejehold 4'!$A$7:$P$23,'Opsamling, slagt+smågrise'!BL$2,FALSE)","v":{"$error":"#N/A"}},{"$f":"VLOOKUP($BF72,'Vejehold 4'!$A$7:$P$23,'Opsamling, slagt+smågrise'!BM$2,FALSE)","v":{"$error":"#N/A"}},null,68,"1900-03-08",{"$f":"VLOOKUP($BP72,'Vejehold 5'!$A$7:$P$23,'Opsamling, slagt+smågrise'!BQ$2,FALSE)","v":{"$error":"#N/A"}},{"$f":"VLOOKUP($BP72,'Vejehold 5'!$A$7:$P$23,'Opsamling, slagt+smågrise'!BR$2,FALSE)","v":{"$error":"#N/A"}},{"$f":"VLOOKUP($BP72,'Vejehold 5'!$A$7:$P$23,'Opsamling, slagt+smågrise'!BS$2,FALSE)","v":{"$error":"#N/A"}},{"$f":"VLOOKUP($BP72,'Vejehold 5'!$A$7:$P$23,'Opsamling, slagt+smågrise'!BT$2,FALSE)","v":{"$error":"#N/A"}},{"$f":"VLOOKUP($BP72,'Vejehold 5'!$A$7:$P$23,'Opsamling, slagt+smågrise'!BU$2,FALSE)","v":{"$error":"#N/A"}},{"$f":"VLOOKUP($BP72,'Vejehold 5'!$A$7:$P$23,'Opsamling, slagt+smågrise'!BV$2,FALSE)","v":{"$error":"#N/A"}},{"$f":"VLOOKUP($BP72,'Vejehold 5'!$A$7:$P$23,'Opsamling, slagt+smågrise'!BW$2,FALSE)","v":{"$error":"#N/A"}},null,68,"1900-03-08",{"$f":"VLOOKUP($BZ72,'Vejehold 6'!$A$7:$P$23,'Opsamling, slagt+smågrise'!CA$2,FALSE)","v":{"$error":"#N/A"}},{"$f":"VLOOKUP($BZ72,'Vejehold 6'!$A$7:$P$23,'Opsamling, slagt+smågrise'!CB$2,FALSE)","v":{"$error":"#N/A"}},{"$f":"VLOOKUP($BZ72,'Vejehold 6'!$A$7:$P$23,'Opsamling, slagt+smågrise'!CC$2,FALSE)","v":{"$error":"#N/A"}},{"$f":"VLOOKUP($BZ72,'Vejehold 6'!$A$7:$P$23,'Opsamling, slagt+smågrise'!CD$2,FALSE)","v":{"$error":"#N/A"}},{"$f":"VLOOKUP($BZ72,'Vejehold 6'!$A$7:$P$23,'Opsamling, slagt+smågrise'!CE$2,FALSE)","v":{"$error":"#N/A"}},{"$f":"VLOOKUP($BZ72,'Vejehold 6'!$A$7:$P$23,'Opsamling, slagt+smågrise'!CF$2,FALSE)","v":{"$error":"#N/A"}},{"$f":"VLOOKUP($BZ72,'Vejehold 6'!$A$7:$P$23,'Opsamling, slagt+smågrise'!CG$2,FALSE)","v":{"$error":"#N/A"}}]
[null,null,null,null,null,null,null,null,null,null,null,null,null,null,null,null,null,null,null,null,null,null,null,null,null,null,69,"1900-03-09",{"$f":"VLOOKUP($AB73,'Vejehold 1'!$A$7:$P$23,'Opsamling, slagt+smågrise'!AC$2,FALSE)","v":{"$error":"#N/A"}},{"$f":"VLOOKUP($AB73,'Vejehold 1'!$A$7:$P$23,'Opsamling, slagt+smågrise'!AD$2,FALSE)","v":{"$error":"#N/A"}},{"$f":"VLOOKUP($AB73,'Vejehold 1'!$A$7:$P$23,'Opsamling, slagt+smågrise'!AE$2,FALSE)","v":{"$error":"#N/A"}},{"$f":"VLOOKUP($AB73,'Vejehold 1'!$A$7:$P$23,'Opsamling, slagt+smågrise'!AF$2,FALSE)","v":{"$error":"#N/A"}},{"$f":"VLOOKUP($AB73,'Vejehold 1'!$A$7:$P$23,'Opsamling, slagt+smågrise'!AG$2,FALSE)","v":{"$error":"#N/A"}},{"$f":"VLOOKUP($AB73,'Vejehold 1'!$A$7:$P$23,'Opsamling, slagt+smågrise'!AH$2,FALSE)","v":{"$error":"#N/A"}},{"$f":"VLOOKUP($AB73,'Vejehold 1'!$A$7:$P$23,'Opsamling, slagt+smågrise'!AI$2,FALSE)","v":{"$error":"#N/A"}},null,69,"1900-03-09",{"$f":"VLOOKUP($AL73,'Vejehold 2'!$A$7:$P$23,'Opsamling, slagt+smågrise'!AM$2,FALSE)","v":{"$error":"#N/A"}},{"$f":"VLOOKUP($AL73,'Vejehold 2'!$A$7:$P$23,'Opsamling, slagt+smågrise'!AN$2,FALSE)","v":{"$error":"#N/A"}},{"$f":"VLOOKUP($AL73,'Vejehold 2'!$A$7:$P$23,'Opsamling, slagt+smågrise'!AO$2,FALSE)","v":{"$error":"#N/A"}},{"$f":"VLOOKUP($AL73,'Vejehold 2'!$A$7:$P$23,'Opsamling, slagt+smågrise'!AP$2,FALSE)","v":{"$error":"#N/A"}},{"$f":"VLOOKUP($AL73,'Vejehold 2'!$A$7:$P$23,'Opsamling, slagt+smågrise'!AQ$2,FALSE)","v":{"$error":"#N/A"}},{"$f":"VLOOKUP($AL73,'Vejehold 2'!$A$7:$P$23,'Opsamling, slagt+smågrise'!AR$2,FALSE)","v":{"$error":"#N/A"}},{"$f":"VLOOKUP($AL73,'Vejehold 2'!$A$7:$P$23,'Opsamling, slagt+smågrise'!AS$2,FALSE)","v":{"$error":"#N/A"}},null,69,"1900-03-09",{"$f":"VLOOKUP($AV73,'Vejehold 3'!$A$7:$P$23,'Opsamling, slagt+smågrise'!AW$2,FALSE)","v":{"$error":"#N/A"}},{"$f":"VLOOKUP($AV73,'Vejehold 3'!$A$7:$P$23,'Opsamling, slagt+smågrise'!AX$2,FALSE)","v":{"$error":"#N/A"}},{"$f":"VLOOKUP($AV73,'Vejehold 3'!$A$7:$P$23,'Opsamling, slagt+smågrise'!AY$2,FALSE)","v":{"$error":"#N/A"}},{"$f":"VLOOKUP($AV73,'Vejehold 3'!$A$7:$P$23,'Opsamling, slagt+smågrise'!AZ$2,FALSE)","v":{"$error":"#N/A"}},{"$f":"VLOOKUP($AV73,'Vejehold 3'!$A$7:$P$23,'Opsamling, slagt+smågrise'!BA$2,FALSE)","v":{"$error":"#N/A"}},{"$f":"VLOOKUP($AV73,'Vejehold 3'!$A$7:$P$23,'Opsamling, slagt+smågrise'!BB$2,FALSE)","v":{"$error":"#N/A"}},{"$f":"VLOOKUP($AV73,'Vejehold 3'!$A$7:$P$23,'Opsamling, slagt+smågrise'!BC$2,FALSE)","v":{"$error":"#N/A"}},null,69,"1900-03-09",{"$f":"VLOOKUP($BF73,'Vejehold 4'!$A$7:$P$23,'Opsamling, slagt+smågrise'!BG$2,FALSE)","v":{"$error":"#N/A"}},{"$f":"VLOOKUP($BF73,'Vejehold 4'!$A$7:$P$23,'Opsamling, slagt+smågrise'!BH$2,FALSE)","v":{"$error":"#N/A"}},{"$f":"VLOOKUP($BF73,'Vejehold 4'!$A$7:$P$23,'Opsamling, slagt+smågrise'!BI$2,FALSE)","v":{"$error":"#N/A"}},{"$f":"VLOOKUP($BF73,'Vejehold 4'!$A$7:$P$23,'Opsamling, slagt+smågrise'!BJ$2,FALSE)","v":{"$error":"#N/A"}},{"$f":"VLOOKUP($BF73,'Vejehold 4'!$A$7:$P$23,'Opsamling, slagt+smågrise'!BK$2,FALSE)","v":{"$error":"#N/A"}},{"$f":"VLOOKUP($BF73,'Vejehold 4'!$A$7:$P$23,'Opsamling, slagt+smågrise'!BL$2,FALSE)","v":{"$error":"#N/A"}},{"$f":"VLOOKUP($BF73,'Vejehold 4'!$A$7:$P$23,'Opsamling, slagt+smågrise'!BM$2,FALSE)","v":{"$error":"#N/A"}},null,69,"1900-03-09",{"$f":"VLOOKUP($BP73,'Vejehold 5'!$A$7:$P$23,'Opsamling, slagt+smågrise'!BQ$2,FALSE)","v":{"$error":"#N/A"}},{"$f":"VLOOKUP($BP73,'Vejehold 5'!$A$7:$P$23,'Opsamling, slagt+smågrise'!BR$2,FALSE)","v":{"$error":"#N/A"}},{"$f":"VLOOKUP($BP73,'Vejehold 5'!$A$7:$P$23,'Opsamling, slagt+smågrise'!BS$2,FALSE)","v":{"$error":"#N/A"}},{"$f":"VLOOKUP($BP73,'Vejehold 5'!$A$7:$P$23,'Opsamling, slagt+smågrise'!BT$2,FALSE)","v":{"$error":"#N/A"}},{"$f":"VLOOKUP($BP73,'Vejehold 5'!$A$7:$P$23,'Opsamling, slagt+smågrise'!BU$2,FALSE)","v":{"$error":"#N/A"}},{"$f":"VLOOKUP($BP73,'Vejehold 5'!$A$7:$P$23,'Opsamling, slagt+smågrise'!BV$2,FALSE)","v":{"$error":"#N/A"}},{"$f":"VLOOKUP($BP73,'Vejehold 5'!$A$7:$P$23,'Opsamling, slagt+smågrise'!BW$2,FALSE)","v":{"$error":"#N/A"}},null,69,"1900-03-09",{"$f":"VLOOKUP($BZ73,'Vejehold 6'!$A$7:$P$23,'Opsamling, slagt+smågrise'!CA$2,FALSE)","v":{"$error":"#N/A"}},{"$f":"VLOOKUP($BZ73,'Vejehold 6'!$A$7:$P$23,'Opsamling, slagt+smågrise'!CB$2,FALSE)","v":{"$error":"#N/A"}},{"$f":"VLOOKUP($BZ73,'Vejehold 6'!$A$7:$P$23,'Opsamling, slagt+smågrise'!CC$2,FALSE)","v":{"$error":"#N/A"}},{"$f":"VLOOKUP($BZ73,'Vejehold 6'!$A$7:$P$23,'Opsamling, slagt+smågrise'!CD$2,FALSE)","v":{"$error":"#N/A"}},{"$f":"VLOOKUP($BZ73,'Vejehold 6'!$A$7:$P$23,'Opsamling, slagt+smågrise'!CE$2,FALSE)","v":{"$error":"#N/A"}},{"$f":"VLOOKUP($BZ73,'Vejehold 6'!$A$7:$P$23,'Opsamling, slagt+smågrise'!CF$2,FALSE)","v":{"$error":"#N/A"}},{"$f":"VLOOKUP($BZ73,'Vejehold 6'!$A$7:$P$23,'Opsamling, slagt+smågrise'!CG$2,FALSE)","v":{"$error":"#N/A"}}]
[null,"FE pr. kg tilvækst til dato",null,null,null,null,null,null,null,null,null,null,null,null,null,null,null,null,null,null,null,null,null,null,null,null,70,"1900-03-10",{"$f":"VLOOKUP($AB74,'Vejehold 1'!$A$7:$P$23,'Opsamling, slagt+smågrise'!AC$2,FALSE)","v":{"$error":"#N/A"}},{"$f":"VLOOKUP($AB74,'Vejehold 1'!$A$7:$P$23,'Opsamling, slagt+smågrise'!AD$2,FALSE)","v":{"$error":"#N/A"}},{"$f":"VLOOKUP($AB74,'Vejehold 1'!$A$7:$P$23,'Opsamling, slagt+smågrise'!AE$2,FALSE)","v":{"$error":"#N/A"}},{"$f":"VLOOKUP($AB74,'Vejehold 1'!$A$7:$P$23,'Opsamling, slagt+smågrise'!AF$2,FALSE)","v":{"$error":"#N/A"}},{"$f":"VLOOKUP($AB74,'Vejehold 1'!$A$7:$P$23,'Opsamling, slagt+smågrise'!AG$2,FALSE)","v":{"$error":"#N/A"}},{"$f":"VLOOKUP($AB74,'Vejehold 1'!$A$7:$P$23,'Opsamling, slagt+smågrise'!AH$2,FALSE)","v":{"$error":"#N/A"}},{"$f":"VLOOKUP($AB74,'Vejehold 1'!$A$7:$P$23,'Opsamling, slagt+smågrise'!AI$2,FALSE)","v":{"$error":"#N/A"}},null,70,"1900-03-10",{"$f":"VLOOKUP($AL74,'Vejehold 2'!$A$7:$P$23,'Opsamling, slagt+smågrise'!AM$2,FALSE)","v":{"$error":"#N/A"}},{"$f":"VLOOKUP($AL74,'Vejehold 2'!$A$7:$P$23,'Opsamling, slagt+smågrise'!AN$2,FALSE)","v":{"$error":"#N/A"}},{"$f":"VLOOKUP($AL74,'Vejehold 2'!$A$7:$P$23,'Opsamling, slagt+smågrise'!AO$2,FALSE)","v":{"$error":"#N/A"}},{"$f":"VLOOKUP($AL74,'Vejehold 2'!$A$7:$P$23,'Opsamling, slagt+smågrise'!AP$2,FALSE)","v":{"$error":"#N/A"}},{"$f":"VLOOKUP($AL74,'Vejehold 2'!$A$7:$P$23,'Opsamling, slagt+smågrise'!AQ$2,FALSE)","v":{"$error":"#N/A"}},{"$f":"VLOOKUP($AL74,'Vejehold 2'!$A$7:$P$23,'Opsamling, slagt+smågrise'!AR$2,FALSE)","v":{"$error":"#N/A"}},{"$f":"VLOOKUP($AL74,'Vejehold 2'!$A$7:$P$23,'Opsamling, slagt+smågrise'!AS$2,FALSE)","v":{"$error":"#N/A"}},null,70,"1900-03-10",{"$f":"VLOOKUP($AV74,'Vejehold 3'!$A$7:$P$23,'Opsamling, slagt+smågrise'!AW$2,FALSE)","v":{"$error":"#N/A"}},{"$f":"VLOOKUP($AV74,'Vejehold 3'!$A$7:$P$23,'Opsamling, slagt+smågrise'!AX$2,FALSE)","v":{"$error":"#N/A"}},{"$f":"VLOOKUP($AV74,'Vejehold 3'!$A$7:$P$23,'Opsamling, slagt+smågrise'!AY$2,FALSE)","v":{"$error":"#N/A"}},{"$f":"VLOOKUP($AV74,'Vejehold 3'!$A$7:$P$23,'Opsamling, slagt+smågrise'!AZ$2,FALSE)","v":{"$error":"#N/A"}},{"$f":"VLOOKUP($AV74,'Vejehold 3'!$A$7:$P$23,'Opsamling, slagt+smågrise'!BA$2,FALSE)","v":{"$error":"#N/A"}},{"$f":"VLOOKUP($AV74,'Vejehold 3'!$A$7:$P$23,'Opsamling, slagt+smågrise'!BB$2,FALSE)","v":{"$error":"#N/A"}},{"$f":"VLOOKUP($AV74,'Vejehold 3'!$A$7:$P$23,'Opsamling, slagt+smågrise'!BC$2,FALSE)","v":{"$error":"#N/A"}},null,70,"1900-03-10",{"$f":"VLOOKUP($BF74,'Vejehold 4'!$A$7:$P$23,'Opsamling, slagt+smågrise'!BG$2,FALSE)","v":{"$error":"#N/A"}},{"$f":"VLOOKUP($BF74,'Vejehold 4'!$A$7:$P$23,'Opsamling, slagt+smågrise'!BH$2,FALSE)","v":{"$error":"#N/A"}},{"$f":"VLOOKUP($BF74,'Vejehold 4'!$A$7:$P$23,'Opsamling, slagt+smågrise'!BI$2,FALSE)","v":{"$error":"#N/A"}},{"$f":"VLOOKUP($BF74,'Vejehold 4'!$A$7:$P$23,'Opsamling, slagt+smågrise'!BJ$2,FALSE)","v":{"$error":"#N/A"}},{"$f":"VLOOKUP($BF74,'Vejehold 4'!$A$7:$P$23,'Opsamling, slagt+smågrise'!BK$2,FALSE)","v":{"$error":"#N/A"}},{"$f":"VLOOKUP($BF74,'Vejehold 4'!$A$7:$P$23,'Opsamling, slagt+smågrise'!BL$2,FALSE)","v":{"$error":"#N/A"}},{"$f":"VLOOKUP($BF74,'Vejehold 4'!$A$7:$P$23,'Opsamling, slagt+smågrise'!BM$2,FALSE)","v":{"$error":"#N/A"}},null,70,"1900-03-10",{"$f":"VLOOKUP($BP74,'Vejehold 5'!$A$7:$P$23,'Opsamling, slagt+smågrise'!BQ$2,FALSE)","v":{"$error":"#N/A"}},{"$f":"VLOOKUP($BP74,'Vejehold 5'!$A$7:$P$23,'Opsamling, slagt+smågrise'!BR$2,FALSE)","v":{"$error":"#N/A"}},{"$f":"VLOOKUP($BP74,'Vejehold 5'!$A$7:$P$23,'Opsamling, slagt+smågrise'!BS$2,FALSE)","v":{"$error":"#N/A"}},{"$f":"VLOOKUP($BP74,'Vejehold 5'!$A$7:$P$23,'Opsamling, slagt+smågrise'!BT$2,FALSE)","v":{"$error":"#N/A"}},{"$f":"VLOOKUP($BP74,'Vejehold 5'!$A$7:$P$23,'Opsamling, slagt+smågrise'!BU$2,FALSE)","v":{"$error":"#N/A"}},{"$f":"VLOOKUP($BP74,'Vejehold 5'!$A$7:$P$23,'Opsamling, slagt+smågrise'!BV$2,FALSE)","v":{"$error":"#N/A"}},{"$f":"VLOOKUP($BP74,'Vejehold 5'!$A$7:$P$23,'Opsamling, slagt+smågrise'!BW$2,FALSE)","v":{"$error":"#N/A"}},null,70,"1900-03-10",{"$f":"VLOOKUP($BZ74,'Vejehold 6'!$A$7:$P$23,'Opsamling, slagt+smågrise'!CA$2,FALSE)","v":{"$error":"#N/A"}},{"$f":"VLOOKUP($BZ74,'Vejehold 6'!$A$7:$P$23,'Opsamling, slagt+smågrise'!CB$2,FALSE)","v":{"$error":"#N/A"}},{"$f":"VLOOKUP($BZ74,'Vejehold 6'!$A$7:$P$23,'Opsamling, slagt+smågrise'!CC$2,FALSE)","v":{"$error":"#N/A"}},{"$f":"VLOOKUP($BZ74,'Vejehold 6'!$A$7:$P$23,'Opsamling, slagt+smågrise'!CD$2,FALSE)","v":{"$error":"#N/A"}},{"$f":"VLOOKUP($BZ74,'Vejehold 6'!$A$7:$P$23,'Opsamling, slagt+smågrise'!CE$2,FALSE)","v":{"$error":"#N/A"}},{"$f":"VLOOKUP($BZ74,'Vejehold 6'!$A$7:$P$23,'Opsamling, slagt+smågrise'!CF$2,FALSE)","v":{"$error":"#N/A"}},{"$f":"VLOOKUP($BZ74,'Vejehold 6'!$A$7:$P$23,'Opsamling, slagt+smågrise'!CG$2,FALSE)","v":{"$error":"#N/A"}}]
[null,"Dag","Hold 1","Hold 2","Hold 3","Hold 4","Hold 5","Hold 6",null,null,null,null,null,null,null,null,null,null,null,null,null,null,null,null,null,null,71,"1900-03-11",{"$f":"VLOOKUP($AB75,'Vejehold 1'!$A$7:$P$23,'Opsamling, slagt+smågrise'!AC$2,FALSE)","v":{"$error":"#N/A"}},{"$f":"VLOOKUP($AB75,'Vejehold 1'!$A$7:$P$23,'Opsamling, slagt+smågrise'!AD$2,FALSE)","v":{"$error":"#N/A"}},{"$f":"VLOOKUP($AB75,'Vejehold 1'!$A$7:$P$23,'Opsamling, slagt+smågrise'!AE$2,FALSE)","v":{"$error":"#N/A"}},{"$f":"VLOOKUP($AB75,'Vejehold 1'!$A$7:$P$23,'Opsamling, slagt+smågrise'!AF$2,FALSE)","v":{"$error":"#N/A"}},{"$f":"VLOOKUP($AB75,'Vejehold 1'!$A$7:$P$23,'Opsamling, slagt+smågrise'!AG$2,FALSE)","v":{"$error":"#N/A"}},{"$f":"VLOOKUP($AB75,'Vejehold 1'!$A$7:$P$23,'Opsamling, slagt+smågrise'!AH$2,FALSE)","v":{"$error":"#N/A"}},{"$f":"VLOOKUP($AB75,'Vejehold 1'!$A$7:$P$23,'Opsamling, slagt+smågrise'!AI$2,FALSE)","v":{"$error":"#N/A"}},null,71,"1900-03-11",{"$f":"VLOOKUP($AL75,'Vejehold 2'!$A$7:$P$23,'Opsamling, slagt+smågrise'!AM$2,FALSE)","v":{"$error":"#N/A"}},{"$f":"VLOOKUP($AL75,'Vejehold 2'!$A$7:$P$23,'Opsamling, slagt+smågrise'!AN$2,FALSE)","v":{"$error":"#N/A"}},{"$f":"VLOOKUP($AL75,'Vejehold 2'!$A$7:$P$23,'Opsamling, slagt+smågrise'!AO$2,FALSE)","v":{"$error":"#N/A"}},{"$f":"VLOOKUP($AL75,'Vejehold 2'!$A$7:$P$23,'Opsamling, slagt+smågrise'!AP$2,FALSE)","v":{"$error":"#N/A"}},{"$f":"VLOOKUP($AL75,'Vejehold 2'!$A$7:$P$23,'Opsamling, slagt+smågrise'!AQ$2,FALSE)","v":{"$error":"#N/A"}},{"$f":"VLOOKUP($AL75,'Vejehold 2'!$A$7:$P$23,'Opsamling, slagt+smågrise'!AR$2,FALSE)","v":{"$error":"#N/A"}},{"$f":"VLOOKUP($AL75,'Vejehold 2'!$A$7:$P$23,'Opsamling, slagt+smågrise'!AS$2,FALSE)","v":{"$error":"#N/A"}},null,71,"1900-03-11",{"$f":"VLOOKUP($AV75,'Vejehold 3'!$A$7:$P$23,'Opsamling, slagt+smågrise'!AW$2,FALSE)","v":{"$error":"#N/A"}},{"$f":"VLOOKUP($AV75,'Vejehold 3'!$A$7:$P$23,'Opsamling, slagt+smågrise'!AX$2,FALSE)","v":{"$error":"#N/A"}},{"$f":"VLOOKUP($AV75,'Vejehold 3'!$A$7:$P$23,'Opsamling, slagt+smågrise'!AY$2,FALSE)","v":{"$error":"#N/A"}},{"$f":"VLOOKUP($AV75,'Vejehold 3'!$A$7:$P$23,'Opsamling, slagt+smågrise'!AZ$2,FALSE)","v":{"$error":"#N/A"}},{"$f":"VLOOKUP($AV75,'Vejehold 3'!$A$7:$P$23,'Opsamling, slagt+smågrise'!BA$2,FALSE)","v":{"$error":"#N/A"}},{"$f":"VLOOKUP($AV75,'Vejehold 3'!$A$7:$P$23,'Opsamling, slagt+smågrise'!BB$2,FALSE)","v":{"$error":"#N/A"}},{"$f":"VLOOKUP($AV75,'Vejehold 3'!$A$7:$P$23,'Opsamling, slagt+smågrise'!BC$2,FALSE)","v":{"$error":"#N/A"}},null,71,"1900-03-11",{"$f":"VLOOKUP($BF75,'Vejehold 4'!$A$7:$P$23,'Opsamling, slagt+smågrise'!BG$2,FALSE)","v":{"$error":"#N/A"}},{"$f":"VLOOKUP($BF75,'Vejehold 4'!$A$7:$P$23,'Opsamling, slagt+smågrise'!BH$2,FALSE)","v":{"$error":"#N/A"}},{"$f":"VLOOKUP($BF75,'Vejehold 4'!$A$7:$P$23,'Opsamling, slagt+smågrise'!BI$2,FALSE)","v":{"$error":"#N/A"}},{"$f":"VLOOKUP($BF75,'Vejehold 4'!$A$7:$P$23,'Opsamling, slagt+smågrise'!BJ$2,FALSE)","v":{"$error":"#N/A"}},{"$f":"VLOOKUP($BF75,'Vejehold 4'!$A$7:$P$23,'Opsamling, slagt+smågrise'!BK$2,FALSE)","v":{"$error":"#N/A"}},{"$f":"VLOOKUP($BF75,'Vejehold 4'!$A$7:$P$23,'Opsamling, slagt+smågrise'!BL$2,FALSE)","v":{"$error":"#N/A"}},{"$f":"VLOOKUP($BF75,'Vejehold 4'!$A$7:$P$23,'Opsamling, slagt+smågrise'!BM$2,FALSE)","v":{"$error":"#N/A"}},null,71,"1900-03-11",{"$f":"VLOOKUP($BP75,'Vejehold 5'!$A$7:$P$23,'Opsamling, slagt+smågrise'!BQ$2,FALSE)","v":{"$error":"#N/A"}},{"$f":"VLOOKUP($BP75,'Vejehold 5'!$A$7:$P$23,'Opsamling, slagt+smågrise'!BR$2,FALSE)","v":{"$error":"#N/A"}},{"$f":"VLOOKUP($BP75,'Vejehold 5'!$A$7:$P$23,'Opsamling, slagt+smågrise'!BS$2,FALSE)","v":{"$error":"#N/A"}},{"$f":"VLOOKUP($BP75,'Vejehold 5'!$A$7:$P$23,'Opsamling, slagt+smågrise'!BT$2,FALSE)","v":{"$error":"#N/A"}},{"$f":"VLOOKUP($BP75,'Vejehold 5'!$A$7:$P$23,'Opsamling, slagt+smågrise'!BU$2,FALSE)","v":{"$error":"#N/A"}},{"$f":"VLOOKUP($BP75,'Vejehold 5'!$A$7:$P$23,'Opsamling, slagt+smågrise'!BV$2,FALSE)","v":{"$error":"#N/A"}},{"$f":"VLOOKUP($BP75,'Vejehold 5'!$A$7:$P$23,'Opsamling, slagt+smågrise'!BW$2,FALSE)","v":{"$error":"#N/A"}},null,71,"1900-03-11",{"$f":"VLOOKUP($BZ75,'Vejehold 6'!$A$7:$P$23,'Opsamling, slagt+smågrise'!CA$2,FALSE)","v":{"$error":"#N/A"}},{"$f":"VLOOKUP($BZ75,'Vejehold 6'!$A$7:$P$23,'Opsamling, slagt+smågrise'!CB$2,FALSE)","v":{"$error":"#N/A"}},{"$f":"VLOOKUP($BZ75,'Vejehold 6'!$A$7:$P$23,'Opsamling, slagt+smågrise'!CC$2,FALSE)","v":{"$error":"#N/A"}},{"$f":"VLOOKUP($BZ75,'Vejehold 6'!$A$7:$P$23,'Opsamling, slagt+smågrise'!CD$2,FALSE)","v":{"$error":"#N/A"}},{"$f":"VLOOKUP($BZ75,'Vejehold 6'!$A$7:$P$23,'Opsamling, slagt+smågrise'!CE$2,FALSE)","v":{"$error":"#N/A"}},{"$f":"VLOOKUP($BZ75,'Vejehold 6'!$A$7:$P$23,'Opsamling, slagt+smågrise'!CF$2,FALSE)","v":{"$error":"#N/A"}},{"$f":"VLOOKUP($BZ75,'Vejehold 6'!$A$7:$P$23,'Opsamling, slagt+smågrise'!CG$2,FALSE)","v":{"$error":"#N/A"}}]
[null,7,{"$f":"'Vejehold 1'!$L8","v":0},{"$f":"'Vejehold 2'!$L8","v":0},{"$f":"'Vejehold 3'!$L8","v":0},{"$f":"'Vejehold 4'!$L8","v":0},{"$f":"'Vejehold 5'!$L8","v":0},{"$f":"'Vejehold 6'!$L8","v":0},null,null,null,null,null,null,null,null,null,null,null,null,null,null,null,null,null,null,72,"1900-03-12",{"$f":"VLOOKUP($AB76,'Vejehold 1'!$A$7:$P$23,'Opsamling, slagt+smågrise'!AC$2,FALSE)","v":{"$error":"#N/A"}},{"$f":"VLOOKUP($AB76,'Vejehold 1'!$A$7:$P$23,'Opsamling, slagt+smågrise'!AD$2,FALSE)","v":{"$error":"#N/A"}},{"$f":"VLOOKUP($AB76,'Vejehold 1'!$A$7:$P$23,'Opsamling, slagt+smågrise'!AE$2,FALSE)","v":{"$error":"#N/A"}},{"$f":"VLOOKUP($AB76,'Vejehold 1'!$A$7:$P$23,'Opsamling, slagt+smågrise'!AF$2,FALSE)","v":{"$error":"#N/A"}},{"$f":"VLOOKUP($AB76,'Vejehold 1'!$A$7:$P$23,'Opsamling, slagt+smågrise'!AG$2,FALSE)","v":{"$error":"#N/A"}},{"$f":"VLOOKUP($AB76,'Vejehold 1'!$A$7:$P$23,'Opsamling, slagt+smågrise'!AH$2,FALSE)","v":{"$error":"#N/A"}},{"$f":"VLOOKUP($AB76,'Vejehold 1'!$A$7:$P$23,'Opsamling, slagt+smågrise'!AI$2,FALSE)","v":{"$error":"#N/A"}},null,72,"1900-03-12",{"$f":"VLOOKUP($AL76,'Vejehold 2'!$A$7:$P$23,'Opsamling, slagt+smågrise'!AM$2,FALSE)","v":{"$error":"#N/A"}},{"$f":"VLOOKUP($AL76,'Vejehold 2'!$A$7:$P$23,'Opsamling, slagt+smågrise'!AN$2,FALSE)","v":{"$error":"#N/A"}},{"$f":"VLOOKUP($AL76,'Vejehold 2'!$A$7:$P$23,'Opsamling, slagt+smågrise'!AO$2,FALSE)","v":{"$error":"#N/A"}},{"$f":"VLOOKUP($AL76,'Vejehold 2'!$A$7:$P$23,'Opsamling, slagt+smågrise'!AP$2,FALSE)","v":{"$error":"#N/A"}},{"$f":"VLOOKUP($AL76,'Vejehold 2'!$A$7:$P$23,'Opsamling, slagt+smågrise'!AQ$2,FALSE)","v":{"$error":"#N/A"}},{"$f":"VLOOKUP($AL76,'Vejehold 2'!$A$7:$P$23,'Opsamling, slagt+smågrise'!AR$2,FALSE)","v":{"$error":"#N/A"}},{"$f":"VLOOKUP($AL76,'Vejehold 2'!$A$7:$P$23,'Opsamling, slagt+smågrise'!AS$2,FALSE)","v":{"$error":"#N/A"}},null,72,"1900-03-12",{"$f":"VLOOKUP($AV76,'Vejehold 3'!$A$7:$P$23,'Opsamling, slagt+smågrise'!AW$2,FALSE)","v":{"$error":"#N/A"}},{"$f":"VLOOKUP($AV76,'Vejehold 3'!$A$7:$P$23,'Opsamling, slagt+smågrise'!AX$2,FALSE)","v":{"$error":"#N/A"}},{"$f":"VLOOKUP($AV76,'Vejehold 3'!$A$7:$P$23,'Opsamling, slagt+smågrise'!AY$2,FALSE)","v":{"$error":"#N/A"}},{"$f":"VLOOKUP($AV76,'Vejehold 3'!$A$7:$P$23,'Opsamling, slagt+smågrise'!AZ$2,FALSE)","v":{"$error":"#N/A"}},{"$f":"VLOOKUP($AV76,'Vejehold 3'!$A$7:$P$23,'Opsamling, slagt+smågrise'!BA$2,FALSE)","v":{"$error":"#N/A"}},{"$f":"VLOOKUP($AV76,'Vejehold 3'!$A$7:$P$23,'Opsamling, slagt+smågrise'!BB$2,FALSE)","v":{"$error":"#N/A"}},{"$f":"VLOOKUP($AV76,'Vejehold 3'!$A$7:$P$23,'Opsamling, slagt+smågrise'!BC$2,FALSE)","v":{"$error":"#N/A"}},null,72,"1900-03-12",{"$f":"VLOOKUP($BF76,'Vejehold 4'!$A$7:$P$23,'Opsamling, slagt+smågrise'!BG$2,FALSE)","v":{"$error":"#N/A"}},{"$f":"VLOOKUP($BF76,'Vejehold 4'!$A$7:$P$23,'Opsamling, slagt+smågrise'!BH$2,FALSE)","v":{"$error":"#N/A"}},{"$f":"VLOOKUP($BF76,'Vejehold 4'!$A$7:$P$23,'Opsamling, slagt+smågrise'!BI$2,FALSE)","v":{"$error":"#N/A"}},{"$f":"VLOOKUP($BF76,'Vejehold 4'!$A$7:$P$23,'Opsamling, slagt+smågrise'!BJ$2,FALSE)","v":{"$error":"#N/A"}},{"$f":"VLOOKUP($BF76,'Vejehold 4'!$A$7:$P$23,'Opsamling, slagt+smågrise'!BK$2,FALSE)","v":{"$error":"#N/A"}},{"$f":"VLOOKUP($BF76,'Vejehold 4'!$A$7:$P$23,'Opsamling, slagt+smågrise'!BL$2,FALSE)","v":{"$error":"#N/A"}},{"$f":"VLOOKUP($BF76,'Vejehold 4'!$A$7:$P$23,'Opsamling, slagt+smågrise'!BM$2,FALSE)","v":{"$error":"#N/A"}},null,72,"1900-03-12",{"$f":"VLOOKUP($BP76,'Vejehold 5'!$A$7:$P$23,'Opsamling, slagt+smågrise'!BQ$2,FALSE)","v":{"$error":"#N/A"}},{"$f":"VLOOKUP($BP76,'Vejehold 5'!$A$7:$P$23,'Opsamling, slagt+smågrise'!BR$2,FALSE)","v":{"$error":"#N/A"}},{"$f":"VLOOKUP($BP76,'Vejehold 5'!$A$7:$P$23,'Opsamling, slagt+smågrise'!BS$2,FALSE)","v":{"$error":"#N/A"}},{"$f":"VLOOKUP($BP76,'Vejehold 5'!$A$7:$P$23,'Opsamling, slagt+smågrise'!BT$2,FALSE)","v":{"$error":"#N/A"}},{"$f":"VLOOKUP($BP76,'Vejehold 5'!$A$7:$P$23,'Opsamling, slagt+smågrise'!BU$2,FALSE)","v":{"$error":"#N/A"}},{"$f":"VLOOKUP($BP76,'Vejehold 5'!$A$7:$P$23,'Opsamling, slagt+smågrise'!BV$2,FALSE)","v":{"$error":"#N/A"}},{"$f":"VLOOKUP($BP76,'Vejehold 5'!$A$7:$P$23,'Opsamling, slagt+smågrise'!BW$2,FALSE)","v":{"$error":"#N/A"}},null,72,"1900-03-12",{"$f":"VLOOKUP($BZ76,'Vejehold 6'!$A$7:$P$23,'Opsamling, slagt+smågrise'!CA$2,FALSE)","v":{"$error":"#N/A"}},{"$f":"VLOOKUP($BZ76,'Vejehold 6'!$A$7:$P$23,'Opsamling, slagt+smågrise'!CB$2,FALSE)","v":{"$error":"#N/A"}},{"$f":"VLOOKUP($BZ76,'Vejehold 6'!$A$7:$P$23,'Opsamling, slagt+smågrise'!CC$2,FALSE)","v":{"$error":"#N/A"}},{"$f":"VLOOKUP($BZ76,'Vejehold 6'!$A$7:$P$23,'Opsamling, slagt+smågrise'!CD$2,FALSE)","v":{"$error":"#N/A"}},{"$f":"VLOOKUP($BZ76,'Vejehold 6'!$A$7:$P$23,'Opsamling, slagt+smågrise'!CE$2,FALSE)","v":{"$error":"#N/A"}},{"$f":"VLOOKUP($BZ76,'Vejehold 6'!$A$7:$P$23,'Opsamling, slagt+smågrise'!CF$2,FALSE)","v":{"$error":"#N/A"}},{"$f":"VLOOKUP($BZ76,'Vejehold 6'!$A$7:$P$23,'Opsamling, slagt+smågrise'!CG$2,FALSE)","v":{"$error":"#N/A"}}]
[null,14,{"$f":"'Vejehold 1'!$L9","v":0},{"$f":"'Vejehold 2'!$L9","v":0},{"$f":"'Vejehold 3'!$L9","v":0},{"$f":"'Vejehold 4'!$L9","v":0},{"$f":"'Vejehold 5'!$L9","v":0},{"$f":"'Vejehold 6'!$L9","v":0},null,null,null,null,null,null,null,null,null,null,null,null,null,null,null,null,null,null,73,{"$f":"AB76+1","v":"1900-03-13"},{"$f":"VLOOKUP($AB77,'Vejehold 1'!$A$7:$P$23,'Opsamling, slagt+smågrise'!AC$2,FALSE)","v":{"$error":"#N/A"}},{"$f":"VLOOKUP($AB77,'Vejehold 1'!$A$7:$P$23,'Opsamling, slagt+smågrise'!AD$2,FALSE)","v":{"$error":"#N/A"}},{"$f":"VLOOKUP($AB77,'Vejehold 1'!$A$7:$P$23,'Opsamling, slagt+smågrise'!AE$2,FALSE)","v":{"$error":"#N/A"}},{"$f":"VLOOKUP($AB77,'Vejehold 1'!$A$7:$P$23,'Opsamling, slagt+smågrise'!AF$2,FALSE)","v":{"$error":"#N/A"}},{"$f":"VLOOKUP($AB77,'Vejehold 1'!$A$7:$P$23,'Opsamling, slagt+smågrise'!AG$2,FALSE)","v":{"$error":"#N/A"}},{"$f":"VLOOKUP($AB77,'Vejehold 1'!$A$7:$P$23,'Opsamling, slagt+smågrise'!AH$2,FALSE)","v":{"$error":"#N/A"}},{"$f":"VLOOKUP($AB77,'Vejehold 1'!$A$7:$P$23,'Opsamling, slagt+smågrise'!AI$2,FALSE)","v":{"$error":"#N/A"}},null,73,{"$f":"AL76+1","v":"1900-03-13"},{"$f":"VLOOKUP($AL77,'Vejehold 2'!$A$7:$P$23,'Opsamling, slagt+smågrise'!AM$2,FALSE)","v":{"$error":"#N/A"}},{"$f":"VLOOKUP($AL77,'Vejehold 2'!$A$7:$P$23,'Opsamling, slagt+smågrise'!AN$2,FALSE)","v":{"$error":"#N/A"}},{"$f":"VLOOKUP($AL77,'Vejehold 2'!$A$7:$P$23,'Opsamling, slagt+smågrise'!AO$2,FALSE)","v":{"$error":"#N/A"}},{"$f":"VLOOKUP($AL77,'Vejehold 2'!$A$7:$P$23,'Opsamling, slagt+smågrise'!AP$2,FALSE)","v":{"$error":"#N/A"}},{"$f":"VLOOKUP($AL77,'Vejehold 2'!$A$7:$P$23,'Opsamling, slagt+smågrise'!AQ$2,FALSE)","v":{"$error":"#N/A"}},{"$f":"VLOOKUP($AL77,'Vejehold 2'!$A$7:$P$23,'Opsamling, slagt+smågrise'!AR$2,FALSE)","v":{"$error":"#N/A"}},{"$f":"VLOOKUP($AL77,'Vejehold 2'!$A$7:$P$23,'Opsamling, slagt+smågrise'!AS$2,FALSE)","v":{"$error":"#N/A"}},null,73,{"$f":"AV76+1","v":"1900-03-13"},{"$f":"VLOOKUP($AV77,'Vejehold 3'!$A$7:$P$23,'Opsamling, slagt+smågrise'!AW$2,FALSE)","v":{"$error":"#N/A"}},{"$f":"VLOOKUP($AV77,'Vejehold 3'!$A$7:$P$23,'Opsamling, slagt+smågrise'!AX$2,FALSE)","v":{"$error":"#N/A"}},{"$f":"VLOOKUP($AV77,'Vejehold 3'!$A$7:$P$23,'Opsamling, slagt+smågrise'!AY$2,FALSE)","v":{"$error":"#N/A"}},{"$f":"VLOOKUP($AV77,'Vejehold 3'!$A$7:$P$23,'Opsamling, slagt+smågrise'!AZ$2,FALSE)","v":{"$error":"#N/A"}},{"$f":"VLOOKUP($AV77,'Vejehold 3'!$A$7:$P$23,'Opsamling, slagt+smågrise'!BA$2,FALSE)","v":{"$error":"#N/A"}},{"$f":"VLOOKUP($AV77,'Vejehold 3'!$A$7:$P$23,'Opsamling, slagt+smågrise'!BB$2,FALSE)","v":{"$error":"#N/A"}},{"$f":"VLOOKUP($AV77,'Vejehold 3'!$A$7:$P$23,'Opsamling, slagt+smågrise'!BC$2,FALSE)","v":{"$error":"#N/A"}},null,73,{"$f":"BF76+1","v":"1900-03-13"},{"$f":"VLOOKUP($BF77,'Vejehold 4'!$A$7:$P$23,'Opsamling, slagt+smågrise'!BG$2,FALSE)","v":{"$error":"#N/A"}},{"$f":"VLOOKUP($BF77,'Vejehold 4'!$A$7:$P$23,'Opsamling, slagt+smågrise'!BH$2,FALSE)","v":{"$error":"#N/A"}},{"$f":"VLOOKUP($BF77,'Vejehold 4'!$A$7:$P$23,'Opsamling, slagt+smågrise'!BI$2,FALSE)","v":{"$error":"#N/A"}},{"$f":"VLOOKUP($BF77,'Vejehold 4'!$A$7:$P$23,'Opsamling, slagt+smågrise'!BJ$2,FALSE)","v":{"$error":"#N/A"}},{"$f":"VLOOKUP($BF77,'Vejehold 4'!$A$7:$P$23,'Opsamling, slagt+smågrise'!BK$2,FALSE)","v":{"$error":"#N/A"}},{"$f":"VLOOKUP($BF77,'Vejehold 4'!$A$7:$P$23,'Opsamling, slagt+smågrise'!BL$2,FALSE)","v":{"$error":"#N/A"}},{"$f":"VLOOKUP($BF77,'Vejehold 4'!$A$7:$P$23,'Opsamling, slagt+smågrise'!BM$2,FALSE)","v":{"$error":"#N/A"}},null,73,{"$f":"BP76+1","v":"1900-03-13"},{"$f":"VLOOKUP($BP77,'Vejehold 5'!$A$7:$P$23,'Opsamling, slagt+smågrise'!BQ$2,FALSE)","v":{"$error":"#N/A"}},{"$f":"VLOOKUP($BP77,'Vejehold 5'!$A$7:$P$23,'Opsamling, slagt+smågrise'!BR$2,FALSE)","v":{"$error":"#N/A"}},{"$f":"VLOOKUP($BP77,'Vejehold 5'!$A$7:$P$23,'Opsamling, slagt+smågrise'!BS$2,FALSE)","v":{"$error":"#N/A"}},{"$f":"VLOOKUP($BP77,'Vejehold 5'!$A$7:$P$23,'Opsamling, slagt+smågrise'!BT$2,FALSE)","v":{"$error":"#N/A"}},{"$f":"VLOOKUP($BP77,'Vejehold 5'!$A$7:$P$23,'Opsamling, slagt+smågrise'!BU$2,FALSE)","v":{"$error":"#N/A"}},{"$f":"VLOOKUP($BP77,'Vejehold 5'!$A$7:$P$23,'Opsamling, slagt+smågrise'!BV$2,FALSE)","v":{"$error":"#N/A"}},{"$f":"VLOOKUP($BP77,'Vejehold 5'!$A$7:$P$23,'Opsamling, slagt+smågrise'!BW$2,FALSE)","v":{"$error":"#N/A"}},null,73,{"$f":"BZ76+1","v":"1900-03-13"},{"$f":"VLOOKUP($BZ77,'Vejehold 6'!$A$7:$P$23,'Opsamling, slagt+smågrise'!CA$2,FALSE)","v":{"$error":"#N/A"}},{"$f":"VLOOKUP($BZ77,'Vejehold 6'!$A$7:$P$23,'Opsamling, slagt+smågrise'!CB$2,FALSE)","v":{"$error":"#N/A"}},{"$f":"VLOOKUP($BZ77,'Vejehold 6'!$A$7:$P$23,'Opsamling, slagt+smågrise'!CC$2,FALSE)","v":{"$error":"#N/A"}},{"$f":"VLOOKUP($BZ77,'Vejehold 6'!$A$7:$P$23,'Opsamling, slagt+smågrise'!CD$2,FALSE)","v":{"$error":"#N/A"}},{"$f":"VLOOKUP($BZ77,'Vejehold 6'!$A$7:$P$23,'Opsamling, slagt+smågrise'!CE$2,FALSE)","v":{"$error":"#N/A"}},{"$f":"VLOOKUP($BZ77,'Vejehold 6'!$A$7:$P$23,'Opsamling, slagt+smågrise'!CF$2,FALSE)","v":{"$error":"#N/A"}},{"$f":"VLOOKUP($BZ77,'Vejehold 6'!$A$7:$P$23,'Opsamling, slagt+smågrise'!CG$2,FALSE)","v":{"$error":"#N/A"}}]
[null,21,{"$f":"'Vejehold 1'!$L10","v":0},{"$f":"'Vejehold 2'!$L10","v":0},{"$f":"'Vejehold 3'!$L10","v":0},{"$f":"'Vejehold 4'!$L10","v":0},{"$f":"'Vejehold 5'!$L10","v":0},{"$f":"'Vejehold 6'!$L10","v":0},null,null,null,null,null,null,null,null,null,null,null,null,null,null,null,null,null,null,74,"1900-03-14",{"$f":"VLOOKUP($AB78,'Vejehold 1'!$A$7:$P$23,'Opsamling, slagt+smågrise'!AC$2,FALSE)","v":{"$error":"#N/A"}},{"$f":"VLOOKUP($AB78,'Vejehold 1'!$A$7:$P$23,'Opsamling, slagt+smågrise'!AD$2,FALSE)","v":{"$error":"#N/A"}},{"$f":"VLOOKUP($AB78,'Vejehold 1'!$A$7:$P$23,'Opsamling, slagt+smågrise'!AE$2,FALSE)","v":{"$error":"#N/A"}},{"$f":"VLOOKUP($AB78,'Vejehold 1'!$A$7:$P$23,'Opsamling, slagt+smågrise'!AF$2,FALSE)","v":{"$error":"#N/A"}},{"$f":"VLOOKUP($AB78,'Vejehold 1'!$A$7:$P$23,'Opsamling, slagt+smågrise'!AG$2,FALSE)","v":{"$error":"#N/A"}},{"$f":"VLOOKUP($AB78,'Vejehold 1'!$A$7:$P$23,'Opsamling, slagt+smågrise'!AH$2,FALSE)","v":{"$error":"#N/A"}},{"$f":"VLOOKUP($AB78,'Vejehold 1'!$A$7:$P$23,'Opsamling, slagt+smågrise'!AI$2,FALSE)","v":{"$error":"#N/A"}},null,74,{"$f":"AL77+1","v":"1900-03-14"},{"$f":"VLOOKUP($AL78,'Vejehold 2'!$A$7:$P$23,'Opsamling, slagt+smågrise'!AM$2,FALSE)","v":{"$error":"#N/A"}},{"$f":"VLOOKUP($AL78,'Vejehold 2'!$A$7:$P$23,'Opsamling, slagt+smågrise'!AN$2,FALSE)","v":{"$error":"#N/A"}},{"$f":"VLOOKUP($AL78,'Vejehold 2'!$A$7:$P$23,'Opsamling, slagt+smågrise'!AO$2,FALSE)","v":{"$error":"#N/A"}},{"$f":"VLOOKUP($AL78,'Vejehold 2'!$A$7:$P$23,'Opsamling, slagt+smågrise'!AP$2,FALSE)","v":{"$error":"#N/A"}},{"$f":"VLOOKUP($AL78,'Vejehold 2'!$A$7:$P$23,'Opsamling, slagt+smågrise'!AQ$2,FALSE)","v":{"$error":"#N/A"}},{"$f":"VLOOKUP($AL78,'Vejehold 2'!$A$7:$P$23,'Opsamling, slagt+smågrise'!AR$2,FALSE)","v":{"$error":"#N/A"}},{"$f":"VLOOKUP($AL78,'Vejehold 2'!$A$7:$P$23,'Opsamling, slagt+smågrise'!AS$2,FALSE)","v":{"$error":"#N/A"}},null,74,{"$f":"AV77+1","v":"1900-03-14"},{"$f":"VLOOKUP($AV78,'Vejehold 3'!$A$7:$P$23,'Opsamling, slagt+smågrise'!AW$2,FALSE)","v":{"$error":"#N/A"}},{"$f":"VLOOKUP($AV78,'Vejehold 3'!$A$7:$P$23,'Opsamling, slagt+smågrise'!AX$2,FALSE)","v":{"$error":"#N/A"}},{"$f":"VLOOKUP($AV78,'Vejehold 3'!$A$7:$P$23,'Opsamling, slagt+smågrise'!AY$2,FALSE)","v":{"$error":"#N/A"}},{"$f":"VLOOKUP($AV78,'Vejehold 3'!$A$7:$P$23,'Opsamling, slagt+smågrise'!AZ$2,FALSE)","v":{"$error":"#N/A"}},{"$f":"VLOOKUP($AV78,'Vejehold 3'!$A$7:$P$23,'Opsamling, slagt+smågrise'!BA$2,FALSE)","v":{"$error":"#N/A"}},{"$f":"VLOOKUP($AV78,'Vejehold 3'!$A$7:$P$23,'Opsamling, slagt+smågrise'!BB$2,FALSE)","v":{"$error":"#N/A"}},{"$f":"VLOOKUP($AV78,'Vejehold 3'!$A$7:$P$23,'Opsamling, slagt+smågrise'!BC$2,FALSE)","v":{"$error":"#N/A"}},null,74,{"$f":"BF77+1","v":"1900-03-14"},{"$f":"VLOOKUP($BF78,'Vejehold 4'!$A$7:$P$23,'Opsamling, slagt+smågrise'!BG$2,FALSE)","v":{"$error":"#N/A"}},{"$f":"VLOOKUP($BF78,'Vejehold 4'!$A$7:$P$23,'Opsamling, slagt+smågrise'!BH$2,FALSE)","v":{"$error":"#N/A"}},{"$f":"VLOOKUP($BF78,'Vejehold 4'!$A$7:$P$23,'Opsamling, slagt+smågrise'!BI$2,FALSE)","v":{"$error":"#N/A"}},{"$f":"VLOOKUP($BF78,'Vejehold 4'!$A$7:$P$23,'Opsamling, slagt+smågrise'!BJ$2,FALSE)","v":{"$error":"#N/A"}},{"$f":"VLOOKUP($BF78,'Vejehold 4'!$A$7:$P$23,'Opsamling, slagt+smågrise'!BK$2,FALSE)","v":{"$error":"#N/A"}},{"$f":"VLOOKUP($BF78,'Vejehold 4'!$A$7:$P$23,'Opsamling, slagt+smågrise'!BL$2,FALSE)","v":{"$error":"#N/A"}},{"$f":"VLOOKUP($BF78,'Vejehold 4'!$A$7:$P$23,'Opsamling, slagt+smågrise'!BM$2,FALSE)","v":{"$error":"#N/A"}},null,74,{"$f":"BP77+1","v":"1900-03-14"},{"$f":"VLOOKUP($BP78,'Vejehold 5'!$A$7:$P$23,'Opsamling, slagt+smågrise'!BQ$2,FALSE)","v":{"$error":"#N/A"}},{"$f":"VLOOKUP($BP78,'Vejehold 5'!$A$7:$P$23,'Opsamling, slagt+smågrise'!BR$2,FALSE)","v":{"$error":"#N/A"}},{"$f":"VLOOKUP($BP78,'Vejehold 5'!$A$7:$P$23,'Opsamling, slagt+smågrise'!BS$2,FALSE)","v":{"$error":"#N/A"}},{"$f":"VLOOKUP($BP78,'Vejehold 5'!$A$7:$P$23,'Opsamling, slagt+smågrise'!BT$2,FALSE)","v":{"$error":"#N/A"}},{"$f":"VLOOKUP($BP78,'Vejehold 5'!$A$7:$P$23,'Opsamling, slagt+smågrise'!BU$2,FALSE)","v":{"$error":"#N/A"}},{"$f":"VLOOKUP($BP78,'Vejehold 5'!$A$7:$P$23,'Opsamling, slagt+smågrise'!BV$2,FALSE)","v":{"$error":"#N/A"}},{"$f":"VLOOKUP($BP78,'Vejehold 5'!$A$7:$P$23,'Opsamling, slagt+smågrise'!BW$2,FALSE)","v":{"$error":"#N/A"}},null,74,{"$f":"BZ77+1","v":"1900-03-14"},{"$f":"VLOOKUP($BZ78,'Vejehold 6'!$A$7:$P$23,'Opsamling, slagt+smågrise'!CA$2,FALSE)","v":{"$error":"#N/A"}},{"$f":"VLOOKUP($BZ78,'Vejehold 6'!$A$7:$P$23,'Opsamling, slagt+smågrise'!CB$2,FALSE)","v":{"$error":"#N/A"}},{"$f":"VLOOKUP($BZ78,'Vejehold 6'!$A$7:$P$23,'Opsamling, slagt+smågrise'!CC$2,FALSE)","v":{"$error":"#N/A"}},{"$f":"VLOOKUP($BZ78,'Vejehold 6'!$A$7:$P$23,'Opsamling, slagt+smågrise'!CD$2,FALSE)","v":{"$error":"#N/A"}},{"$f":"VLOOKUP($BZ78,'Vejehold 6'!$A$7:$P$23,'Opsamling, slagt+smågrise'!CE$2,FALSE)","v":{"$error":"#N/A"}},{"$f":"VLOOKUP($BZ78,'Vejehold 6'!$A$7:$P$23,'Opsamling, slagt+smågrise'!CF$2,FALSE)","v":{"$error":"#N/A"}},{"$f":"VLOOKUP($BZ78,'Vejehold 6'!$A$7:$P$23,'Opsamling, slagt+smågrise'!CG$2,FALSE)","v":{"$error":"#N/A"}}]
[null,28,{"$f":"'Vejehold 1'!$L11","v":0},{"$f":"'Vejehold 2'!$L11","v":0},{"$f":"'Vejehold 3'!$L11","v":0},{"$f":"'Vejehold 4'!$L11","v":0},{"$f":"'Vejehold 5'!$L11","v":0},{"$f":"'Vejehold 6'!$L11","v":0},null,null,null,null,null,null,null,null,null,null,null,null,null,null,null,null,null,null,75,"1900-03-15",{"$f":"VLOOKUP($AB79,'Vejehold 1'!$A$7:$P$23,'Opsamling, slagt+smågrise'!AC$2,FALSE)","v":{"$error":"#N/A"}},{"$f":"VLOOKUP($AB79,'Vejehold 1'!$A$7:$P$23,'Opsamling, slagt+smågrise'!AD$2,FALSE)","v":{"$error":"#N/A"}},{"$f":"VLOOKUP($AB79,'Vejehold 1'!$A$7:$P$23,'Opsamling, slagt+smågrise'!AE$2,FALSE)","v":{"$error":"#N/A"}},{"$f":"VLOOKUP($AB79,'Vejehold 1'!$A$7:$P$23,'Opsamling, slagt+smågrise'!AF$2,FALSE)","v":{"$error":"#N/A"}},{"$f":"VLOOKUP($AB79,'Vejehold 1'!$A$7:$P$23,'Opsamling, slagt+smågrise'!AG$2,FALSE)","v":{"$error":"#N/A"}},{"$f":"VLOOKUP($AB79,'Vejehold 1'!$A$7:$P$23,'Opsamling, slagt+smågrise'!AH$2,FALSE)","v":{"$error":"#N/A"}},{"$f":"VLOOKUP($AB79,'Vejehold 1'!$A$7:$P$23,'Opsamling, slagt+smågrise'!AI$2,FALSE)","v":{"$error":"#N/A"}},null,75,"1900-03-15",{"$f":"VLOOKUP($AL79,'Vejehold 2'!$A$7:$P$23,'Opsamling, slagt+smågrise'!AM$2,FALSE)","v":{"$error":"#N/A"}},{"$f":"VLOOKUP($AL79,'Vejehold 2'!$A$7:$P$23,'Opsamling, slagt+smågrise'!AN$2,FALSE)","v":{"$error":"#N/A"}},{"$f":"VLOOKUP($AL79,'Vejehold 2'!$A$7:$P$23,'Opsamling, slagt+smågrise'!AO$2,FALSE)","v":{"$error":"#N/A"}},{"$f":"VLOOKUP($AL79,'Vejehold 2'!$A$7:$P$23,'Opsamling, slagt+smågrise'!AP$2,FALSE)","v":{"$error":"#N/A"}},{"$f":"VLOOKUP($AL79,'Vejehold 2'!$A$7:$P$23,'Opsamling, slagt+smågrise'!AQ$2,FALSE)","v":{"$error":"#N/A"}},{"$f":"VLOOKUP($AL79,'Vejehold 2'!$A$7:$P$23,'Opsamling, slagt+smågrise'!AR$2,FALSE)","v":{"$error":"#N/A"}},{"$f":"VLOOKUP($AL79,'Vejehold 2'!$A$7:$P$23,'Opsamling, slagt+smågrise'!AS$2,FALSE)","v":{"$error":"#N/A"}},null,75,"1900-03-15",{"$f":"VLOOKUP($AV79,'Vejehold 3'!$A$7:$P$23,'Opsamling, slagt+smågrise'!AW$2,FALSE)","v":{"$error":"#N/A"}},{"$f":"VLOOKUP($AV79,'Vejehold 3'!$A$7:$P$23,'Opsamling, slagt+smågrise'!AX$2,FALSE)","v":{"$error":"#N/A"}},{"$f":"VLOOKUP($AV79,'Vejehold 3'!$A$7:$P$23,'Opsamling, slagt+smågrise'!AY$2,FALSE)","v":{"$error":"#N/A"}},{"$f":"VLOOKUP($AV79,'Vejehold 3'!$A$7:$P$23,'Opsamling, slagt+smågrise'!AZ$2,FALSE)","v":{"$error":"#N/A"}},{"$f":"VLOOKUP($AV79,'Vejehold 3'!$A$7:$P$23,'Opsamling, slagt+smågrise'!BA$2,FALSE)","v":{"$error":"#N/A"}},{"$f":"VLOOKUP($AV79,'Vejehold 3'!$A$7:$P$23,'Opsamling, slagt+smågrise'!BB$2,FALSE)","v":{"$error":"#N/A"}},{"$f":"VLOOKUP($AV79,'Vejehold 3'!$A$7:$P$23,'Opsamling, slagt+smågrise'!BC$2,FALSE)","v":{"$error":"#N/A"}},null,75,"1900-03-15",{"$f":"VLOOKUP($BF79,'Vejehold 4'!$A$7:$P$23,'Opsamling, slagt+smågrise'!BG$2,FALSE)","v":{"$error":"#N/A"}},{"$f":"VLOOKUP($BF79,'Vejehold 4'!$A$7:$P$23,'Opsamling, slagt+smågrise'!BH$2,FALSE)","v":{"$error":"#N/A"}},{"$f":"VLOOKUP($BF79,'Vejehold 4'!$A$7:$P$23,'Opsamling, slagt+smågrise'!BI$2,FALSE)","v":{"$error":"#N/A"}},{"$f":"VLOOKUP($BF79,'Vejehold 4'!$A$7:$P$23,'Opsamling, slagt+smågrise'!BJ$2,FALSE)","v":{"$error":"#N/A"}},{"$f":"VLOOKUP($BF79,'Vejehold 4'!$A$7:$P$23,'Opsamling, slagt+smågrise'!BK$2,FALSE)","v":{"$error":"#N/A"}},{"$f":"VLOOKUP($BF79,'Vejehold 4'!$A$7:$P$23,'Opsamling, slagt+smågrise'!BL$2,FALSE)","v":{"$error":"#N/A"}},{"$f":"VLOOKUP($BF79,'Vejehold 4'!$A$7:$P$23,'Opsamling, slagt+smågrise'!BM$2,FALSE)","v":{"$error":"#N/A"}},null,75,"1900-03-15",{"$f":"VLOOKUP($BP79,'Vejehold 5'!$A$7:$P$23,'Opsamling, slagt+smågrise'!BQ$2,FALSE)","v":{"$error":"#N/A"}},{"$f":"VLOOKUP($BP79,'Vejehold 5'!$A$7:$P$23,'Opsamling, slagt+smågrise'!BR$2,FALSE)","v":{"$error":"#N/A"}},{"$f":"VLOOKUP($BP79,'Vejehold 5'!$A$7:$P$23,'Opsamling, slagt+smågrise'!BS$2,FALSE)","v":{"$error":"#N/A"}},{"$f":"VLOOKUP($BP79,'Vejehold 5'!$A$7:$P$23,'Opsamling, slagt+smågrise'!BT$2,FALSE)","v":{"$error":"#N/A"}},{"$f":"VLOOKUP($BP79,'Vejehold 5'!$A$7:$P$23,'Opsamling, slagt+smågrise'!BU$2,FALSE)","v":{"$error":"#N/A"}},{"$f":"VLOOKUP($BP79,'Vejehold 5'!$A$7:$P$23,'Opsamling, slagt+smågrise'!BV$2,FALSE)","v":{"$error":"#N/A"}},{"$f":"VLOOKUP($BP79,'Vejehold 5'!$A$7:$P$23,'Opsamling, slagt+smågrise'!BW$2,FALSE)","v":{"$error":"#N/A"}},null,75,"1900-03-15",{"$f":"VLOOKUP($BZ79,'Vejehold 6'!$A$7:$P$23,'Opsamling, slagt+smågrise'!CA$2,FALSE)","v":{"$error":"#N/A"}},{"$f":"VLOOKUP($BZ79,'Vejehold 6'!$A$7:$P$23,'Opsamling, slagt+smågrise'!CB$2,FALSE)","v":{"$error":"#N/A"}},{"$f":"VLOOKUP($BZ79,'Vejehold 6'!$A$7:$P$23,'Opsamling, slagt+smågrise'!CC$2,FALSE)","v":{"$error":"#N/A"}},{"$f":"VLOOKUP($BZ79,'Vejehold 6'!$A$7:$P$23,'Opsamling, slagt+smågrise'!CD$2,FALSE)","v":{"$error":"#N/A"}},{"$f":"VLOOKUP($BZ79,'Vejehold 6'!$A$7:$P$23,'Opsamling, slagt+smågrise'!CE$2,FALSE)","v":{"$error":"#N/A"}},{"$f":"VLOOKUP($BZ79,'Vejehold 6'!$A$7:$P$23,'Opsamling, slagt+smågrise'!CF$2,FALSE)","v":{"$error":"#N/A"}},{"$f":"VLOOKUP($BZ79,'Vejehold 6'!$A$7:$P$23,'Opsamling, slagt+smågrise'!CG$2,FALSE)","v":{"$error":"#N/A"}}]
[null,35,{"$f":"'Vejehold 1'!$L12","v":0},{"$f":"'Vejehold 2'!$L12","v":0},{"$f":"'Vejehold 3'!$L12","v":0},{"$f":"'Vejehold 4'!$L12","v":0},{"$f":"'Vejehold 5'!$L12","v":0},{"$f":"'Vejehold 6'!$L12","v":0},null,null,null,null,null,null,null,null,null,null,null,null,null,null,null,null,null,null,76,"1900-03-16",{"$f":"VLOOKUP($AB80,'Vejehold 1'!$A$7:$P$23,'Opsamling, slagt+smågrise'!AC$2,FALSE)","v":{"$error":"#N/A"}},{"$f":"VLOOKUP($AB80,'Vejehold 1'!$A$7:$P$23,'Opsamling, slagt+smågrise'!AD$2,FALSE)","v":{"$error":"#N/A"}},{"$f":"VLOOKUP($AB80,'Vejehold 1'!$A$7:$P$23,'Opsamling, slagt+smågrise'!AE$2,FALSE)","v":{"$error":"#N/A"}},{"$f":"VLOOKUP($AB80,'Vejehold 1'!$A$7:$P$23,'Opsamling, slagt+smågrise'!AF$2,FALSE)","v":{"$error":"#N/A"}},{"$f":"VLOOKUP($AB80,'Vejehold 1'!$A$7:$P$23,'Opsamling, slagt+smågrise'!AG$2,FALSE)","v":{"$error":"#N/A"}},{"$f":"VLOOKUP($AB80,'Vejehold 1'!$A$7:$P$23,'Opsamling, slagt+smågrise'!AH$2,FALSE)","v":{"$error":"#N/A"}},{"$f":"VLOOKUP($AB80,'Vejehold 1'!$A$7:$P$23,'Opsamling, slagt+smågrise'!AI$2,FALSE)","v":{"$error":"#N/A"}},null,76,"1900-03-16",{"$f":"VLOOKUP($AL80,'Vejehold 2'!$A$7:$P$23,'Opsamling, slagt+smågrise'!AM$2,FALSE)","v":{"$error":"#N/A"}},{"$f":"VLOOKUP($AL80,'Vejehold 2'!$A$7:$P$23,'Opsamling, slagt+smågrise'!AN$2,FALSE)","v":{"$error":"#N/A"}},{"$f":"VLOOKUP($AL80,'Vejehold 2'!$A$7:$P$23,'Opsamling, slagt+smågrise'!AO$2,FALSE)","v":{"$error":"#N/A"}},{"$f":"VLOOKUP($AL80,'Vejehold 2'!$A$7:$P$23,'Opsamling, slagt+smågrise'!AP$2,FALSE)","v":{"$error":"#N/A"}},{"$f":"VLOOKUP($AL80,'Vejehold 2'!$A$7:$P$23,'Opsamling, slagt+smågrise'!AQ$2,FALSE)","v":{"$error":"#N/A"}},{"$f":"VLOOKUP($AL80,'Vejehold 2'!$A$7:$P$23,'Opsamling, slagt+smågrise'!AR$2,FALSE)","v":{"$error":"#N/A"}},{"$f":"VLOOKUP($AL80,'Vejehold 2'!$A$7:$P$23,'Opsamling, slagt+smågrise'!AS$2,FALSE)","v":{"$error":"#N/A"}},null,76,"1900-03-16",{"$f":"VLOOKUP($AV80,'Vejehold 3'!$A$7:$P$23,'Opsamling, slagt+smågrise'!AW$2,FALSE)","v":{"$error":"#N/A"}},{"$f":"VLOOKUP($AV80,'Vejehold 3'!$A$7:$P$23,'Opsamling, slagt+smågrise'!AX$2,FALSE)","v":{"$error":"#N/A"}},{"$f":"VLOOKUP($AV80,'Vejehold 3'!$A$7:$P$23,'Opsamling, slagt+smågrise'!AY$2,FALSE)","v":{"$error":"#N/A"}},{"$f":"VLOOKUP($AV80,'Vejehold 3'!$A$7:$P$23,'Opsamling, slagt+smågrise'!AZ$2,FALSE)","v":{"$error":"#N/A"}},{"$f":"VLOOKUP($AV80,'Vejehold 3'!$A$7:$P$23,'Opsamling, slagt+smågrise'!BA$2,FALSE)","v":{"$error":"#N/A"}},{"$f":"VLOOKUP($AV80,'Vejehold 3'!$A$7:$P$23,'Opsamling, slagt+smågrise'!BB$2,FALSE)","v":{"$error":"#N/A"}},{"$f":"VLOOKUP($AV80,'Vejehold 3'!$A$7:$P$23,'Opsamling, slagt+smågrise'!BC$2,FALSE)","v":{"$error":"#N/A"}},null,76,"1900-03-16",{"$f":"VLOOKUP($BF80,'Vejehold 4'!$A$7:$P$23,'Opsamling, slagt+smågrise'!BG$2,FALSE)","v":{"$error":"#N/A"}},{"$f":"VLOOKUP($BF80,'Vejehold 4'!$A$7:$P$23,'Opsamling, slagt+smågrise'!BH$2,FALSE)","v":{"$error":"#N/A"}},{"$f":"VLOOKUP($BF80,'Vejehold 4'!$A$7:$P$23,'Opsamling, slagt+smågrise'!BI$2,FALSE)","v":{"$error":"#N/A"}},{"$f":"VLOOKUP($BF80,'Vejehold 4'!$A$7:$P$23,'Opsamling, slagt+smågrise'!BJ$2,FALSE)","v":{"$error":"#N/A"}},{"$f":"VLOOKUP($BF80,'Vejehold 4'!$A$7:$P$23,'Opsamling, slagt+smågrise'!BK$2,FALSE)","v":{"$error":"#N/A"}},{"$f":"VLOOKUP($BF80,'Vejehold 4'!$A$7:$P$23,'Opsamling, slagt+smågrise'!BL$2,FALSE)","v":{"$error":"#N/A"}},{"$f":"VLOOKUP($BF80,'Vejehold 4'!$A$7:$P$23,'Opsamling, slagt+smågrise'!BM$2,FALSE)","v":{"$error":"#N/A"}},null,76,"1900-03-16",{"$f":"VLOOKUP($BP80,'Vejehold 5'!$A$7:$P$23,'Opsamling, slagt+smågrise'!BQ$2,FALSE)","v":{"$error":"#N/A"}},{"$f":"VLOOKUP($BP80,'Vejehold 5'!$A$7:$P$23,'Opsamling, slagt+smågrise'!BR$2,FALSE)","v":{"$error":"#N/A"}},{"$f":"VLOOKUP($BP80,'Vejehold 5'!$A$7:$P$23,'Opsamling, slagt+smågrise'!BS$2,FALSE)","v":{"$error":"#N/A"}},{"$f":"VLOOKUP($BP80,'Vejehold 5'!$A$7:$P$23,'Opsamling, slagt+smågrise'!BT$2,FALSE)","v":{"$error":"#N/A"}},{"$f":"VLOOKUP($BP80,'Vejehold 5'!$A$7:$P$23,'Opsamling, slagt+smågrise'!BU$2,FALSE)","v":{"$error":"#N/A"}},{"$f":"VLOOKUP($BP80,'Vejehold 5'!$A$7:$P$23,'Opsamling, slagt+smågrise'!BV$2,FALSE)","v":{"$error":"#N/A"}},{"$f":"VLOOKUP($BP80,'Vejehold 5'!$A$7:$P$23,'Opsamling, slagt+smågrise'!BW$2,FALSE)","v":{"$error":"#N/A"}},null,76,"1900-03-16",{"$f":"VLOOKUP($BZ80,'Vejehold 6'!$A$7:$P$23,'Opsamling, slagt+smågrise'!CA$2,FALSE)","v":{"$error":"#N/A"}},{"$f":"VLOOKUP($BZ80,'Vejehold 6'!$A$7:$P$23,'Opsamling, slagt+smågrise'!CB$2,FALSE)","v":{"$error":"#N/A"}},{"$f":"VLOOKUP($BZ80,'Vejehold 6'!$A$7:$P$23,'Opsamling, slagt+smågrise'!CC$2,FALSE)","v":{"$error":"#N/A"}},{"$f":"VLOOKUP($BZ80,'Vejehold 6'!$A$7:$P$23,'Opsamling, slagt+smågrise'!CD$2,FALSE)","v":{"$error":"#N/A"}},{"$f":"VLOOKUP($BZ80,'Vejehold 6'!$A$7:$P$23,'Opsamling, slagt+smågrise'!CE$2,FALSE)","v":{"$error":"#N/A"}},{"$f":"VLOOKUP($BZ80,'Vejehold 6'!$A$7:$P$23,'Opsamling, slagt+smågrise'!CF$2,FALSE)","v":{"$error":"#N/A"}},{"$f":"VLOOKUP($BZ80,'Vejehold 6'!$A$7:$P$23,'Opsamling, slagt+smågrise'!CG$2,FALSE)","v":{"$error":"#N/A"}}]
[null,42,{"$f":"'Vejehold 1'!$L13","v":0},{"$f":"'Vejehold 2'!$L13","v":0},{"$f":"'Vejehold 3'!$L13","v":0},{"$f":"'Vejehold 4'!$L13","v":0},{"$f":"'Vejehold 5'!$L13","v":0},{"$f":"'Vejehold 6'!$L13","v":0},null,null,null,null,null,null,null,null,null,null,null,null,null,null,null,null,null,null,77,{"$f":"AB80+1","v":"1900-03-17"},{"$f":"VLOOKUP($AB81,'Vejehold 1'!$A$7:$P$23,'Opsamling, slagt+smågrise'!AC$2,FALSE)","v":{"$error":"#N/A"}},{"$f":"VLOOKUP($AB81,'Vejehold 1'!$A$7:$P$23,'Opsamling, slagt+smågrise'!AD$2,FALSE)","v":{"$error":"#N/A"}},{"$f":"VLOOKUP($AB81,'Vejehold 1'!$A$7:$P$23,'Opsamling, slagt+smågrise'!AE$2,FALSE)","v":{"$error":"#N/A"}},{"$f":"VLOOKUP($AB81,'Vejehold 1'!$A$7:$P$23,'Opsamling, slagt+smågrise'!AF$2,FALSE)","v":{"$error":"#N/A"}},{"$f":"VLOOKUP($AB81,'Vejehold 1'!$A$7:$P$23,'Opsamling, slagt+smågrise'!AG$2,FALSE)","v":{"$error":"#N/A"}},{"$f":"VLOOKUP($AB81,'Vejehold 1'!$A$7:$P$23,'Opsamling, slagt+smågrise'!AH$2,FALSE)","v":{"$error":"#N/A"}},{"$f":"VLOOKUP($AB81,'Vejehold 1'!$A$7:$P$23,'Opsamling, slagt+smågrise'!AI$2,FALSE)","v":{"$error":"#N/A"}},null,77,{"$f":"AL80+1","v":"1900-03-17"},{"$f":"VLOOKUP($AL81,'Vejehold 2'!$A$7:$P$23,'Opsamling, slagt+smågrise'!AM$2,FALSE)","v":{"$error":"#N/A"}},{"$f":"VLOOKUP($AL81,'Vejehold 2'!$A$7:$P$23,'Opsamling, slagt+smågrise'!AN$2,FALSE)","v":{"$error":"#N/A"}},{"$f":"VLOOKUP($AL81,'Vejehold 2'!$A$7:$P$23,'Opsamling, slagt+smågrise'!AO$2,FALSE)","v":{"$error":"#N/A"}},{"$f":"VLOOKUP($AL81,'Vejehold 2'!$A$7:$P$23,'Opsamling, slagt+smågrise'!AP$2,FALSE)","v":{"$error":"#N/A"}},{"$f":"VLOOKUP($AL81,'Vejehold 2'!$A$7:$P$23,'Opsamling, slagt+smågrise'!AQ$2,FALSE)","v":{"$error":"#N/A"}},{"$f":"VLOOKUP($AL81,'Vejehold 2'!$A$7:$P$23,'Opsamling, slagt+smågrise'!AR$2,FALSE)","v":{"$error":"#N/A"}},{"$f":"VLOOKUP($AL81,'Vejehold 2'!$A$7:$P$23,'Opsamling, slagt+smågrise'!AS$2,FALSE)","v":{"$error":"#N/A"}},null,77,{"$f":"AV80+1","v":"1900-03-17"},{"$f":"VLOOKUP($AV81,'Vejehold 3'!$A$7:$P$23,'Opsamling, slagt+smågrise'!AW$2,FALSE)","v":{"$error":"#N/A"}},{"$f":"VLOOKUP($AV81,'Vejehold 3'!$A$7:$P$23,'Opsamling, slagt+smågrise'!AX$2,FALSE)","v":{"$error":"#N/A"}},{"$f":"VLOOKUP($AV81,'Vejehold 3'!$A$7:$P$23,'Opsamling, slagt+smågrise'!AY$2,FALSE)","v":{"$error":"#N/A"}},{"$f":"VLOOKUP($AV81,'Vejehold 3'!$A$7:$P$23,'Opsamling, slagt+smågrise'!AZ$2,FALSE)","v":{"$error":"#N/A"}},{"$f":"VLOOKUP($AV81,'Vejehold 3'!$A$7:$P$23,'Opsamling, slagt+smågrise'!BA$2,FALSE)","v":{"$error":"#N/A"}},{"$f":"VLOOKUP($AV81,'Vejehold 3'!$A$7:$P$23,'Opsamling, slagt+smågrise'!BB$2,FALSE)","v":{"$error":"#N/A"}},{"$f":"VLOOKUP($AV81,'Vejehold 3'!$A$7:$P$23,'Opsamling, slagt+smågrise'!BC$2,FALSE)","v":{"$error":"#N/A"}},null,77,{"$f":"BF80+1","v":"1900-03-17"},{"$f":"VLOOKUP($BF81,'Vejehold 4'!$A$7:$P$23,'Opsamling, slagt+smågrise'!BG$2,FALSE)","v":{"$error":"#N/A"}},{"$f":"VLOOKUP($BF81,'Vejehold 4'!$A$7:$P$23,'Opsamling, slagt+smågrise'!BH$2,FALSE)","v":{"$error":"#N/A"}},{"$f":"VLOOKUP($BF81,'Vejehold 4'!$A$7:$P$23,'Opsamling, slagt+smågrise'!BI$2,FALSE)","v":{"$error":"#N/A"}},{"$f":"VLOOKUP($BF81,'Vejehold 4'!$A$7:$P$23,'Opsamling, slagt+smågrise'!BJ$2,FALSE)","v":{"$error":"#N/A"}},{"$f":"VLOOKUP($BF81,'Vejehold 4'!$A$7:$P$23,'Opsamling, slagt+smågrise'!BK$2,FALSE)","v":{"$error":"#N/A"}},{"$f":"VLOOKUP($BF81,'Vejehold 4'!$A$7:$P$23,'Opsamling, slagt+smågrise'!BL$2,FALSE)","v":{"$error":"#N/A"}},{"$f":"VLOOKUP($BF81,'Vejehold 4'!$A$7:$P$23,'Opsamling, slagt+smågrise'!BM$2,FALSE)","v":{"$error":"#N/A"}},null,77,{"$f":"BP80+1","v":"1900-03-17"},{"$f":"VLOOKUP($BP81,'Vejehold 5'!$A$7:$P$23,'Opsamling, slagt+smågrise'!BQ$2,FALSE)","v":{"$error":"#N/A"}},{"$f":"VLOOKUP($BP81,'Vejehold 5'!$A$7:$P$23,'Opsamling, slagt+smågrise'!BR$2,FALSE)","v":{"$error":"#N/A"}},{"$f":"VLOOKUP($BP81,'Vejehold 5'!$A$7:$P$23,'Opsamling, slagt+smågrise'!BS$2,FALSE)","v":{"$error":"#N/A"}},{"$f":"VLOOKUP($BP81,'Vejehold 5'!$A$7:$P$23,'Opsamling, slagt+smågrise'!BT$2,FALSE)","v":{"$error":"#N/A"}},{"$f":"VLOOKUP($BP81,'Vejehold 5'!$A$7:$P$23,'Opsamling, slagt+smågrise'!BU$2,FALSE)","v":{"$error":"#N/A"}},{"$f":"VLOOKUP($BP81,'Vejehold 5'!$A$7:$P$23,'Opsamling, slagt+smågrise'!BV$2,FALSE)","v":{"$error":"#N/A"}},{"$f":"VLOOKUP($BP81,'Vejehold 5'!$A$7:$P$23,'Opsamling, slagt+smågrise'!BW$2,FALSE)","v":{"$error":"#N/A"}},null,77,{"$f":"BZ80+1","v":"1900-03-17"},{"$f":"VLOOKUP($BZ81,'Vejehold 6'!$A$7:$P$23,'Opsamling, slagt+smågrise'!CA$2,FALSE)","v":{"$error":"#N/A"}},{"$f":"VLOOKUP($BZ81,'Vejehold 6'!$A$7:$P$23,'Opsamling, slagt+smågrise'!CB$2,FALSE)","v":{"$error":"#N/A"}},{"$f":"VLOOKUP($BZ81,'Vejehold 6'!$A$7:$P$23,'Opsamling, slagt+smågrise'!CC$2,FALSE)","v":{"$error":"#N/A"}},{"$f":"VLOOKUP($BZ81,'Vejehold 6'!$A$7:$P$23,'Opsamling, slagt+smågrise'!CD$2,FALSE)","v":{"$error":"#N/A"}},{"$f":"VLOOKUP($BZ81,'Vejehold 6'!$A$7:$P$23,'Opsamling, slagt+smågrise'!CE$2,FALSE)","v":{"$error":"#N/A"}},{"$f":"VLOOKUP($BZ81,'Vejehold 6'!$A$7:$P$23,'Opsamling, slagt+smågrise'!CF$2,FALSE)","v":{"$error":"#N/A"}},{"$f":"VLOOKUP($BZ81,'Vejehold 6'!$A$7:$P$23,'Opsamling, slagt+smågrise'!CG$2,FALSE)","v":{"$error":"#N/A"}}]
[null,49,{"$f":"'Vejehold 1'!$L14","v":0},{"$f":"'Vejehold 2'!$L14","v":0},{"$f":"'Vejehold 3'!$L14","v":0},{"$f":"'Vejehold 4'!$L14","v":0},{"$f":"'Vejehold 5'!$L14","v":0},{"$f":"'Vejehold 6'!$L14","v":0},null,null,null,null,null,null,null,null,null,null,null,null,null,null,null,null,null,null,78,{"$f":"AB81+1","v":"1900-03-18"},{"$f":"VLOOKUP($AB82,'Vejehold 1'!$A$7:$P$23,'Opsamling, slagt+smågrise'!AC$2,FALSE)","v":{"$error":"#N/A"}},{"$f":"VLOOKUP($AB82,'Vejehold 1'!$A$7:$P$23,'Opsamling, slagt+smågrise'!AD$2,FALSE)","v":{"$error":"#N/A"}},{"$f":"VLOOKUP($AB82,'Vejehold 1'!$A$7:$P$23,'Opsamling, slagt+smågrise'!AE$2,FALSE)","v":{"$error":"#N/A"}},{"$f":"VLOOKUP($AB82,'Vejehold 1'!$A$7:$P$23,'Opsamling, slagt+smågrise'!AF$2,FALSE)","v":{"$error":"#N/A"}},{"$f":"VLOOKUP($AB82,'Vejehold 1'!$A$7:$P$23,'Opsamling, slagt+smågrise'!AG$2,FALSE)","v":{"$error":"#N/A"}},{"$f":"VLOOKUP($AB82,'Vejehold 1'!$A$7:$P$23,'Opsamling, slagt+smågrise'!AH$2,FALSE)","v":{"$error":"#N/A"}},{"$f":"VLOOKUP($AB82,'Vejehold 1'!$A$7:$P$23,'Opsamling, slagt+smågrise'!AI$2,FALSE)","v":{"$error":"#N/A"}},null,78,{"$f":"AL81+1","v":"1900-03-18"},{"$f":"VLOOKUP($AL82,'Vejehold 2'!$A$7:$P$23,'Opsamling, slagt+smågrise'!AM$2,FALSE)","v":{"$error":"#N/A"}},{"$f":"VLOOKUP($AL82,'Vejehold 2'!$A$7:$P$23,'Opsamling, slagt+smågrise'!AN$2,FALSE)","v":{"$error":"#N/A"}},{"$f":"VLOOKUP($AL82,'Vejehold 2'!$A$7:$P$23,'Opsamling, slagt+smågrise'!AO$2,FALSE)","v":{"$error":"#N/A"}},{"$f":"VLOOKUP($AL82,'Vejehold 2'!$A$7:$P$23,'Opsamling, slagt+smågrise'!AP$2,FALSE)","v":{"$error":"#N/A"}},{"$f":"VLOOKUP($AL82,'Vejehold 2'!$A$7:$P$23,'Opsamling, slagt+smågrise'!AQ$2,FALSE)","v":{"$error":"#N/A"}},{"$f":"VLOOKUP($AL82,'Vejehold 2'!$A$7:$P$23,'Opsamling, slagt+smågrise'!AR$2,FALSE)","v":{"$error":"#N/A"}},{"$f":"VLOOKUP($AL82,'Vejehold 2'!$A$7:$P$23,'Opsamling, slagt+smågrise'!AS$2,FALSE)","v":{"$error":"#N/A"}},null,78,{"$f":"AV81+1","v":"1900-03-18"},{"$f":"VLOOKUP($AV82,'Vejehold 3'!$A$7:$P$23,'Opsamling, slagt+smågrise'!AW$2,FALSE)","v":{"$error":"#N/A"}},{"$f":"VLOOKUP($AV82,'Vejehold 3'!$A$7:$P$23,'Opsamling, slagt+smågrise'!AX$2,FALSE)","v":{"$error":"#N/A"}},{"$f":"VLOOKUP($AV82,'Vejehold 3'!$A$7:$P$23,'Opsamling, slagt+smågrise'!AY$2,FALSE)","v":{"$error":"#N/A"}},{"$f":"VLOOKUP($AV82,'Vejehold 3'!$A$7:$P$23,'Opsamling, slagt+smågrise'!AZ$2,FALSE)","v":{"$error":"#N/A"}},{"$f":"VLOOKUP($AV82,'Vejehold 3'!$A$7:$P$23,'Opsamling, slagt+smågrise'!BA$2,FALSE)","v":{"$error":"#N/A"}},{"$f":"VLOOKUP($AV82,'Vejehold 3'!$A$7:$P$23,'Opsamling, slagt+smågrise'!BB$2,FALSE)","v":{"$error":"#N/A"}},{"$f":"VLOOKUP($AV82,'Vejehold 3'!$A$7:$P$23,'Opsamling, slagt+smågrise'!BC$2,FALSE)","v":{"$error":"#N/A"}},null,78,{"$f":"BF81+1","v":"1900-03-18"},{"$f":"VLOOKUP($BF82,'Vejehold 4'!$A$7:$P$23,'Opsamling, slagt+smågrise'!BG$2,FALSE)","v":{"$error":"#N/A"}},{"$f":"VLOOKUP($BF82,'Vejehold 4'!$A$7:$P$23,'Opsamling, slagt+smågrise'!BH$2,FALSE)","v":{"$error":"#N/A"}},{"$f":"VLOOKUP($BF82,'Vejehold 4'!$A$7:$P$23,'Opsamling, slagt+smågrise'!BI$2,FALSE)","v":{"$error":"#N/A"}},{"$f":"VLOOKUP($BF82,'Vejehold 4'!$A$7:$P$23,'Opsamling, slagt+smågrise'!BJ$2,FALSE)","v":{"$error":"#N/A"}},{"$f":"VLOOKUP($BF82,'Vejehold 4'!$A$7:$P$23,'Opsamling, slagt+smågrise'!BK$2,FALSE)","v":{"$error":"#N/A"}},{"$f":"VLOOKUP($BF82,'Vejehold 4'!$A$7:$P$23,'Opsamling, slagt+smågrise'!BL$2,FALSE)","v":{"$error":"#N/A"}},{"$f":"VLOOKUP($BF82,'Vejehold 4'!$A$7:$P$23,'Opsamling, slagt+smågrise'!BM$2,FALSE)","v":{"$error":"#N/A"}},null,78,{"$f":"BP81+1","v":"1900-03-18"},{"$f":"VLOOKUP($BP82,'Vejehold 5'!$A$7:$P$23,'Opsamling, slagt+smågrise'!BQ$2,FALSE)","v":{"$error":"#N/A"}},{"$f":"VLOOKUP($BP82,'Vejehold 5'!$A$7:$P$23,'Opsamling, slagt+smågrise'!BR$2,FALSE)","v":{"$error":"#N/A"}},{"$f":"VLOOKUP($BP82,'Vejehold 5'!$A$7:$P$23,'Opsamling, slagt+smågrise'!BS$2,FALSE)","v":{"$error":"#N/A"}},{"$f":"VLOOKUP($BP82,'Vejehold 5'!$A$7:$P$23,'Opsamling, slagt+smågrise'!BT$2,FALSE)","v":{"$error":"#N/A"}},{"$f":"VLOOKUP($BP82,'Vejehold 5'!$A$7:$P$23,'Opsamling, slagt+smågrise'!BU$2,FALSE)","v":{"$error":"#N/A"}},{"$f":"VLOOKUP($BP82,'Vejehold 5'!$A$7:$P$23,'Opsamling, slagt+smågrise'!BV$2,FALSE)","v":{"$error":"#N/A"}},{"$f":"VLOOKUP($BP82,'Vejehold 5'!$A$7:$P$23,'Opsamling, slagt+smågrise'!BW$2,FALSE)","v":{"$error":"#N/A"}},null,78,{"$f":"BZ81+1","v":"1900-03-18"},{"$f":"VLOOKUP($BZ82,'Vejehold 6'!$A$7:$P$23,'Opsamling, slagt+smågrise'!CA$2,FALSE)","v":{"$error":"#N/A"}},{"$f":"VLOOKUP($BZ82,'Vejehold 6'!$A$7:$P$23,'Opsamling, slagt+smågrise'!CB$2,FALSE)","v":{"$error":"#N/A"}},{"$f":"VLOOKUP($BZ82,'Vejehold 6'!$A$7:$P$23,'Opsamling, slagt+smågrise'!CC$2,FALSE)","v":{"$error":"#N/A"}},{"$f":"VLOOKUP($BZ82,'Vejehold 6'!$A$7:$P$23,'Opsamling, slagt+smågrise'!CD$2,FALSE)","v":{"$error":"#N/A"}},{"$f":"VLOOKUP($BZ82,'Vejehold 6'!$A$7:$P$23,'Opsamling, slagt+smågrise'!CE$2,FALSE)","v":{"$error":"#N/A"}},{"$f":"VLOOKUP($BZ82,'Vejehold 6'!$A$7:$P$23,'Opsamling, slagt+smågrise'!CF$2,FALSE)","v":{"$error":"#N/A"}},{"$f":"VLOOKUP($BZ82,'Vejehold 6'!$A$7:$P$23,'Opsamling, slagt+smågrise'!CG$2,FALSE)","v":{"$error":"#N/A"}}]
[null,56,{"$f":"'Vejehold 1'!$L15","v":0},{"$f":"'Vejehold 2'!$L15","v":0},{"$f":"'Vejehold 3'!$L15","v":0},{"$f":"'Vejehold 4'!$L15","v":0},{"$f":"'Vejehold 5'!$L15","v":0},{"$f":"'Vejehold 6'!$L15","v":0},null,null,null,null,null,null,null,null,null,null,null,null,null,null,null,null,null,null,79,"1900-03-19",{"$f":"VLOOKUP($AB83,'Vejehold 1'!$A$7:$P$23,'Opsamling, slagt+smågrise'!AC$2,FALSE)","v":{"$error":"#N/A"}},{"$f":"VLOOKUP($AB83,'Vejehold 1'!$A$7:$P$23,'Opsamling, slagt+smågrise'!AD$2,FALSE)","v":{"$error":"#N/A"}},{"$f":"VLOOKUP($AB83,'Vejehold 1'!$A$7:$P$23,'Opsamling, slagt+smågrise'!AE$2,FALSE)","v":{"$error":"#N/A"}},{"$f":"VLOOKUP($AB83,'Vejehold 1'!$A$7:$P$23,'Opsamling, slagt+smågrise'!AF$2,FALSE)","v":{"$error":"#N/A"}},{"$f":"VLOOKUP($AB83,'Vejehold 1'!$A$7:$P$23,'Opsamling, slagt+smågrise'!AG$2,FALSE)","v":{"$error":"#N/A"}},{"$f":"VLOOKUP($AB83,'Vejehold 1'!$A$7:$P$23,'Opsamling, slagt+smågrise'!AH$2,FALSE)","v":{"$error":"#N/A"}},{"$f":"VLOOKUP($AB83,'Vejehold 1'!$A$7:$P$23,'Opsamling, slagt+smågrise'!AI$2,FALSE)","v":{"$error":"#N/A"}},null,79,"1900-03-19",{"$f":"VLOOKUP($AL83,'Vejehold 2'!$A$7:$P$23,'Opsamling, slagt+smågrise'!AM$2,FALSE)","v":{"$error":"#N/A"}},{"$f":"VLOOKUP($AL83,'Vejehold 2'!$A$7:$P$23,'Opsamling, slagt+smågrise'!AN$2,FALSE)","v":{"$error":"#N/A"}},{"$f":"VLOOKUP($AL83,'Vejehold 2'!$A$7:$P$23,'Opsamling, slagt+smågrise'!AO$2,FALSE)","v":{"$error":"#N/A"}},{"$f":"VLOOKUP($AL83,'Vejehold 2'!$A$7:$P$23,'Opsamling, slagt+smågrise'!AP$2,FALSE)","v":{"$error":"#N/A"}},{"$f":"VLOOKUP($AL83,'Vejehold 2'!$A$7:$P$23,'Opsamling, slagt+smågrise'!AQ$2,FALSE)","v":{"$error":"#N/A"}},{"$f":"VLOOKUP($AL83,'Vejehold 2'!$A$7:$P$23,'Opsamling, slagt+smågrise'!AR$2,FALSE)","v":{"$error":"#N/A"}},{"$f":"VLOOKUP($AL83,'Vejehold 2'!$A$7:$P$23,'Opsamling, slagt+smågrise'!AS$2,FALSE)","v":{"$error":"#N/A"}},null,79,"1900-03-19",{"$f":"VLOOKUP($AV83,'Vejehold 3'!$A$7:$P$23,'Opsamling, slagt+smågrise'!AW$2,FALSE)","v":{"$error":"#N/A"}},{"$f":"VLOOKUP($AV83,'Vejehold 3'!$A$7:$P$23,'Opsamling, slagt+smågrise'!AX$2,FALSE)","v":{"$error":"#N/A"}},{"$f":"VLOOKUP($AV83,'Vejehold 3'!$A$7:$P$23,'Opsamling, slagt+smågrise'!AY$2,FALSE)","v":{"$error":"#N/A"}},{"$f":"VLOOKUP($AV83,'Vejehold 3'!$A$7:$P$23,'Opsamling, slagt+smågrise'!AZ$2,FALSE)","v":{"$error":"#N/A"}},{"$f":"VLOOKUP($AV83,'Vejehold 3'!$A$7:$P$23,'Opsamling, slagt+smågrise'!BA$2,FALSE)","v":{"$error":"#N/A"}},{"$f":"VLOOKUP($AV83,'Vejehold 3'!$A$7:$P$23,'Opsamling, slagt+smågrise'!BB$2,FALSE)","v":{"$error":"#N/A"}},{"$f":"VLOOKUP($AV83,'Vejehold 3'!$A$7:$P$23,'Opsamling, slagt+smågrise'!BC$2,FALSE)","v":{"$error":"#N/A"}},null,79,"1900-03-19",{"$f":"VLOOKUP($BF83,'Vejehold 4'!$A$7:$P$23,'Opsamling, slagt+smågrise'!BG$2,FALSE)","v":{"$error":"#N/A"}},{"$f":"VLOOKUP($BF83,'Vejehold 4'!$A$7:$P$23,'Opsamling, slagt+smågrise'!BH$2,FALSE)","v":{"$error":"#N/A"}},{"$f":"VLOOKUP($BF83,'Vejehold 4'!$A$7:$P$23,'Opsamling, slagt+smågrise'!BI$2,FALSE)","v":{"$error":"#N/A"}},{"$f":"VLOOKUP($BF83,'Vejehold 4'!$A$7:$P$23,'Opsamling, slagt+smågrise'!BJ$2,FALSE)","v":{"$error":"#N/A"}},{"$f":"VLOOKUP($BF83,'Vejehold 4'!$A$7:$P$23,'Opsamling, slagt+smågrise'!BK$2,FALSE)","v":{"$error":"#N/A"}},{"$f":"VLOOKUP($BF83,'Vejehold 4'!$A$7:$P$23,'Opsamling, slagt+smågrise'!BL$2,FALSE)","v":{"$error":"#N/A"}},{"$f":"VLOOKUP($BF83,'Vejehold 4'!$A$7:$P$23,'Opsamling, slagt+smågrise'!BM$2,FALSE)","v":{"$error":"#N/A"}},null,79,"1900-03-19",{"$f":"VLOOKUP($BP83,'Vejehold 5'!$A$7:$P$23,'Opsamling, slagt+smågrise'!BQ$2,FALSE)","v":{"$error":"#N/A"}},{"$f":"VLOOKUP($BP83,'Vejehold 5'!$A$7:$P$23,'Opsamling, slagt+smågrise'!BR$2,FALSE)","v":{"$error":"#N/A"}},{"$f":"VLOOKUP($BP83,'Vejehold 5'!$A$7:$P$23,'Opsamling, slagt+smågrise'!BS$2,FALSE)","v":{"$error":"#N/A"}},{"$f":"VLOOKUP($BP83,'Vejehold 5'!$A$7:$P$23,'Opsamling, slagt+smågrise'!BT$2,FALSE)","v":{"$error":"#N/A"}},{"$f":"VLOOKUP($BP83,'Vejehold 5'!$A$7:$P$23,'Opsamling, slagt+smågrise'!BU$2,FALSE)","v":{"$error":"#N/A"}},{"$f":"VLOOKUP($BP83,'Vejehold 5'!$A$7:$P$23,'Opsamling, slagt+smågrise'!BV$2,FALSE)","v":{"$error":"#N/A"}},{"$f":"VLOOKUP($BP83,'Vejehold 5'!$A$7:$P$23,'Opsamling, slagt+smågrise'!BW$2,FALSE)","v":{"$error":"#N/A"}},null,79,"1900-03-19",{"$f":"VLOOKUP($BZ83,'Vejehold 6'!$A$7:$P$23,'Opsamling, slagt+smågrise'!CA$2,FALSE)","v":{"$error":"#N/A"}},{"$f":"VLOOKUP($BZ83,'Vejehold 6'!$A$7:$P$23,'Opsamling, slagt+smågrise'!CB$2,FALSE)","v":{"$error":"#N/A"}},{"$f":"VLOOKUP($BZ83,'Vejehold 6'!$A$7:$P$23,'Opsamling, slagt+smågrise'!CC$2,FALSE)","v":{"$error":"#N/A"}},{"$f":"VLOOKUP($BZ83,'Vejehold 6'!$A$7:$P$23,'Opsamling, slagt+smågrise'!CD$2,FALSE)","v":{"$error":"#N/A"}},{"$f":"VLOOKUP($BZ83,'Vejehold 6'!$A$7:$P$23,'Opsamling, slagt+smågrise'!CE$2,FALSE)","v":{"$error":"#N/A"}},{"$f":"VLOOKUP($BZ83,'Vejehold 6'!$A$7:$P$23,'Opsamling, slagt+smågrise'!CF$2,FALSE)","v":{"$error":"#N/A"}},{"$f":"VLOOKUP($BZ83,'Vejehold 6'!$A$7:$P$23,'Opsamling, slagt+smågrise'!CG$2,FALSE)","v":{"$error":"#N/A"}}]
[null,63,{"$f":"'Vejehold 1'!$L16","v":0},{"$f":"'Vejehold 2'!$L16","v":0},{"$f":"'Vejehold 3'!$L16","v":0},{"$f":"'Vejehold 4'!$L16","v":0},{"$f":"'Vejehold 5'!$L16","v":0},{"$f":"'Vejehold 6'!$L16","v":0},null,null,null,null,null,null,null,null,null,null,null,null,null,null,null,null,null,null,80,"1900-03-20",{"$f":"VLOOKUP($AB84,'Vejehold 1'!$A$7:$P$23,'Opsamling, slagt+smågrise'!AC$2,FALSE)","v":{"$error":"#N/A"}},{"$f":"VLOOKUP($AB84,'Vejehold 1'!$A$7:$P$23,'Opsamling, slagt+smågrise'!AD$2,FALSE)","v":{"$error":"#N/A"}},{"$f":"VLOOKUP($AB84,'Vejehold 1'!$A$7:$P$23,'Opsamling, slagt+smågrise'!AE$2,FALSE)","v":{"$error":"#N/A"}},{"$f":"VLOOKUP($AB84,'Vejehold 1'!$A$7:$P$23,'Opsamling, slagt+smågrise'!AF$2,FALSE)","v":{"$error":"#N/A"}},{"$f":"VLOOKUP($AB84,'Vejehold 1'!$A$7:$P$23,'Opsamling, slagt+smågrise'!AG$2,FALSE)","v":{"$error":"#N/A"}},{"$f":"VLOOKUP($AB84,'Vejehold 1'!$A$7:$P$23,'Opsamling, slagt+smågrise'!AH$2,FALSE)","v":{"$error":"#N/A"}},{"$f":"VLOOKUP($AB84,'Vejehold 1'!$A$7:$P$23,'Opsamling, slagt+smågrise'!AI$2,FALSE)","v":{"$error":"#N/A"}},null,80,"1900-03-20",{"$f":"VLOOKUP($AL84,'Vejehold 2'!$A$7:$P$23,'Opsamling, slagt+smågrise'!AM$2,FALSE)","v":{"$error":"#N/A"}},{"$f":"VLOOKUP($AL84,'Vejehold 2'!$A$7:$P$23,'Opsamling, slagt+smågrise'!AN$2,FALSE)","v":{"$error":"#N/A"}},{"$f":"VLOOKUP($AL84,'Vejehold 2'!$A$7:$P$23,'Opsamling, slagt+smågrise'!AO$2,FALSE)","v":{"$error":"#N/A"}},{"$f":"VLOOKUP($AL84,'Vejehold 2'!$A$7:$P$23,'Opsamling, slagt+smågrise'!AP$2,FALSE)","v":{"$error":"#N/A"}},{"$f":"VLOOKUP($AL84,'Vejehold 2'!$A$7:$P$23,'Opsamling, slagt+smågrise'!AQ$2,FALSE)","v":{"$error":"#N/A"}},{"$f":"VLOOKUP($AL84,'Vejehold 2'!$A$7:$P$23,'Opsamling, slagt+smågrise'!AR$2,FALSE)","v":{"$error":"#N/A"}},{"$f":"VLOOKUP($AL84,'Vejehold 2'!$A$7:$P$23,'Opsamling, slagt+smågrise'!AS$2,FALSE)","v":{"$error":"#N/A"}},null,80,"1900-03-20",{"$f":"VLOOKUP($AV84,'Vejehold 3'!$A$7:$P$23,'Opsamling, slagt+smågrise'!AW$2,FALSE)","v":{"$error":"#N/A"}},{"$f":"VLOOKUP($AV84,'Vejehold 3'!$A$7:$P$23,'Opsamling, slagt+smågrise'!AX$2,FALSE)","v":{"$error":"#N/A"}},{"$f":"VLOOKUP($AV84,'Vejehold 3'!$A$7:$P$23,'Opsamling, slagt+smågrise'!AY$2,FALSE)","v":{"$error":"#N/A"}},{"$f":"VLOOKUP($AV84,'Vejehold 3'!$A$7:$P$23,'Opsamling, slagt+smågrise'!AZ$2,FALSE)","v":{"$error":"#N/A"}},{"$f":"VLOOKUP($AV84,'Vejehold 3'!$A$7:$P$23,'Opsamling, slagt+smågrise'!BA$2,FALSE)","v":{"$error":"#N/A"}},{"$f":"VLOOKUP($AV84,'Vejehold 3'!$A$7:$P$23,'Opsamling, slagt+smågrise'!BB$2,FALSE)","v":{"$error":"#N/A"}},{"$f":"VLOOKUP($AV84,'Vejehold 3'!$A$7:$P$23,'Opsamling, slagt+smågrise'!BC$2,FALSE)","v":{"$error":"#N/A"}},null,80,"1900-03-20",{"$f":"VLOOKUP($BF84,'Vejehold 4'!$A$7:$P$23,'Opsamling, slagt+smågrise'!BG$2,FALSE)","v":{"$error":"#N/A"}},{"$f":"VLOOKUP($BF84,'Vejehold 4'!$A$7:$P$23,'Opsamling, slagt+smågrise'!BH$2,FALSE)","v":{"$error":"#N/A"}},{"$f":"VLOOKUP($BF84,'Vejehold 4'!$A$7:$P$23,'Opsamling, slagt+smågrise'!BI$2,FALSE)","v":{"$error":"#N/A"}},{"$f":"VLOOKUP($BF84,'Vejehold 4'!$A$7:$P$23,'Opsamling, slagt+smågrise'!BJ$2,FALSE)","v":{"$error":"#N/A"}},{"$f":"VLOOKUP($BF84,'Vejehold 4'!$A$7:$P$23,'Opsamling, slagt+smågrise'!BK$2,FALSE)","v":{"$error":"#N/A"}},{"$f":"VLOOKUP($BF84,'Vejehold 4'!$A$7:$P$23,'Opsamling, slagt+smågrise'!BL$2,FALSE)","v":{"$error":"#N/A"}},{"$f":"VLOOKUP($BF84,'Vejehold 4'!$A$7:$P$23,'Opsamling, slagt+smågrise'!BM$2,FALSE)","v":{"$error":"#N/A"}},null,80,"1900-03-20",{"$f":"VLOOKUP($BP84,'Vejehold 5'!$A$7:$P$23,'Opsamling, slagt+smågrise'!BQ$2,FALSE)","v":{"$error":"#N/A"}},{"$f":"VLOOKUP($BP84,'Vejehold 5'!$A$7:$P$23,'Opsamling, slagt+smågrise'!BR$2,FALSE)","v":{"$error":"#N/A"}},{"$f":"VLOOKUP($BP84,'Vejehold 5'!$A$7:$P$23,'Opsamling, slagt+smågrise'!BS$2,FALSE)","v":{"$error":"#N/A"}},{"$f":"VLOOKUP($BP84,'Vejehold 5'!$A$7:$P$23,'Opsamling, slagt+smågrise'!BT$2,FALSE)","v":{"$error":"#N/A"}},{"$f":"VLOOKUP($BP84,'Vejehold 5'!$A$7:$P$23,'Opsamling, slagt+smågrise'!BU$2,FALSE)","v":{"$error":"#N/A"}},{"$f":"VLOOKUP($BP84,'Vejehold 5'!$A$7:$P$23,'Opsamling, slagt+smågrise'!BV$2,FALSE)","v":{"$error":"#N/A"}},{"$f":"VLOOKUP($BP84,'Vejehold 5'!$A$7:$P$23,'Opsamling, slagt+smågrise'!BW$2,FALSE)","v":{"$error":"#N/A"}},null,80,"1900-03-20",{"$f":"VLOOKUP($BZ84,'Vejehold 6'!$A$7:$P$23,'Opsamling, slagt+smågrise'!CA$2,FALSE)","v":{"$error":"#N/A"}},{"$f":"VLOOKUP($BZ84,'Vejehold 6'!$A$7:$P$23,'Opsamling, slagt+smågrise'!CB$2,FALSE)","v":{"$error":"#N/A"}},{"$f":"VLOOKUP($BZ84,'Vejehold 6'!$A$7:$P$23,'Opsamling, slagt+smågrise'!CC$2,FALSE)","v":{"$error":"#N/A"}},{"$f":"VLOOKUP($BZ84,'Vejehold 6'!$A$7:$P$23,'Opsamling, slagt+smågrise'!CD$2,FALSE)","v":{"$error":"#N/A"}},{"$f":"VLOOKUP($BZ84,'Vejehold 6'!$A$7:$P$23,'Opsamling, slagt+smågrise'!CE$2,FALSE)","v":{"$error":"#N/A"}},{"$f":"VLOOKUP($BZ84,'Vejehold 6'!$A$7:$P$23,'Opsamling, slagt+smågrise'!CF$2,FALSE)","v":{"$error":"#N/A"}},{"$f":"VLOOKUP($BZ84,'Vejehold 6'!$A$7:$P$23,'Opsamling, slagt+smågrise'!CG$2,FALSE)","v":{"$error":"#N/A"}}]
[null,70,{"$f":"'Vejehold 1'!$L17","v":0},{"$f":"'Vejehold 2'!$L17","v":0},{"$f":"'Vejehold 3'!$L17","v":0},{"$f":"'Vejehold 4'!$L17","v":0},{"$f":"'Vejehold 5'!$L17","v":0},{"$f":"'Vejehold 6'!$L17","v":0},null,null,null,null,null,null,null,null,null,null,null,null,null,null,null,null,null,null,81,{"$f":"AB84+1","v":"1900-03-21"},{"$f":"VLOOKUP($AB85,'Vejehold 1'!$A$7:$P$23,'Opsamling, slagt+smågrise'!AC$2,FALSE)","v":{"$error":"#N/A"}},{"$f":"VLOOKUP($AB85,'Vejehold 1'!$A$7:$P$23,'Opsamling, slagt+smågrise'!AD$2,FALSE)","v":{"$error":"#N/A"}},{"$f":"VLOOKUP($AB85,'Vejehold 1'!$A$7:$P$23,'Opsamling, slagt+smågrise'!AE$2,FALSE)","v":{"$error":"#N/A"}},{"$f":"VLOOKUP($AB85,'Vejehold 1'!$A$7:$P$23,'Opsamling, slagt+smågrise'!AF$2,FALSE)","v":{"$error":"#N/A"}},{"$f":"VLOOKUP($AB85,'Vejehold 1'!$A$7:$P$23,'Opsamling, slagt+smågrise'!AG$2,FALSE)","v":{"$error":"#N/A"}},{"$f":"VLOOKUP($AB85,'Vejehold 1'!$A$7:$P$23,'Opsamling, slagt+smågrise'!AH$2,FALSE)","v":{"$error":"#N/A"}},{"$f":"VLOOKUP($AB85,'Vejehold 1'!$A$7:$P$23,'Opsamling, slagt+smågrise'!AI$2,FALSE)","v":{"$error":"#N/A"}},null,81,{"$f":"AL84+1","v":"1900-03-21"},{"$f":"VLOOKUP($AL85,'Vejehold 2'!$A$7:$P$23,'Opsamling, slagt+smågrise'!AM$2,FALSE)","v":{"$error":"#N/A"}},{"$f":"VLOOKUP($AL85,'Vejehold 2'!$A$7:$P$23,'Opsamling, slagt+smågrise'!AN$2,FALSE)","v":{"$error":"#N/A"}},{"$f":"VLOOKUP($AL85,'Vejehold 2'!$A$7:$P$23,'Opsamling, slagt+smågrise'!AO$2,FALSE)","v":{"$error":"#N/A"}},{"$f":"VLOOKUP($AL85,'Vejehold 2'!$A$7:$P$23,'Opsamling, slagt+smågrise'!AP$2,FALSE)","v":{"$error":"#N/A"}},{"$f":"VLOOKUP($AL85,'Vejehold 2'!$A$7:$P$23,'Opsamling, slagt+smågrise'!AQ$2,FALSE)","v":{"$error":"#N/A"}},{"$f":"VLOOKUP($AL85,'Vejehold 2'!$A$7:$P$23,'Opsamling, slagt+smågrise'!AR$2,FALSE)","v":{"$error":"#N/A"}},{"$f":"VLOOKUP($AL85,'Vejehold 2'!$A$7:$P$23,'Opsamling, slagt+smågrise'!AS$2,FALSE)","v":{"$error":"#N/A"}},null,81,{"$f":"AV84+1","v":"1900-03-21"},{"$f":"VLOOKUP($AV85,'Vejehold 3'!$A$7:$P$23,'Opsamling, slagt+smågrise'!AW$2,FALSE)","v":{"$error":"#N/A"}},{"$f":"VLOOKUP($AV85,'Vejehold 3'!$A$7:$P$23,'Opsamling, slagt+smågrise'!AX$2,FALSE)","v":{"$error":"#N/A"}},{"$f":"VLOOKUP($AV85,'Vejehold 3'!$A$7:$P$23,'Opsamling, slagt+smågrise'!AY$2,FALSE)","v":{"$error":"#N/A"}},{"$f":"VLOOKUP($AV85,'Vejehold 3'!$A$7:$P$23,'Opsamling, slagt+smågrise'!AZ$2,FALSE)","v":{"$error":"#N/A"}},{"$f":"VLOOKUP($AV85,'Vejehold 3'!$A$7:$P$23,'Opsamling, slagt+smågrise'!BA$2,FALSE)","v":{"$error":"#N/A"}},{"$f":"VLOOKUP($AV85,'Vejehold 3'!$A$7:$P$23,'Opsamling, slagt+smågrise'!BB$2,FALSE)","v":{"$error":"#N/A"}},{"$f":"VLOOKUP($AV85,'Vejehold 3'!$A$7:$P$23,'Opsamling, slagt+smågrise'!BC$2,FALSE)","v":{"$error":"#N/A"}},null,81,{"$f":"BF84+1","v":"1900-03-21"},{"$f":"VLOOKUP($BF85,'Vejehold 4'!$A$7:$P$23,'Opsamling, slagt+smågrise'!BG$2,FALSE)","v":{"$error":"#N/A"}},{"$f":"VLOOKUP($BF85,'Vejehold 4'!$A$7:$P$23,'Opsamling, slagt+smågrise'!BH$2,FALSE)","v":{"$error":"#N/A"}},{"$f":"VLOOKUP($BF85,'Vejehold 4'!$A$7:$P$23,'Opsamling, slagt+smågrise'!BI$2,FALSE)","v":{"$error":"#N/A"}},{"$f":"VLOOKUP($BF85,'Vejehold 4'!$A$7:$P$23,'Opsamling, slagt+smågrise'!BJ$2,FALSE)","v":{"$error":"#N/A"}},{"$f":"VLOOKUP($BF85,'Vejehold 4'!$A$7:$P$23,'Opsamling, slagt+smågrise'!BK$2,FALSE)","v":{"$error":"#N/A"}},{"$f":"VLOOKUP($BF85,'Vejehold 4'!$A$7:$P$23,'Opsamling, slagt+smågrise'!BL$2,FALSE)","v":{"$error":"#N/A"}},{"$f":"VLOOKUP($BF85,'Vejehold 4'!$A$7:$P$23,'Opsamling, slagt+smågrise'!BM$2,FALSE)","v":{"$error":"#N/A"}},null,81,{"$f":"BP84+1","v":"1900-03-21"},{"$f":"VLOOKUP($BP85,'Vejehold 5'!$A$7:$P$23,'Opsamling, slagt+smågrise'!BQ$2,FALSE)","v":{"$error":"#N/A"}},{"$f":"VLOOKUP($BP85,'Vejehold 5'!$A$7:$P$23,'Opsamling, slagt+smågrise'!BR$2,FALSE)","v":{"$error":"#N/A"}},{"$f":"VLOOKUP($BP85,'Vejehold 5'!$A$7:$P$23,'Opsamling, slagt+smågrise'!BS$2,FALSE)","v":{"$error":"#N/A"}},{"$f":"VLOOKUP($BP85,'Vejehold 5'!$A$7:$P$23,'Opsamling, slagt+smågrise'!BT$2,FALSE)","v":{"$error":"#N/A"}},{"$f":"VLOOKUP($BP85,'Vejehold 5'!$A$7:$P$23,'Opsamling, slagt+smågrise'!BU$2,FALSE)","v":{"$error":"#N/A"}},{"$f":"VLOOKUP($BP85,'Vejehold 5'!$A$7:$P$23,'Opsamling, slagt+smågrise'!BV$2,FALSE)","v":{"$error":"#N/A"}},{"$f":"VLOOKUP($BP85,'Vejehold 5'!$A$7:$P$23,'Opsamling, slagt+smågrise'!BW$2,FALSE)","v":{"$error":"#N/A"}},null,81,{"$f":"BZ84+1","v":"1900-03-21"},{"$f":"VLOOKUP($BZ85,'Vejehold 6'!$A$7:$P$23,'Opsamling, slagt+smågrise'!CA$2,FALSE)","v":{"$error":"#N/A"}},{"$f":"VLOOKUP($BZ85,'Vejehold 6'!$A$7:$P$23,'Opsamling, slagt+smågrise'!CB$2,FALSE)","v":{"$error":"#N/A"}},{"$f":"VLOOKUP($BZ85,'Vejehold 6'!$A$7:$P$23,'Opsamling, slagt+smågrise'!CC$2,FALSE)","v":{"$error":"#N/A"}},{"$f":"VLOOKUP($BZ85,'Vejehold 6'!$A$7:$P$23,'Opsamling, slagt+smågrise'!CD$2,FALSE)","v":{"$error":"#N/A"}},{"$f":"VLOOKUP($BZ85,'Vejehold 6'!$A$7:$P$23,'Opsamling, slagt+smågrise'!CE$2,FALSE)","v":{"$error":"#N/A"}},{"$f":"VLOOKUP($BZ85,'Vejehold 6'!$A$7:$P$23,'Opsamling, slagt+smågrise'!CF$2,FALSE)","v":{"$error":"#N/A"}},{"$f":"VLOOKUP($BZ85,'Vejehold 6'!$A$7:$P$23,'Opsamling, slagt+smågrise'!CG$2,FALSE)","v":{"$error":"#N/A"}}]
[null,77,{"$f":"'Vejehold 1'!$L18","v":0},{"$f":"'Vejehold 2'!$L18","v":0},{"$f":"'Vejehold 3'!$L18","v":0},{"$f":"'Vejehold 4'!$L18","v":0},{"$f":"'Vejehold 5'!$L18","v":0},{"$f":"'Vejehold 6'!$L18","v":0},null,null,null,null,null,null,null,null,null,null,null,null,null,null,null,null,null,null,82,{"$f":"AB85+1","v":"1900-03-22"},{"$f":"VLOOKUP($AB86,'Vejehold 1'!$A$7:$P$23,'Opsamling, slagt+smågrise'!AC$2,FALSE)","v":{"$error":"#N/A"}},{"$f":"VLOOKUP($AB86,'Vejehold 1'!$A$7:$P$23,'Opsamling, slagt+smågrise'!AD$2,FALSE)","v":{"$error":"#N/A"}},{"$f":"VLOOKUP($AB86,'Vejehold 1'!$A$7:$P$23,'Opsamling, slagt+smågrise'!AE$2,FALSE)","v":{"$error":"#N/A"}},{"$f":"VLOOKUP($AB86,'Vejehold 1'!$A$7:$P$23,'Opsamling, slagt+smågrise'!AF$2,FALSE)","v":{"$error":"#N/A"}},{"$f":"VLOOKUP($AB86,'Vejehold 1'!$A$7:$P$23,'Opsamling, slagt+smågrise'!AG$2,FALSE)","v":{"$error":"#N/A"}},{"$f":"VLOOKUP($AB86,'Vejehold 1'!$A$7:$P$23,'Opsamling, slagt+smågrise'!AH$2,FALSE)","v":{"$error":"#N/A"}},{"$f":"VLOOKUP($AB86,'Vejehold 1'!$A$7:$P$23,'Opsamling, slagt+smågrise'!AI$2,FALSE)","v":{"$error":"#N/A"}},null,82,{"$f":"AL85+1","v":"1900-03-22"},{"$f":"VLOOKUP($AL86,'Vejehold 2'!$A$7:$P$23,'Opsamling, slagt+smågrise'!AM$2,FALSE)","v":{"$error":"#N/A"}},{"$f":"VLOOKUP($AL86,'Vejehold 2'!$A$7:$P$23,'Opsamling, slagt+smågrise'!AN$2,FALSE)","v":{"$error":"#N/A"}},{"$f":"VLOOKUP($AL86,'Vejehold 2'!$A$7:$P$23,'Opsamling, slagt+smågrise'!AO$2,FALSE)","v":{"$error":"#N/A"}},{"$f":"VLOOKUP($AL86,'Vejehold 2'!$A$7:$P$23,'Opsamling, slagt+smågrise'!AP$2,FALSE)","v":{"$error":"#N/A"}},{"$f":"VLOOKUP($AL86,'Vejehold 2'!$A$7:$P$23,'Opsamling, slagt+smågrise'!AQ$2,FALSE)","v":{"$error":"#N/A"}},{"$f":"VLOOKUP($AL86,'Vejehold 2'!$A$7:$P$23,'Opsamling, slagt+smågrise'!AR$2,FALSE)","v":{"$error":"#N/A"}},{"$f":"VLOOKUP($AL86,'Vejehold 2'!$A$7:$P$23,'Opsamling, slagt+smågrise'!AS$2,FALSE)","v":{"$error":"#N/A"}},null,82,{"$f":"AV85+1","v":"1900-03-22"},{"$f":"VLOOKUP($AV86,'Vejehold 3'!$A$7:$P$23,'Opsamling, slagt+smågrise'!AW$2,FALSE)","v":{"$error":"#N/A"}},{"$f":"VLOOKUP($AV86,'Vejehold 3'!$A$7:$P$23,'Opsamling, slagt+smågrise'!AX$2,FALSE)","v":{"$error":"#N/A"}},{"$f":"VLOOKUP($AV86,'Vejehold 3'!$A$7:$P$23,'Opsamling, slagt+smågrise'!AY$2,FALSE)","v":{"$error":"#N/A"}},{"$f":"VLOOKUP($AV86,'Vejehold 3'!$A$7:$P$23,'Opsamling, slagt+smågrise'!AZ$2,FALSE)","v":{"$error":"#N/A"}},{"$f":"VLOOKUP($AV86,'Vejehold 3'!$A$7:$P$23,'Opsamling, slagt+smågrise'!BA$2,FALSE)","v":{"$error":"#N/A"}},{"$f":"VLOOKUP($AV86,'Vejehold 3'!$A$7:$P$23,'Opsamling, slagt+smågrise'!BB$2,FALSE)","v":{"$error":"#N/A"}},{"$f":"VLOOKUP($AV86,'Vejehold 3'!$A$7:$P$23,'Opsamling, slagt+smågrise'!BC$2,FALSE)","v":{"$error":"#N/A"}},null,82,{"$f":"BF85+1","v":"1900-03-22"},{"$f":"VLOOKUP($BF86,'Vejehold 4'!$A$7:$P$23,'Opsamling, slagt+smågrise'!BG$2,FALSE)","v":{"$error":"#N/A"}},{"$f":"VLOOKUP($BF86,'Vejehold 4'!$A$7:$P$23,'Opsamling, slagt+smågrise'!BH$2,FALSE)","v":{"$error":"#N/A"}},{"$f":"VLOOKUP($BF86,'Vejehold 4'!$A$7:$P$23,'Opsamling, slagt+smågrise'!BI$2,FALSE)","v":{"$error":"#N/A"}},{"$f":"VLOOKUP($BF86,'Vejehold 4'!$A$7:$P$23,'Opsamling, slagt+smågrise'!BJ$2,FALSE)","v":{"$error":"#N/A"}},{"$f":"VLOOKUP($BF86,'Vejehold 4'!$A$7:$P$23,'Opsamling, slagt+smågrise'!BK$2,FALSE)","v":{"$error":"#N/A"}},{"$f":"VLOOKUP($BF86,'Vejehold 4'!$A$7:$P$23,'Opsamling, slagt+smågrise'!BL$2,FALSE)","v":{"$error":"#N/A"}},{"$f":"VLOOKUP($BF86,'Vejehold 4'!$A$7:$P$23,'Opsamling, slagt+smågrise'!BM$2,FALSE)","v":{"$error":"#N/A"}},null,82,{"$f":"BP85+1","v":"1900-03-22"},{"$f":"VLOOKUP($BP86,'Vejehold 5'!$A$7:$P$23,'Opsamling, slagt+smågrise'!BQ$2,FALSE)","v":{"$error":"#N/A"}},{"$f":"VLOOKUP($BP86,'Vejehold 5'!$A$7:$P$23,'Opsamling, slagt+smågrise'!BR$2,FALSE)","v":{"$error":"#N/A"}},{"$f":"VLOOKUP($BP86,'Vejehold 5'!$A$7:$P$23,'Opsamling, slagt+smågrise'!BS$2,FALSE)","v":{"$error":"#N/A"}},{"$f":"VLOOKUP($BP86,'Vejehold 5'!$A$7:$P$23,'Opsamling, slagt+smågrise'!BT$2,FALSE)","v":{"$error":"#N/A"}},{"$f":"VLOOKUP($BP86,'Vejehold 5'!$A$7:$P$23,'Opsamling, slagt+smågrise'!BU$2,FALSE)","v":{"$error":"#N/A"}},{"$f":"VLOOKUP($BP86,'Vejehold 5'!$A$7:$P$23,'Opsamling, slagt+smågrise'!BV$2,FALSE)","v":{"$error":"#N/A"}},{"$f":"VLOOKUP($BP86,'Vejehold 5'!$A$7:$P$23,'Opsamling, slagt+smågrise'!BW$2,FALSE)","v":{"$error":"#N/A"}},null,82,{"$f":"BZ85+1","v":"1900-03-22"},{"$f":"VLOOKUP($BZ86,'Vejehold 6'!$A$7:$P$23,'Opsamling, slagt+smågrise'!CA$2,FALSE)","v":{"$error":"#N/A"}},{"$f":"VLOOKUP($BZ86,'Vejehold 6'!$A$7:$P$23,'Opsamling, slagt+smågrise'!CB$2,FALSE)","v":{"$error":"#N/A"}},{"$f":"VLOOKUP($BZ86,'Vejehold 6'!$A$7:$P$23,'Opsamling, slagt+smågrise'!CC$2,FALSE)","v":{"$error":"#N/A"}},{"$f":"VLOOKUP($BZ86,'Vejehold 6'!$A$7:$P$23,'Opsamling, slagt+smågrise'!CD$2,FALSE)","v":{"$error":"#N/A"}},{"$f":"VLOOKUP($BZ86,'Vejehold 6'!$A$7:$P$23,'Opsamling, slagt+smågrise'!CE$2,FALSE)","v":{"$error":"#N/A"}},{"$f":"VLOOKUP($BZ86,'Vejehold 6'!$A$7:$P$23,'Opsamling, slagt+smågrise'!CF$2,FALSE)","v":{"$error":"#N/A"}},{"$f":"VLOOKUP($BZ86,'Vejehold 6'!$A$7:$P$23,'Opsamling, slagt+smågrise'!CG$2,FALSE)","v":{"$error":"#N/A"}}]
[null,84,{"$f":"'Vejehold 1'!$L19","v":0},{"$f":"'Vejehold 2'!$L19","v":0},{"$f":"'Vejehold 3'!$L19","v":0},{"$f":"'Vejehold 4'!$L19","v":0},{"$f":"'Vejehold 5'!$L19","v":0},{"$f":"'Vejehold 6'!$L19","v":0},null,null,null,null,null,null,null,null,null,null,null,null,null,null,null,null,null,null,83,{"$f":"AB86+1","v":"1900-03-23"},{"$f":"VLOOKUP($AB87,'Vejehold 1'!$A$7:$P$23,'Opsamling, slagt+smågrise'!AC$2,FALSE)","v":{"$error":"#N/A"}},{"$f":"VLOOKUP($AB87,'Vejehold 1'!$A$7:$P$23,'Opsamling, slagt+smågrise'!AD$2,FALSE)","v":{"$error":"#N/A"}},{"$f":"VLOOKUP($AB87,'Vejehold 1'!$A$7:$P$23,'Opsamling, slagt+smågrise'!AE$2,FALSE)","v":{"$error":"#N/A"}},{"$f":"VLOOKUP($AB87,'Vejehold 1'!$A$7:$P$23,'Opsamling, slagt+smågrise'!AF$2,FALSE)","v":{"$error":"#N/A"}},{"$f":"VLOOKUP($AB87,'Vejehold 1'!$A$7:$P$23,'Opsamling, slagt+smågrise'!AG$2,FALSE)","v":{"$error":"#N/A"}},{"$f":"VLOOKUP($AB87,'Vejehold 1'!$A$7:$P$23,'Opsamling, slagt+smågrise'!AH$2,FALSE)","v":{"$error":"#N/A"}},{"$f":"VLOOKUP($AB87,'Vejehold 1'!$A$7:$P$23,'Opsamling, slagt+smågrise'!AI$2,FALSE)","v":{"$error":"#N/A"}},null,83,{"$f":"AL86+1","v":"1900-03-23"},{"$f":"VLOOKUP($AL87,'Vejehold 2'!$A$7:$P$23,'Opsamling, slagt+smågrise'!AM$2,FALSE)","v":{"$error":"#N/A"}},{"$f":"VLOOKUP($AL87,'Vejehold 2'!$A$7:$P$23,'Opsamling, slagt+smågrise'!AN$2,FALSE)","v":{"$error":"#N/A"}},{"$f":"VLOOKUP($AL87,'Vejehold 2'!$A$7:$P$23,'Opsamling, slagt+smågrise'!AO$2,FALSE)","v":{"$error":"#N/A"}},{"$f":"VLOOKUP($AL87,'Vejehold 2'!$A$7:$P$23,'Opsamling, slagt+smågrise'!AP$2,FALSE)","v":{"$error":"#N/A"}},{"$f":"VLOOKUP($AL87,'Vejehold 2'!$A$7:$P$23,'Opsamling, slagt+smågrise'!AQ$2,FALSE)","v":{"$error":"#N/A"}},{"$f":"VLOOKUP($AL87,'Vejehold 2'!$A$7:$P$23,'Opsamling, slagt+smågrise'!AR$2,FALSE)","v":{"$error":"#N/A"}},{"$f":"VLOOKUP($AL87,'Vejehold 2'!$A$7:$P$23,'Opsamling, slagt+smågrise'!AS$2,FALSE)","v":{"$error":"#N/A"}},null,83,{"$f":"AV86+1","v":"1900-03-23"},{"$f":"VLOOKUP($AV87,'Vejehold 3'!$A$7:$P$23,'Opsamling, slagt+smågrise'!AW$2,FALSE)","v":{"$error":"#N/A"}},{"$f":"VLOOKUP($AV87,'Vejehold 3'!$A$7:$P$23,'Opsamling, slagt+smågrise'!AX$2,FALSE)","v":{"$error":"#N/A"}},{"$f":"VLOOKUP($AV87,'Vejehold 3'!$A$7:$P$23,'Opsamling, slagt+smågrise'!AY$2,FALSE)","v":{"$error":"#N/A"}},{"$f":"VLOOKUP($AV87,'Vejehold 3'!$A$7:$P$23,'Opsamling, slagt+smågrise'!AZ$2,FALSE)","v":{"$error":"#N/A"}},{"$f":"VLOOKUP($AV87,'Vejehold 3'!$A$7:$P$23,'Opsamling, slagt+smågrise'!BA$2,FALSE)","v":{"$error":"#N/A"}},{"$f":"VLOOKUP($AV87,'Vejehold 3'!$A$7:$P$23,'Opsamling, slagt+smågrise'!BB$2,FALSE)","v":{"$error":"#N/A"}},{"$f":"VLOOKUP($AV87,'Vejehold 3'!$A$7:$P$23,'Opsamling, slagt+smågrise'!BC$2,FALSE)","v":{"$error":"#N/A"}},null,83,{"$f":"BF86+1","v":"1900-03-23"},{"$f":"VLOOKUP($BF87,'Vejehold 4'!$A$7:$P$23,'Opsamling, slagt+smågrise'!BG$2,FALSE)","v":{"$error":"#N/A"}},{"$f":"VLOOKUP($BF87,'Vejehold 4'!$A$7:$P$23,'Opsamling, slagt+smågrise'!BH$2,FALSE)","v":{"$error":"#N/A"}},{"$f":"VLOOKUP($BF87,'Vejehold 4'!$A$7:$P$23,'Opsamling, slagt+smågrise'!BI$2,FALSE)","v":{"$error":"#N/A"}},{"$f":"VLOOKUP($BF87,'Vejehold 4'!$A$7:$P$23,'Opsamling, slagt+smågrise'!BJ$2,FALSE)","v":{"$error":"#N/A"}},{"$f":"VLOOKUP($BF87,'Vejehold 4'!$A$7:$P$23,'Opsamling, slagt+smågrise'!BK$2,FALSE)","v":{"$error":"#N/A"}},{"$f":"VLOOKUP($BF87,'Vejehold 4'!$A$7:$P$23,'Opsamling, slagt+smågrise'!BL$2,FALSE)","v":{"$error":"#N/A"}},{"$f":"VLOOKUP($BF87,'Vejehold 4'!$A$7:$P$23,'Opsamling, slagt+smågrise'!BM$2,FALSE)","v":{"$error":"#N/A"}},null,83,{"$f":"BP86+1","v":"1900-03-23"},{"$f":"VLOOKUP($BP87,'Vejehold 5'!$A$7:$P$23,'Opsamling, slagt+smågrise'!BQ$2,FALSE)","v":{"$error":"#N/A"}},{"$f":"VLOOKUP($BP87,'Vejehold 5'!$A$7:$P$23,'Opsamling, slagt+smågrise'!BR$2,FALSE)","v":{"$error":"#N/A"}},{"$f":"VLOOKUP($BP87,'Vejehold 5'!$A$7:$P$23,'Opsamling, slagt+smågrise'!BS$2,FALSE)","v":{"$error":"#N/A"}},{"$f":"VLOOKUP($BP87,'Vejehold 5'!$A$7:$P$23,'Opsamling, slagt+smågrise'!BT$2,FALSE)","v":{"$error":"#N/A"}},{"$f":"VLOOKUP($BP87,'Vejehold 5'!$A$7:$P$23,'Opsamling, slagt+smågrise'!BU$2,FALSE)","v":{"$error":"#N/A"}},{"$f":"VLOOKUP($BP87,'Vejehold 5'!$A$7:$P$23,'Opsamling, slagt+smågrise'!BV$2,FALSE)","v":{"$error":"#N/A"}},{"$f":"VLOOKUP($BP87,'Vejehold 5'!$A$7:$P$23,'Opsamling, slagt+smågrise'!BW$2,FALSE)","v":{"$error":"#N/A"}},null,83,{"$f":"BZ86+1","v":"1900-03-23"},{"$f":"VLOOKUP($BZ87,'Vejehold 6'!$A$7:$P$23,'Opsamling, slagt+smågrise'!CA$2,FALSE)","v":{"$error":"#N/A"}},{"$f":"VLOOKUP($BZ87,'Vejehold 6'!$A$7:$P$23,'Opsamling, slagt+smågrise'!CB$2,FALSE)","v":{"$error":"#N/A"}},{"$f":"VLOOKUP($BZ87,'Vejehold 6'!$A$7:$P$23,'Opsamling, slagt+smågrise'!CC$2,FALSE)","v":{"$error":"#N/A"}},{"$f":"VLOOKUP($BZ87,'Vejehold 6'!$A$7:$P$23,'Opsamling, slagt+smågrise'!CD$2,FALSE)","v":{"$error":"#N/A"}},{"$f":"VLOOKUP($BZ87,'Vejehold 6'!$A$7:$P$23,'Opsamling, slagt+smågrise'!CE$2,FALSE)","v":{"$error":"#N/A"}},{"$f":"VLOOKUP($BZ87,'Vejehold 6'!$A$7:$P$23,'Opsamling, slagt+smågrise'!CF$2,FALSE)","v":{"$error":"#N/A"}},{"$f":"VLOOKUP($BZ87,'Vejehold 6'!$A$7:$P$23,'Opsamling, slagt+smågrise'!CG$2,FALSE)","v":{"$error":"#N/A"}}]
[null,91,{"$f":"'Vejehold 1'!$L20","v":0},{"$f":"'Vejehold 2'!$L20","v":0},{"$f":"'Vejehold 3'!$L20","v":0},{"$f":"'Vejehold 4'!$L20","v":0},{"$f":"'Vejehold 5'!$L20","v":0},{"$f":"'Vejehold 6'!$L20","v":0},null,null,null,null,null,null,null,null,null,null,null,null,null,null,null,null,null,null,84,"1900-03-24",{"$f":"VLOOKUP($AB88,'Vejehold 1'!$A$7:$P$23,'Opsamling, slagt+smågrise'!AC$2,FALSE)","v":{"$error":"#N/A"}},{"$f":"VLOOKUP($AB88,'Vejehold 1'!$A$7:$P$23,'Opsamling, slagt+smågrise'!AD$2,FALSE)","v":{"$error":"#N/A"}},{"$f":"VLOOKUP($AB88,'Vejehold 1'!$A$7:$P$23,'Opsamling, slagt+smågrise'!AE$2,FALSE)","v":{"$error":"#N/A"}},{"$f":"VLOOKUP($AB88,'Vejehold 1'!$A$7:$P$23,'Opsamling, slagt+smågrise'!AF$2,FALSE)","v":{"$error":"#N/A"}},{"$f":"VLOOKUP($AB88,'Vejehold 1'!$A$7:$P$23,'Opsamling, slagt+smågrise'!AG$2,FALSE)","v":{"$error":"#N/A"}},{"$f":"VLOOKUP($AB88,'Vejehold 1'!$A$7:$P$23,'Opsamling, slagt+smågrise'!AH$2,FALSE)","v":{"$error":"#N/A"}},{"$f":"VLOOKUP($AB88,'Vejehold 1'!$A$7:$P$23,'Opsamling, slagt+smågrise'!AI$2,FALSE)","v":{"$error":"#N/A"}},null,84,"1900-03-24",{"$f":"VLOOKUP($AL88,'Vejehold 2'!$A$7:$P$23,'Opsamling, slagt+smågrise'!AM$2,FALSE)","v":{"$error":"#N/A"}},{"$f":"VLOOKUP($AL88,'Vejehold 2'!$A$7:$P$23,'Opsamling, slagt+smågrise'!AN$2,FALSE)","v":{"$error":"#N/A"}},{"$f":"VLOOKUP($AL88,'Vejehold 2'!$A$7:$P$23,'Opsamling, slagt+smågrise'!AO$2,FALSE)","v":{"$error":"#N/A"}},{"$f":"VLOOKUP($AL88,'Vejehold 2'!$A$7:$P$23,'Opsamling, slagt+smågrise'!AP$2,FALSE)","v":{"$error":"#N/A"}},{"$f":"VLOOKUP($AL88,'Vejehold 2'!$A$7:$P$23,'Opsamling, slagt+smågrise'!AQ$2,FALSE)","v":{"$error":"#N/A"}},{"$f":"VLOOKUP($AL88,'Vejehold 2'!$A$7:$P$23,'Opsamling, slagt+smågrise'!AR$2,FALSE)","v":{"$error":"#N/A"}},{"$f":"VLOOKUP($AL88,'Vejehold 2'!$A$7:$P$23,'Opsamling, slagt+smågrise'!AS$2,FALSE)","v":{"$error":"#N/A"}},null,84,"1900-03-24",{"$f":"VLOOKUP($AV88,'Vejehold 3'!$A$7:$P$23,'Opsamling, slagt+smågrise'!AW$2,FALSE)","v":{"$error":"#N/A"}},{"$f":"VLOOKUP($AV88,'Vejehold 3'!$A$7:$P$23,'Opsamling, slagt+smågrise'!AX$2,FALSE)","v":{"$error":"#N/A"}},{"$f":"VLOOKUP($AV88,'Vejehold 3'!$A$7:$P$23,'Opsamling, slagt+smågrise'!AY$2,FALSE)","v":{"$error":"#N/A"}},{"$f":"VLOOKUP($AV88,'Vejehold 3'!$A$7:$P$23,'Opsamling, slagt+smågrise'!AZ$2,FALSE)","v":{"$error":"#N/A"}},{"$f":"VLOOKUP($AV88,'Vejehold 3'!$A$7:$P$23,'Opsamling, slagt+smågrise'!BA$2,FALSE)","v":{"$error":"#N/A"}},{"$f":"VLOOKUP($AV88,'Vejehold 3'!$A$7:$P$23,'Opsamling, slagt+smågrise'!BB$2,FALSE)","v":{"$error":"#N/A"}},{"$f":"VLOOKUP($AV88,'Vejehold 3'!$A$7:$P$23,'Opsamling, slagt+smågrise'!BC$2,FALSE)","v":{"$error":"#N/A"}},null,84,"1900-03-24",{"$f":"VLOOKUP($BF88,'Vejehold 4'!$A$7:$P$23,'Opsamling, slagt+smågrise'!BG$2,FALSE)","v":{"$error":"#N/A"}},{"$f":"VLOOKUP($BF88,'Vejehold 4'!$A$7:$P$23,'Opsamling, slagt+smågrise'!BH$2,FALSE)","v":{"$error":"#N/A"}},{"$f":"VLOOKUP($BF88,'Vejehold 4'!$A$7:$P$23,'Opsamling, slagt+smågrise'!BI$2,FALSE)","v":{"$error":"#N/A"}},{"$f":"VLOOKUP($BF88,'Vejehold 4'!$A$7:$P$23,'Opsamling, slagt+smågrise'!BJ$2,FALSE)","v":{"$error":"#N/A"}},{"$f":"VLOOKUP($BF88,'Vejehold 4'!$A$7:$P$23,'Opsamling, slagt+smågrise'!BK$2,FALSE)","v":{"$error":"#N/A"}},{"$f":"VLOOKUP($BF88,'Vejehold 4'!$A$7:$P$23,'Opsamling, slagt+smågrise'!BL$2,FALSE)","v":{"$error":"#N/A"}},{"$f":"VLOOKUP($BF88,'Vejehold 4'!$A$7:$P$23,'Opsamling, slagt+smågrise'!BM$2,FALSE)","v":{"$error":"#N/A"}},null,84,"1900-03-24",{"$f":"VLOOKUP($BP88,'Vejehold 5'!$A$7:$P$23,'Opsamling, slagt+smågrise'!BQ$2,FALSE)","v":{"$error":"#N/A"}},{"$f":"VLOOKUP($BP88,'Vejehold 5'!$A$7:$P$23,'Opsamling, slagt+smågrise'!BR$2,FALSE)","v":{"$error":"#N/A"}},{"$f":"VLOOKUP($BP88,'Vejehold 5'!$A$7:$P$23,'Opsamling, slagt+smågrise'!BS$2,FALSE)","v":{"$error":"#N/A"}},{"$f":"VLOOKUP($BP88,'Vejehold 5'!$A$7:$P$23,'Opsamling, slagt+smågrise'!BT$2,FALSE)","v":{"$error":"#N/A"}},{"$f":"VLOOKUP($BP88,'Vejehold 5'!$A$7:$P$23,'Opsamling, slagt+smågrise'!BU$2,FALSE)","v":{"$error":"#N/A"}},{"$f":"VLOOKUP($BP88,'Vejehold 5'!$A$7:$P$23,'Opsamling, slagt+smågrise'!BV$2,FALSE)","v":{"$error":"#N/A"}},{"$f":"VLOOKUP($BP88,'Vejehold 5'!$A$7:$P$23,'Opsamling, slagt+smågrise'!BW$2,FALSE)","v":{"$error":"#N/A"}},null,84,"1900-03-24",{"$f":"VLOOKUP($BZ88,'Vejehold 6'!$A$7:$P$23,'Opsamling, slagt+smågrise'!CA$2,FALSE)","v":{"$error":"#N/A"}},{"$f":"VLOOKUP($BZ88,'Vejehold 6'!$A$7:$P$23,'Opsamling, slagt+smågrise'!CB$2,FALSE)","v":{"$error":"#N/A"}},{"$f":"VLOOKUP($BZ88,'Vejehold 6'!$A$7:$P$23,'Opsamling, slagt+smågrise'!CC$2,FALSE)","v":{"$error":"#N/A"}},{"$f":"VLOOKUP($BZ88,'Vejehold 6'!$A$7:$P$23,'Opsamling, slagt+smågrise'!CD$2,FALSE)","v":{"$error":"#N/A"}},{"$f":"VLOOKUP($BZ88,'Vejehold 6'!$A$7:$P$23,'Opsamling, slagt+smågrise'!CE$2,FALSE)","v":{"$error":"#N/A"}},{"$f":"VLOOKUP($BZ88,'Vejehold 6'!$A$7:$P$23,'Opsamling, slagt+smågrise'!CF$2,FALSE)","v":{"$error":"#N/A"}},{"$f":"VLOOKUP($BZ88,'Vejehold 6'!$A$7:$P$23,'Opsamling, slagt+smågrise'!CG$2,FALSE)","v":{"$error":"#N/A"}}]
[null,98,{"$f":"'Vejehold 1'!$L21","v":0},{"$f":"'Vejehold 2'!$L21","v":0},{"$f":"'Vejehold 3'!$L21","v":0},{"$f":"'Vejehold 4'!$L21","v":0},{"$f":"'Vejehold 5'!$L21","v":0},{"$f":"'Vejehold 6'!$L21","v":0},null,null,null,null,null,null,null,null,null,null,null,null,null,null,null,null,null,null,85,"1900-03-25",{"$f":"VLOOKUP($AB89,'Vejehold 1'!$A$7:$P$23,'Opsamling, slagt+smågrise'!AC$2,FALSE)","v":{"$error":"#N/A"}},{"$f":"VLOOKUP($AB89,'Vejehold 1'!$A$7:$P$23,'Opsamling, slagt+smågrise'!AD$2,FALSE)","v":{"$error":"#N/A"}},{"$f":"VLOOKUP($AB89,'Vejehold 1'!$A$7:$P$23,'Opsamling, slagt+smågrise'!AE$2,FALSE)","v":{"$error":"#N/A"}},{"$f":"VLOOKUP($AB89,'Vejehold 1'!$A$7:$P$23,'Opsamling, slagt+smågrise'!AF$2,FALSE)","v":{"$error":"#N/A"}},{"$f":"VLOOKUP($AB89,'Vejehold 1'!$A$7:$P$23,'Opsamling, slagt+smågrise'!AG$2,FALSE)","v":{"$error":"#N/A"}},{"$f":"VLOOKUP($AB89,'Vejehold 1'!$A$7:$P$23,'Opsamling, slagt+smågrise'!AH$2,FALSE)","v":{"$error":"#N/A"}},{"$f":"VLOOKUP($AB89,'Vejehold 1'!$A$7:$P$23,'Opsamling, slagt+smågrise'!AI$2,FALSE)","v":{"$error":"#N/A"}},null,85,"1900-03-25",{"$f":"VLOOKUP($AL89,'Vejehold 2'!$A$7:$P$23,'Opsamling, slagt+smågrise'!AM$2,FALSE)","v":{"$error":"#N/A"}},{"$f":"VLOOKUP($AL89,'Vejehold 2'!$A$7:$P$23,'Opsamling, slagt+smågrise'!AN$2,FALSE)","v":{"$error":"#N/A"}},{"$f":"VLOOKUP($AL89,'Vejehold 2'!$A$7:$P$23,'Opsamling, slagt+smågrise'!AO$2,FALSE)","v":{"$error":"#N/A"}},{"$f":"VLOOKUP($AL89,'Vejehold 2'!$A$7:$P$23,'Opsamling, slagt+smågrise'!AP$2,FALSE)","v":{"$error":"#N/A"}},{"$f":"VLOOKUP($AL89,'Vejehold 2'!$A$7:$P$23,'Opsamling, slagt+smågrise'!AQ$2,FALSE)","v":{"$error":"#N/A"}},{"$f":"VLOOKUP($AL89,'Vejehold 2'!$A$7:$P$23,'Opsamling, slagt+smågrise'!AR$2,FALSE)","v":{"$error":"#N/A"}},{"$f":"VLOOKUP($AL89,'Vejehold 2'!$A$7:$P$23,'Opsamling, slagt+smågrise'!AS$2,FALSE)","v":{"$error":"#N/A"}},null,85,"1900-03-25",{"$f":"VLOOKUP($AV89,'Vejehold 3'!$A$7:$P$23,'Opsamling, slagt+smågrise'!AW$2,FALSE)","v":{"$error":"#N/A"}},{"$f":"VLOOKUP($AV89,'Vejehold 3'!$A$7:$P$23,'Opsamling, slagt+smågrise'!AX$2,FALSE)","v":{"$error":"#N/A"}},{"$f":"VLOOKUP($AV89,'Vejehold 3'!$A$7:$P$23,'Opsamling, slagt+smågrise'!AY$2,FALSE)","v":{"$error":"#N/A"}},{"$f":"VLOOKUP($AV89,'Vejehold 3'!$A$7:$P$23,'Opsamling, slagt+smågrise'!AZ$2,FALSE)","v":{"$error":"#N/A"}},{"$f":"VLOOKUP($AV89,'Vejehold 3'!$A$7:$P$23,'Opsamling, slagt+smågrise'!BA$2,FALSE)","v":{"$error":"#N/A"}},{"$f":"VLOOKUP($AV89,'Vejehold 3'!$A$7:$P$23,'Opsamling, slagt+smågrise'!BB$2,FALSE)","v":{"$error":"#N/A"}},{"$f":"VLOOKUP($AV89,'Vejehold 3'!$A$7:$P$23,'Opsamling, slagt+smågrise'!BC$2,FALSE)","v":{"$error":"#N/A"}},null,85,"1900-03-25",{"$f":"VLOOKUP($BF89,'Vejehold 4'!$A$7:$P$23,'Opsamling, slagt+smågrise'!BG$2,FALSE)","v":{"$error":"#N/A"}},{"$f":"VLOOKUP($BF89,'Vejehold 4'!$A$7:$P$23,'Opsamling, slagt+smågrise'!BH$2,FALSE)","v":{"$error":"#N/A"}},{"$f":"VLOOKUP($BF89,'Vejehold 4'!$A$7:$P$23,'Opsamling, slagt+smågrise'!BI$2,FALSE)","v":{"$error":"#N/A"}},{"$f":"VLOOKUP($BF89,'Vejehold 4'!$A$7:$P$23,'Opsamling, slagt+smågrise'!BJ$2,FALSE)","v":{"$error":"#N/A"}},{"$f":"VLOOKUP($BF89,'Vejehold 4'!$A$7:$P$23,'Opsamling, slagt+smågrise'!BK$2,FALSE)","v":{"$error":"#N/A"}},{"$f":"VLOOKUP($BF89,'Vejehold 4'!$A$7:$P$23,'Opsamling, slagt+smågrise'!BL$2,FALSE)","v":{"$error":"#N/A"}},{"$f":"VLOOKUP($BF89,'Vejehold 4'!$A$7:$P$23,'Opsamling, slagt+smågrise'!BM$2,FALSE)","v":{"$error":"#N/A"}},null,85,"1900-03-25",{"$f":"VLOOKUP($BP89,'Vejehold 5'!$A$7:$P$23,'Opsamling, slagt+smågrise'!BQ$2,FALSE)","v":{"$error":"#N/A"}},{"$f":"VLOOKUP($BP89,'Vejehold 5'!$A$7:$P$23,'Opsamling, slagt+smågrise'!BR$2,FALSE)","v":{"$error":"#N/A"}},{"$f":"VLOOKUP($BP89,'Vejehold 5'!$A$7:$P$23,'Opsamling, slagt+smågrise'!BS$2,FALSE)","v":{"$error":"#N/A"}},{"$f":"VLOOKUP($BP89,'Vejehold 5'!$A$7:$P$23,'Opsamling, slagt+smågrise'!BT$2,FALSE)","v":{"$error":"#N/A"}},{"$f":"VLOOKUP($BP89,'Vejehold 5'!$A$7:$P$23,'Opsamling, slagt+smågrise'!BU$2,FALSE)","v":{"$error":"#N/A"}},{"$f":"VLOOKUP($BP89,'Vejehold 5'!$A$7:$P$23,'Opsamling, slagt+smågrise'!BV$2,FALSE)","v":{"$error":"#N/A"}},{"$f":"VLOOKUP($BP89,'Vejehold 5'!$A$7:$P$23,'Opsamling, slagt+smågrise'!BW$2,FALSE)","v":{"$error":"#N/A"}},null,85,"1900-03-25",{"$f":"VLOOKUP($BZ89,'Vejehold 6'!$A$7:$P$23,'Opsamling, slagt+smågrise'!CA$2,FALSE)","v":{"$error":"#N/A"}},{"$f":"VLOOKUP($BZ89,'Vejehold 6'!$A$7:$P$23,'Opsamling, slagt+smågrise'!CB$2,FALSE)","v":{"$error":"#N/A"}},{"$f":"VLOOKUP($BZ89,'Vejehold 6'!$A$7:$P$23,'Opsamling, slagt+smågrise'!CC$2,FALSE)","v":{"$error":"#N/A"}},{"$f":"VLOOKUP($BZ89,'Vejehold 6'!$A$7:$P$23,'Opsamling, slagt+smågrise'!CD$2,FALSE)","v":{"$error":"#N/A"}},{"$f":"VLOOKUP($BZ89,'Vejehold 6'!$A$7:$P$23,'Opsamling, slagt+smågrise'!CE$2,FALSE)","v":{"$error":"#N/A"}},{"$f":"VLOOKUP($BZ89,'Vejehold 6'!$A$7:$P$23,'Opsamling, slagt+smågrise'!CF$2,FALSE)","v":{"$error":"#N/A"}},{"$f":"VLOOKUP($BZ89,'Vejehold 6'!$A$7:$P$23,'Opsamling, slagt+smågrise'!CG$2,FALSE)","v":{"$error":"#N/A"}}]
[null,null,null,null,null,null,null,null,null,null,null,null,null,null,null,null,null,null,null,null,null,null,null,null,null,null,86,"1900-03-26",{"$f":"VLOOKUP($AB90,'Vejehold 1'!$A$7:$P$23,'Opsamling, slagt+smågrise'!AC$2,FALSE)","v":{"$error":"#N/A"}},{"$f":"VLOOKUP($AB90,'Vejehold 1'!$A$7:$P$23,'Opsamling, slagt+smågrise'!AD$2,FALSE)","v":{"$error":"#N/A"}},{"$f":"VLOOKUP($AB90,'Vejehold 1'!$A$7:$P$23,'Opsamling, slagt+smågrise'!AE$2,FALSE)","v":{"$error":"#N/A"}},{"$f":"VLOOKUP($AB90,'Vejehold 1'!$A$7:$P$23,'Opsamling, slagt+smågrise'!AF$2,FALSE)","v":{"$error":"#N/A"}},{"$f":"VLOOKUP($AB90,'Vejehold 1'!$A$7:$P$23,'Opsamling, slagt+smågrise'!AG$2,FALSE)","v":{"$error":"#N/A"}},{"$f":"VLOOKUP($AB90,'Vejehold 1'!$A$7:$P$23,'Opsamling, slagt+smågrise'!AH$2,FALSE)","v":{"$error":"#N/A"}},{"$f":"VLOOKUP($AB90,'Vejehold 1'!$A$7:$P$23,'Opsamling, slagt+smågrise'!AI$2,FALSE)","v":{"$error":"#N/A"}},null,86,"1900-03-26",{"$f":"VLOOKUP($AL90,'Vejehold 2'!$A$7:$P$23,'Opsamling, slagt+smågrise'!AM$2,FALSE)","v":{"$error":"#N/A"}},{"$f":"VLOOKUP($AL90,'Vejehold 2'!$A$7:$P$23,'Opsamling, slagt+smågrise'!AN$2,FALSE)","v":{"$error":"#N/A"}},{"$f":"VLOOKUP($AL90,'Vejehold 2'!$A$7:$P$23,'Opsamling, slagt+smågrise'!AO$2,FALSE)","v":{"$error":"#N/A"}},{"$f":"VLOOKUP($AL90,'Vejehold 2'!$A$7:$P$23,'Opsamling, slagt+smågrise'!AP$2,FALSE)","v":{"$error":"#N/A"}},{"$f":"VLOOKUP($AL90,'Vejehold 2'!$A$7:$P$23,'Opsamling, slagt+smågrise'!AQ$2,FALSE)","v":{"$error":"#N/A"}},{"$f":"VLOOKUP($AL90,'Vejehold 2'!$A$7:$P$23,'Opsamling, slagt+smågrise'!AR$2,FALSE)","v":{"$error":"#N/A"}},{"$f":"VLOOKUP($AL90,'Vejehold 2'!$A$7:$P$23,'Opsamling, slagt+smågrise'!AS$2,FALSE)","v":{"$error":"#N/A"}},null,86,"1900-03-26",{"$f":"VLOOKUP($AV90,'Vejehold 3'!$A$7:$P$23,'Opsamling, slagt+smågrise'!AW$2,FALSE)","v":{"$error":"#N/A"}},{"$f":"VLOOKUP($AV90,'Vejehold 3'!$A$7:$P$23,'Opsamling, slagt+smågrise'!AX$2,FALSE)","v":{"$error":"#N/A"}},{"$f":"VLOOKUP($AV90,'Vejehold 3'!$A$7:$P$23,'Opsamling, slagt+smågrise'!AY$2,FALSE)","v":{"$error":"#N/A"}},{"$f":"VLOOKUP($AV90,'Vejehold 3'!$A$7:$P$23,'Opsamling, slagt+smågrise'!AZ$2,FALSE)","v":{"$error":"#N/A"}},{"$f":"VLOOKUP($AV90,'Vejehold 3'!$A$7:$P$23,'Opsamling, slagt+smågrise'!BA$2,FALSE)","v":{"$error":"#N/A"}},{"$f":"VLOOKUP($AV90,'Vejehold 3'!$A$7:$P$23,'Opsamling, slagt+smågrise'!BB$2,FALSE)","v":{"$error":"#N/A"}},{"$f":"VLOOKUP($AV90,'Vejehold 3'!$A$7:$P$23,'Opsamling, slagt+smågrise'!BC$2,FALSE)","v":{"$error":"#N/A"}},null,86,"1900-03-26",{"$f":"VLOOKUP($BF90,'Vejehold 4'!$A$7:$P$23,'Opsamling, slagt+smågrise'!BG$2,FALSE)","v":{"$error":"#N/A"}},{"$f":"VLOOKUP($BF90,'Vejehold 4'!$A$7:$P$23,'Opsamling, slagt+smågrise'!BH$2,FALSE)","v":{"$error":"#N/A"}},{"$f":"VLOOKUP($BF90,'Vejehold 4'!$A$7:$P$23,'Opsamling, slagt+smågrise'!BI$2,FALSE)","v":{"$error":"#N/A"}},{"$f":"VLOOKUP($BF90,'Vejehold 4'!$A$7:$P$23,'Opsamling, slagt+smågrise'!BJ$2,FALSE)","v":{"$error":"#N/A"}},{"$f":"VLOOKUP($BF90,'Vejehold 4'!$A$7:$P$23,'Opsamling, slagt+smågrise'!BK$2,FALSE)","v":{"$error":"#N/A"}},{"$f":"VLOOKUP($BF90,'Vejehold 4'!$A$7:$P$23,'Opsamling, slagt+smågrise'!BL$2,FALSE)","v":{"$error":"#N/A"}},{"$f":"VLOOKUP($BF90,'Vejehold 4'!$A$7:$P$23,'Opsamling, slagt+smågrise'!BM$2,FALSE)","v":{"$error":"#N/A"}},null,86,"1900-03-26",{"$f":"VLOOKUP($BP90,'Vejehold 5'!$A$7:$P$23,'Opsamling, slagt+smågrise'!BQ$2,FALSE)","v":{"$error":"#N/A"}},{"$f":"VLOOKUP($BP90,'Vejehold 5'!$A$7:$P$23,'Opsamling, slagt+smågrise'!BR$2,FALSE)","v":{"$error":"#N/A"}},{"$f":"VLOOKUP($BP90,'Vejehold 5'!$A$7:$P$23,'Opsamling, slagt+smågrise'!BS$2,FALSE)","v":{"$error":"#N/A"}},{"$f":"VLOOKUP($BP90,'Vejehold 5'!$A$7:$P$23,'Opsamling, slagt+smågrise'!BT$2,FALSE)","v":{"$error":"#N/A"}},{"$f":"VLOOKUP($BP90,'Vejehold 5'!$A$7:$P$23,'Opsamling, slagt+smågrise'!BU$2,FALSE)","v":{"$error":"#N/A"}},{"$f":"VLOOKUP($BP90,'Vejehold 5'!$A$7:$P$23,'Opsamling, slagt+smågrise'!BV$2,FALSE)","v":{"$error":"#N/A"}},{"$f":"VLOOKUP($BP90,'Vejehold 5'!$A$7:$P$23,'Opsamling, slagt+smågrise'!BW$2,FALSE)","v":{"$error":"#N/A"}},null,86,"1900-03-26",{"$f":"VLOOKUP($BZ90,'Vejehold 6'!$A$7:$P$23,'Opsamling, slagt+smågrise'!CA$2,FALSE)","v":{"$error":"#N/A"}},{"$f":"VLOOKUP($BZ90,'Vejehold 6'!$A$7:$P$23,'Opsamling, slagt+smågrise'!CB$2,FALSE)","v":{"$error":"#N/A"}},{"$f":"VLOOKUP($BZ90,'Vejehold 6'!$A$7:$P$23,'Opsamling, slagt+smågrise'!CC$2,FALSE)","v":{"$error":"#N/A"}},{"$f":"VLOOKUP($BZ90,'Vejehold 6'!$A$7:$P$23,'Opsamling, slagt+smågrise'!CD$2,FALSE)","v":{"$error":"#N/A"}},{"$f":"VLOOKUP($BZ90,'Vejehold 6'!$A$7:$P$23,'Opsamling, slagt+smågrise'!CE$2,FALSE)","v":{"$error":"#N/A"}},{"$f":"VLOOKUP($BZ90,'Vejehold 6'!$A$7:$P$23,'Opsamling, slagt+smågrise'!CF$2,FALSE)","v":{"$error":"#N/A"}},{"$f":"VLOOKUP($BZ90,'Vejehold 6'!$A$7:$P$23,'Opsamling, slagt+smågrise'!CG$2,FALSE)","v":{"$error":"#N/A"}}]
[null,null,null,null,null,null,null,null,null,null,null,null,null,null,null,null,null,null,null,null,null,null,null,null,null,null,87,"1900-03-27",{"$f":"VLOOKUP($AB91,'Vejehold 1'!$A$7:$P$23,'Opsamling, slagt+smågrise'!AC$2,FALSE)","v":{"$error":"#N/A"}},{"$f":"VLOOKUP($AB91,'Vejehold 1'!$A$7:$P$23,'Opsamling, slagt+smågrise'!AD$2,FALSE)","v":{"$error":"#N/A"}},{"$f":"VLOOKUP($AB91,'Vejehold 1'!$A$7:$P$23,'Opsamling, slagt+smågrise'!AE$2,FALSE)","v":{"$error":"#N/A"}},{"$f":"VLOOKUP($AB91,'Vejehold 1'!$A$7:$P$23,'Opsamling, slagt+smågrise'!AF$2,FALSE)","v":{"$error":"#N/A"}},{"$f":"VLOOKUP($AB91,'Vejehold 1'!$A$7:$P$23,'Opsamling, slagt+smågrise'!AG$2,FALSE)","v":{"$error":"#N/A"}},{"$f":"VLOOKUP($AB91,'Vejehold 1'!$A$7:$P$23,'Opsamling, slagt+smågrise'!AH$2,FALSE)","v":{"$error":"#N/A"}},{"$f":"VLOOKUP($AB91,'Vejehold 1'!$A$7:$P$23,'Opsamling, slagt+smågrise'!AI$2,FALSE)","v":{"$error":"#N/A"}},null,87,"1900-03-27",{"$f":"VLOOKUP($AL91,'Vejehold 2'!$A$7:$P$23,'Opsamling, slagt+smågrise'!AM$2,FALSE)","v":{"$error":"#N/A"}},{"$f":"VLOOKUP($AL91,'Vejehold 2'!$A$7:$P$23,'Opsamling, slagt+smågrise'!AN$2,FALSE)","v":{"$error":"#N/A"}},{"$f":"VLOOKUP($AL91,'Vejehold 2'!$A$7:$P$23,'Opsamling, slagt+smågrise'!AO$2,FALSE)","v":{"$error":"#N/A"}},{"$f":"VLOOKUP($AL91,'Vejehold 2'!$A$7:$P$23,'Opsamling, slagt+smågrise'!AP$2,FALSE)","v":{"$error":"#N/A"}},{"$f":"VLOOKUP($AL91,'Vejehold 2'!$A$7:$P$23,'Opsamling, slagt+smågrise'!AQ$2,FALSE)","v":{"$error":"#N/A"}},{"$f":"VLOOKUP($AL91,'Vejehold 2'!$A$7:$P$23,'Opsamling, slagt+smågrise'!AR$2,FALSE)","v":{"$error":"#N/A"}},{"$f":"VLOOKUP($AL91,'Vejehold 2'!$A$7:$P$23,'Opsamling, slagt+smågrise'!AS$2,FALSE)","v":{"$error":"#N/A"}},null,87,"1900-03-27",{"$f":"VLOOKUP($AV91,'Vejehold 3'!$A$7:$P$23,'Opsamling, slagt+smågrise'!AW$2,FALSE)","v":{"$error":"#N/A"}},{"$f":"VLOOKUP($AV91,'Vejehold 3'!$A$7:$P$23,'Opsamling, slagt+smågrise'!AX$2,FALSE)","v":{"$error":"#N/A"}},{"$f":"VLOOKUP($AV91,'Vejehold 3'!$A$7:$P$23,'Opsamling, slagt+smågrise'!AY$2,FALSE)","v":{"$error":"#N/A"}},{"$f":"VLOOKUP($AV91,'Vejehold 3'!$A$7:$P$23,'Opsamling, slagt+smågrise'!AZ$2,FALSE)","v":{"$error":"#N/A"}},{"$f":"VLOOKUP($AV91,'Vejehold 3'!$A$7:$P$23,'Opsamling, slagt+smågrise'!BA$2,FALSE)","v":{"$error":"#N/A"}},{"$f":"VLOOKUP($AV91,'Vejehold 3'!$A$7:$P$23,'Opsamling, slagt+smågrise'!BB$2,FALSE)","v":{"$error":"#N/A"}},{"$f":"VLOOKUP($AV91,'Vejehold 3'!$A$7:$P$23,'Opsamling, slagt+smågrise'!BC$2,FALSE)","v":{"$error":"#N/A"}},null,87,"1900-03-27",{"$f":"VLOOKUP($BF91,'Vejehold 4'!$A$7:$P$23,'Opsamling, slagt+smågrise'!BG$2,FALSE)","v":{"$error":"#N/A"}},{"$f":"VLOOKUP($BF91,'Vejehold 4'!$A$7:$P$23,'Opsamling, slagt+smågrise'!BH$2,FALSE)","v":{"$error":"#N/A"}},{"$f":"VLOOKUP($BF91,'Vejehold 4'!$A$7:$P$23,'Opsamling, slagt+smågrise'!BI$2,FALSE)","v":{"$error":"#N/A"}},{"$f":"VLOOKUP($BF91,'Vejehold 4'!$A$7:$P$23,'Opsamling, slagt+smågrise'!BJ$2,FALSE)","v":{"$error":"#N/A"}},{"$f":"VLOOKUP($BF91,'Vejehold 4'!$A$7:$P$23,'Opsamling, slagt+smågrise'!BK$2,FALSE)","v":{"$error":"#N/A"}},{"$f":"VLOOKUP($BF91,'Vejehold 4'!$A$7:$P$23,'Opsamling, slagt+smågrise'!BL$2,FALSE)","v":{"$error":"#N/A"}},{"$f":"VLOOKUP($BF91,'Vejehold 4'!$A$7:$P$23,'Opsamling, slagt+smågrise'!BM$2,FALSE)","v":{"$error":"#N/A"}},null,87,"1900-03-27",{"$f":"VLOOKUP($BP91,'Vejehold 5'!$A$7:$P$23,'Opsamling, slagt+smågrise'!BQ$2,FALSE)","v":{"$error":"#N/A"}},{"$f":"VLOOKUP($BP91,'Vejehold 5'!$A$7:$P$23,'Opsamling, slagt+smågrise'!BR$2,FALSE)","v":{"$error":"#N/A"}},{"$f":"VLOOKUP($BP91,'Vejehold 5'!$A$7:$P$23,'Opsamling, slagt+smågrise'!BS$2,FALSE)","v":{"$error":"#N/A"}},{"$f":"VLOOKUP($BP91,'Vejehold 5'!$A$7:$P$23,'Opsamling, slagt+smågrise'!BT$2,FALSE)","v":{"$error":"#N/A"}},{"$f":"VLOOKUP($BP91,'Vejehold 5'!$A$7:$P$23,'Opsamling, slagt+smågrise'!BU$2,FALSE)","v":{"$error":"#N/A"}},{"$f":"VLOOKUP($BP91,'Vejehold 5'!$A$7:$P$23,'Opsamling, slagt+smågrise'!BV$2,FALSE)","v":{"$error":"#N/A"}},{"$f":"VLOOKUP($BP91,'Vejehold 5'!$A$7:$P$23,'Opsamling, slagt+smågrise'!BW$2,FALSE)","v":{"$error":"#N/A"}},null,87,"1900-03-27",{"$f":"VLOOKUP($BZ91,'Vejehold 6'!$A$7:$P$23,'Opsamling, slagt+smågrise'!CA$2,FALSE)","v":{"$error":"#N/A"}},{"$f":"VLOOKUP($BZ91,'Vejehold 6'!$A$7:$P$23,'Opsamling, slagt+smågrise'!CB$2,FALSE)","v":{"$error":"#N/A"}},{"$f":"VLOOKUP($BZ91,'Vejehold 6'!$A$7:$P$23,'Opsamling, slagt+smågrise'!CC$2,FALSE)","v":{"$error":"#N/A"}},{"$f":"VLOOKUP($BZ91,'Vejehold 6'!$A$7:$P$23,'Opsamling, slagt+smågrise'!CD$2,FALSE)","v":{"$error":"#N/A"}},{"$f":"VLOOKUP($BZ91,'Vejehold 6'!$A$7:$P$23,'Opsamling, slagt+smågrise'!CE$2,FALSE)","v":{"$error":"#N/A"}},{"$f":"VLOOKUP($BZ91,'Vejehold 6'!$A$7:$P$23,'Opsamling, slagt+smågrise'!CF$2,FALSE)","v":{"$error":"#N/A"}},{"$f":"VLOOKUP($BZ91,'Vejehold 6'!$A$7:$P$23,'Opsamling, slagt+smågrise'!CG$2,FALSE)","v":{"$error":"#N/A"}}]
[null,"FE pr. dag pr. gris periode",null,null,null,null,null,null,null,null,null,null,null,null,null,null,null,null,null,null,null,null,null,null,null,null,88,{"$f":"AB91+1","v":"1900-03-28"},{"$f":"VLOOKUP($AB92,'Vejehold 1'!$A$7:$P$23,'Opsamling, slagt+smågrise'!AC$2,FALSE)","v":{"$error":"#N/A"}},{"$f":"VLOOKUP($AB92,'Vejehold 1'!$A$7:$P$23,'Opsamling, slagt+smågrise'!AD$2,FALSE)","v":{"$error":"#N/A"}},{"$f":"VLOOKUP($AB92,'Vejehold 1'!$A$7:$P$23,'Opsamling, slagt+smågrise'!AE$2,FALSE)","v":{"$error":"#N/A"}},{"$f":"VLOOKUP($AB92,'Vejehold 1'!$A$7:$P$23,'Opsamling, slagt+smågrise'!AF$2,FALSE)","v":{"$error":"#N/A"}},{"$f":"VLOOKUP($AB92,'Vejehold 1'!$A$7:$P$23,'Opsamling, slagt+smågrise'!AG$2,FALSE)","v":{"$error":"#N/A"}},{"$f":"VLOOKUP($AB92,'Vejehold 1'!$A$7:$P$23,'Opsamling, slagt+smågrise'!AH$2,FALSE)","v":{"$error":"#N/A"}},{"$f":"VLOOKUP($AB92,'Vejehold 1'!$A$7:$P$23,'Opsamling, slagt+smågrise'!AI$2,FALSE)","v":{"$error":"#N/A"}},null,88,{"$f":"AL91+1","v":"1900-03-28"},{"$f":"VLOOKUP($AL92,'Vejehold 2'!$A$7:$P$23,'Opsamling, slagt+smågrise'!AM$2,FALSE)","v":{"$error":"#N/A"}},{"$f":"VLOOKUP($AL92,'Vejehold 2'!$A$7:$P$23,'Opsamling, slagt+smågrise'!AN$2,FALSE)","v":{"$error":"#N/A"}},{"$f":"VLOOKUP($AL92,'Vejehold 2'!$A$7:$P$23,'Opsamling, slagt+smågrise'!AO$2,FALSE)","v":{"$error":"#N/A"}},{"$f":"VLOOKUP($AL92,'Vejehold 2'!$A$7:$P$23,'Opsamling, slagt+smågrise'!AP$2,FALSE)","v":{"$error":"#N/A"}},{"$f":"VLOOKUP($AL92,'Vejehold 2'!$A$7:$P$23,'Opsamling, slagt+smågrise'!AQ$2,FALSE)","v":{"$error":"#N/A"}},{"$f":"VLOOKUP($AL92,'Vejehold 2'!$A$7:$P$23,'Opsamling, slagt+smågrise'!AR$2,FALSE)","v":{"$error":"#N/A"}},{"$f":"VLOOKUP($AL92,'Vejehold 2'!$A$7:$P$23,'Opsamling, slagt+smågrise'!AS$2,FALSE)","v":{"$error":"#N/A"}},null,88,{"$f":"AV91+1","v":"1900-03-28"},{"$f":"VLOOKUP($AV92,'Vejehold 3'!$A$7:$P$23,'Opsamling, slagt+smågrise'!AW$2,FALSE)","v":{"$error":"#N/A"}},{"$f":"VLOOKUP($AV92,'Vejehold 3'!$A$7:$P$23,'Opsamling, slagt+smågrise'!AX$2,FALSE)","v":{"$error":"#N/A"}},{"$f":"VLOOKUP($AV92,'Vejehold 3'!$A$7:$P$23,'Opsamling, slagt+smågrise'!AY$2,FALSE)","v":{"$error":"#N/A"}},{"$f":"VLOOKUP($AV92,'Vejehold 3'!$A$7:$P$23,'Opsamling, slagt+smågrise'!AZ$2,FALSE)","v":{"$error":"#N/A"}},{"$f":"VLOOKUP($AV92,'Vejehold 3'!$A$7:$P$23,'Opsamling, slagt+smågrise'!BA$2,FALSE)","v":{"$error":"#N/A"}},{"$f":"VLOOKUP($AV92,'Vejehold 3'!$A$7:$P$23,'Opsamling, slagt+smågrise'!BB$2,FALSE)","v":{"$error":"#N/A"}},{"$f":"VLOOKUP($AV92,'Vejehold 3'!$A$7:$P$23,'Opsamling, slagt+smågrise'!BC$2,FALSE)","v":{"$error":"#N/A"}},null,88,{"$f":"BF91+1","v":"1900-03-28"},{"$f":"VLOOKUP($BF92,'Vejehold 4'!$A$7:$P$23,'Opsamling, slagt+smågrise'!BG$2,FALSE)","v":{"$error":"#N/A"}},{"$f":"VLOOKUP($BF92,'Vejehold 4'!$A$7:$P$23,'Opsamling, slagt+smågrise'!BH$2,FALSE)","v":{"$error":"#N/A"}},{"$f":"VLOOKUP($BF92,'Vejehold 4'!$A$7:$P$23,'Opsamling, slagt+smågrise'!BI$2,FALSE)","v":{"$error":"#N/A"}},{"$f":"VLOOKUP($BF92,'Vejehold 4'!$A$7:$P$23,'Opsamling, slagt+smågrise'!BJ$2,FALSE)","v":{"$error":"#N/A"}},{"$f":"VLOOKUP($BF92,'Vejehold 4'!$A$7:$P$23,'Opsamling, slagt+smågrise'!BK$2,FALSE)","v":{"$error":"#N/A"}},{"$f":"VLOOKUP($BF92,'Vejehold 4'!$A$7:$P$23,'Opsamling, slagt+smågrise'!BL$2,FALSE)","v":{"$error":"#N/A"}},{"$f":"VLOOKUP($BF92,'Vejehold 4'!$A$7:$P$23,'Opsamling, slagt+smågrise'!BM$2,FALSE)","v":{"$error":"#N/A"}},null,88,{"$f":"BP91+1","v":"1900-03-28"},{"$f":"VLOOKUP($BP92,'Vejehold 5'!$A$7:$P$23,'Opsamling, slagt+smågrise'!BQ$2,FALSE)","v":{"$error":"#N/A"}},{"$f":"VLOOKUP($BP92,'Vejehold 5'!$A$7:$P$23,'Opsamling, slagt+smågrise'!BR$2,FALSE)","v":{"$error":"#N/A"}},{"$f":"VLOOKUP($BP92,'Vejehold 5'!$A$7:$P$23,'Opsamling, slagt+smågrise'!BS$2,FALSE)","v":{"$error":"#N/A"}},{"$f":"VLOOKUP($BP92,'Vejehold 5'!$A$7:$P$23,'Opsamling, slagt+smågrise'!BT$2,FALSE)","v":{"$error":"#N/A"}},{"$f":"VLOOKUP($BP92,'Vejehold 5'!$A$7:$P$23,'Opsamling, slagt+smågrise'!BU$2,FALSE)","v":{"$error":"#N/A"}},{"$f":"VLOOKUP($BP92,'Vejehold 5'!$A$7:$P$23,'Opsamling, slagt+smågrise'!BV$2,FALSE)","v":{"$error":"#N/A"}},{"$f":"VLOOKUP($BP92,'Vejehold 5'!$A$7:$P$23,'Opsamling, slagt+smågrise'!BW$2,FALSE)","v":{"$error":"#N/A"}},null,88,{"$f":"BZ91+1","v":"1900-03-28"},{"$f":"VLOOKUP($BZ92,'Vejehold 6'!$A$7:$P$23,'Opsamling, slagt+smågrise'!CA$2,FALSE)","v":{"$error":"#N/A"}},{"$f":"VLOOKUP($BZ92,'Vejehold 6'!$A$7:$P$23,'Opsamling, slagt+smågrise'!CB$2,FALSE)","v":{"$error":"#N/A"}},{"$f":"VLOOKUP($BZ92,'Vejehold 6'!$A$7:$P$23,'Opsamling, slagt+smågrise'!CC$2,FALSE)","v":{"$error":"#N/A"}},{"$f":"VLOOKUP($BZ92,'Vejehold 6'!$A$7:$P$23,'Opsamling, slagt+smågrise'!CD$2,FALSE)","v":{"$error":"#N/A"}},{"$f":"VLOOKUP($BZ92,'Vejehold 6'!$A$7:$P$23,'Opsamling, slagt+smågrise'!CE$2,FALSE)","v":{"$error":"#N/A"}},{"$f":"VLOOKUP($BZ92,'Vejehold 6'!$A$7:$P$23,'Opsamling, slagt+smågrise'!CF$2,FALSE)","v":{"$error":"#N/A"}},{"$f":"VLOOKUP($BZ92,'Vejehold 6'!$A$7:$P$23,'Opsamling, slagt+smågrise'!CG$2,FALSE)","v":{"$error":"#N/A"}}]
[null,"Dag","Hold 1","Hold 2","Hold 3","Hold 4","Hold 5","Hold 6",null,null,null,null,null,null,null,null,null,null,null,null,null,null,null,null,null,null,89,{"$f":"AB92+1","v":"1900-03-29"},{"$f":"VLOOKUP($AB93,'Vejehold 1'!$A$7:$P$23,'Opsamling, slagt+smågrise'!AC$2,FALSE)","v":{"$error":"#N/A"}},{"$f":"VLOOKUP($AB93,'Vejehold 1'!$A$7:$P$23,'Opsamling, slagt+smågrise'!AD$2,FALSE)","v":{"$error":"#N/A"}},{"$f":"VLOOKUP($AB93,'Vejehold 1'!$A$7:$P$23,'Opsamling, slagt+smågrise'!AE$2,FALSE)","v":{"$error":"#N/A"}},{"$f":"VLOOKUP($AB93,'Vejehold 1'!$A$7:$P$23,'Opsamling, slagt+smågrise'!AF$2,FALSE)","v":{"$error":"#N/A"}},{"$f":"VLOOKUP($AB93,'Vejehold 1'!$A$7:$P$23,'Opsamling, slagt+smågrise'!AG$2,FALSE)","v":{"$error":"#N/A"}},{"$f":"VLOOKUP($AB93,'Vejehold 1'!$A$7:$P$23,'Opsamling, slagt+smågrise'!AH$2,FALSE)","v":{"$error":"#N/A"}},{"$f":"VLOOKUP($AB93,'Vejehold 1'!$A$7:$P$23,'Opsamling, slagt+smågrise'!AI$2,FALSE)","v":{"$error":"#N/A"}},null,89,{"$f":"AL92+1","v":"1900-03-29"},{"$f":"VLOOKUP($AL93,'Vejehold 2'!$A$7:$P$23,'Opsamling, slagt+smågrise'!AM$2,FALSE)","v":{"$error":"#N/A"}},{"$f":"VLOOKUP($AL93,'Vejehold 2'!$A$7:$P$23,'Opsamling, slagt+smågrise'!AN$2,FALSE)","v":{"$error":"#N/A"}},{"$f":"VLOOKUP($AL93,'Vejehold 2'!$A$7:$P$23,'Opsamling, slagt+smågrise'!AO$2,FALSE)","v":{"$error":"#N/A"}},{"$f":"VLOOKUP($AL93,'Vejehold 2'!$A$7:$P$23,'Opsamling, slagt+smågrise'!AP$2,FALSE)","v":{"$error":"#N/A"}},{"$f":"VLOOKUP($AL93,'Vejehold 2'!$A$7:$P$23,'Opsamling, slagt+smågrise'!AQ$2,FALSE)","v":{"$error":"#N/A"}},{"$f":"VLOOKUP($AL93,'Vejehold 2'!$A$7:$P$23,'Opsamling, slagt+smågrise'!AR$2,FALSE)","v":{"$error":"#N/A"}},{"$f":"VLOOKUP($AL93,'Vejehold 2'!$A$7:$P$23,'Opsamling, slagt+smågrise'!AS$2,FALSE)","v":{"$error":"#N/A"}},null,89,{"$f":"AV92+1","v":"1900-03-29"},{"$f":"VLOOKUP($AV93,'Vejehold 3'!$A$7:$P$23,'Opsamling, slagt+smågrise'!AW$2,FALSE)","v":{"$error":"#N/A"}},{"$f":"VLOOKUP($AV93,'Vejehold 3'!$A$7:$P$23,'Opsamling, slagt+smågrise'!AX$2,FALSE)","v":{"$error":"#N/A"}},{"$f":"VLOOKUP($AV93,'Vejehold 3'!$A$7:$P$23,'Opsamling, slagt+smågrise'!AY$2,FALSE)","v":{"$error":"#N/A"}},{"$f":"VLOOKUP($AV93,'Vejehold 3'!$A$7:$P$23,'Opsamling, slagt+smågrise'!AZ$2,FALSE)","v":{"$error":"#N/A"}},{"$f":"VLOOKUP($AV93,'Vejehold 3'!$A$7:$P$23,'Opsamling, slagt+smågrise'!BA$2,FALSE)","v":{"$error":"#N/A"}},{"$f":"VLOOKUP($AV93,'Vejehold 3'!$A$7:$P$23,'Opsamling, slagt+smågrise'!BB$2,FALSE)","v":{"$error":"#N/A"}},{"$f":"VLOOKUP($AV93,'Vejehold 3'!$A$7:$P$23,'Opsamling, slagt+smågrise'!BC$2,FALSE)","v":{"$error":"#N/A"}},null,89,{"$f":"BF92+1","v":"1900-03-29"},{"$f":"VLOOKUP($BF93,'Vejehold 4'!$A$7:$P$23,'Opsamling, slagt+smågrise'!BG$2,FALSE)","v":{"$error":"#N/A"}},{"$f":"VLOOKUP($BF93,'Vejehold 4'!$A$7:$P$23,'Opsamling, slagt+smågrise'!BH$2,FALSE)","v":{"$error":"#N/A"}},{"$f":"VLOOKUP($BF93,'Vejehold 4'!$A$7:$P$23,'Opsamling, slagt+smågrise'!BI$2,FALSE)","v":{"$error":"#N/A"}},{"$f":"VLOOKUP($BF93,'Vejehold 4'!$A$7:$P$23,'Opsamling, slagt+smågrise'!BJ$2,FALSE)","v":{"$error":"#N/A"}},{"$f":"VLOOKUP($BF93,'Vejehold 4'!$A$7:$P$23,'Opsamling, slagt+smågrise'!BK$2,FALSE)","v":{"$error":"#N/A"}},{"$f":"VLOOKUP($BF93,'Vejehold 4'!$A$7:$P$23,'Opsamling, slagt+smågrise'!BL$2,FALSE)","v":{"$error":"#N/A"}},{"$f":"VLOOKUP($BF93,'Vejehold 4'!$A$7:$P$23,'Opsamling, slagt+smågrise'!BM$2,FALSE)","v":{"$error":"#N/A"}},null,89,{"$f":"BP92+1","v":"1900-03-29"},{"$f":"VLOOKUP($BP93,'Vejehold 5'!$A$7:$P$23,'Opsamling, slagt+smågrise'!BQ$2,FALSE)","v":{"$error":"#N/A"}},{"$f":"VLOOKUP($BP93,'Vejehold 5'!$A$7:$P$23,'Opsamling, slagt+smågrise'!BR$2,FALSE)","v":{"$error":"#N/A"}},{"$f":"VLOOKUP($BP93,'Vejehold 5'!$A$7:$P$23,'Opsamling, slagt+smågrise'!BS$2,FALSE)","v":{"$error":"#N/A"}},{"$f":"VLOOKUP($BP93,'Vejehold 5'!$A$7:$P$23,'Opsamling, slagt+smågrise'!BT$2,FALSE)","v":{"$error":"#N/A"}},{"$f":"VLOOKUP($BP93,'Vejehold 5'!$A$7:$P$23,'Opsamling, slagt+smågrise'!BU$2,FALSE)","v":{"$error":"#N/A"}},{"$f":"VLOOKUP($BP93,'Vejehold 5'!$A$7:$P$23,'Opsamling, slagt+smågrise'!BV$2,FALSE)","v":{"$error":"#N/A"}},{"$f":"VLOOKUP($BP93,'Vejehold 5'!$A$7:$P$23,'Opsamling, slagt+smågrise'!BW$2,FALSE)","v":{"$error":"#N/A"}},null,89,{"$f":"BZ92+1","v":"1900-03-29"},{"$f":"VLOOKUP($BZ93,'Vejehold 6'!$A$7:$P$23,'Opsamling, slagt+smågrise'!CA$2,FALSE)","v":{"$error":"#N/A"}},{"$f":"VLOOKUP($BZ93,'Vejehold 6'!$A$7:$P$23,'Opsamling, slagt+smågrise'!CB$2,FALSE)","v":{"$error":"#N/A"}},{"$f":"VLOOKUP($BZ93,'Vejehold 6'!$A$7:$P$23,'Opsamling, slagt+smågrise'!CC$2,FALSE)","v":{"$error":"#N/A"}},{"$f":"VLOOKUP($BZ93,'Vejehold 6'!$A$7:$P$23,'Opsamling, slagt+smågrise'!CD$2,FALSE)","v":{"$error":"#N/A"}},{"$f":"VLOOKUP($BZ93,'Vejehold 6'!$A$7:$P$23,'Opsamling, slagt+smågrise'!CE$2,FALSE)","v":{"$error":"#N/A"}},{"$f":"VLOOKUP($BZ93,'Vejehold 6'!$A$7:$P$23,'Opsamling, slagt+smågrise'!CF$2,FALSE)","v":{"$error":"#N/A"}},{"$f":"VLOOKUP($BZ93,'Vejehold 6'!$A$7:$P$23,'Opsamling, slagt+smågrise'!CG$2,FALSE)","v":{"$error":"#N/A"}}]
[null,7,{"$f":"'Vejehold 1'!$N8","v":0},{"$f":"'Vejehold 2'!$N8","v":0},{"$f":"'Vejehold 3'!$N8","v":0},{"$f":"'Vejehold 4'!$N8","v":0},{"$f":"'Vejehold 5'!$N8","v":0},{"$f":"'Vejehold 6'!$N8","v":0},null,null,null,null,null,null,null,null,null,null,null,null,null,null,null,null,null,null,90,"1900-03-30",{"$f":"VLOOKUP($AB94,'Vejehold 1'!$A$7:$P$23,'Opsamling, slagt+smågrise'!AC$2,FALSE)","v":{"$error":"#N/A"}},{"$f":"VLOOKUP($AB94,'Vejehold 1'!$A$7:$P$23,'Opsamling, slagt+smågrise'!AD$2,FALSE)","v":{"$error":"#N/A"}},{"$f":"VLOOKUP($AB94,'Vejehold 1'!$A$7:$P$23,'Opsamling, slagt+smågrise'!AE$2,FALSE)","v":{"$error":"#N/A"}},{"$f":"VLOOKUP($AB94,'Vejehold 1'!$A$7:$P$23,'Opsamling, slagt+smågrise'!AF$2,FALSE)","v":{"$error":"#N/A"}},{"$f":"VLOOKUP($AB94,'Vejehold 1'!$A$7:$P$23,'Opsamling, slagt+smågrise'!AG$2,FALSE)","v":{"$error":"#N/A"}},{"$f":"VLOOKUP($AB94,'Vejehold 1'!$A$7:$P$23,'Opsamling, slagt+smågrise'!AH$2,FALSE)","v":{"$error":"#N/A"}},{"$f":"VLOOKUP($AB94,'Vejehold 1'!$A$7:$P$23,'Opsamling, slagt+smågrise'!AI$2,FALSE)","v":{"$error":"#N/A"}},null,90,"1900-03-30",{"$f":"VLOOKUP($AL94,'Vejehold 2'!$A$7:$P$23,'Opsamling, slagt+smågrise'!AM$2,FALSE)","v":{"$error":"#N/A"}},{"$f":"VLOOKUP($AL94,'Vejehold 2'!$A$7:$P$23,'Opsamling, slagt+smågrise'!AN$2,FALSE)","v":{"$error":"#N/A"}},{"$f":"VLOOKUP($AL94,'Vejehold 2'!$A$7:$P$23,'Opsamling, slagt+smågrise'!AO$2,FALSE)","v":{"$error":"#N/A"}},{"$f":"VLOOKUP($AL94,'Vejehold 2'!$A$7:$P$23,'Opsamling, slagt+smågrise'!AP$2,FALSE)","v":{"$error":"#N/A"}},{"$f":"VLOOKUP($AL94,'Vejehold 2'!$A$7:$P$23,'Opsamling, slagt+smågrise'!AQ$2,FALSE)","v":{"$error":"#N/A"}},{"$f":"VLOOKUP($AL94,'Vejehold 2'!$A$7:$P$23,'Opsamling, slagt+smågrise'!AR$2,FALSE)","v":{"$error":"#N/A"}},{"$f":"VLOOKUP($AL94,'Vejehold 2'!$A$7:$P$23,'Opsamling, slagt+smågrise'!AS$2,FALSE)","v":{"$error":"#N/A"}},null,90,"1900-03-30",{"$f":"VLOOKUP($AV94,'Vejehold 3'!$A$7:$P$23,'Opsamling, slagt+smågrise'!AW$2,FALSE)","v":{"$error":"#N/A"}},{"$f":"VLOOKUP($AV94,'Vejehold 3'!$A$7:$P$23,'Opsamling, slagt+smågrise'!AX$2,FALSE)","v":{"$error":"#N/A"}},{"$f":"VLOOKUP($AV94,'Vejehold 3'!$A$7:$P$23,'Opsamling, slagt+smågrise'!AY$2,FALSE)","v":{"$error":"#N/A"}},{"$f":"VLOOKUP($AV94,'Vejehold 3'!$A$7:$P$23,'Opsamling, slagt+smågrise'!AZ$2,FALSE)","v":{"$error":"#N/A"}},{"$f":"VLOOKUP($AV94,'Vejehold 3'!$A$7:$P$23,'Opsamling, slagt+smågrise'!BA$2,FALSE)","v":{"$error":"#N/A"}},{"$f":"VLOOKUP($AV94,'Vejehold 3'!$A$7:$P$23,'Opsamling, slagt+smågrise'!BB$2,FALSE)","v":{"$error":"#N/A"}},{"$f":"VLOOKUP($AV94,'Vejehold 3'!$A$7:$P$23,'Opsamling, slagt+smågrise'!BC$2,FALSE)","v":{"$error":"#N/A"}},null,90,"1900-03-30",{"$f":"VLOOKUP($BF94,'Vejehold 4'!$A$7:$P$23,'Opsamling, slagt+smågrise'!BG$2,FALSE)","v":{"$error":"#N/A"}},{"$f":"VLOOKUP($BF94,'Vejehold 4'!$A$7:$P$23,'Opsamling, slagt+smågrise'!BH$2,FALSE)","v":{"$error":"#N/A"}},{"$f":"VLOOKUP($BF94,'Vejehold 4'!$A$7:$P$23,'Opsamling, slagt+smågrise'!BI$2,FALSE)","v":{"$error":"#N/A"}},{"$f":"VLOOKUP($BF94,'Vejehold 4'!$A$7:$P$23,'Opsamling, slagt+smågrise'!BJ$2,FALSE)","v":{"$error":"#N/A"}},{"$f":"VLOOKUP($BF94,'Vejehold 4'!$A$7:$P$23,'Opsamling, slagt+smågrise'!BK$2,FALSE)","v":{"$error":"#N/A"}},{"$f":"VLOOKUP($BF94,'Vejehold 4'!$A$7:$P$23,'Opsamling, slagt+smågrise'!BL$2,FALSE)","v":{"$error":"#N/A"}},{"$f":"VLOOKUP($BF94,'Vejehold 4'!$A$7:$P$23,'Opsamling, slagt+smågrise'!BM$2,FALSE)","v":{"$error":"#N/A"}},null,90,"1900-03-30",{"$f":"VLOOKUP($BP94,'Vejehold 5'!$A$7:$P$23,'Opsamling, slagt+smågrise'!BQ$2,FALSE)","v":{"$error":"#N/A"}},{"$f":"VLOOKUP($BP94,'Vejehold 5'!$A$7:$P$23,'Opsamling, slagt+smågrise'!BR$2,FALSE)","v":{"$error":"#N/A"}},{"$f":"VLOOKUP($BP94,'Vejehold 5'!$A$7:$P$23,'Opsamling, slagt+smågrise'!BS$2,FALSE)","v":{"$error":"#N/A"}},{"$f":"VLOOKUP($BP94,'Vejehold 5'!$A$7:$P$23,'Opsamling, slagt+smågrise'!BT$2,FALSE)","v":{"$error":"#N/A"}},{"$f":"VLOOKUP($BP94,'Vejehold 5'!$A$7:$P$23,'Opsamling, slagt+smågrise'!BU$2,FALSE)","v":{"$error":"#N/A"}},{"$f":"VLOOKUP($BP94,'Vejehold 5'!$A$7:$P$23,'Opsamling, slagt+smågrise'!BV$2,FALSE)","v":{"$error":"#N/A"}},{"$f":"VLOOKUP($BP94,'Vejehold 5'!$A$7:$P$23,'Opsamling, slagt+smågrise'!BW$2,FALSE)","v":{"$error":"#N/A"}},null,90,"1900-03-30",{"$f":"VLOOKUP($BZ94,'Vejehold 6'!$A$7:$P$23,'Opsamling, slagt+smågrise'!CA$2,FALSE)","v":{"$error":"#N/A"}},{"$f":"VLOOKUP($BZ94,'Vejehold 6'!$A$7:$P$23,'Opsamling, slagt+smågrise'!CB$2,FALSE)","v":{"$error":"#N/A"}},{"$f":"VLOOKUP($BZ94,'Vejehold 6'!$A$7:$P$23,'Opsamling, slagt+smågrise'!CC$2,FALSE)","v":{"$error":"#N/A"}},{"$f":"VLOOKUP($BZ94,'Vejehold 6'!$A$7:$P$23,'Opsamling, slagt+smågrise'!CD$2,FALSE)","v":{"$error":"#N/A"}},{"$f":"VLOOKUP($BZ94,'Vejehold 6'!$A$7:$P$23,'Opsamling, slagt+smågrise'!CE$2,FALSE)","v":{"$error":"#N/A"}},{"$f":"VLOOKUP($BZ94,'Vejehold 6'!$A$7:$P$23,'Opsamling, slagt+smågrise'!CF$2,FALSE)","v":{"$error":"#N/A"}},{"$f":"VLOOKUP($BZ94,'Vejehold 6'!$A$7:$P$23,'Opsamling, slagt+smågrise'!CG$2,FALSE)","v":{"$error":"#N/A"}}]
[null,14,{"$f":"'Vejehold 1'!$N9","v":0},{"$f":"'Vejehold 2'!$N9","v":0},{"$f":"'Vejehold 3'!$N9","v":0},{"$f":"'Vejehold 4'!$N9","v":0},{"$f":"'Vejehold 5'!$N9","v":0},{"$f":"'Vejehold 6'!$N9","v":0},null,null,null,null,null,null,null,null,null,null,null,null,null,null,null,null,null,null,91,"1900-03-31",{"$f":"VLOOKUP($AB95,'Vejehold 1'!$A$7:$P$23,'Opsamling, slagt+smågrise'!AC$2,FALSE)","v":{"$error":"#N/A"}},{"$f":"VLOOKUP($AB95,'Vejehold 1'!$A$7:$P$23,'Opsamling, slagt+smågrise'!AD$2,FALSE)","v":{"$error":"#N/A"}},{"$f":"VLOOKUP($AB95,'Vejehold 1'!$A$7:$P$23,'Opsamling, slagt+smågrise'!AE$2,FALSE)","v":{"$error":"#N/A"}},{"$f":"VLOOKUP($AB95,'Vejehold 1'!$A$7:$P$23,'Opsamling, slagt+smågrise'!AF$2,FALSE)","v":{"$error":"#N/A"}},{"$f":"VLOOKUP($AB95,'Vejehold 1'!$A$7:$P$23,'Opsamling, slagt+smågrise'!AG$2,FALSE)","v":{"$error":"#N/A"}},{"$f":"VLOOKUP($AB95,'Vejehold 1'!$A$7:$P$23,'Opsamling, slagt+smågrise'!AH$2,FALSE)","v":{"$error":"#N/A"}},{"$f":"VLOOKUP($AB95,'Vejehold 1'!$A$7:$P$23,'Opsamling, slagt+smågrise'!AI$2,FALSE)","v":{"$error":"#N/A"}},null,91,"1900-03-31",{"$f":"VLOOKUP($AL95,'Vejehold 2'!$A$7:$P$23,'Opsamling, slagt+smågrise'!AM$2,FALSE)","v":{"$error":"#N/A"}},{"$f":"VLOOKUP($AL95,'Vejehold 2'!$A$7:$P$23,'Opsamling, slagt+smågrise'!AN$2,FALSE)","v":{"$error":"#N/A"}},{"$f":"VLOOKUP($AL95,'Vejehold 2'!$A$7:$P$23,'Opsamling, slagt+smågrise'!AO$2,FALSE)","v":{"$error":"#N/A"}},{"$f":"VLOOKUP($AL95,'Vejehold 2'!$A$7:$P$23,'Opsamling, slagt+smågrise'!AP$2,FALSE)","v":{"$error":"#N/A"}},{"$f":"VLOOKUP($AL95,'Vejehold 2'!$A$7:$P$23,'Opsamling, slagt+smågrise'!AQ$2,FALSE)","v":{"$error":"#N/A"}},{"$f":"VLOOKUP($AL95,'Vejehold 2'!$A$7:$P$23,'Opsamling, slagt+smågrise'!AR$2,FALSE)","v":{"$error":"#N/A"}},{"$f":"VLOOKUP($AL95,'Vejehold 2'!$A$7:$P$23,'Opsamling, slagt+smågrise'!AS$2,FALSE)","v":{"$error":"#N/A"}},null,91,"1900-03-31",{"$f":"VLOOKUP($AV95,'Vejehold 3'!$A$7:$P$23,'Opsamling, slagt+smågrise'!AW$2,FALSE)","v":{"$error":"#N/A"}},{"$f":"VLOOKUP($AV95,'Vejehold 3'!$A$7:$P$23,'Opsamling, slagt+smågrise'!AX$2,FALSE)","v":{"$error":"#N/A"}},{"$f":"VLOOKUP($AV95,'Vejehold 3'!$A$7:$P$23,'Opsamling, slagt+smågrise'!AY$2,FALSE)","v":{"$error":"#N/A"}},{"$f":"VLOOKUP($AV95,'Vejehold 3'!$A$7:$P$23,'Opsamling, slagt+smågrise'!AZ$2,FALSE)","v":{"$error":"#N/A"}},{"$f":"VLOOKUP($AV95,'Vejehold 3'!$A$7:$P$23,'Opsamling, slagt+smågrise'!BA$2,FALSE)","v":{"$error":"#N/A"}},{"$f":"VLOOKUP($AV95,'Vejehold 3'!$A$7:$P$23,'Opsamling, slagt+smågrise'!BB$2,FALSE)","v":{"$error":"#N/A"}},{"$f":"VLOOKUP($AV95,'Vejehold 3'!$A$7:$P$23,'Opsamling, slagt+smågrise'!BC$2,FALSE)","v":{"$error":"#N/A"}},null,91,"1900-03-31",{"$f":"VLOOKUP($BF95,'Vejehold 4'!$A$7:$P$23,'Opsamling, slagt+smågrise'!BG$2,FALSE)","v":{"$error":"#N/A"}},{"$f":"VLOOKUP($BF95,'Vejehold 4'!$A$7:$P$23,'Opsamling, slagt+smågrise'!BH$2,FALSE)","v":{"$error":"#N/A"}},{"$f":"VLOOKUP($BF95,'Vejehold 4'!$A$7:$P$23,'Opsamling, slagt+smågrise'!BI$2,FALSE)","v":{"$error":"#N/A"}},{"$f":"VLOOKUP($BF95,'Vejehold 4'!$A$7:$P$23,'Opsamling, slagt+smågrise'!BJ$2,FALSE)","v":{"$error":"#N/A"}},{"$f":"VLOOKUP($BF95,'Vejehold 4'!$A$7:$P$23,'Opsamling, slagt+smågrise'!BK$2,FALSE)","v":{"$error":"#N/A"}},{"$f":"VLOOKUP($BF95,'Vejehold 4'!$A$7:$P$23,'Opsamling, slagt+smågrise'!BL$2,FALSE)","v":{"$error":"#N/A"}},{"$f":"VLOOKUP($BF95,'Vejehold 4'!$A$7:$P$23,'Opsamling, slagt+smågrise'!BM$2,FALSE)","v":{"$error":"#N/A"}},null,91,"1900-03-31",{"$f":"VLOOKUP($BP95,'Vejehold 5'!$A$7:$P$23,'Opsamling, slagt+smågrise'!BQ$2,FALSE)","v":{"$error":"#N/A"}},{"$f":"VLOOKUP($BP95,'Vejehold 5'!$A$7:$P$23,'Opsamling, slagt+smågrise'!BR$2,FALSE)","v":{"$error":"#N/A"}},{"$f":"VLOOKUP($BP95,'Vejehold 5'!$A$7:$P$23,'Opsamling, slagt+smågrise'!BS$2,FALSE)","v":{"$error":"#N/A"}},{"$f":"VLOOKUP($BP95,'Vejehold 5'!$A$7:$P$23,'Opsamling, slagt+smågrise'!BT$2,FALSE)","v":{"$error":"#N/A"}},{"$f":"VLOOKUP($BP95,'Vejehold 5'!$A$7:$P$23,'Opsamling, slagt+smågrise'!BU$2,FALSE)","v":{"$error":"#N/A"}},{"$f":"VLOOKUP($BP95,'Vejehold 5'!$A$7:$P$23,'Opsamling, slagt+smågrise'!BV$2,FALSE)","v":{"$error":"#N/A"}},{"$f":"VLOOKUP($BP95,'Vejehold 5'!$A$7:$P$23,'Opsamling, slagt+smågrise'!BW$2,FALSE)","v":{"$error":"#N/A"}},null,91,"1900-03-31",{"$f":"VLOOKUP($BZ95,'Vejehold 6'!$A$7:$P$23,'Opsamling, slagt+smågrise'!CA$2,FALSE)","v":{"$error":"#N/A"}},{"$f":"VLOOKUP($BZ95,'Vejehold 6'!$A$7:$P$23,'Opsamling, slagt+smågrise'!CB$2,FALSE)","v":{"$error":"#N/A"}},{"$f":"VLOOKUP($BZ95,'Vejehold 6'!$A$7:$P$23,'Opsamling, slagt+smågrise'!CC$2,FALSE)","v":{"$error":"#N/A"}},{"$f":"VLOOKUP($BZ95,'Vejehold 6'!$A$7:$P$23,'Opsamling, slagt+smågrise'!CD$2,FALSE)","v":{"$error":"#N/A"}},{"$f":"VLOOKUP($BZ95,'Vejehold 6'!$A$7:$P$23,'Opsamling, slagt+smågrise'!CE$2,FALSE)","v":{"$error":"#N/A"}},{"$f":"VLOOKUP($BZ95,'Vejehold 6'!$A$7:$P$23,'Opsamling, slagt+smågrise'!CF$2,FALSE)","v":{"$error":"#N/A"}},{"$f":"VLOOKUP($BZ95,'Vejehold 6'!$A$7:$P$23,'Opsamling, slagt+smågrise'!CG$2,FALSE)","v":{"$error":"#N/A"}}]
[null,21,{"$f":"'Vejehold 1'!$N10","v":0},{"$f":"'Vejehold 2'!$N10","v":0},{"$f":"'Vejehold 3'!$N10","v":0},{"$f":"'Vejehold 4'!$N10","v":0},{"$f":"'Vejehold 5'!$N10","v":0},{"$f":"'Vejehold 6'!$N10","v":0},null,null,null,null,null,null,null,null,null,null,null,null,null,null,null,null,null,null,92,"1900-04-01",{"$f":"VLOOKUP($AB96,'Vejehold 1'!$A$7:$P$23,'Opsamling, slagt+smågrise'!AC$2,FALSE)","v":{"$error":"#N/A"}},{"$f":"VLOOKUP($AB96,'Vejehold 1'!$A$7:$P$23,'Opsamling, slagt+smågrise'!AD$2,FALSE)","v":{"$error":"#N/A"}},{"$f":"VLOOKUP($AB96,'Vejehold 1'!$A$7:$P$23,'Opsamling, slagt+smågrise'!AE$2,FALSE)","v":{"$error":"#N/A"}},{"$f":"VLOOKUP($AB96,'Vejehold 1'!$A$7:$P$23,'Opsamling, slagt+smågrise'!AF$2,FALSE)","v":{"$error":"#N/A"}},{"$f":"VLOOKUP($AB96,'Vejehold 1'!$A$7:$P$23,'Opsamling, slagt+smågrise'!AG$2,FALSE)","v":{"$error":"#N/A"}},{"$f":"VLOOKUP($AB96,'Vejehold 1'!$A$7:$P$23,'Opsamling, slagt+smågrise'!AH$2,FALSE)","v":{"$error":"#N/A"}},{"$f":"VLOOKUP($AB96,'Vejehold 1'!$A$7:$P$23,'Opsamling, slagt+smågrise'!AI$2,FALSE)","v":{"$error":"#N/A"}},null,92,"1900-04-01",{"$f":"VLOOKUP($AL96,'Vejehold 2'!$A$7:$P$23,'Opsamling, slagt+smågrise'!AM$2,FALSE)","v":{"$error":"#N/A"}},{"$f":"VLOOKUP($AL96,'Vejehold 2'!$A$7:$P$23,'Opsamling, slagt+smågrise'!AN$2,FALSE)","v":{"$error":"#N/A"}},{"$f":"VLOOKUP($AL96,'Vejehold 2'!$A$7:$P$23,'Opsamling, slagt+smågrise'!AO$2,FALSE)","v":{"$error":"#N/A"}},{"$f":"VLOOKUP($AL96,'Vejehold 2'!$A$7:$P$23,'Opsamling, slagt+smågrise'!AP$2,FALSE)","v":{"$error":"#N/A"}},{"$f":"VLOOKUP($AL96,'Vejehold 2'!$A$7:$P$23,'Opsamling, slagt+smågrise'!AQ$2,FALSE)","v":{"$error":"#N/A"}},{"$f":"VLOOKUP($AL96,'Vejehold 2'!$A$7:$P$23,'Opsamling, slagt+smågrise'!AR$2,FALSE)","v":{"$error":"#N/A"}},{"$f":"VLOOKUP($AL96,'Vejehold 2'!$A$7:$P$23,'Opsamling, slagt+smågrise'!AS$2,FALSE)","v":{"$error":"#N/A"}},null,92,"1900-04-01",{"$f":"VLOOKUP($AV96,'Vejehold 3'!$A$7:$P$23,'Opsamling, slagt+smågrise'!AW$2,FALSE)","v":{"$error":"#N/A"}},{"$f":"VLOOKUP($AV96,'Vejehold 3'!$A$7:$P$23,'Opsamling, slagt+smågrise'!AX$2,FALSE)","v":{"$error":"#N/A"}},{"$f":"VLOOKUP($AV96,'Vejehold 3'!$A$7:$P$23,'Opsamling, slagt+smågrise'!AY$2,FALSE)","v":{"$error":"#N/A"}},{"$f":"VLOOKUP($AV96,'Vejehold 3'!$A$7:$P$23,'Opsamling, slagt+smågrise'!AZ$2,FALSE)","v":{"$error":"#N/A"}},{"$f":"VLOOKUP($AV96,'Vejehold 3'!$A$7:$P$23,'Opsamling, slagt+smågrise'!BA$2,FALSE)","v":{"$error":"#N/A"}},{"$f":"VLOOKUP($AV96,'Vejehold 3'!$A$7:$P$23,'Opsamling, slagt+smågrise'!BB$2,FALSE)","v":{"$error":"#N/A"}},{"$f":"VLOOKUP($AV96,'Vejehold 3'!$A$7:$P$23,'Opsamling, slagt+smågrise'!BC$2,FALSE)","v":{"$error":"#N/A"}},null,92,"1900-04-01",{"$f":"VLOOKUP($BF96,'Vejehold 4'!$A$7:$P$23,'Opsamling, slagt+smågrise'!BG$2,FALSE)","v":{"$error":"#N/A"}},{"$f":"VLOOKUP($BF96,'Vejehold 4'!$A$7:$P$23,'Opsamling, slagt+smågrise'!BH$2,FALSE)","v":{"$error":"#N/A"}},{"$f":"VLOOKUP($BF96,'Vejehold 4'!$A$7:$P$23,'Opsamling, slagt+smågrise'!BI$2,FALSE)","v":{"$error":"#N/A"}},{"$f":"VLOOKUP($BF96,'Vejehold 4'!$A$7:$P$23,'Opsamling, slagt+smågrise'!BJ$2,FALSE)","v":{"$error":"#N/A"}},{"$f":"VLOOKUP($BF96,'Vejehold 4'!$A$7:$P$23,'Opsamling, slagt+smågrise'!BK$2,FALSE)","v":{"$error":"#N/A"}},{"$f":"VLOOKUP($BF96,'Vejehold 4'!$A$7:$P$23,'Opsamling, slagt+smågrise'!BL$2,FALSE)","v":{"$error":"#N/A"}},{"$f":"VLOOKUP($BF96,'Vejehold 4'!$A$7:$P$23,'Opsamling, slagt+smågrise'!BM$2,FALSE)","v":{"$error":"#N/A"}},null,92,"1900-04-01",{"$f":"VLOOKUP($BP96,'Vejehold 5'!$A$7:$P$23,'Opsamling, slagt+smågrise'!BQ$2,FALSE)","v":{"$error":"#N/A"}},{"$f":"VLOOKUP($BP96,'Vejehold 5'!$A$7:$P$23,'Opsamling, slagt+smågrise'!BR$2,FALSE)","v":{"$error":"#N/A"}},{"$f":"VLOOKUP($BP96,'Vejehold 5'!$A$7:$P$23,'Opsamling, slagt+smågrise'!BS$2,FALSE)","v":{"$error":"#N/A"}},{"$f":"VLOOKUP($BP96,'Vejehold 5'!$A$7:$P$23,'Opsamling, slagt+smågrise'!BT$2,FALSE)","v":{"$error":"#N/A"}},{"$f":"VLOOKUP($BP96,'Vejehold 5'!$A$7:$P$23,'Opsamling, slagt+smågrise'!BU$2,FALSE)","v":{"$error":"#N/A"}},{"$f":"VLOOKUP($BP96,'Vejehold 5'!$A$7:$P$23,'Opsamling, slagt+smågrise'!BV$2,FALSE)","v":{"$error":"#N/A"}},{"$f":"VLOOKUP($BP96,'Vejehold 5'!$A$7:$P$23,'Opsamling, slagt+smågrise'!BW$2,FALSE)","v":{"$error":"#N/A"}},null,92,"1900-04-01",{"$f":"VLOOKUP($BZ96,'Vejehold 6'!$A$7:$P$23,'Opsamling, slagt+smågrise'!CA$2,FALSE)","v":{"$error":"#N/A"}},{"$f":"VLOOKUP($BZ96,'Vejehold 6'!$A$7:$P$23,'Opsamling, slagt+smågrise'!CB$2,FALSE)","v":{"$error":"#N/A"}},{"$f":"VLOOKUP($BZ96,'Vejehold 6'!$A$7:$P$23,'Opsamling, slagt+smågrise'!CC$2,FALSE)","v":{"$error":"#N/A"}},{"$f":"VLOOKUP($BZ96,'Vejehold 6'!$A$7:$P$23,'Opsamling, slagt+smågrise'!CD$2,FALSE)","v":{"$error":"#N/A"}},{"$f":"VLOOKUP($BZ96,'Vejehold 6'!$A$7:$P$23,'Opsamling, slagt+smågrise'!CE$2,FALSE)","v":{"$error":"#N/A"}},{"$f":"VLOOKUP($BZ96,'Vejehold 6'!$A$7:$P$23,'Opsamling, slagt+smågrise'!CF$2,FALSE)","v":{"$error":"#N/A"}},{"$f":"VLOOKUP($BZ96,'Vejehold 6'!$A$7:$P$23,'Opsamling, slagt+smågrise'!CG$2,FALSE)","v":{"$error":"#N/A"}}]
[null,28,{"$f":"'Vejehold 1'!$N11","v":0},{"$f":"'Vejehold 2'!$N11","v":0},{"$f":"'Vejehold 3'!$N11","v":0},{"$f":"'Vejehold 4'!$N11","v":0},{"$f":"'Vejehold 5'!$N11","v":0},{"$f":"'Vejehold 6'!$N11","v":0},null,null,null,null,null,null,null,null,null,null,null,null,null,null,null,null,null,null,93,"1900-04-02",{"$f":"VLOOKUP($AB97,'Vejehold 1'!$A$7:$P$23,'Opsamling, slagt+smågrise'!AC$2,FALSE)","v":{"$error":"#N/A"}},{"$f":"VLOOKUP($AB97,'Vejehold 1'!$A$7:$P$23,'Opsamling, slagt+smågrise'!AD$2,FALSE)","v":{"$error":"#N/A"}},{"$f":"VLOOKUP($AB97,'Vejehold 1'!$A$7:$P$23,'Opsamling, slagt+smågrise'!AE$2,FALSE)","v":{"$error":"#N/A"}},{"$f":"VLOOKUP($AB97,'Vejehold 1'!$A$7:$P$23,'Opsamling, slagt+smågrise'!AF$2,FALSE)","v":{"$error":"#N/A"}},{"$f":"VLOOKUP($AB97,'Vejehold 1'!$A$7:$P$23,'Opsamling, slagt+smågrise'!AG$2,FALSE)","v":{"$error":"#N/A"}},{"$f":"VLOOKUP($AB97,'Vejehold 1'!$A$7:$P$23,'Opsamling, slagt+smågrise'!AH$2,FALSE)","v":{"$error":"#N/A"}},{"$f":"VLOOKUP($AB97,'Vejehold 1'!$A$7:$P$23,'Opsamling, slagt+smågrise'!AI$2,FALSE)","v":{"$error":"#N/A"}},null,93,"1900-04-02",{"$f":"VLOOKUP($AL97,'Vejehold 2'!$A$7:$P$23,'Opsamling, slagt+smågrise'!AM$2,FALSE)","v":{"$error":"#N/A"}},{"$f":"VLOOKUP($AL97,'Vejehold 2'!$A$7:$P$23,'Opsamling, slagt+smågrise'!AN$2,FALSE)","v":{"$error":"#N/A"}},{"$f":"VLOOKUP($AL97,'Vejehold 2'!$A$7:$P$23,'Opsamling, slagt+smågrise'!AO$2,FALSE)","v":{"$error":"#N/A"}},{"$f":"VLOOKUP($AL97,'Vejehold 2'!$A$7:$P$23,'Opsamling, slagt+smågrise'!AP$2,FALSE)","v":{"$error":"#N/A"}},{"$f":"VLOOKUP($AL97,'Vejehold 2'!$A$7:$P$23,'Opsamling, slagt+smågrise'!AQ$2,FALSE)","v":{"$error":"#N/A"}},{"$f":"VLOOKUP($AL97,'Vejehold 2'!$A$7:$P$23,'Opsamling, slagt+smågrise'!AR$2,FALSE)","v":{"$error":"#N/A"}},{"$f":"VLOOKUP($AL97,'Vejehold 2'!$A$7:$P$23,'Opsamling, slagt+smågrise'!AS$2,FALSE)","v":{"$error":"#N/A"}},null,93,"1900-04-02",{"$f":"VLOOKUP($AV97,'Vejehold 3'!$A$7:$P$23,'Opsamling, slagt+smågrise'!AW$2,FALSE)","v":{"$error":"#N/A"}},{"$f":"VLOOKUP($AV97,'Vejehold 3'!$A$7:$P$23,'Opsamling, slagt+smågrise'!AX$2,FALSE)","v":{"$error":"#N/A"}},{"$f":"VLOOKUP($AV97,'Vejehold 3'!$A$7:$P$23,'Opsamling, slagt+smågrise'!AY$2,FALSE)","v":{"$error":"#N/A"}},{"$f":"VLOOKUP($AV97,'Vejehold 3'!$A$7:$P$23,'Opsamling, slagt+smågrise'!AZ$2,FALSE)","v":{"$error":"#N/A"}},{"$f":"VLOOKUP($AV97,'Vejehold 3'!$A$7:$P$23,'Opsamling, slagt+smågrise'!BA$2,FALSE)","v":{"$error":"#N/A"}},{"$f":"VLOOKUP($AV97,'Vejehold 3'!$A$7:$P$23,'Opsamling, slagt+smågrise'!BB$2,FALSE)","v":{"$error":"#N/A"}},{"$f":"VLOOKUP($AV97,'Vejehold 3'!$A$7:$P$23,'Opsamling, slagt+smågrise'!BC$2,FALSE)","v":{"$error":"#N/A"}},null,93,"1900-04-02",{"$f":"VLOOKUP($BF97,'Vejehold 4'!$A$7:$P$23,'Opsamling, slagt+smågrise'!BG$2,FALSE)","v":{"$error":"#N/A"}},{"$f":"VLOOKUP($BF97,'Vejehold 4'!$A$7:$P$23,'Opsamling, slagt+smågrise'!BH$2,FALSE)","v":{"$error":"#N/A"}},{"$f":"VLOOKUP($BF97,'Vejehold 4'!$A$7:$P$23,'Opsamling, slagt+smågrise'!BI$2,FALSE)","v":{"$error":"#N/A"}},{"$f":"VLOOKUP($BF97,'Vejehold 4'!$A$7:$P$23,'Opsamling, slagt+smågrise'!BJ$2,FALSE)","v":{"$error":"#N/A"}},{"$f":"VLOOKUP($BF97,'Vejehold 4'!$A$7:$P$23,'Opsamling, slagt+smågrise'!BK$2,FALSE)","v":{"$error":"#N/A"}},{"$f":"VLOOKUP($BF97,'Vejehold 4'!$A$7:$P$23,'Opsamling, slagt+smågrise'!BL$2,FALSE)","v":{"$error":"#N/A"}},{"$f":"VLOOKUP($BF97,'Vejehold 4'!$A$7:$P$23,'Opsamling, slagt+smågrise'!BM$2,FALSE)","v":{"$error":"#N/A"}},null,93,"1900-04-02",{"$f":"VLOOKUP($BP97,'Vejehold 5'!$A$7:$P$23,'Opsamling, slagt+smågrise'!BQ$2,FALSE)","v":{"$error":"#N/A"}},{"$f":"VLOOKUP($BP97,'Vejehold 5'!$A$7:$P$23,'Opsamling, slagt+smågrise'!BR$2,FALSE)","v":{"$error":"#N/A"}},{"$f":"VLOOKUP($BP97,'Vejehold 5'!$A$7:$P$23,'Opsamling, slagt+smågrise'!BS$2,FALSE)","v":{"$error":"#N/A"}},{"$f":"VLOOKUP($BP97,'Vejehold 5'!$A$7:$P$23,'Opsamling, slagt+smågrise'!BT$2,FALSE)","v":{"$error":"#N/A"}},{"$f":"VLOOKUP($BP97,'Vejehold 5'!$A$7:$P$23,'Opsamling, slagt+smågrise'!BU$2,FALSE)","v":{"$error":"#N/A"}},{"$f":"VLOOKUP($BP97,'Vejehold 5'!$A$7:$P$23,'Opsamling, slagt+smågrise'!BV$2,FALSE)","v":{"$error":"#N/A"}},{"$f":"VLOOKUP($BP97,'Vejehold 5'!$A$7:$P$23,'Opsamling, slagt+smågrise'!BW$2,FALSE)","v":{"$error":"#N/A"}},null,93,"1900-04-02",{"$f":"VLOOKUP($BZ97,'Vejehold 6'!$A$7:$P$23,'Opsamling, slagt+smågrise'!CA$2,FALSE)","v":{"$error":"#N/A"}},{"$f":"VLOOKUP($BZ97,'Vejehold 6'!$A$7:$P$23,'Opsamling, slagt+smågrise'!CB$2,FALSE)","v":{"$error":"#N/A"}},{"$f":"VLOOKUP($BZ97,'Vejehold 6'!$A$7:$P$23,'Opsamling, slagt+smågrise'!CC$2,FALSE)","v":{"$error":"#N/A"}},{"$f":"VLOOKUP($BZ97,'Vejehold 6'!$A$7:$P$23,'Opsamling, slagt+smågrise'!CD$2,FALSE)","v":{"$error":"#N/A"}},{"$f":"VLOOKUP($BZ97,'Vejehold 6'!$A$7:$P$23,'Opsamling, slagt+smågrise'!CE$2,FALSE)","v":{"$error":"#N/A"}},{"$f":"VLOOKUP($BZ97,'Vejehold 6'!$A$7:$P$23,'Opsamling, slagt+smågrise'!CF$2,FALSE)","v":{"$error":"#N/A"}},{"$f":"VLOOKUP($BZ97,'Vejehold 6'!$A$7:$P$23,'Opsamling, slagt+smågrise'!CG$2,FALSE)","v":{"$error":"#N/A"}}]
[null,35,{"$f":"'Vejehold 1'!$N12","v":0},{"$f":"'Vejehold 2'!$N12","v":0},{"$f":"'Vejehold 3'!$N12","v":0},{"$f":"'Vejehold 4'!$N12","v":0},{"$f":"'Vejehold 5'!$N12","v":0},{"$f":"'Vejehold 6'!$N12","v":0},null,null,null,null,null,null,null,null,null,null,null,null,null,null,null,null,null,null,94,"1900-04-03",{"$f":"VLOOKUP($AB98,'Vejehold 1'!$A$7:$P$23,'Opsamling, slagt+smågrise'!AC$2,FALSE)","v":{"$error":"#N/A"}},{"$f":"VLOOKUP($AB98,'Vejehold 1'!$A$7:$P$23,'Opsamling, slagt+smågrise'!AD$2,FALSE)","v":{"$error":"#N/A"}},{"$f":"VLOOKUP($AB98,'Vejehold 1'!$A$7:$P$23,'Opsamling, slagt+smågrise'!AE$2,FALSE)","v":{"$error":"#N/A"}},{"$f":"VLOOKUP($AB98,'Vejehold 1'!$A$7:$P$23,'Opsamling, slagt+smågrise'!AF$2,FALSE)","v":{"$error":"#N/A"}},{"$f":"VLOOKUP($AB98,'Vejehold 1'!$A$7:$P$23,'Opsamling, slagt+smågrise'!AG$2,FALSE)","v":{"$error":"#N/A"}},{"$f":"VLOOKUP($AB98,'Vejehold 1'!$A$7:$P$23,'Opsamling, slagt+smågrise'!AH$2,FALSE)","v":{"$error":"#N/A"}},{"$f":"VLOOKUP($AB98,'Vejehold 1'!$A$7:$P$23,'Opsamling, slagt+smågrise'!AI$2,FALSE)","v":{"$error":"#N/A"}},null,94,"1900-04-03",{"$f":"VLOOKUP($AL98,'Vejehold 2'!$A$7:$P$23,'Opsamling, slagt+smågrise'!AM$2,FALSE)","v":{"$error":"#N/A"}},{"$f":"VLOOKUP($AL98,'Vejehold 2'!$A$7:$P$23,'Opsamling, slagt+smågrise'!AN$2,FALSE)","v":{"$error":"#N/A"}},{"$f":"VLOOKUP($AL98,'Vejehold 2'!$A$7:$P$23,'Opsamling, slagt+smågrise'!AO$2,FALSE)","v":{"$error":"#N/A"}},{"$f":"VLOOKUP($AL98,'Vejehold 2'!$A$7:$P$23,'Opsamling, slagt+smågrise'!AP$2,FALSE)","v":{"$error":"#N/A"}},{"$f":"VLOOKUP($AL98,'Vejehold 2'!$A$7:$P$23,'Opsamling, slagt+smågrise'!AQ$2,FALSE)","v":{"$error":"#N/A"}},{"$f":"VLOOKUP($AL98,'Vejehold 2'!$A$7:$P$23,'Opsamling, slagt+smågrise'!AR$2,FALSE)","v":{"$error":"#N/A"}},{"$f":"VLOOKUP($AL98,'Vejehold 2'!$A$7:$P$23,'Opsamling, slagt+smågrise'!AS$2,FALSE)","v":{"$error":"#N/A"}},null,94,"1900-04-03",{"$f":"VLOOKUP($AV98,'Vejehold 3'!$A$7:$P$23,'Opsamling, slagt+smågrise'!AW$2,FALSE)","v":{"$error":"#N/A"}},{"$f":"VLOOKUP($AV98,'Vejehold 3'!$A$7:$P$23,'Opsamling, slagt+smågrise'!AX$2,FALSE)","v":{"$error":"#N/A"}},{"$f":"VLOOKUP($AV98,'Vejehold 3'!$A$7:$P$23,'Opsamling, slagt+smågrise'!AY$2,FALSE)","v":{"$error":"#N/A"}},{"$f":"VLOOKUP($AV98,'Vejehold 3'!$A$7:$P$23,'Opsamling, slagt+smågrise'!AZ$2,FALSE)","v":{"$error":"#N/A"}},{"$f":"VLOOKUP($AV98,'Vejehold 3'!$A$7:$P$23,'Opsamling, slagt+smågrise'!BA$2,FALSE)","v":{"$error":"#N/A"}},{"$f":"VLOOKUP($AV98,'Vejehold 3'!$A$7:$P$23,'Opsamling, slagt+smågrise'!BB$2,FALSE)","v":{"$error":"#N/A"}},{"$f":"VLOOKUP($AV98,'Vejehold 3'!$A$7:$P$23,'Opsamling, slagt+smågrise'!BC$2,FALSE)","v":{"$error":"#N/A"}},null,94,"1900-04-03",{"$f":"VLOOKUP($BF98,'Vejehold 4'!$A$7:$P$23,'Opsamling, slagt+smågrise'!BG$2,FALSE)","v":{"$error":"#N/A"}},{"$f":"VLOOKUP($BF98,'Vejehold 4'!$A$7:$P$23,'Opsamling, slagt+smågrise'!BH$2,FALSE)","v":{"$error":"#N/A"}},{"$f":"VLOOKUP($BF98,'Vejehold 4'!$A$7:$P$23,'Opsamling, slagt+smågrise'!BI$2,FALSE)","v":{"$error":"#N/A"}},{"$f":"VLOOKUP($BF98,'Vejehold 4'!$A$7:$P$23,'Opsamling, slagt+smågrise'!BJ$2,FALSE)","v":{"$error":"#N/A"}},{"$f":"VLOOKUP($BF98,'Vejehold 4'!$A$7:$P$23,'Opsamling, slagt+smågrise'!BK$2,FALSE)","v":{"$error":"#N/A"}},{"$f":"VLOOKUP($BF98,'Vejehold 4'!$A$7:$P$23,'Opsamling, slagt+smågrise'!BL$2,FALSE)","v":{"$error":"#N/A"}},{"$f":"VLOOKUP($BF98,'Vejehold 4'!$A$7:$P$23,'Opsamling, slagt+smågrise'!BM$2,FALSE)","v":{"$error":"#N/A"}},null,94,"1900-04-03",{"$f":"VLOOKUP($BP98,'Vejehold 5'!$A$7:$P$23,'Opsamling, slagt+smågrise'!BQ$2,FALSE)","v":{"$error":"#N/A"}},{"$f":"VLOOKUP($BP98,'Vejehold 5'!$A$7:$P$23,'Opsamling, slagt+smågrise'!BR$2,FALSE)","v":{"$error":"#N/A"}},{"$f":"VLOOKUP($BP98,'Vejehold 5'!$A$7:$P$23,'Opsamling, slagt+smågrise'!BS$2,FALSE)","v":{"$error":"#N/A"}},{"$f":"VLOOKUP($BP98,'Vejehold 5'!$A$7:$P$23,'Opsamling, slagt+smågrise'!BT$2,FALSE)","v":{"$error":"#N/A"}},{"$f":"VLOOKUP($BP98,'Vejehold 5'!$A$7:$P$23,'Opsamling, slagt+smågrise'!BU$2,FALSE)","v":{"$error":"#N/A"}},{"$f":"VLOOKUP($BP98,'Vejehold 5'!$A$7:$P$23,'Opsamling, slagt+smågrise'!BV$2,FALSE)","v":{"$error":"#N/A"}},{"$f":"VLOOKUP($BP98,'Vejehold 5'!$A$7:$P$23,'Opsamling, slagt+smågrise'!BW$2,FALSE)","v":{"$error":"#N/A"}},null,94,"1900-04-03",{"$f":"VLOOKUP($BZ98,'Vejehold 6'!$A$7:$P$23,'Opsamling, slagt+smågrise'!CA$2,FALSE)","v":{"$error":"#N/A"}},{"$f":"VLOOKUP($BZ98,'Vejehold 6'!$A$7:$P$23,'Opsamling, slagt+smågrise'!CB$2,FALSE)","v":{"$error":"#N/A"}},{"$f":"VLOOKUP($BZ98,'Vejehold 6'!$A$7:$P$23,'Opsamling, slagt+smågrise'!CC$2,FALSE)","v":{"$error":"#N/A"}},{"$f":"VLOOKUP($BZ98,'Vejehold 6'!$A$7:$P$23,'Opsamling, slagt+smågrise'!CD$2,FALSE)","v":{"$error":"#N/A"}},{"$f":"VLOOKUP($BZ98,'Vejehold 6'!$A$7:$P$23,'Opsamling, slagt+smågrise'!CE$2,FALSE)","v":{"$error":"#N/A"}},{"$f":"VLOOKUP($BZ98,'Vejehold 6'!$A$7:$P$23,'Opsamling, slagt+smågrise'!CF$2,FALSE)","v":{"$error":"#N/A"}},{"$f":"VLOOKUP($BZ98,'Vejehold 6'!$A$7:$P$23,'Opsamling, slagt+smågrise'!CG$2,FALSE)","v":{"$error":"#N/A"}}]
[null,42,{"$f":"'Vejehold 1'!$N13","v":0},{"$f":"'Vejehold 2'!$N13","v":0},{"$f":"'Vejehold 3'!$N13","v":0},{"$f":"'Vejehold 4'!$N13","v":0},{"$f":"'Vejehold 5'!$N13","v":0},{"$f":"'Vejehold 6'!$N13","v":0},null,null,null,null,null,null,null,null,null,null,null,null,null,null,null,null,null,null,95,{"$f":"AB98+1","v":"1900-04-04"},{"$f":"VLOOKUP($AB99,'Vejehold 1'!$A$7:$P$23,'Opsamling, slagt+smågrise'!AC$2,FALSE)","v":{"$error":"#N/A"}},{"$f":"VLOOKUP($AB99,'Vejehold 1'!$A$7:$P$23,'Opsamling, slagt+smågrise'!AD$2,FALSE)","v":{"$error":"#N/A"}},{"$f":"VLOOKUP($AB99,'Vejehold 1'!$A$7:$P$23,'Opsamling, slagt+smågrise'!AE$2,FALSE)","v":{"$error":"#N/A"}},{"$f":"VLOOKUP($AB99,'Vejehold 1'!$A$7:$P$23,'Opsamling, slagt+smågrise'!AF$2,FALSE)","v":{"$error":"#N/A"}},{"$f":"VLOOKUP($AB99,'Vejehold 1'!$A$7:$P$23,'Opsamling, slagt+smågrise'!AG$2,FALSE)","v":{"$error":"#N/A"}},{"$f":"VLOOKUP($AB99,'Vejehold 1'!$A$7:$P$23,'Opsamling, slagt+smågrise'!AH$2,FALSE)","v":{"$error":"#N/A"}},{"$f":"VLOOKUP($AB99,'Vejehold 1'!$A$7:$P$23,'Opsamling, slagt+smågrise'!AI$2,FALSE)","v":{"$error":"#N/A"}},null,95,{"$f":"AL98+1","v":"1900-04-04"},{"$f":"VLOOKUP($AL99,'Vejehold 2'!$A$7:$P$23,'Opsamling, slagt+smågrise'!AM$2,FALSE)","v":{"$error":"#N/A"}},{"$f":"VLOOKUP($AL99,'Vejehold 2'!$A$7:$P$23,'Opsamling, slagt+smågrise'!AN$2,FALSE)","v":{"$error":"#N/A"}},{"$f":"VLOOKUP($AL99,'Vejehold 2'!$A$7:$P$23,'Opsamling, slagt+smågrise'!AO$2,FALSE)","v":{"$error":"#N/A"}},{"$f":"VLOOKUP($AL99,'Vejehold 2'!$A$7:$P$23,'Opsamling, slagt+smågrise'!AP$2,FALSE)","v":{"$error":"#N/A"}},{"$f":"VLOOKUP($AL99,'Vejehold 2'!$A$7:$P$23,'Opsamling, slagt+smågrise'!AQ$2,FALSE)","v":{"$error":"#N/A"}},{"$f":"VLOOKUP($AL99,'Vejehold 2'!$A$7:$P$23,'Opsamling, slagt+smågrise'!AR$2,FALSE)","v":{"$error":"#N/A"}},{"$f":"VLOOKUP($AL99,'Vejehold 2'!$A$7:$P$23,'Opsamling, slagt+smågrise'!AS$2,FALSE)","v":{"$error":"#N/A"}},null,95,{"$f":"AV98+1","v":"1900-04-04"},{"$f":"VLOOKUP($AV99,'Vejehold 3'!$A$7:$P$23,'Opsamling, slagt+smågrise'!AW$2,FALSE)","v":{"$error":"#N/A"}},{"$f":"VLOOKUP($AV99,'Vejehold 3'!$A$7:$P$23,'Opsamling, slagt+smågrise'!AX$2,FALSE)","v":{"$error":"#N/A"}},{"$f":"VLOOKUP($AV99,'Vejehold 3'!$A$7:$P$23,'Opsamling, slagt+smågrise'!AY$2,FALSE)","v":{"$error":"#N/A"}},{"$f":"VLOOKUP($AV99,'Vejehold 3'!$A$7:$P$23,'Opsamling, slagt+smågrise'!AZ$2,FALSE)","v":{"$error":"#N/A"}},{"$f":"VLOOKUP($AV99,'Vejehold 3'!$A$7:$P$23,'Opsamling, slagt+smågrise'!BA$2,FALSE)","v":{"$error":"#N/A"}},{"$f":"VLOOKUP($AV99,'Vejehold 3'!$A$7:$P$23,'Opsamling, slagt+smågrise'!BB$2,FALSE)","v":{"$error":"#N/A"}},{"$f":"VLOOKUP($AV99,'Vejehold 3'!$A$7:$P$23,'Opsamling, slagt+smågrise'!BC$2,FALSE)","v":{"$error":"#N/A"}},null,95,{"$f":"BF98+1","v":"1900-04-04"},{"$f":"VLOOKUP($BF99,'Vejehold 4'!$A$7:$P$23,'Opsamling, slagt+smågrise'!BG$2,FALSE)","v":{"$error":"#N/A"}},{"$f":"VLOOKUP($BF99,'Vejehold 4'!$A$7:$P$23,'Opsamling, slagt+smågrise'!BH$2,FALSE)","v":{"$error":"#N/A"}},{"$f":"VLOOKUP($BF99,'Vejehold 4'!$A$7:$P$23,'Opsamling, slagt+smågrise'!BI$2,FALSE)","v":{"$error":"#N/A"}},{"$f":"VLOOKUP($BF99,'Vejehold 4'!$A$7:$P$23,'Opsamling, slagt+smågrise'!BJ$2,FALSE)","v":{"$error":"#N/A"}},{"$f":"VLOOKUP($BF99,'Vejehold 4'!$A$7:$P$23,'Opsamling, slagt+smågrise'!BK$2,FALSE)","v":{"$error":"#N/A"}},{"$f":"VLOOKUP($BF99,'Vejehold 4'!$A$7:$P$23,'Opsamling, slagt+smågrise'!BL$2,FALSE)","v":{"$error":"#N/A"}},{"$f":"VLOOKUP($BF99,'Vejehold 4'!$A$7:$P$23,'Opsamling, slagt+smågrise'!BM$2,FALSE)","v":{"$error":"#N/A"}},null,95,{"$f":"BP98+1","v":"1900-04-04"},{"$f":"VLOOKUP($BP99,'Vejehold 5'!$A$7:$P$23,'Opsamling, slagt+smågrise'!BQ$2,FALSE)","v":{"$error":"#N/A"}},{"$f":"VLOOKUP($BP99,'Vejehold 5'!$A$7:$P$23,'Opsamling, slagt+smågrise'!BR$2,FALSE)","v":{"$error":"#N/A"}},{"$f":"VLOOKUP($BP99,'Vejehold 5'!$A$7:$P$23,'Opsamling, slagt+smågrise'!BS$2,FALSE)","v":{"$error":"#N/A"}},{"$f":"VLOOKUP($BP99,'Vejehold 5'!$A$7:$P$23,'Opsamling, slagt+smågrise'!BT$2,FALSE)","v":{"$error":"#N/A"}},{"$f":"VLOOKUP($BP99,'Vejehold 5'!$A$7:$P$23,'Opsamling, slagt+smågrise'!BU$2,FALSE)","v":{"$error":"#N/A"}},{"$f":"VLOOKUP($BP99,'Vejehold 5'!$A$7:$P$23,'Opsamling, slagt+smågrise'!BV$2,FALSE)","v":{"$error":"#N/A"}},{"$f":"VLOOKUP($BP99,'Vejehold 5'!$A$7:$P$23,'Opsamling, slagt+smågrise'!BW$2,FALSE)","v":{"$error":"#N/A"}},null,95,{"$f":"BZ98+1","v":"1900-04-04"},{"$f":"VLOOKUP($BZ99,'Vejehold 6'!$A$7:$P$23,'Opsamling, slagt+smågrise'!CA$2,FALSE)","v":{"$error":"#N/A"}},{"$f":"VLOOKUP($BZ99,'Vejehold 6'!$A$7:$P$23,'Opsamling, slagt+smågrise'!CB$2,FALSE)","v":{"$error":"#N/A"}},{"$f":"VLOOKUP($BZ99,'Vejehold 6'!$A$7:$P$23,'Opsamling, slagt+smågrise'!CC$2,FALSE)","v":{"$error":"#N/A"}},{"$f":"VLOOKUP($BZ99,'Vejehold 6'!$A$7:$P$23,'Opsamling, slagt+smågrise'!CD$2,FALSE)","v":{"$error":"#N/A"}},{"$f":"VLOOKUP($BZ99,'Vejehold 6'!$A$7:$P$23,'Opsamling, slagt+smågrise'!CE$2,FALSE)","v":{"$error":"#N/A"}},{"$f":"VLOOKUP($BZ99,'Vejehold 6'!$A$7:$P$23,'Opsamling, slagt+smågrise'!CF$2,FALSE)","v":{"$error":"#N/A"}},{"$f":"VLOOKUP($BZ99,'Vejehold 6'!$A$7:$P$23,'Opsamling, slagt+smågrise'!CG$2,FALSE)","v":{"$error":"#N/A"}}]
[null,49,{"$f":"'Vejehold 1'!$N14","v":0},{"$f":"'Vejehold 2'!$N14","v":0},{"$f":"'Vejehold 3'!$N14","v":0},{"$f":"'Vejehold 4'!$N14","v":0},{"$f":"'Vejehold 5'!$N14","v":0},{"$f":"'Vejehold 6'!$N14","v":0},null,null,null,null,null,null,null,null,null,null,null,null,null,null,null,null,null,null,96,{"$f":"AB99+1","v":"1900-04-05"},{"$f":"VLOOKUP($AB100,'Vejehold 1'!$A$7:$P$23,'Opsamling, slagt+smågrise'!AC$2,FALSE)","v":{"$error":"#N/A"}},{"$f":"VLOOKUP($AB100,'Vejehold 1'!$A$7:$P$23,'Opsamling, slagt+smågrise'!AD$2,FALSE)","v":{"$error":"#N/A"}},{"$f":"VLOOKUP($AB100,'Vejehold 1'!$A$7:$P$23,'Opsamling, slagt+smågrise'!AE$2,FALSE)","v":{"$error":"#N/A"}},{"$f":"VLOOKUP($AB100,'Vejehold 1'!$A$7:$P$23,'Opsamling, slagt+smågrise'!AF$2,FALSE)","v":{"$error":"#N/A"}},{"$f":"VLOOKUP($AB100,'Vejehold 1'!$A$7:$P$23,'Opsamling, slagt+smågrise'!AG$2,FALSE)","v":{"$error":"#N/A"}},{"$f":"VLOOKUP($AB100,'Vejehold 1'!$A$7:$P$23,'Opsamling, slagt+smågrise'!AH$2,FALSE)","v":{"$error":"#N/A"}},{"$f":"VLOOKUP($AB100,'Vejehold 1'!$A$7:$P$23,'Opsamling, slagt+smågrise'!AI$2,FALSE)","v":{"$error":"#N/A"}},null,96,{"$f":"AL99+1","v":"1900-04-05"},{"$f":"VLOOKUP($AL100,'Vejehold 2'!$A$7:$P$23,'Opsamling, slagt+smågrise'!AM$2,FALSE)","v":{"$error":"#N/A"}},{"$f":"VLOOKUP($AL100,'Vejehold 2'!$A$7:$P$23,'Opsamling, slagt+smågrise'!AN$2,FALSE)","v":{"$error":"#N/A"}},{"$f":"VLOOKUP($AL100,'Vejehold 2'!$A$7:$P$23,'Opsamling, slagt+smågrise'!AO$2,FALSE)","v":{"$error":"#N/A"}},{"$f":"VLOOKUP($AL100,'Vejehold 2'!$A$7:$P$23,'Opsamling, slagt+smågrise'!AP$2,FALSE)","v":{"$error":"#N/A"}},{"$f":"VLOOKUP($AL100,'Vejehold 2'!$A$7:$P$23,'Opsamling, slagt+smågrise'!AQ$2,FALSE)","v":{"$error":"#N/A"}},{"$f":"VLOOKUP($AL100,'Vejehold 2'!$A$7:$P$23,'Opsamling, slagt+smågrise'!AR$2,FALSE)","v":{"$error":"#N/A"}},{"$f":"VLOOKUP($AL100,'Vejehold 2'!$A$7:$P$23,'Opsamling, slagt+smågrise'!AS$2,FALSE)","v":{"$error":"#N/A"}},null,96,{"$f":"AV99+1","v":"1900-04-05"},{"$f":"VLOOKUP($AV100,'Vejehold 3'!$A$7:$P$23,'Opsamling, slagt+smågrise'!AW$2,FALSE)","v":{"$error":"#N/A"}},{"$f":"VLOOKUP($AV100,'Vejehold 3'!$A$7:$P$23,'Opsamling, slagt+smågrise'!AX$2,FALSE)","v":{"$error":"#N/A"}},{"$f":"VLOOKUP($AV100,'Vejehold 3'!$A$7:$P$23,'Opsamling, slagt+smågrise'!AY$2,FALSE)","v":{"$error":"#N/A"}},{"$f":"VLOOKUP($AV100,'Vejehold 3'!$A$7:$P$23,'Opsamling, slagt+smågrise'!AZ$2,FALSE)","v":{"$error":"#N/A"}},{"$f":"VLOOKUP($AV100,'Vejehold 3'!$A$7:$P$23,'Opsamling, slagt+smågrise'!BA$2,FALSE)","v":{"$error":"#N/A"}},{"$f":"VLOOKUP($AV100,'Vejehold 3'!$A$7:$P$23,'Opsamling, slagt+smågrise'!BB$2,FALSE)","v":{"$error":"#N/A"}},{"$f":"VLOOKUP($AV100,'Vejehold 3'!$A$7:$P$23,'Opsamling, slagt+smågrise'!BC$2,FALSE)","v":{"$error":"#N/A"}},null,96,{"$f":"BF99+1","v":"1900-04-05"},{"$f":"VLOOKUP($BF100,'Vejehold 4'!$A$7:$P$23,'Opsamling, slagt+smågrise'!BG$2,FALSE)","v":{"$error":"#N/A"}},{"$f":"VLOOKUP($BF100,'Vejehold 4'!$A$7:$P$23,'Opsamling, slagt+smågrise'!BH$2,FALSE)","v":{"$error":"#N/A"}},{"$f":"VLOOKUP($BF100,'Vejehold 4'!$A$7:$P$23,'Opsamling, slagt+smågrise'!BI$2,FALSE)","v":{"$error":"#N/A"}},{"$f":"VLOOKUP($BF100,'Vejehold 4'!$A$7:$P$23,'Opsamling, slagt+smågrise'!BJ$2,FALSE)","v":{"$error":"#N/A"}},{"$f":"VLOOKUP($BF100,'Vejehold 4'!$A$7:$P$23,'Opsamling, slagt+smågrise'!BK$2,FALSE)","v":{"$error":"#N/A"}},{"$f":"VLOOKUP($BF100,'Vejehold 4'!$A$7:$P$23,'Opsamling, slagt+smågrise'!BL$2,FALSE)","v":{"$error":"#N/A"}},{"$f":"VLOOKUP($BF100,'Vejehold 4'!$A$7:$P$23,'Opsamling, slagt+smågrise'!BM$2,FALSE)","v":{"$error":"#N/A"}},null,96,{"$f":"BP99+1","v":"1900-04-05"},{"$f":"VLOOKUP($BP100,'Vejehold 5'!$A$7:$P$23,'Opsamling, slagt+smågrise'!BQ$2,FALSE)","v":{"$error":"#N/A"}},{"$f":"VLOOKUP($BP100,'Vejehold 5'!$A$7:$P$23,'Opsamling, slagt+smågrise'!BR$2,FALSE)","v":{"$error":"#N/A"}},{"$f":"VLOOKUP($BP100,'Vejehold 5'!$A$7:$P$23,'Opsamling, slagt+smågrise'!BS$2,FALSE)","v":{"$error":"#N/A"}},{"$f":"VLOOKUP($BP100,'Vejehold 5'!$A$7:$P$23,'Opsamling, slagt+smågrise'!BT$2,FALSE)","v":{"$error":"#N/A"}},{"$f":"VLOOKUP($BP100,'Vejehold 5'!$A$7:$P$23,'Opsamling, slagt+smågrise'!BU$2,FALSE)","v":{"$error":"#N/A"}},{"$f":"VLOOKUP($BP100,'Vejehold 5'!$A$7:$P$23,'Opsamling, slagt+smågrise'!BV$2,FALSE)","v":{"$error":"#N/A"}},{"$f":"VLOOKUP($BP100,'Vejehold 5'!$A$7:$P$23,'Opsamling, slagt+smågrise'!BW$2,FALSE)","v":{"$error":"#N/A"}},null,96,{"$f":"BZ99+1","v":"1900-04-05"},{"$f":"VLOOKUP($BZ100,'Vejehold 6'!$A$7:$P$23,'Opsamling, slagt+smågrise'!CA$2,FALSE)","v":{"$error":"#N/A"}},{"$f":"VLOOKUP($BZ100,'Vejehold 6'!$A$7:$P$23,'Opsamling, slagt+smågrise'!CB$2,FALSE)","v":{"$error":"#N/A"}},{"$f":"VLOOKUP($BZ100,'Vejehold 6'!$A$7:$P$23,'Opsamling, slagt+smågrise'!CC$2,FALSE)","v":{"$error":"#N/A"}},{"$f":"VLOOKUP($BZ100,'Vejehold 6'!$A$7:$P$23,'Opsamling, slagt+smågrise'!CD$2,FALSE)","v":{"$error":"#N/A"}},{"$f":"VLOOKUP($BZ100,'Vejehold 6'!$A$7:$P$23,'Opsamling, slagt+smågrise'!CE$2,FALSE)","v":{"$error":"#N/A"}},{"$f":"VLOOKUP($BZ100,'Vejehold 6'!$A$7:$P$23,'Opsamling, slagt+smågrise'!CF$2,FALSE)","v":{"$error":"#N/A"}},{"$f":"VLOOKUP($BZ100,'Vejehold 6'!$A$7:$P$23,'Opsamling, slagt+smågrise'!CG$2,FALSE)","v":{"$error":"#N/A"}}]
[null,56,{"$f":"'Vejehold 1'!$N15","v":0},{"$f":"'Vejehold 2'!$N15","v":0},{"$f":"'Vejehold 3'!$N15","v":0},{"$f":"'Vejehold 4'!$N15","v":0},{"$f":"'Vejehold 5'!$N15","v":0},{"$f":"'Vejehold 6'!$N15","v":0},null,null,null,null,null,null,null,null,null,null,null,null,null,null,null,null,null,null,97,"1900-04-06",{"$f":"VLOOKUP($AB101,'Vejehold 1'!$A$7:$P$23,'Opsamling, slagt+smågrise'!AC$2,FALSE)","v":{"$error":"#N/A"}},{"$f":"VLOOKUP($AB101,'Vejehold 1'!$A$7:$P$23,'Opsamling, slagt+smågrise'!AD$2,FALSE)","v":{"$error":"#N/A"}},{"$f":"VLOOKUP($AB101,'Vejehold 1'!$A$7:$P$23,'Opsamling, slagt+smågrise'!AE$2,FALSE)","v":{"$error":"#N/A"}},{"$f":"VLOOKUP($AB101,'Vejehold 1'!$A$7:$P$23,'Opsamling, slagt+smågrise'!AF$2,FALSE)","v":{"$error":"#N/A"}},{"$f":"VLOOKUP($AB101,'Vejehold 1'!$A$7:$P$23,'Opsamling, slagt+smågrise'!AG$2,FALSE)","v":{"$error":"#N/A"}},{"$f":"VLOOKUP($AB101,'Vejehold 1'!$A$7:$P$23,'Opsamling, slagt+smågrise'!AH$2,FALSE)","v":{"$error":"#N/A"}},{"$f":"VLOOKUP($AB101,'Vejehold 1'!$A$7:$P$23,'Opsamling, slagt+smågrise'!AI$2,FALSE)","v":{"$error":"#N/A"}},null,97,"1900-04-06",{"$f":"VLOOKUP($AL101,'Vejehold 2'!$A$7:$P$23,'Opsamling, slagt+smågrise'!AM$2,FALSE)","v":{"$error":"#N/A"}},{"$f":"VLOOKUP($AL101,'Vejehold 2'!$A$7:$P$23,'Opsamling, slagt+smågrise'!AN$2,FALSE)","v":{"$error":"#N/A"}},{"$f":"VLOOKUP($AL101,'Vejehold 2'!$A$7:$P$23,'Opsamling, slagt+smågrise'!AO$2,FALSE)","v":{"$error":"#N/A"}},{"$f":"VLOOKUP($AL101,'Vejehold 2'!$A$7:$P$23,'Opsamling, slagt+smågrise'!AP$2,FALSE)","v":{"$error":"#N/A"}},{"$f":"VLOOKUP($AL101,'Vejehold 2'!$A$7:$P$23,'Opsamling, slagt+smågrise'!AQ$2,FALSE)","v":{"$error":"#N/A"}},{"$f":"VLOOKUP($AL101,'Vejehold 2'!$A$7:$P$23,'Opsamling, slagt+smågrise'!AR$2,FALSE)","v":{"$error":"#N/A"}},{"$f":"VLOOKUP($AL101,'Vejehold 2'!$A$7:$P$23,'Opsamling, slagt+smågrise'!AS$2,FALSE)","v":{"$error":"#N/A"}},null,97,"1900-04-06",{"$f":"VLOOKUP($AV101,'Vejehold 3'!$A$7:$P$23,'Opsamling, slagt+smågrise'!AW$2,FALSE)","v":{"$error":"#N/A"}},{"$f":"VLOOKUP($AV101,'Vejehold 3'!$A$7:$P$23,'Opsamling, slagt+smågrise'!AX$2,FALSE)","v":{"$error":"#N/A"}},{"$f":"VLOOKUP($AV101,'Vejehold 3'!$A$7:$P$23,'Opsamling, slagt+smågrise'!AY$2,FALSE)","v":{"$error":"#N/A"}},{"$f":"VLOOKUP($AV101,'Vejehold 3'!$A$7:$P$23,'Opsamling, slagt+smågrise'!AZ$2,FALSE)","v":{"$error":"#N/A"}},{"$f":"VLOOKUP($AV101,'Vejehold 3'!$A$7:$P$23,'Opsamling, slagt+smågrise'!BA$2,FALSE)","v":{"$error":"#N/A"}},{"$f":"VLOOKUP($AV101,'Vejehold 3'!$A$7:$P$23,'Opsamling, slagt+smågrise'!BB$2,FALSE)","v":{"$error":"#N/A"}},{"$f":"VLOOKUP($AV101,'Vejehold 3'!$A$7:$P$23,'Opsamling, slagt+smågrise'!BC$2,FALSE)","v":{"$error":"#N/A"}},null,97,"1900-04-06",{"$f":"VLOOKUP($BF101,'Vejehold 4'!$A$7:$P$23,'Opsamling, slagt+smågrise'!BG$2,FALSE)","v":{"$error":"#N/A"}},{"$f":"VLOOKUP($BF101,'Vejehold 4'!$A$7:$P$23,'Opsamling, slagt+smågrise'!BH$2,FALSE)","v":{"$error":"#N/A"}},{"$f":"VLOOKUP($BF101,'Vejehold 4'!$A$7:$P$23,'Opsamling, slagt+smågrise'!BI$2,FALSE)","v":{"$error":"#N/A"}},{"$f":"VLOOKUP($BF101,'Vejehold 4'!$A$7:$P$23,'Opsamling, slagt+smågrise'!BJ$2,FALSE)","v":{"$error":"#N/A"}},{"$f":"VLOOKUP($BF101,'Vejehold 4'!$A$7:$P$23,'Opsamling, slagt+smågrise'!BK$2,FALSE)","v":{"$error":"#N/A"}},{"$f":"VLOOKUP($BF101,'Vejehold 4'!$A$7:$P$23,'Opsamling, slagt+smågrise'!BL$2,FALSE)","v":{"$error":"#N/A"}},{"$f":"VLOOKUP($BF101,'Vejehold 4'!$A$7:$P$23,'Opsamling, slagt+smågrise'!BM$2,FALSE)","v":{"$error":"#N/A"}},null,97,"1900-04-06",{"$f":"VLOOKUP($BP101,'Vejehold 5'!$A$7:$P$23,'Opsamling, slagt+smågrise'!BQ$2,FALSE)","v":{"$error":"#N/A"}},{"$f":"VLOOKUP($BP101,'Vejehold 5'!$A$7:$P$23,'Opsamling, slagt+smågrise'!BR$2,FALSE)","v":{"$error":"#N/A"}},{"$f":"VLOOKUP($BP101,'Vejehold 5'!$A$7:$P$23,'Opsamling, slagt+smågrise'!BS$2,FALSE)","v":{"$error":"#N/A"}},{"$f":"VLOOKUP($BP101,'Vejehold 5'!$A$7:$P$23,'Opsamling, slagt+smågrise'!BT$2,FALSE)","v":{"$error":"#N/A"}},{"$f":"VLOOKUP($BP101,'Vejehold 5'!$A$7:$P$23,'Opsamling, slagt+smågrise'!BU$2,FALSE)","v":{"$error":"#N/A"}},{"$f":"VLOOKUP($BP101,'Vejehold 5'!$A$7:$P$23,'Opsamling, slagt+smågrise'!BV$2,FALSE)","v":{"$error":"#N/A"}},{"$f":"VLOOKUP($BP101,'Vejehold 5'!$A$7:$P$23,'Opsamling, slagt+smågrise'!BW$2,FALSE)","v":{"$error":"#N/A"}},null,97,"1900-04-06",{"$f":"VLOOKUP($BZ101,'Vejehold 6'!$A$7:$P$23,'Opsamling, slagt+smågrise'!CA$2,FALSE)","v":{"$error":"#N/A"}},{"$f":"VLOOKUP($BZ101,'Vejehold 6'!$A$7:$P$23,'Opsamling, slagt+smågrise'!CB$2,FALSE)","v":{"$error":"#N/A"}},{"$f":"VLOOKUP($BZ101,'Vejehold 6'!$A$7:$P$23,'Opsamling, slagt+smågrise'!CC$2,FALSE)","v":{"$error":"#N/A"}},{"$f":"VLOOKUP($BZ101,'Vejehold 6'!$A$7:$P$23,'Opsamling, slagt+smågrise'!CD$2,FALSE)","v":{"$error":"#N/A"}},{"$f":"VLOOKUP($BZ101,'Vejehold 6'!$A$7:$P$23,'Opsamling, slagt+smågrise'!CE$2,FALSE)","v":{"$error":"#N/A"}},{"$f":"VLOOKUP($BZ101,'Vejehold 6'!$A$7:$P$23,'Opsamling, slagt+smågrise'!CF$2,FALSE)","v":{"$error":"#N/A"}},{"$f":"VLOOKUP($BZ101,'Vejehold 6'!$A$7:$P$23,'Opsamling, slagt+smågrise'!CG$2,FALSE)","v":{"$error":"#N/A"}}]
[null,63,{"$f":"'Vejehold 1'!$N16","v":0},{"$f":"'Vejehold 2'!$N16","v":0},{"$f":"'Vejehold 3'!$N16","v":0},{"$f":"'Vejehold 4'!$N16","v":0},{"$f":"'Vejehold 5'!$N16","v":0},{"$f":"'Vejehold 6'!$N16","v":0},null,null,null,null,null,null,null,null,null,null,null,null,null,null,null,null,null,null,98,"1900-04-07",{"$f":"VLOOKUP($AB102,'Vejehold 1'!$A$7:$P$23,'Opsamling, slagt+smågrise'!AC$2,FALSE)","v":{"$error":"#N/A"}},{"$f":"VLOOKUP($AB102,'Vejehold 1'!$A$7:$P$23,'Opsamling, slagt+smågrise'!AD$2,FALSE)","v":{"$error":"#N/A"}},{"$f":"VLOOKUP($AB102,'Vejehold 1'!$A$7:$P$23,'Opsamling, slagt+smågrise'!AE$2,FALSE)","v":{"$error":"#N/A"}},{"$f":"VLOOKUP($AB102,'Vejehold 1'!$A$7:$P$23,'Opsamling, slagt+smågrise'!AF$2,FALSE)","v":{"$error":"#N/A"}},{"$f":"VLOOKUP($AB102,'Vejehold 1'!$A$7:$P$23,'Opsamling, slagt+smågrise'!AG$2,FALSE)","v":{"$error":"#N/A"}},{"$f":"VLOOKUP($AB102,'Vejehold 1'!$A$7:$P$23,'Opsamling, slagt+smågrise'!AH$2,FALSE)","v":{"$error":"#N/A"}},{"$f":"VLOOKUP($AB102,'Vejehold 1'!$A$7:$P$23,'Opsamling, slagt+smågrise'!AI$2,FALSE)","v":{"$error":"#N/A"}},null,98,"1900-04-07",{"$f":"VLOOKUP($AL102,'Vejehold 2'!$A$7:$P$23,'Opsamling, slagt+smågrise'!AM$2,FALSE)","v":{"$error":"#N/A"}},{"$f":"VLOOKUP($AL102,'Vejehold 2'!$A$7:$P$23,'Opsamling, slagt+smågrise'!AN$2,FALSE)","v":{"$error":"#N/A"}},{"$f":"VLOOKUP($AL102,'Vejehold 2'!$A$7:$P$23,'Opsamling, slagt+smågrise'!AO$2,FALSE)","v":{"$error":"#N/A"}},{"$f":"VLOOKUP($AL102,'Vejehold 2'!$A$7:$P$23,'Opsamling, slagt+smågrise'!AP$2,FALSE)","v":{"$error":"#N/A"}},{"$f":"VLOOKUP($AL102,'Vejehold 2'!$A$7:$P$23,'Opsamling, slagt+smågrise'!AQ$2,FALSE)","v":{"$error":"#N/A"}},{"$f":"VLOOKUP($AL102,'Vejehold 2'!$A$7:$P$23,'Opsamling, slagt+smågrise'!AR$2,FALSE)","v":{"$error":"#N/A"}},{"$f":"VLOOKUP($AL102,'Vejehold 2'!$A$7:$P$23,'Opsamling, slagt+smågrise'!AS$2,FALSE)","v":{"$error":"#N/A"}},null,98,"1900-04-07",{"$f":"VLOOKUP($AV102,'Vejehold 3'!$A$7:$P$23,'Opsamling, slagt+smågrise'!AW$2,FALSE)","v":{"$error":"#N/A"}},{"$f":"VLOOKUP($AV102,'Vejehold 3'!$A$7:$P$23,'Opsamling, slagt+smågrise'!AX$2,FALSE)","v":{"$error":"#N/A"}},{"$f":"VLOOKUP($AV102,'Vejehold 3'!$A$7:$P$23,'Opsamling, slagt+smågrise'!AY$2,FALSE)","v":{"$error":"#N/A"}},{"$f":"VLOOKUP($AV102,'Vejehold 3'!$A$7:$P$23,'Opsamling, slagt+smågrise'!AZ$2,FALSE)","v":{"$error":"#N/A"}},{"$f":"VLOOKUP($AV102,'Vejehold 3'!$A$7:$P$23,'Opsamling, slagt+smågrise'!BA$2,FALSE)","v":{"$error":"#N/A"}},{"$f":"VLOOKUP($AV102,'Vejehold 3'!$A$7:$P$23,'Opsamling, slagt+smågrise'!BB$2,FALSE)","v":{"$error":"#N/A"}},{"$f":"VLOOKUP($AV102,'Vejehold 3'!$A$7:$P$23,'Opsamling, slagt+smågrise'!BC$2,FALSE)","v":{"$error":"#N/A"}},null,98,"1900-04-07",{"$f":"VLOOKUP($BF102,'Vejehold 4'!$A$7:$P$23,'Opsamling, slagt+smågrise'!BG$2,FALSE)","v":{"$error":"#N/A"}},{"$f":"VLOOKUP($BF102,'Vejehold 4'!$A$7:$P$23,'Opsamling, slagt+smågrise'!BH$2,FALSE)","v":{"$error":"#N/A"}},{"$f":"VLOOKUP($BF102,'Vejehold 4'!$A$7:$P$23,'Opsamling, slagt+smågrise'!BI$2,FALSE)","v":{"$error":"#N/A"}},{"$f":"VLOOKUP($BF102,'Vejehold 4'!$A$7:$P$23,'Opsamling, slagt+smågrise'!BJ$2,FALSE)","v":{"$error":"#N/A"}},{"$f":"VLOOKUP($BF102,'Vejehold 4'!$A$7:$P$23,'Opsamling, slagt+smågrise'!BK$2,FALSE)","v":{"$error":"#N/A"}},{"$f":"VLOOKUP($BF102,'Vejehold 4'!$A$7:$P$23,'Opsamling, slagt+smågrise'!BL$2,FALSE)","v":{"$error":"#N/A"}},{"$f":"VLOOKUP($BF102,'Vejehold 4'!$A$7:$P$23,'Opsamling, slagt+smågrise'!BM$2,FALSE)","v":{"$error":"#N/A"}},null,98,"1900-04-07",{"$f":"VLOOKUP($BP102,'Vejehold 5'!$A$7:$P$23,'Opsamling, slagt+smågrise'!BQ$2,FALSE)","v":{"$error":"#N/A"}},{"$f":"VLOOKUP($BP102,'Vejehold 5'!$A$7:$P$23,'Opsamling, slagt+smågrise'!BR$2,FALSE)","v":{"$error":"#N/A"}},{"$f":"VLOOKUP($BP102,'Vejehold 5'!$A$7:$P$23,'Opsamling, slagt+smågrise'!BS$2,FALSE)","v":{"$error":"#N/A"}},{"$f":"VLOOKUP($BP102,'Vejehold 5'!$A$7:$P$23,'Opsamling, slagt+smågrise'!BT$2,FALSE)","v":{"$error":"#N/A"}},{"$f":"VLOOKUP($BP102,'Vejehold 5'!$A$7:$P$23,'Opsamling, slagt+smågrise'!BU$2,FALSE)","v":{"$error":"#N/A"}},{"$f":"VLOOKUP($BP102,'Vejehold 5'!$A$7:$P$23,'Opsamling, slagt+smågrise'!BV$2,FALSE)","v":{"$error":"#N/A"}},{"$f":"VLOOKUP($BP102,'Vejehold 5'!$A$7:$P$23,'Opsamling, slagt+smågrise'!BW$2,FALSE)","v":{"$error":"#N/A"}},null,98,"1900-04-07",{"$f":"VLOOKUP($BZ102,'Vejehold 6'!$A$7:$P$23,'Opsamling, slagt+smågrise'!CA$2,FALSE)","v":{"$error":"#N/A"}},{"$f":"VLOOKUP($BZ102,'Vejehold 6'!$A$7:$P$23,'Opsamling, slagt+smågrise'!CB$2,FALSE)","v":{"$error":"#N/A"}},{"$f":"VLOOKUP($BZ102,'Vejehold 6'!$A$7:$P$23,'Opsamling, slagt+smågrise'!CC$2,FALSE)","v":{"$error":"#N/A"}},{"$f":"VLOOKUP($BZ102,'Vejehold 6'!$A$7:$P$23,'Opsamling, slagt+smågrise'!CD$2,FALSE)","v":{"$error":"#N/A"}},{"$f":"VLOOKUP($BZ102,'Vejehold 6'!$A$7:$P$23,'Opsamling, slagt+smågrise'!CE$2,FALSE)","v":{"$error":"#N/A"}},{"$f":"VLOOKUP($BZ102,'Vejehold 6'!$A$7:$P$23,'Opsamling, slagt+smågrise'!CF$2,FALSE)","v":{"$error":"#N/A"}},{"$f":"VLOOKUP($BZ102,'Vejehold 6'!$A$7:$P$23,'Opsamling, slagt+smågrise'!CG$2,FALSE)","v":{"$error":"#N/A"}}]
[null,70,{"$f":"'Vejehold 1'!$N17","v":0},{"$f":"'Vejehold 2'!$N17","v":0},{"$f":"'Vejehold 3'!$N17","v":0},{"$f":"'Vejehold 4'!$N17","v":0},{"$f":"'Vejehold 5'!$N17","v":0},{"$f":"'Vejehold 6'!$N17","v":0},null,null,null,null,null,null,null,null,null,null,null,null,null,null,null,null,null,null,99,{"$f":"AB102+1","v":"1900-04-08"},{"$f":"VLOOKUP($AB103,'Vejehold 1'!$A$7:$P$23,'Opsamling, slagt+smågrise'!AC$2,FALSE)","v":{"$error":"#N/A"}},{"$f":"VLOOKUP($AB103,'Vejehold 1'!$A$7:$P$23,'Opsamling, slagt+smågrise'!AD$2,FALSE)","v":{"$error":"#N/A"}},{"$f":"VLOOKUP($AB103,'Vejehold 1'!$A$7:$P$23,'Opsamling, slagt+smågrise'!AE$2,FALSE)","v":{"$error":"#N/A"}},{"$f":"VLOOKUP($AB103,'Vejehold 1'!$A$7:$P$23,'Opsamling, slagt+smågrise'!AF$2,FALSE)","v":{"$error":"#N/A"}},{"$f":"VLOOKUP($AB103,'Vejehold 1'!$A$7:$P$23,'Opsamling, slagt+smågrise'!AG$2,FALSE)","v":{"$error":"#N/A"}},{"$f":"VLOOKUP($AB103,'Vejehold 1'!$A$7:$P$23,'Opsamling, slagt+smågrise'!AH$2,FALSE)","v":{"$error":"#N/A"}},{"$f":"VLOOKUP($AB103,'Vejehold 1'!$A$7:$P$23,'Opsamling, slagt+smågrise'!AI$2,FALSE)","v":{"$error":"#N/A"}},null,99,{"$f":"AL102+1","v":"1900-04-08"},{"$f":"VLOOKUP($AL103,'Vejehold 2'!$A$7:$P$23,'Opsamling, slagt+smågrise'!AM$2,FALSE)","v":{"$error":"#N/A"}},{"$f":"VLOOKUP($AL103,'Vejehold 2'!$A$7:$P$23,'Opsamling, slagt+smågrise'!AN$2,FALSE)","v":{"$error":"#N/A"}},{"$f":"VLOOKUP($AL103,'Vejehold 2'!$A$7:$P$23,'Opsamling, slagt+smågrise'!AO$2,FALSE)","v":{"$error":"#N/A"}},{"$f":"VLOOKUP($AL103,'Vejehold 2'!$A$7:$P$23,'Opsamling, slagt+smågrise'!AP$2,FALSE)","v":{"$error":"#N/A"}},{"$f":"VLOOKUP($AL103,'Vejehold 2'!$A$7:$P$23,'Opsamling, slagt+smågrise'!AQ$2,FALSE)","v":{"$error":"#N/A"}},{"$f":"VLOOKUP($AL103,'Vejehold 2'!$A$7:$P$23,'Opsamling, slagt+smågrise'!AR$2,FALSE)","v":{"$error":"#N/A"}},{"$f":"VLOOKUP($AL103,'Vejehold 2'!$A$7:$P$23,'Opsamling, slagt+smågrise'!AS$2,FALSE)","v":{"$error":"#N/A"}},null,99,{"$f":"AV102+1","v":"1900-04-08"},{"$f":"VLOOKUP($AV103,'Vejehold 3'!$A$7:$P$23,'Opsamling, slagt+smågrise'!AW$2,FALSE)","v":{"$error":"#N/A"}},{"$f":"VLOOKUP($AV103,'Vejehold 3'!$A$7:$P$23,'Opsamling, slagt+smågrise'!AX$2,FALSE)","v":{"$error":"#N/A"}},{"$f":"VLOOKUP($AV103,'Vejehold 3'!$A$7:$P$23,'Opsamling, slagt+smågrise'!AY$2,FALSE)","v":{"$error":"#N/A"}},{"$f":"VLOOKUP($AV103,'Vejehold 3'!$A$7:$P$23,'Opsamling, slagt+smågrise'!AZ$2,FALSE)","v":{"$error":"#N/A"}},{"$f":"VLOOKUP($AV103,'Vejehold 3'!$A$7:$P$23,'Opsamling, slagt+smågrise'!BA$2,FALSE)","v":{"$error":"#N/A"}},{"$f":"VLOOKUP($AV103,'Vejehold 3'!$A$7:$P$23,'Opsamling, slagt+smågrise'!BB$2,FALSE)","v":{"$error":"#N/A"}},{"$f":"VLOOKUP($AV103,'Vejehold 3'!$A$7:$P$23,'Opsamling, slagt+smågrise'!BC$2,FALSE)","v":{"$error":"#N/A"}},null,99,{"$f":"BF102+1","v":"1900-04-08"},{"$f":"VLOOKUP($BF103,'Vejehold 4'!$A$7:$P$23,'Opsamling, slagt+smågrise'!BG$2,FALSE)","v":{"$error":"#N/A"}},{"$f":"VLOOKUP($BF103,'Vejehold 4'!$A$7:$P$23,'Opsamling, slagt+smågrise'!BH$2,FALSE)","v":{"$error":"#N/A"}},{"$f":"VLOOKUP($BF103,'Vejehold 4'!$A$7:$P$23,'Opsamling, slagt+smågrise'!BI$2,FALSE)","v":{"$error":"#N/A"}},{"$f":"VLOOKUP($BF103,'Vejehold 4'!$A$7:$P$23,'Opsamling, slagt+smågrise'!BJ$2,FALSE)","v":{"$error":"#N/A"}},{"$f":"VLOOKUP($BF103,'Vejehold 4'!$A$7:$P$23,'Opsamling, slagt+smågrise'!BK$2,FALSE)","v":{"$error":"#N/A"}},{"$f":"VLOOKUP($BF103,'Vejehold 4'!$A$7:$P$23,'Opsamling, slagt+smågrise'!BL$2,FALSE)","v":{"$error":"#N/A"}},{"$f":"VLOOKUP($BF103,'Vejehold 4'!$A$7:$P$23,'Opsamling, slagt+smågrise'!BM$2,FALSE)","v":{"$error":"#N/A"}},null,99,{"$f":"BP102+1","v":"1900-04-08"},{"$f":"VLOOKUP($BP103,'Vejehold 5'!$A$7:$P$23,'Opsamling, slagt+smågrise'!BQ$2,FALSE)","v":{"$error":"#N/A"}},{"$f":"VLOOKUP($BP103,'Vejehold 5'!$A$7:$P$23,'Opsamling, slagt+smågrise'!BR$2,FALSE)","v":{"$error":"#N/A"}},{"$f":"VLOOKUP($BP103,'Vejehold 5'!$A$7:$P$23,'Opsamling, slagt+smågrise'!BS$2,FALSE)","v":{"$error":"#N/A"}},{"$f":"VLOOKUP($BP103,'Vejehold 5'!$A$7:$P$23,'Opsamling, slagt+smågrise'!BT$2,FALSE)","v":{"$error":"#N/A"}},{"$f":"VLOOKUP($BP103,'Vejehold 5'!$A$7:$P$23,'Opsamling, slagt+smågrise'!BU$2,FALSE)","v":{"$error":"#N/A"}},{"$f":"VLOOKUP($BP103,'Vejehold 5'!$A$7:$P$23,'Opsamling, slagt+smågrise'!BV$2,FALSE)","v":{"$error":"#N/A"}},{"$f":"VLOOKUP($BP103,'Vejehold 5'!$A$7:$P$23,'Opsamling, slagt+smågrise'!BW$2,FALSE)","v":{"$error":"#N/A"}},null,99,{"$f":"BZ102+1","v":"1900-04-08"},{"$f":"VLOOKUP($BZ103,'Vejehold 6'!$A$7:$P$23,'Opsamling, slagt+smågrise'!CA$2,FALSE)","v":{"$error":"#N/A"}},{"$f":"VLOOKUP($BZ103,'Vejehold 6'!$A$7:$P$23,'Opsamling, slagt+smågrise'!CB$2,FALSE)","v":{"$error":"#N/A"}},{"$f":"VLOOKUP($BZ103,'Vejehold 6'!$A$7:$P$23,'Opsamling, slagt+smågrise'!CC$2,FALSE)","v":{"$error":"#N/A"}},{"$f":"VLOOKUP($BZ103,'Vejehold 6'!$A$7:$P$23,'Opsamling, slagt+smågrise'!CD$2,FALSE)","v":{"$error":"#N/A"}},{"$f":"VLOOKUP($BZ103,'Vejehold 6'!$A$7:$P$23,'Opsamling, slagt+smågrise'!CE$2,FALSE)","v":{"$error":"#N/A"}},{"$f":"VLOOKUP($BZ103,'Vejehold 6'!$A$7:$P$23,'Opsamling, slagt+smågrise'!CF$2,FALSE)","v":{"$error":"#N/A"}},{"$f":"VLOOKUP($BZ103,'Vejehold 6'!$A$7:$P$23,'Opsamling, slagt+smågrise'!CG$2,FALSE)","v":{"$error":"#N/A"}}]
[null,77,{"$f":"'Vejehold 1'!$N18","v":0},{"$f":"'Vejehold 2'!$N18","v":0},{"$f":"'Vejehold 3'!$N18","v":0},{"$f":"'Vejehold 4'!$N18","v":0},{"$f":"'Vejehold 5'!$N18","v":0},{"$f":"'Vejehold 6'!$N18","v":0},null,null,null,null,null,null,null,null,null,null,null,null,null,null,null,null,null,null,100,{"$f":"AB103+1","v":"1900-04-09"},{"$f":"VLOOKUP($AB104,'Vejehold 1'!$A$7:$P$23,'Opsamling, slagt+smågrise'!AC$2,FALSE)","v":{"$error":"#N/A"}},{"$f":"VLOOKUP($AB104,'Vejehold 1'!$A$7:$P$23,'Opsamling, slagt+smågrise'!AD$2,FALSE)","v":{"$error":"#N/A"}},{"$f":"VLOOKUP($AB104,'Vejehold 1'!$A$7:$P$23,'Opsamling, slagt+smågrise'!AE$2,FALSE)","v":{"$error":"#N/A"}},{"$f":"VLOOKUP($AB104,'Vejehold 1'!$A$7:$P$23,'Opsamling, slagt+smågrise'!AF$2,FALSE)","v":{"$error":"#N/A"}},{"$f":"VLOOKUP($AB104,'Vejehold 1'!$A$7:$P$23,'Opsamling, slagt+smågrise'!AG$2,FALSE)","v":{"$error":"#N/A"}},{"$f":"VLOOKUP($AB104,'Vejehold 1'!$A$7:$P$23,'Opsamling, slagt+smågrise'!AH$2,FALSE)","v":{"$error":"#N/A"}},{"$f":"VLOOKUP($AB104,'Vejehold 1'!$A$7:$P$23,'Opsamling, slagt+smågrise'!AI$2,FALSE)","v":{"$error":"#N/A"}},null,100,{"$f":"AL103+1","v":"1900-04-09"},{"$f":"VLOOKUP($AL104,'Vejehold 2'!$A$7:$P$23,'Opsamling, slagt+smågrise'!AM$2,FALSE)","v":{"$error":"#N/A"}},{"$f":"VLOOKUP($AL104,'Vejehold 2'!$A$7:$P$23,'Opsamling, slagt+smågrise'!AN$2,FALSE)","v":{"$error":"#N/A"}},{"$f":"VLOOKUP($AL104,'Vejehold 2'!$A$7:$P$23,'Opsamling, slagt+smågrise'!AO$2,FALSE)","v":{"$error":"#N/A"}},{"$f":"VLOOKUP($AL104,'Vejehold 2'!$A$7:$P$23,'Opsamling, slagt+smågrise'!AP$2,FALSE)","v":{"$error":"#N/A"}},{"$f":"VLOOKUP($AL104,'Vejehold 2'!$A$7:$P$23,'Opsamling, slagt+smågrise'!AQ$2,FALSE)","v":{"$error":"#N/A"}},{"$f":"VLOOKUP($AL104,'Vejehold 2'!$A$7:$P$23,'Opsamling, slagt+smågrise'!AR$2,FALSE)","v":{"$error":"#N/A"}},{"$f":"VLOOKUP($AL104,'Vejehold 2'!$A$7:$P$23,'Opsamling, slagt+smågrise'!AS$2,FALSE)","v":{"$error":"#N/A"}},null,100,{"$f":"AV103+1","v":"1900-04-09"},{"$f":"VLOOKUP($AV104,'Vejehold 3'!$A$7:$P$23,'Opsamling, slagt+smågrise'!AW$2,FALSE)","v":{"$error":"#N/A"}},{"$f":"VLOOKUP($AV104,'Vejehold 3'!$A$7:$P$23,'Opsamling, slagt+smågrise'!AX$2,FALSE)","v":{"$error":"#N/A"}},{"$f":"VLOOKUP($AV104,'Vejehold 3'!$A$7:$P$23,'Opsamling, slagt+smågrise'!AY$2,FALSE)","v":{"$error":"#N/A"}},{"$f":"VLOOKUP($AV104,'Vejehold 3'!$A$7:$P$23,'Opsamling, slagt+smågrise'!AZ$2,FALSE)","v":{"$error":"#N/A"}},{"$f":"VLOOKUP($AV104,'Vejehold 3'!$A$7:$P$23,'Opsamling, slagt+smågrise'!BA$2,FALSE)","v":{"$error":"#N/A"}},{"$f":"VLOOKUP($AV104,'Vejehold 3'!$A$7:$P$23,'Opsamling, slagt+smågrise'!BB$2,FALSE)","v":{"$error":"#N/A"}},{"$f":"VLOOKUP($AV104,'Vejehold 3'!$A$7:$P$23,'Opsamling, slagt+smågrise'!BC$2,FALSE)","v":{"$error":"#N/A"}},null,100,{"$f":"BF103+1","v":"1900-04-09"},{"$f":"VLOOKUP($BF104,'Vejehold 4'!$A$7:$P$23,'Opsamling, slagt+smågrise'!BG$2,FALSE)","v":{"$error":"#N/A"}},{"$f":"VLOOKUP($BF104,'Vejehold 4'!$A$7:$P$23,'Opsamling, slagt+smågrise'!BH$2,FALSE)","v":{"$error":"#N/A"}},{"$f":"VLOOKUP($BF104,'Vejehold 4'!$A$7:$P$23,'Opsamling, slagt+smågrise'!BI$2,FALSE)","v":{"$error":"#N/A"}},{"$f":"VLOOKUP($BF104,'Vejehold 4'!$A$7:$P$23,'Opsamling, slagt+smågrise'!BJ$2,FALSE)","v":{"$error":"#N/A"}},{"$f":"VLOOKUP($BF104,'Vejehold 4'!$A$7:$P$23,'Opsamling, slagt+smågrise'!BK$2,FALSE)","v":{"$error":"#N/A"}},{"$f":"VLOOKUP($BF104,'Vejehold 4'!$A$7:$P$23,'Opsamling, slagt+smågrise'!BL$2,FALSE)","v":{"$error":"#N/A"}},{"$f":"VLOOKUP($BF104,'Vejehold 4'!$A$7:$P$23,'Opsamling, slagt+smågrise'!BM$2,FALSE)","v":{"$error":"#N/A"}},null,100,{"$f":"BP103+1","v":"1900-04-09"},{"$f":"VLOOKUP($BP104,'Vejehold 5'!$A$7:$P$23,'Opsamling, slagt+smågrise'!BQ$2,FALSE)","v":{"$error":"#N/A"}},{"$f":"VLOOKUP($BP104,'Vejehold 5'!$A$7:$P$23,'Opsamling, slagt+smågrise'!BR$2,FALSE)","v":{"$error":"#N/A"}},{"$f":"VLOOKUP($BP104,'Vejehold 5'!$A$7:$P$23,'Opsamling, slagt+smågrise'!BS$2,FALSE)","v":{"$error":"#N/A"}},{"$f":"VLOOKUP($BP104,'Vejehold 5'!$A$7:$P$23,'Opsamling, slagt+smågrise'!BT$2,FALSE)","v":{"$error":"#N/A"}},{"$f":"VLOOKUP($BP104,'Vejehold 5'!$A$7:$P$23,'Opsamling, slagt+smågrise'!BU$2,FALSE)","v":{"$error":"#N/A"}},{"$f":"VLOOKUP($BP104,'Vejehold 5'!$A$7:$P$23,'Opsamling, slagt+smågrise'!BV$2,FALSE)","v":{"$error":"#N/A"}},{"$f":"VLOOKUP($BP104,'Vejehold 5'!$A$7:$P$23,'Opsamling, slagt+smågrise'!BW$2,FALSE)","v":{"$error":"#N/A"}},null,100,{"$f":"BZ103+1","v":"1900-04-09"},{"$f":"VLOOKUP($BZ104,'Vejehold 6'!$A$7:$P$23,'Opsamling, slagt+smågrise'!CA$2,FALSE)","v":{"$error":"#N/A"}},{"$f":"VLOOKUP($BZ104,'Vejehold 6'!$A$7:$P$23,'Opsamling, slagt+smågrise'!CB$2,FALSE)","v":{"$error":"#N/A"}},{"$f":"VLOOKUP($BZ104,'Vejehold 6'!$A$7:$P$23,'Opsamling, slagt+smågrise'!CC$2,FALSE)","v":{"$error":"#N/A"}},{"$f":"VLOOKUP($BZ104,'Vejehold 6'!$A$7:$P$23,'Opsamling, slagt+smågrise'!CD$2,FALSE)","v":{"$error":"#N/A"}},{"$f":"VLOOKUP($BZ104,'Vejehold 6'!$A$7:$P$23,'Opsamling, slagt+smågrise'!CE$2,FALSE)","v":{"$error":"#N/A"}},{"$f":"VLOOKUP($BZ104,'Vejehold 6'!$A$7:$P$23,'Opsamling, slagt+smågrise'!CF$2,FALSE)","v":{"$error":"#N/A"}},{"$f":"VLOOKUP($BZ104,'Vejehold 6'!$A$7:$P$23,'Opsamling, slagt+smågrise'!CG$2,FALSE)","v":{"$error":"#N/A"}}]
[null,84,{"$f":"'Vejehold 1'!$N19","v":0},{"$f":"'Vejehold 2'!$N19","v":0},{"$f":"'Vejehold 3'!$N19","v":0},{"$f":"'Vejehold 4'!$N19","v":0},{"$f":"'Vejehold 5'!$N19","v":0},{"$f":"'Vejehold 6'!$N19","v":0}]
[null,91,{"$f":"'Vejehold 1'!$N20","v":0},{"$f":"'Vejehold 2'!$N20","v":0},{"$f":"'Vejehold 3'!$N20","v":0},{"$f":"'Vejehold 4'!$N20","v":0},{"$f":"'Vejehold 5'!$N20","v":0},{"$f":"'Vejehold 6'!$N20","v":0}]
[null,98,{"$f":"'Vejehold 1'!$N21","v":0},{"$f":"'Vejehold 2'!$N21","v":0},{"$f":"'Vejehold 3'!$N21","v":0},{"$f":"'Vejehold 4'!$N21","v":0},{"$f":"'Vejehold 5'!$N21","v":0},{"$f":"'Vejehold 6'!$N21","v":0}]
[]
[]
[null,"FE pr. dag pr. gris til dato"]
[null,"Dag","Hold 1","Hold 2","Hold 3","Hold 4","Hold 5","Hold 6"]
[null,7,{"$f":"'Vejehold 1'!$O8","v":0},{"$f":"'Vejehold 2'!$O8","v":0},{"$f":"'Vejehold 3'!$O8","v":0},{"$f":"'Vejehold 4'!$O8","v":0},{"$f":"'Vejehold 5'!$O8","v":0},{"$f":"'Vejehold 6'!$O8","v":0}]
[null,14,{"$f":"'Vejehold 1'!$O9","v":0},{"$f":"'Vejehold 2'!$O9","v":0},{"$f":"'Vejehold 3'!$O9","v":0},{"$f":"'Vejehold 4'!$O9","v":0},{"$f":"'Vejehold 5'!$O9","v":0},{"$f":"'Vejehold 6'!$O9","v":0}]
[null,21,{"$f":"'Vejehold 1'!$O10","v":0},{"$f":"'Vejehold 2'!$O10","v":0},{"$f":"'Vejehold 3'!$O10","v":0},{"$f":"'Vejehold 4'!$O10","v":0},{"$f":"'Vejehold 5'!$O10","v":0},{"$f":"'Vejehold 6'!$O10","v":0}]
[null,28,{"$f":"'Vejehold 1'!$O11","v":0},{"$f":"'Vejehold 2'!$O11","v":0},{"$f":"'Vejehold 3'!$O11","v":0},{"$f":"'Vejehold 4'!$O11","v":0},{"$f":"'Vejehold 5'!$O11","v":0},{"$f":"'Vejehold 6'!$O11","v":0}]
[null,35,{"$f":"'Vejehold 1'!$O12","v":0},{"$f":"'Vejehold 2'!$O12","v":0},{"$f":"'Vejehold 3'!$O12","v":0},{"$f":"'Vejehold 4'!$O12","v":0},{"$f":"'Vejehold 5'!$O12","v":0},{"$f":"'Vejehold 6'!$O12","v":0}]
[null,42,{"$f":"'Vejehold 1'!$O13","v":0},{"$f":"'Vejehold 2'!$O13","v":0},{"$f":"'Vejehold 3'!$O13","v":0},{"$f":"'Vejehold 4'!$O13","v":0},{"$f":"'Vejehold 5'!$O13","v":0},{"$f":"'Vejehold 6'!$O13","v":0}]
[null,49,{"$f":"'Vejehold 1'!$O14","v":0},{"$f":"'Vejehold 2'!$O14","v":0},{"$f":"'Vejehold 3'!$O14","v":0},{"$f":"'Vejehold 4'!$O14","v":0},{"$f":"'Vejehold 5'!$O14","v":0},{"$f":"'Vejehold 6'!$O14","v":0}]
[null,56,{"$f":"'Vejehold 1'!$O15","v":0},{"$f":"'Vejehold 2'!$O15","v":0},{"$f":"'Vejehold 3'!$O15","v":0},{"$f":"'Vejehold 4'!$O15","v":0},{"$f":"'Vejehold 5'!$O15","v":0},{"$f":"'Vejehold 6'!$O15","v":0}]
[null,63,{"$f":"'Vejehold 1'!$O16","v":0},{"$f":"'Vejehold 2'!$O16","v":0},{"$f":"'Vejehold 3'!$O16","v":0},{"$f":"'Vejehold 4'!$O16","v":0},{"$f":"'Vejehold 5'!$O16","v":0},{"$f":"'Vejehold 6'!$O16","v":0}]
[null,70,{"$f":"'Vejehold 1'!$O17","v":0},{"$f":"'Vejehold 2'!$O17","v":0},{"$f":"'Vejehold 3'!$O17","v":0},{"$f":"'Vejehold 4'!$O17","v":0},{"$f":"'Vejehold 5'!$O17","v":0},{"$f":"'Vejehold 6'!$O17","v":0}]
[null,77,{"$f":"'Vejehold 1'!$O18","v":0},{"$f":"'Vejehold 2'!$O18","v":0},{"$f":"'Vejehold 3'!$O18","v":0},{"$f":"'Vejehold 4'!$O18","v":0},{"$f":"'Vejehold 5'!$O18","v":0},{"$f":"'Vejehold 6'!$O18","v":0}]
[null,84,{"$f":"'Vejehold 1'!$O19","v":0},{"$f":"'Vejehold 2'!$O19","v":0},{"$f":"'Vejehold 3'!$O19","v":0},{"$f":"'Vejehold 4'!$O19","v":0},{"$f":"'Vejehold 5'!$O19","v":0},{"$f":"'Vejehold 6'!$O19","v":0}]
[null,91,{"$f":"'Vejehold 1'!$O20","v":0},{"$f":"'Vejehold 2'!$O20","v":0},{"$f":"'Vejehold 3'!$O20","v":0},{"$f":"'Vejehold 4'!$O20","v":0},{"$f":"'Vejehold 5'!$O20","v":0},{"$f":"'Vejehold 6'!$O20","v":0}]
[null,98,{"$f":"'Vejehold 1'!$O21","v":0},{"$f":"'Vejehold 2'!$O21","v":0},{"$f":"'Vejehold 3'!$O21","v":0},{"$f":"'Vejehold 4'!$O21","v":0},{"$f":"'Vejehold 5'!$O21","v":0},{"$f":"'Vejehold 6'!$O21","v":0}]

{"sheet":"Opsamling, pattegrise","index":9,"n_rows":77,"n_cols":46,"rows_kept":77,"cut":false,"hidden":false,"merged":[]}
[]
[null,"Total (tabel først gyldig når holdet er afsluttet)"]
[null,null,"Hold 1","Hold 2","Hold 3","Hold 4","Hold 5","Hold 6",null,null,null,null,null,null,null,null,null,"Hold 1","Kolonne",null,null,null,"Hold 2","Kolonne",null,null,null,"Hold 3","Kolonne",null,null,null,"Hold 4","Kolonne",null,null,null,"Hold 5","Kolonne",null,null,null,"Hold 6","Kolonne"]
[null,"Fravænningsvægt, kg",{"$f":"IFERROR(INDEX('Vejehold 1'!$E7:$E23,COUNTIF('Vejehold 1'!$E7:$E23,\">0\")),0)","v":0},{"$f":"IFERROR(INDEX('Vejehold 2'!$E7:$E23,COUNTIF('Vejehold 2'!$E7:$E23,\">0\")),0)","v":0},{"$f":"IFERROR(INDEX('Vejehold 3'!$E7:$E23,COUNTIF('Vejehold 3'!$E7:$E23,\">0\")),0)","v":0},{"$f":"IFERROR(INDEX('Vejehold 4'!$E7:$E23,COUNTIF('Vejehold 4'!$E7:$E23,\">0\")),0)","v":0},{"$f":"IFERROR(INDEX('Vejehold 5'!$E7:$E23,COUNTIF('Vejehold 5'!$E7:$E23,\">0\")),0)","v":0},{"$f":"IFERROR(INDEX('Vejehold 6'!$E7:$E23,COUNTIF('Vejehold 6'!$E7:$E23,\">0\")),0)","v":0},null,null,null,null,null,null,null,null,null,"Dag","Hold 1","Daglig tilvækst, kuld","Daglig tilvækst gris",null,"Dag","Hold 2","Daglig tilvækst, kuld","Daglig tilvækst gris",null,"Dag","Hold 3","Daglig tilvækst, kuld","Daglig tilvækst gris",null,"Dag","Hold 4","Daglig tilvækst, kuld","Daglig tilvækst gris",null,"Dag","Hold 5","Daglig tilvækst, kuld","Daglig tilvækst gris",null,"Dag","Hold 6","Daglig tilvækst, kuld","Daglig tilvækst gris"]
[null,"Fravænningsalder, dage",{"$f":"IFERROR(MAX('Vejehold 1'!$B7:$B23),0)","v":0},{"$f":"IFERROR(MAX('Vejehold 2'!$B7:$B23),0)","v":0},{"$f":"IFERROR(MAX('Vejehold 3'!$B7:$B23),0)","v":0},{"$f":"IFERROR(MAX('Vejehold 4'!$B7:$B23),0)","v":0},{"$f":"IFERROR(MAX('Vejehold 5'!$B7:$B23),0)","v":0},{"$f":"IFERROR(MAX('Vejehold 6'!$B7:$B23),0)","v":0},null,null,null,null,null,null,null,null,null,0,{"$f":"'Vejehold 1'!$A$7","v":"00:00:00"},{"$f":"VLOOKUP(S5,'Vejehold 1'!$A$7:$P$23,3,FALSE)*VLOOKUP(S5,'Vejehold 1'!$A$7:$P$23,6,FALSE)/1000","v":{"$error":"#N/A"}},{"$f":"VLOOKUP(S5,'Vejehold 1'!$A$7:$P$23,6,FALSE)","v":{"$error":"#N/A"}},null,0,{"$f":"'Vejehold 2'!$A$7","v":"00:00:00"},{"$f":"VLOOKUP(X5,'Vejehold 2'!$A$7:$P$23,3,FALSE)*VLOOKUP(X5,'Vejehold 2'!$A$7:$P$23,6,FALSE)/1000","v":{"$error":"#N/A"}},{"$f":"VLOOKUP(X5,'Vejehold 2'!$A$7:$P$23,6,FALSE)","v":{"$error":"#N/A"}},null,0,{"$f":"'Vejehold 3'!$A$7","v":"00:00:00"},{"$f":"VLOOKUP(AC5,'Vejehold 3'!$A$7:$P$23,3,FALSE)*VLOOKUP(AC5,'Vejehold 3'!$A$7:$P$23,6,FALSE)/1000","v":{"$error":"#N/A"}},{"$f":"VLOOKUP(AC5,'Vejehold 3'!$A$7:$P$23,6,FALSE)","v":{"$error":"#N/A"}},null,0,{"$f":"'Vejehold 4'!$A$7","v":"00:00:00"},{"$f":"VLOOKUP(AH5,'Vejehold 4'!$A$7:$P$23,3,FALSE)*VLOOKUP(AH5,'Vejehold 4'!$A$7:$P$23,6,FALSE)/1000","v":{"$error":"#N/A"}},{"$f":"VLOOKUP(AH5,'Vejehold 4'!$A$7:$P$23,6,FALSE)","v":{"$error":"#N/A"}},null,0,{"$f":"'Vejehold 5'!$A$7","v":"00:00:00"},{"$f":"VLOOKUP(AM5,'Vejehold 5'!$A$7:$P$23,3,FALSE)*VLOOKUP(AM5,'Vejehold 5'!$A$7:$P$23,6,FALSE)/1000","v":{"$error":"#N/A"}},{"$f":"VLOOKUP(AM5,'Vejehold 5'!$A$7:$P$23,6,FALSE)","v":{"$error":"#N/A"}},null,0,{"$f":"'Vejehold 6'!$A$7","v":"00:00:00"},{"$f":"VLOOKUP(AR5,'Vejehold 6'!$A$7:$P$23,3,FALSE)*VLOOKUP(AR5,'Vejehold 6'!$A$7:$P$23,6,FALSE)/1000","v":{"$error":"#N/A"}},{"$f":"VLOOKUP(AR5,'Vejehold 6'!$A$7:$P$23,6,FALSE)","v":{"$error":"#N/A"}}]
[null,"Kuld tilvækst, kg",{"$f":"IFERROR(INDEX('Vejehold 1'!$G8:$G23,COUNTIF('Vejehold 1'!$G8:$G23,\">0\"))*INDEX('Vejehold 1'!$C7:$C23,COUNTIF('Vejehold 1'!$G8:$G23,\">0\"))/1000,0)","v":0},{"$f":"IFERROR(INDEX('Vejehold 2'!$G8:$G23,COUNTIF('Vejehold 2'!$G8:$G23,\">0\"))*INDEX('Vejehold 2'!$C7:$C23,COUNTIF('Vejehold 2'!$G8:$G23,\">0\"))/1000,0)","v":0},{"$f":"IFERROR(INDEX('Vejehold 3'!$G8:$G23,COUNTIF('Vejehold 3'!$G8:$G23,\">0\"))*INDEX('Vejehold 3'!$C7:$C23,COUNTIF('Vejehold 3'!$G8:$G23,\">0\"))/1000,0)","v":0},{"$f":"IFERROR(INDEX('Vejehold 4'!$G8:$G23,COUNTIF('Vejehold 4'!$G8:$G23,\">0\"))*INDEX('Vejehold 4'!$C7:$C23,COUNTIF('Vejehold 4'!$G8:$G23,\">0\"))/1000,0)","v":0},{"$f":"IFERROR(INDEX('Vejehold 5'!$G8:$G23,COUNTIF('Vejehold 5'!$G8:$G23,\">0\"))*INDEX('Vejehold 5'!$C7:$C23,COUNTIF('Vejehold 5'!$G8:$G23,\">0\"))/1000,0)","v":0},{"$f":"IFERROR(INDEX('Vejehold 6'!$G8:$G23,COUNTIF('Vejehold 6'!$G8:$G23,\">0\"))*INDEX('Vejehold 6'!$C7:$C23,COUNTIF('Vejehold 6'!$G8:$G23,\">0\"))/1000,0)","v":0},null,null,null,null,null,null,null,null,null,1,{"$f":"S5+1","v":"1900-01-01"},{"$f":"VLOOKUP(S6,'Vejehold 1'!$A$7:$P$23,3,FALSE)*VLOOKUP(S6,'Vejehold 1'!$A$7:$P$23,6,FALSE)/1000","v":{"$error":"#N/A"}},{"$f":"VLOOKUP(S6,'Vejehold 1'!$A$7:$P$23,6,FALSE)","v":{"$error":"#N/A"}},null,1,{"$f":"X5+1","v":"1900-01-01"},{"$f":"VLOOKUP(X6,'Vejehold 2'!$A$7:$P$23,3,FALSE)*VLOOKUP(X6,'Vejehold 2'!$A$7:$P$23,6,FALSE)/1000","v":{"$error":"#N/A"}},{"$f":"VLOOKUP(X6,'Vejehold 2'!$A$7:$P$23,6,FALSE)","v":{"$error":"#N/A"}},null,1,{"$f":"AC5+1","v":"1900-01-01"},{"$f":"VLOOKUP(AC6,'Vejehold 3'!$A$7:$P$23,3,FALSE)*VLOOKUP(AC6,'Vejehold 3'!$A$7:$P$23,6,FALSE)/1000","v":{"$error":"#N/A"}},{"$f":"VLOOKUP(AC6,'Vejehold 3'!$A$7:$P$23,6,FALSE)","v":{"$error":"#N/A"}},null,1,{"$f":"AH5+1","v":"1900-01-01"},{"$f":"VLOOKUP(AH6,'Vejehold 4'!$A$7:$P$23,3,FALSE)*VLOOKUP(AH6,'Vejehold 4'!$A$7:$P$23,6,FALSE)/1000","v":{"$error":"#N/A"}},{"$f":"VLOOKUP(AH6,'Vejehold 4'!$A$7:$P$23,6,FALSE)","v":{"$error":"#N/A"}},null,1,{"$f":"AM5+1","v":"1900-01-01"},{"$f":"VLOOKUP(AM6,'Vejehold 5'!$A$7:$P$23,3,FALSE)*VLOOKUP(AM6,'Vejehold 5'!$A$7:$P$23,6,FALSE)/1000","v":{"$error":"#N/A"}},{"$f":"VLOOKUP(AM6,'Vejehold 5'!$A$7:$P$23,6,FALSE)","v":{"$error":"#N/A"}},null,1,{"$f":"AR5+1","v":"1900-01-01"},{"$f":"VLOOKUP(AR6,'Vejehold 6'!$A$7:$P$23,3,FALSE)*VLOOKUP(AR6,'Vejehold 6'!$A$7:$P$23,6,FALSE)/1000","v":{"$error":"#N/A"}},{"$f":"VLOOKUP(AR6,'Vejehold 6'!$A$7:$P$23,6,FALSE)","v":{"$error":"#N/A"}}]
[null,"Grise tilvækst, gram",{"$f":"IFERROR(INDEX('Vejehold 1'!$G8:$G23,COUNTIF('Vejehold 1'!$G8:$G23,\">0\")),0)","v":0},{"$f":"IFERROR(INDEX('Vejehold 2'!$G8:$G23,COUNTIF('Vejehold 2'!$G8:$G23,\">0\")),0)","v":0},{"$f":"IFERROR(INDEX('Vejehold 3'!$G8:$G23,COUNTIF('Vejehold 3'!$G8:$G23,\">0\")),0)","v":0},{"$f":"IFERROR(INDEX('Vejehold 4'!$G8:$G23,COUNTIF('Vejehold 4'!$G8:$G23,\">0\")),0)","v":0},{"$f":"IFERROR(INDEX('Vejehold 5'!$G8:$G23,COUNTIF('Vejehold 5'!$G8:$G23,\">0\")),0)","v":0},{"$f":"IFERROR(INDEX('Vejehold 6'!$G8:$G23,COUNTIF('Vejehold 6'!$G8:$G23,\">0\")),0)","v":0},null,null,null,null,null,null,null,null,null,2,{"$f":"S6+1","v":"1900-01-02"},{"$f":"VLOOKUP(S7,'Vejehold 1'!$A$7:$P$23,3,FALSE)*VLOOKUP(S7,'Vejehold 1'!$A$7:$P$23,6,FALSE)/1000","v":{"$error":"#N/A"}},{"$f":"VLOOKUP(S7,'Vejehold 1'!$A$7:$P$23,6,FALSE)","v":{"$error":"#N/A"}},null,2,{"$f":"X6+1","v":"1900-01-02"},{"$f":"VLOOKUP(X7,'Vejehold 2'!$A$7:$P$23,3,FALSE)*VLOOKUP(X7,'Vejehold 2'!$A$7:$P$23,6,FALSE)/1000","v":{"$error":"#N/A"}},{"$f":"VLOOKUP(X7,'Vejehold 2'!$A$7:$P$23,6,FALSE)","v":{"$error":"#N/A"}},null,2,{"$f":"AC6+1","v":"1900-01-02"},{"$f":"VLOOKUP(AC7,'Vejehold 3'!$A$7:$P$23,3,FALSE)*VLOOKUP(AC7,'Vejehold 3'!$A$7:$P$23,6,FALSE)/1000","v":{"$error":"#N/A"}},{"$f":"VLOOKUP(AC7,'Vejehold 3'!$A$7:$P$23,6,FALSE)","v":{"$error":"#N/A"}},null,2,{"$f":"AH6+1","v":"1900-01-02"},{"$f":"VLOOKUP(AH7,'Vejehold 4'!$A$7:$P$23,3,FALSE)*VLOOKUP(AH7,'Vejehold 4'!$A$7:$P$23,6,FALSE)/1000","v":{"$error":"#N/A"}},{"$f":"VLOOKUP(AH7,'Vejehold 4'!$A$7:$P$23,6,FALSE)","v":{"$error":"#N/A"}},null,2,{"$f":"AM6+1","v":"1900-01-02"},{"$f":"VLOOKUP(AM7,'Vejehold 5'!$A$7:$P$23,3,FALSE)*VLOOKUP(AM7,'Vejehold 5'!$A$7:$P$23,6,FALSE)/1000","v":{"$error":"#N/A"}},{"$f":"VLOOKUP(AM7,'Vejehold 5'!$A$7:$P$23,6,FALSE)","v":{"$error":"#N/A"}},null,2,{"$f":"AR6+1","v":"1900-01-02"},{"$f":"VLOOKUP(AR7,'Vejehold 6'!$A$7:$P$23,3,FALSE)*VLOOKUP(AR7,'Vejehold 6'!$A$7:$P$23,6,FALSE)/1000","v":{"$error":"#N/A"}},{"$f":"VLOOKUP(AR7,'Vejehold 6'!$A$7:$P$23,6,FALSE)","v":{"$error":"#N/A"}}]
[null,null,null,null,null,null,null,null,null,null,null,null,null,null,null,null,null,3,"1900-01-03",{"$f":"VLOOKUP(S8,'Vejehold 1'!$A$7:$P$23,3,FALSE)*VLOOKUP(S8,'Vejehold 1'!$A$7:$P$23,6,FALSE)/1000","v":{"$error":"#N/A"}},{"$f":"VLOOKUP(S8,'Vejehold 1'!$A$7:$P$23,6,FALSE)","v":{"$error":"#N/A"}},null,3,"1900-01-03",{"$f":"VLOOKUP(X8,'Vejehold 2'!$A$7:$P$23,3,FALSE)*VLOOKUP(X8,'Vejehold 2'!$A$7:$P$23,6,FALSE)/1000","v":{"$error":"#N/A"}},{"$f":"VLOOKUP(X8,'Vejehold 2'!$A$7:$P$23,6,FALSE)","v":{"$error":"#N/A"}},null,3,"1900-01-03",{"$f":"VLOOKUP(AC8,'Vejehold 3'!$A$7:$P$23,3,FALSE)*VLOOKUP(AC8,'Vejehold 3'!$A$7:$P$23,6,FALSE)/1000","v":{"$error":"#N/A"}},{"$f":"VLOOKUP(AC8,'Vejehold 3'!$A$7:$P$23,6,FALSE)","v":{"$error":"#N/A"}},null,3,"1900-01-03",{"$f":"VLOOKUP(AH8,'Vejehold 4'!$A$7:$P$23,3,FALSE)*VLOOKUP(AH8,'Vejehold 4'!$A$7:$P$23,6,FALSE)/1000","v":{"$error":"#N/A"}},{"$f":"VLOOKUP(AH8,'Vejehold 4'!$A$7:$P$23,6,FALSE)","v":{"$error":"#N/A"}},null,3,"1900-01-03",{"$f":"VLOOKUP(AM8,'Vejehold 5'!$A$7:$P$23,3,FALSE)*VLOOKUP(AM8,'Vejehold 5'!$A$7:$P$23,6,FALSE)/1000","v":{"$error":"#N/A"}},{"$f":"VLOOKUP(AM8,'Vejehold 5'!$A$7:$P$23,6,FALSE)","v":{"$error":"#N/A"}},null,3,"1900-01-03",{"$f":"VLOOKUP(AR8,'Vejehold 6'!$A$7:$P$23,3,FALSE)*VLOOKUP(AR8,'Vejehold 6'!$A$7:$P$23,6,FALSE)/1000","v":{"$error":"#N/A"}},{"$f":"VLOOKUP(AR8,'Vejehold 6'!$A$7:$P$23,6,FALSE)","v":{"$error":"#N/A"}}]
[null,null,null,null,null,null,null,null,null,null,null,null,null,null,null,null,null,4,"1900-01-04",{"$f":"VLOOKUP(S9,'Vejehold 1'!$A$7:$P$23,3,FALSE)*VLOOKUP(S9,'Vejehold 1'!$A$7:$P$23,6,FALSE)/1000","v":{"$error":"#N/A"}},{"$f":"VLOOKUP(S9,'Vejehold 1'!$A$7:$P$23,6,FALSE)","v":{"$error":"#N/A"}},null,4,"1900-01-04",{"$f":"VLOOKUP(X9,'Vejehold 2'!$A$7:$P$23,3,FALSE)*VLOOKUP(X9,'Vejehold 2'!$A$7:$P$23,6,FALSE)/1000","v":{"$error":"#N/A"}},{"$f":"VLOOKUP(X9,'Vejehold 2'!$A$7:$P$23,6,FALSE)","v":{"$error":"#N/A"}},null,4,"1900-01-04",{"$f":"VLOOKUP(AC9,'Vejehold 3'!$A$7:$P$23,3,FALSE)*VLOOKUP(AC9,'Vejehold 3'!$A$7:$P$23,6,FALSE)/1000","v":{"$error":"#N/A"}},{"$f":"VLOOKUP(AC9,'Vejehold 3'!$A$7:$P$23,6,FALSE)","v":{"$error":"#N/A"}},null,4,"1900-01-04",{"$f":"VLOOKUP(AH9,'Vejehold 4'!$A$7:$P$23,3,FALSE)*VLOOKUP(AH9,'Vejehold 4'!$A$7:$P$23,6,FALSE)/1000","v":{"$error":"#N/A"}},{"$f":"VLOOKUP(AH9,'Vejehold 4'!$A$7:$P$23,6,FALSE)","v":{"$error":"#N/A"}},null,4,"1900-01-04",{"$f":"VLOOKUP(AM9,'Vejehold 5'!$A$7:$P$23,3,FALSE)*VLOOKUP(AM9,'Vejehold 5'!$A$7:$P$23,6,FALSE)/1000","v":{"$error":"#N/A"}},{"$f":"VLOOKUP(AM9,'Vejehold 5'!$A$7:$P$23,6,FALSE)","v":{"$error":"#N/A"}},null,4,"1900-01-04",{"$f":"VLOOKUP(AR9,'Vejehold 6'!$A$7:$P$23,3,FALSE)*VLOOKUP(AR9,'Vejehold 6'!$A$7:$P$23,6,FALSE)/1000","v":{"$error":"#N/A"}},{"$f":"VLOOKUP(AR9,'Vejehold 6'!$A$7:$P$23,6,FALSE)","v":{"$error":"#N/A"}}]
[null,null,null,null,null,null,null,null,null,null,null,null,null,null,null,null,null,5,"1900-01-05",{"$f":"VLOOKUP(S10,'Vejehold 1'!$A$7:$P$23,3,FALSE)*VLOOKUP(S10,'Vejehold 1'!$A$7:$P$23,6,FALSE)/1000","v":{"$error":"#N/A"}},{"$f":"VLOOKUP(S10,'Vejehold 1'!$A$7:$P$23,6,FALSE)","v":{"$error":"#N/A"}},null,5,"1900-01-05",{"$f":"VLOOKUP(X10,'Vejehold 2'!$A$7:$P$23,3,FALSE)*VLOOKUP(X10,'Vejehold 2'!$A$7:$P$23,6,FALSE)/1000","v":{"$error":"#N/A"}},{"$f":"VLOOKUP(X10,'Vejehold 2'!$A$7:$P$23,6,FALSE)","v":{"$error":"#N/A"}},null,5,"1900-01-05",{"$f":"VLOOKUP(AC10,'Vejehold 3'!$A$7:$P$23,3,FALSE)*VLOOKUP(AC10,'Vejehold 3'!$A$7:$P$23,6,FALSE)/1000","v":{"$error":"#N/A"}},{"$f":"VLOOKUP(AC10,'Vejehold 3'!$A$7:$P$23,6,FALSE)","v":{"$error":"#N/A"}},null,5,"1900-01-05",{"$f":"VLOOKUP(AH10,'Vejehold 4'!$A$7:$P$23,3,FALSE)*VLOOKUP(AH10,'Vejehold 4'!$A$7:$P$23,6,FALSE)/1000","v":{"$error":"#N/A"}},{"$f":"VLOOKUP(AH10,'Vejehold 4'!$A$7:$P$23,6,FALSE)","v":{"$error":"#N/A"}},null,5,"1900-01-05",{"$f":"VLOOKUP(AM10,'Vejehold 5'!$A$7:$P$23,3,FALSE)*VLOOKUP(AM10,'Vejehold 5'!$A$7:$P$23,6,FALSE)/1000","v":{"$error":"#N/A"}},{"$f":"VLOOKUP(AM10,'Vejehold 5'!$A$7:$P$23,6,FALSE)","v":{"$error":"#N/A"}},null,5,"1900-01-05",{"$f":"VLOOKUP(AR10,'Vejehold 6'!$A$7:$P$23,3,FALSE)*VLOOKUP(AR10,'Vejehold 6'!$A$7:$P$23,6,FALSE)/1000","v":{"$error":"#N/A"}},{"$f":"VLOOKUP(AR10,'Vejehold 6'!$A$7:$P$23,6,FALSE)","v":{"$error":"#N/A"}}]
[null,null,null,null,null,null,null,null,null,null,null,null,null,null,null,null,null,6,"1900-01-06",{"$f":"VLOOKUP(S11,'Vejehold 1'!$A$7:$P$23,3,FALSE)*VLOOKUP(S11,'Vejehold 1'!$A$7:$P$23,6,FALSE)/1000","v":{"$error":"#N/A"}},{"$f":"VLOOKUP(S11,'Vejehold 1'!$A$7:$P$23,6,FALSE)","v":{"$error":"#N/A"}},null,6,"1900-01-06",{"$f":"VLOOKUP(X11,'Vejehold 2'!$A$7:$P$23,3,FALSE)*VLOOKUP(X11,'Vejehold 2'!$A$7:$P$23,6,FALSE)/1000","v":{"$error":"#N/A"}},{"$f":"VLOOKUP(X11,'Vejehold 2'!$A$7:$P$23,6,FALSE)","v":{"$error":"#N/A"}},null,6,"1900-01-06",{"$f":"VLOOKUP(AC11,'Vejehold 3'!$A$7:$P$23,3,FALSE)*VLOOKUP(AC11,'Vejehold 3'!$A$7:$P$23,6,FALSE)/1000","v":{"$error":"#N/A"}},{"$f":"VLOOKUP(AC11,'Vejehold 3'!$A$7:$P$23,6,FALSE)","v":{"$error":"#N/A"}},null,6,"1900-01-06",{"$f":"VLOOKUP(AH11,'Vejehold 4'!$A$7:$P$23,3,FALSE)*VLOOKUP(AH11,'Vejehold 4'!$A$7:$P$23,6,FALSE)/1000","v":{"$error":"#N/A"}},{"$f":"VLOOKUP(AH11,'Vejehold 4'!$A$7:$P$23,6,FALSE)","v":{"$error":"#N/A"}},null,6,"1900-01-06",{"$f":"VLOOKUP(AM11,'Vejehold 5'!$A$7:$P$23,3,FALSE)*VLOOKUP(AM11,'Vejehold 5'!$A$7:$P$23,6,FALSE)/1000","v":{"$error":"#N/A"}},{"$f":"VLOOKUP(AM11,'Vejehold 5'!$A$7:$P$23,6,FALSE)","v":{"$error":"#N/A"}},null,6,"1900-01-06",{"$f":"VLOOKUP(AR11,'Vejehold 6'!$A$7:$P$23,3,FALSE)*VLOOKUP(AR11,'Vejehold 6'!$A$7:$P$23,6,FALSE)/1000","v":{"$error":"#N/A"}},{"$f":"VLOOKUP(AR11,'Vejehold 6'!$A$7:$P$23,6,FALSE)","v":{"$error":"#N/A"}}]
[null,null,null,null,null,null,null,null,null,null,null,null,null,null,null,null,null,7,"1900-01-07",{"$f":"VLOOKUP(S12,'Vejehold 1'!$A$7:$P$23,3,FALSE)*VLOOKUP(S12,'Vejehold 1'!$A$7:$P$23,6,FALSE)/1000","v":{"$error":"#N/A"}},{"$f":"VLOOKUP(S12,'Vejehold 1'!$A$7:$P$23,6,FALSE)","v":{"$error":"#N/A"}},null,7,"1900-01-07",{"$f":"VLOOKUP(X12,'Vejehold 2'!$A$7:$P$23,3,FALSE)*VLOOKUP(X12,'Vejehold 2'!$A$7:$P$23,6,FALSE)/1000","v":{"$error":"#N/A"}},{"$f":"VLOOKUP(X12,'Vejehold 2'!$A$7:$P$23,6,FALSE)","v":{"$error":"#N/A"}},null,7,"1900-01-07",{"$f":"VLOOKUP(AC12,'Vejehold 3'!$A$7:$P$23,3,FALSE)*VLOOKUP(AC12,'Vejehold 3'!$A$7:$P$23,6,FALSE)/1000","v":{"$error":"#N/A"}},{"$f":"VLOOKUP(AC12,'Vejehold 3'!$A$7:$P$23,6,FALSE)","v":{"$error":"#N/A"}},null,7,"1900-01-07",{"$f":"VLOOKUP(AH12,'Vejehold 4'!$A$7:$P$23,3,FALSE)*VLOOKUP(AH12,'Vejehold 4'!$A$7:$P$23,6,FALSE)/1000","v":{"$error":"#N/A"}},{"$f":"VLOOKUP(AH12,'Vejehold 4'!$A$7:$P$23,6,FALSE)","v":{"$error":"#N/A"}},null,7,"1900-01-07",{"$f":"VLOOKUP(AM12,'Vejehold 5'!$A$7:$P$23,3,FALSE)*VLOOKUP(AM12,'Vejehold 5'!$A$7:$P$23,6,FALSE)/1000","v":{"$error":"#N/A"}},{"$f":"VLOOKUP(AM12,'Vejehold 5'!$A$7:$P$23,6,FALSE)","v":{"$error":"#N/A"}},null,7,"1900-01-07",{"$f":"VLOOKUP(AR12,'Vejehold 6'!$A$7:$P$23,3,FALSE)*VLOOKUP(AR12,'Vejehold 6'!$A$7:$P$23,6,FALSE)/1000","v":{"$error":"#N/A"}},{"$f":"VLOOKUP(AR12,'Vejehold 6'!$A$7:$P$23,6,FALSE)","v":{"$error":"#N/A"}}]
[null,null,null,null,null,null,null,null,null,null,null,null,null,null,null,null,null,8,"1900-01-08",{"$f":"VLOOKUP(S13,'Vejehold 1'!$A$7:$P$23,3,FALSE)*VLOOKUP(S13,'Vejehold 1'!$A$7:$P$23,6,FALSE)/1000","v":{"$error":"#N/A"}},{"$f":"VLOOKUP(S13,'Vejehold 1'!$A$7:$P$23,6,FALSE)","v":{"$error":"#N/A"}},null,8,"1900-01-08",{"$f":"VLOOKUP(X13,'Vejehold 2'!$A$7:$P$23,3,FALSE)*VLOOKUP(X13,'Vejehold 2'!$A$7:$P$23,6,FALSE)/1000","v":{"$error":"#N/A"}},{"$f":"VLOOKUP(X13,'Vejehold 2'!$A$7:$P$23,6,FALSE)","v":{"$error":"#N/A"}},null,8,"1900-01-08",{"$f":"VLOOKUP(AC13,'Vejehold 3'!$A$7:$P$23,3,FALSE)*VLOOKUP(AC13,'Vejehold 3'!$A$7:$P$23,6,FALSE)/1000","v":{"$error":"#N/A"}},{"$f":"VLOOKUP(AC13,'Vejehold 3'!$A$7:$P$23,6,FALSE)","v":{"$error":"#N/A"}},null,8,"1900-01-08",{"$f":"VLOOKUP(AH13,'Vejehold 4'!$A$7:$P$23,3,FALSE)*VLOOKUP(AH13,'Vejehold 4'!$A$7:$P$23,6,FALSE)/1000","v":{"$error":"#N/A"}},{"$f":"VLOOKUP(AH13,'Vejehold 4'!$A$7:$P$23,6,FALSE)","v":{"$error":"#N/A"}},null,8,"1900-01-08",{"$f":"VLOOKUP(AM13,'Vejehold 5'!$A$7:$P$23,3,FALSE)*VLOOKUP(AM13,'Vejehold 5'!$A$7:$P$23,6,FALSE)/1000","v":{"$error":"#N/A"}},{"$f":"VLOOKUP(AM13,'Vejehold 5'!$A$7:$P$23,6,FALSE)","v":{"$error":"#N/A"}},null,8,"1900-01-08",{"$f":"VLOOKUP(AR13,'Vejehold 6'!$A$7:$P$23,3,FALSE)*VLOOKUP(AR13,'Vejehold 6'!$A$7:$P$23,6,FALSE)/1000","v":{"$error":"#N/A"}},{"$f":"VLOOKUP(AR13,'Vejehold 6'!$A$7:$P$23,6,FALSE)","v":{"$error":"#N/A"}}]
[null,null,null,null,null,null,null,null,null,null,null,null,null,null,null,null,null,9,"1900-01-09",{"$f":"VLOOKUP(S14,'Vejehold 1'!$A$7:$P$23,3,FALSE)*VLOOKUP(S14,'Vejehold 1'!$A$7:$P$23,6,FALSE)/1000","v":{"$error":"#N/A"}},{"$f":"VLOOKUP(S14,'Vejehold 1'!$A$7:$P$23,6,FALSE)","v":{"$error":"#N/A"}},null,9,"1900-01-09",{"$f":"VLOOKUP(X14,'Vejehold 2'!$A$7:$P$23,3,FALSE)*VLOOKUP(X14,'Vejehold 2'!$A$7:$P$23,6,FALSE)/1000","v":{"$error":"#N/A"}},{"$f":"VLOOKUP(X14,'Vejehold 2'!$A$7:$P$23,6,FALSE)","v":{"$error":"#N/A"}},null,9,"1900-01-09",{"$f":"VLOOKUP(AC14,'Vejehold 3'!$A$7:$P$23,3,FALSE)*VLOOKUP(AC14,'Vejehold 3'!$A$7:$P$23,6,FALSE)/1000","v":{"$error":"#N/A"}},{"$f":"VLOOKUP(AC14,'Vejehold 3'!$A$7:$P$23,6,FALSE)","v":{"$error":"#N/A"}},null,9,"1900-01-09",{"$f":"VLOOKUP(AH14,'Vejehold 4'!$A$7:$P$23,3,FALSE)*VLOOKUP(AH14,'Vejehold 4'!$A$7:$P$23,6,FALSE)/1000","v":{"$error":"#N/A"}},{"$f":"VLOOKUP(AH14,'Vejehold 4'!$A$7:$P$23,6,FALSE)","v":{"$error":"#N/A"}},null,9,"1900-01-09",{"$f":"VLOOKUP(AM14,'Vejehold 5'!$A$7:$P$23,3,FALSE)*VLOOKUP(AM14,'Vejehold 5'!$A$7:$P$23,6,FALSE)/1000","v":{"$error":"#N/A"}},{"$f":"VLOOKUP(AM14,'Vejehold 5'!$A$7:$P$23,6,FALSE)","v":{"$error":"#N/A"}},null,9,"1900-01-09",{"$f":"VLOOKUP(AR14,'Vejehold 6'!$A$7:$P$23,3,FALSE)*VLOOKUP(AR14,'Vejehold 6'!$A$7:$P$23,6,FALSE)/1000","v":{"$error":"#N/A"}},{"$f":"VLOOKUP(AR14,'Vejehold 6'!$A$7:$P$23,6,FALSE)","v":{"$error":"#N/A"}}]
[null,null,null,null,null,null,null,null,null,null,null,null,null,null,null,null,null,10,"1900-01-10",{"$f":"VLOOKUP(S15,'Vejehold 1'!$A$7:$P$23,3,FALSE)*VLOOKUP(S15,'Vejehold 1'!$A$7:$P$23,6,FALSE)/1000","v":{"$error":"#N/A"}},{"$f":"VLOOKUP(S15,'Vejehold 1'!$A$7:$P$23,6,FALSE)","v":{"$error":"#N/A"}},null,10,"1900-01-10",{"$f":"VLOOKUP(X15,'Vejehold 2'!$A$7:$P$23,3,FALSE)*VLOOKUP(X15,'Vejehold 2'!$A$7:$P$23,6,FALSE)/1000","v":{"$error":"#N/A"}},{"$f":"VLOOKUP(X15,'Vejehold 2'!$A$7:$P$23,6,FALSE)","v":{"$error":"#N/A"}},null,10,"1900-01-10",{"$f":"VLOOKUP(AC15,'Vejehold 3'!$A$7:$P$23,3,FALSE)*VLOOKUP(AC15,'Vejehold 3'!$A$7:$P$23,6,FALSE)/1000","v":{"$error":"#N/A"}},{"$f":"VLOOKUP(AC15,'Vejehold 3'!$A$7:$P$23,6,FALSE)","v":{"$error":"#N/A"}},null,10,"1900-01-10",{"$f":"VLOOKUP(AH15,'Vejehold 4'!$A$7:$P$23,3,FALSE)*VLOOKUP(AH15,'Vejehold 4'!$A$7:$P$23,6,FALSE)/1000","v":{"$error":"#N/A"}},{"$f":"VLOOKUP(AH15,'Vejehold 4'!$A$7:$P$23,6,FALSE)","v":{"$error":"#N/A"}},null,10,"1900-01-10",{"$f":"VLOOKUP(AM15,'Vejehold 5'!$A$7:$P$23,3,FALSE)*VLOOKUP(AM15,'Vejehold 5'!$A$7:$P$23,6,FALSE)/1000","v":{"$error":"#N/A"}},{"$f":"VLOOKUP(AM15,'Vejehold 5'!$A$7:$P$23,6,FALSE)","v":{"$error":"#N/A"}},null,10,"1900-01-10",{"$f":"VLOOKUP(AR15,'Vejehold 6'!$A$7:$P$23,3,FALSE)*VLOOKUP(AR15,'Vejehold 6'!$A$7:$P$23,6,FALSE)/1000","v":{"$error":"#N/A"}},{"$f":"VLOOKUP(AR15,'Vejehold 6'!$A$7:$P$23,6,FALSE)","v":{"$error":"#N/A"}}]
[null,null,null,null,null,null,null,null,null,null,null,null,null,null,null,null,null,11,"1900-01-11",{"$f":"VLOOKUP(S16,'Vejehold 1'!$A$7:$P$23,3,FALSE)*VLOOKUP(S16,'Vejehold 1'!$A$7:$P$23,6,FALSE)/1000","v":{"$error":"#N/A"}},{"$f":"VLOOKUP(S16,'Vejehold 1'!$A$7:$P$23,6,FALSE)","v":{"$error":"#N/A"}},null,11,"1900-01-11",{"$f":"VLOOKUP(X16,'Vejehold 2'!$A$7:$P$23,3,FALSE)*VLOOKUP(X16,'Vejehold 2'!$A$7:$P$23,6,FALSE)/1000","v":{"$error":"#N/A"}},{"$f":"VLOOKUP(X16,'Vejehold 2'!$A$7:$P$23,6,FALSE)","v":{"$error":"#N/A"}},null,11,"1900-01-11",{"$f":"VLOOKUP(AC16,'Vejehold 3'!$A$7:$P$23,3,FALSE)*VLOOKUP(AC16,'Vejehold 3'!$A$7:$P$23,6,FALSE)/1000","v":{"$error":"#N/A"}},{"$f":"VLOOKUP(AC16,'Vejehold 3'!$A$7:$P$23,6,FALSE)","v":{"$error":"#N/A"}},null,11,"1900-01-11",{"$f":"VLOOKUP(AH16,'Vejehold 4'!$A$7:$P$23,3,FALSE)*VLOOKUP(AH16,'Vejehold 4'!$A$7:$P$23,6,FALSE)/1000","v":{"$error":"#N/A"}},{"$f":"VLOOKUP(AH16,'Vejehold 4'!$A$7:$P$23,6,FALSE)","v":{"$error":"#N/A"}},null,11,"1900-01-11",{"$f":"VLOOKUP(AM16,'Vejehold 5'!$A$7:$P$23,3,FALSE)*VLOOKUP(AM16,'Vejehold 5'!$A$7:$P$23,6,FALSE)/1000","v":{"$error":"#N/A"}},{"$f":"VLOOKUP(AM16,'Vejehold 5'!$A$7:$P$23,6,FALSE)","v":{"$error":"#N/A"}},null,11,"1900-01-11",{"$f":"VLOOKUP(AR16,'Vejehold 6'!$A$7:$P$23,3,FALSE)*VLOOKUP(AR16,'Vejehold 6'!$A$7:$P$23,6,FALSE)/1000","v":{"$error":"#N/A"}},{"$f":"VLOOKUP(AR16,'Vejehold 6'!$A$7:$P$23,6,FALSE)","v":{"$error":"#N/A"}}]
[null,null,null,null,null,null,null,null,null,null,null,null,null,null,null,null,null,12,"1900-01-12",{"$f":"VLOOKUP(S17,'Vejehold 1'!$A$7:$P$23,3,FALSE)*VLOOKUP(S17,'Vejehold 1'!$A$7:$P$23,6,FALSE)/1000","v":{"$error":"#N/A"}},{"$f":"VLOOKUP(S17,'Vejehold 1'!$A$7:$P$23,6,FALSE)","v":{"$error":"#N/A"}},null,12,"1900-01-12",{"$f":"VLOOKUP(X17,'Vejehold 2'!$A$7:$P$23,3,FALSE)*VLOOKUP(X17,'Vejehold 2'!$A$7:$P$23,6,FALSE)/1000","v":{"$error":"#N/A"}},{"$f":"VLOOKUP(X17,'Vejehold 2'!$A$7:$P$23,6,FALSE)","v":{"$error":"#N/A"}},null,12,"1900-01-12",{"$f":"VLOOKUP(AC17,'Vejehold 3'!$A$7:$P$23,3,FALSE)*VLOOKUP(AC17,'Vejehold 3'!$A$7:$P$23,6,FALSE)/1000","v":{"$error":"#N/A"}},{"$f":"VLOOKUP(AC17,'Vejehold 3'!$A$7:$P$23,6,FALSE)","v":{"$error":"#N/A"}},null,12,"1900-01-12",{"$f":"VLOOKUP(AH17,'Vejehold 4'!$A$7:$P$23,3,FALSE)*VLOOKUP(AH17,'Vejehold 4'!$A$7:$P$23,6,FALSE)/1000","v":{"$error":"#N/A"}},{"$f":"VLOOKUP(AH17,'Vejehold 4'!$A$7:$P$23,6,FALSE)","v":{"$error":"#N/A"}},null,12,"1900-01-12",{"$f":"VLOOKUP(AM17,'Vejehold 5'!$A$7:$P$23,3,FALSE)*VLOOKUP(AM17,'Vejehold 5'!$A$7:$P$23,6,FALSE)/1000","v":{"$error":"#N/A"}},{"$f":"VLOOKUP(AM17,'Vejehold 5'!$A$7:$P$23,6,FALSE)","v":{"$error":"#N/A"}},null,12,"1900-01-12",{"$f":"VLOOKUP(AR17,'Vejehold 6'!$A$7:$P$23,3,FALSE)*VLOOKUP(AR17,'Vejehold 6'!$A$7:$P$23,6,FALSE)/1000","v":{"$error":"#N/A"}},{"$f":"VLOOKUP(AR17,'Vejehold 6'!$A$7:$P$23,6,FALSE)","v":{"$error":"#N/A"}}]
[null,null,null,null,null,null,null,null,null,null,null,null,null,null,null,null,null,13,"1900-01-13",{"$f":"VLOOKUP(S18,'Vejehold 1'!$A$7:$P$23,3,FALSE)*VLOOKUP(S18,'Vejehold 1'!$A$7:$P$23,6,FALSE)/1000","v":{"$error":"#N/A"}},{"$f":"VLOOKUP(S18,'Vejehold 1'!$A$7:$P$23,6,FALSE)","v":{"$error":"#N/A"}},null,13,"1900-01-13",{"$f":"VLOOKUP(X18,'Vejehold 2'!$A$7:$P$23,3,FALSE)*VLOOKUP(X18,'Vejehold 2'!$A$7:$P$23,6,FALSE)/1000","v":{"$error":"#N/A"}},{"$f":"VLOOKUP(X18,'Vejehold 2'!$A$7:$P$23,6,FALSE)","v":{"$error":"#N/A"}},null,13,"1900-01-13",{"$f":"VLOOKUP(AC18,'Vejehold 3'!$A$7:$P$23,3,FALSE)*VLOOKUP(AC18,'Vejehold 3'!$A$7:$P$23,6,FALSE)/1000","v":{"$error":"#N/A"}},{"$f":"VLOOKUP(AC18,'Vejehold 3'!$A$7:$P$23,6,FALSE)","v":{"$error":"#N/A"}},null,13,"1900-01-13",{"$f":"VLOOKUP(AH18,'Vejehold 4'!$A$7:$P$23,3,FALSE)*VLOOKUP(AH18,'Vejehold 4'!$A$7:$P$23,6,FALSE)/1000","v":{"$error":"#N/A"}},{"$f":"VLOOKUP(AH18,'Vejehold 4'!$A$7:$P$23,6,FALSE)","v":{"$error":"#N/A"}},null,13,"1900-01-13",{"$f":"VLOOKUP(AM18,'Vejehold 5'!$A$7:$P$23,3,FALSE)*VLOOKUP(AM18,'Vejehold 5'!$A$7:$P$23,6,FALSE)/1000","v":{"$error":"#N/A"}},{"$f":"VLOOKUP(AM18,'Vejehold 5'!$A$7:$P$23,6,FALSE)","v":{"$error":"#N/A"}},null,13,"1900-01-13",{"$f":"VLOOKUP(AR18,'Vejehold 6'!$A$7:$P$23,3,FALSE)*VLOOKUP(AR18,'Vejehold 6'!$A$7:$P$23,6,FALSE)/1000","v":{"$error":"#N/A"}},{"$f":"VLOOKUP(AR18,'Vejehold 6'!$A$7:$P$23,6,FALSE)","v":{"$error":"#N/A"}}]
[null,null,null,null,null,null,null,null,null,null,null,null,null,null,null,null,null,14,"1900-01-14",{"$f":"VLOOKUP(S19,'Vejehold 1'!$A$7:$P$23,3,FALSE)*VLOOKUP(S19,'Vejehold 1'!$A$7:$P$23,6,FALSE)/1000","v":{"$error":"#N/A"}},{"$f":"VLOOKUP(S19,'Vejehold 1'!$A$7:$P$23,6,FALSE)","v":{"$error":"#N/A"}},null,14,"1900-01-14",{"$f":"VLOOKUP(X19,'Vejehold 2'!$A$7:$P$23,3,FALSE)*VLOOKUP(X19,'Vejehold 2'!$A$7:$P$23,6,FALSE)/1000","v":{"$error":"#N/A"}},{"$f":"VLOOKUP(X19,'Vejehold 2'!$A$7:$P$23,6,FALSE)","v":{"$error":"#N/A"}},null,14,"1900-01-14",{"$f":"VLOOKUP(AC19,'Vejehold 3'!$A$7:$P$23,3,FALSE)*VLOOKUP(AC19,'Vejehold 3'!$A$7:$P$23,6,FALSE)/1000","v":{"$error":"#N/A"}},{"$f":"VLOOKUP(AC19,'Vejehold 3'!$A$7:$P$23,6,FALSE)","v":{"$error":"#N/A"}},null,14,"1900-01-14",{"$f":"VLOOKUP(AH19,'Vejehold 4'!$A$7:$P$23,3,FALSE)*VLOOKUP(AH19,'Vejehold 4'!$A$7:$P$23,6,FALSE)/1000","v":{"$error":"#N/A"}},{"$f":"VLOOKUP(AH19,'Vejehold 4'!$A$7:$P$23,6,FALSE)","v":{"$error":"#N/A"}},null,14,"1900-01-14",{"$f":"VLOOKUP(AM19,'Vejehold 5'!$A$7:$P$23,3,FALSE)*VLOOKUP(AM19,'Vejehold 5'!$A$7:$P$23,6,FALSE)/1000","v":{"$error":"#N/A"}},{"$f":"VLOOKUP(AM19,'Vejehold 5'!$A$7:$P$23,6,FALSE)","v":{"$error":"#N/A"}},null,14,"1900-01-14",{"$f":"VLOOKUP(AR19,'Vejehold 6'!$A$7:$P$23,3,FALSE)*VLOOKUP(AR19,'Vejehold 6'!$A$7:$P$23,6,FALSE)/1000","v":{"$error":"#N/A"}},{"$f":"VLOOKUP(AR19,'Vejehold 6'!$A$7:$P$23,6,FALSE)","v":{"$error":"#N/A"}}]
[null,null,null,null,null,null,null,null,null,null,null,null,null,null,null,null,null,15,{"$f":"S19+1","v":"1900-01-15"},{"$f":"VLOOKUP(S20,'Vejehold 1'!$A$7:$P$23,3,FALSE)*VLOOKUP(S20,'Vejehold 1'!$A$7:$P$23,6,FALSE)/1000","v":{"$error":"#N/A"}},{"$f":"VLOOKUP(S20,'Vejehold 1'!$A$7:$P$23,6,FALSE)","v":{"$error":"#N/A"}},null,15,{"$f":"X19+1","v":"1900-01-15"},{"$f":"VLOOKUP(X20,'Vejehold 2'!$A$7:$P$23,3,FALSE)*VLOOKUP(X20,'Vejehold 2'!$A$7:$P$23,6,FALSE)/1000","v":{"$error":"#N/A"}},{"$f":"VLOOKUP(X20,'Vejehold 2'!$A$7:$P$23,6,FALSE)","v":{"$error":"#N/A"}},null,15,{"$f":"AC19+1","v":"1900-01-15"},{"$f":"VLOOKUP(AC20,'Vejehold 3'!$A$7:$P$23,3,FALSE)*VLOOKUP(AC20,'Vejehold 3'!$A$7:$P$23,6,FALSE)/1000","v":{"$error":"#N/A"}},{"$f":"VLOOKUP(AC20,'Vejehold 3'!$A$7:$P$23,6,FALSE)","v":{"$error":"#N/A"}},null,15,{"$f":"AH19+1","v":"1900-01-15"},{"$f":"VLOOKUP(AH20,'Vejehold 4'!$A$7:$P$23,3,FALSE)*VLOOKUP(AH20,'Vejehold 4'!$A$7:$P$23,6,FALSE)/1000","v":{"$error":"#N/A"}},{"$f":"VLOOKUP(AH20,'Vejehold 4'!$A$7:$P$23,6,FALSE)","v":{"$error":"#N/A"}},null,15,{"$f":"AM19+1","v":"1900-01-15"},{"$f":"VLOOKUP(AM20,'Vejehold 5'!$A$7:$P$23,3,FALSE)*VLOOKUP(AM20,'Vejehold 5'!$A$7:$P$23,6,FALSE)/1000","v":{"$error":"#N/A"}},{"$f":"VLOOKUP(AM20,'Vejehold 5'!$A$7:$P$23,6,FALSE)","v":{"$error":"#N/A"}},null,15,{"$f":"AR19+1","v":"1900-01-15"},{"$f":"VLOOKUP(AR20,'Vejehold 6'!$A$7:$P$23,3,FALSE)*VLOOKUP(AR20,'Vejehold 6'!$A$7:$P$23,6,FALSE)/1000","v":{"$error":"#N/A"}},{"$f":"VLOOKUP(AR20,'Vejehold 6'!$A$7:$P$23,6,FALSE)","v":{"$error":"#N/A"}}]
[null,null,null,null,null,null,null,null,null,null,null,null,null,null,null,null,null,16,"1900-01-16",{"$f":"VLOOKUP(S21,'Vejehold 1'!$A$7:$P$23,3,FALSE)*VLOOKUP(S21,'Vejehold 1'!$A$7:$P$23,6,FALSE)/1000","v":{"$error":"#N/A"}},{"$f":"VLOOKUP(S21,'Vejehold 1'!$A$7:$P$23,6,FALSE)","v":{"$error":"#N/A"}},null,16,{"$f":"X20+1","v":"1900-01-16"},{"$f":"VLOOKUP(X21,'Vejehold 2'!$A$7:$P$23,3,FALSE)*VLOOKUP(X21,'Vejehold 2'!$A$7:$P$23,6,FALSE)/1000","v":{"$error":"#N/A"}},{"$f":"VLOOKUP(X21,'Vejehold 2'!$A$7:$P$23,6,FALSE)","v":{"$error":"#N/A"}},null,16,{"$f":"AC20+1","v":"1900-01-16"},{"$f":"VLOOKUP(AC21,'Vejehold 3'!$A$7:$P$23,3,FALSE)*VLOOKUP(AC21,'Vejehold 3'!$A$7:$P$23,6,FALSE)/1000","v":{"$error":"#N/A"}},{"$f":"VLOOKUP(AC21,'Vejehold 3'!$A$7:$P$23,6,FALSE)","v":{"$error":"#N/A"}},null,16,{"$f":"AH20+1","v":"1900-01-16"},{"$f":"VLOOKUP(AH21,'Vejehold 4'!$A$7:$P$23,3,FALSE)*VLOOKUP(AH21,'Vejehold 4'!$A$7:$P$23,6,FALSE)/1000","v":{"$error":"#N/A"}},{"$f":"VLOOKUP(AH21,'Vejehold 4'!$A$7:$P$23,6,FALSE)","v":{"$error":"#N/A"}},null,16,{"$f":"AM20+1","v":"1900-01-16"},{"$f":"VLOOKUP(AM21,'Vejehold 5'!$A$7:$P$23,3,FALSE)*VLOOKUP(AM21,'Vejehold 5'!$A$7:$P$23,6,FALSE)/1000","v":{"$error":"#N/A"}},{"$f":"VLOOKUP(AM21,'Vejehold 5'!$A$7:$P$23,6,FALSE)","v":{"$error":"#N/A"}},null,16,{"$f":"AR20+1","v":"1900-01-16"},{"$f":"VLOOKUP(AR21,'Vejehold 6'!$A$7:$P$23,3,FALSE)*VLOOKUP(AR21,'Vejehold 6'!$A$7:$P$23,6,FALSE)/1000","v":{"$error":"#N/A"}},{"$f":"VLOOKUP(AR21,'Vejehold 6'!$A$7:$P$23,6,FALSE)","v":{"$error":"#N/A"}}]
[null,null,null,null,null,null,null,null,null,null,null,null,null,null,null,null,null,17,"1900-01-17",{"$f":"VLOOKUP(S22,'Vejehold 1'!$A$7:$P$23,3,FALSE)*VLOOKUP(S22,'Vejehold 1'!$A$7:$P$23,6,FALSE)/1000","v":{"$error":"#N/A"}},{"$f":"VLOOKUP(S22,'Vejehold 1'!$A$7:$P$23,6,FALSE)","v":{"$error":"#N/A"}},null,17,"1900-01-17",{"$f":"VLOOKUP(X22,'Vejehold 2'!$A$7:$P$23,3,FALSE)*VLOOKUP(X22,'Vejehold 2'!$A$7:$P$23,6,FALSE)/1000","v":{"$error":"#N/A"}},{"$f":"VLOOKUP(X22,'Vejehold 2'!$A$7:$P$23,6,FALSE)","v":{"$error":"#N/A"}},null,17,"1900-01-17",{"$f":"VLOOKUP(AC22,'Vejehold 3'!$A$7:$P$23,3,FALSE)*VLOOKUP(AC22,'Vejehold 3'!$A$7:$P$23,6,FALSE)/1000","v":{"$error":"#N/A"}},{"$f":"VLOOKUP(AC22,'Vejehold 3'!$A$7:$P$23,6,FALSE)","v":{"$error":"#N/A"}},null,17,"1900-01-17",{"$f":"VLOOKUP(AH22,'Vejehold 4'!$A$7:$P$23,3,FALSE)*VLOOKUP(AH22,'Vejehold 4'!$A$7:$P$23,6,FALSE)/1000","v":{"$error":"#N/A"}},{"$f":"VLOOKUP(AH22,'Vejehold 4'!$A$7:$P$23,6,FALSE)","v":{"$error":"#N/A"}},null,17,"1900-01-17",{"$f":"VLOOKUP(AM22,'Vejehold 5'!$A$7:$P$23,3,FALSE)*VLOOKUP(AM22,'Vejehold 5'!$A$7:$P$23,6,FALSE)/1000","v":{"$error":"#N/A"}},{"$f":"VLOOKUP(AM22,'Vejehold 5'!$A$7:$P$23,6,FALSE)","v":{"$error":"#N/A"}},null,17,"1900-01-17",{"$f":"VLOOKUP(AR22,'Vejehold 6'!$A$7:$P$23,3,FALSE)*VLOOKUP(AR22,'Vejehold 6'!$A$7:$P$23,6,FALSE)/1000","v":{"$error":"#N/A"}},{"$f":"VLOOKUP(AR22,'Vejehold 6'!$A$7:$P$23,6,FALSE)","v":{"$error":"#N/A"}}]
[null,null,null,null,null,null,null,null,null,null,null,null,null,null,null,null,null,18,"1900-01-18",{"$f":"VLOOKUP(S23,'Vejehold 1'!$A$7:$P$23,3,FALSE)*VLOOKUP(S23,'Vejehold 1'!$A$7:$P$23,6,FALSE)/1000","v":{"$error":"#N/A"}},{"$f":"VLOOKUP(S23,'Vejehold 1'!$A$7:$P$23,6,FALSE)","v":{"$error":"#N/A"}},null,18,"1900-01-18",{"$f":"VLOOKUP(X23,'Vejehold 2'!$A$7:$P$23,3,FALSE)*VLOOKUP(X23,'Vejehold 2'!$A$7:$P$23,6,FALSE)/1000","v":{"$error":"#N/A"}},{"$f":"VLOOKUP(X23,'Vejehold 2'!$A$7:$P$23,6,FALSE)","v":{"$error":"#N/A"}},null,18,"1900-01-18",{"$f":"VLOOKUP(AC23,'Vejehold 3'!$A$7:$P$23,3,FALSE)*VLOOKUP(AC23,'Vejehold 3'!$A$7:$P$23,6,FALSE)/1000","v":{"$error":"#N/A"}},{"$f":"VLOOKUP(AC23,'Vejehold 3'!$A$7:$P$23,6,FALSE)","v":{"$error":"#N/A"}},null,18,"1900-01-18",{"$f":"VLOOKUP(AH23,'Vejehold 4'!$A$7:$P$23,3,FALSE)*VLOOKUP(AH23,'Vejehold 4'!$A$7:$P$23,6,FALSE)/1000","v":{"$error":"#N/A"}},{"$f":"VLOOKUP(AH23,'Vejehold 4'!$A$7:$P$23,6,FALSE)","v":{"$error":"#N/A"}},null,18,"1900-01-18",{"$f":"VLOOKUP(AM23,'Vejehold 5'!$A$7:$P$23,3,FALSE)*VLOOKUP(AM23,'Vejehold 5'!$A$7:$P$23,6,FALSE)/1000","v":{"$error":"#N/A"}},{"$f":"VLOOKUP(AM23,'Vejehold 5'!$A$7:$P$23,6,FALSE)","v":{"$error":"#N/A"}},null,18,"1900-01-18",{"$f":"VLOOKUP(AR23,'Vejehold 6'!$A$7:$P$23,3,FALSE)*VLOOKUP(AR23,'Vejehold 6'!$A$7:$P$23,6,FALSE)/1000","v":{"$error":"#N/A"}},{"$f":"VLOOKUP(AR23,'Vejehold 6'!$A$7:$P$23,6,FALSE)","v":{"$error":"#N/A"}}]
[null,null,null,null,null,null,null,null,null,null,null,null,null,null,null,null,null,19,"1900-01-19",{"$f":"VLOOKUP(S24,'Vejehold 1'!$A$7:$P$23,3,FALSE)*VLOOKUP(S24,'Vejehold 1'!$A$7:$P$23,6,FALSE)/1000","v":{"$error":"#N/A"}},{"$f":"VLOOKUP(S24,'Vejehold 1'!$A$7:$P$23,6,FALSE)","v":{"$error":"#N/A"}},null,19,"1900-01-19",{"$f":"VLOOKUP(X24,'Vejehold 2'!$A$7:$P$23,3,FALSE)*VLOOKUP(X24,'Vejehold 2'!$A$7:$P$23,6,FALSE)/1000","v":{"$error":"#N/A"}},{"$f":"VLOOKUP(X24,'Vejehold 2'!$A$7:$P$23,6,FALSE)","v":{"$error":"#N/A"}},null,19,"1900-01-19",{"$f":"VLOOKUP(AC24,'Vejehold 3'!$A$7:$P$23,3,FALSE)*VLOOKUP(AC24,'Vejehold 3'!$A$7:$P$23,6,FALSE)/1000","v":{"$error":"#N/A"}},{"$f":"VLOOKUP(AC24,'Vejehold 3'!$A$7:$P$23,6,FALSE)","v":{"$error":"#N/A"}},null,19,"1900-01-19",{"$f":"VLOOKUP(AH24,'Vejehold 4'!$A$7:$P$23,3,FALSE)*VLOOKUP(AH24,'Vejehold 4'!$A$7:$P$23,6,FALSE)/1000","v":{"$error":"#N/A"}},{"$f":"VLOOKUP(AH24,'Vejehold 4'!$A$7:$P$23,6,FALSE)","v":{"$error":"#N/A"}},null,19,"1900-01-19",{"$f":"VLOOKUP(AM24,'Vejehold 5'!$A$7:$P$23,3,FALSE)*VLOOKUP(AM24,'Vejehold 5'!$A$7:$P$23,6,FALSE)/1000","v":{"$error":"#N/A"}},{"$f":"VLOOKUP(AM24,'Vejehold 5'!$A$7:$P$23,6,FALSE)","v":{"$error":"#N/A"}},null,19,"1900-01-19",{"$f":"VLOOKUP(AR24,'Vejehold 6'!$A$7:$P$23,3,FALSE)*VLOOKUP(AR24,'Vejehold 6'!$A$7:$P$23,6,FALSE)/1000","v":{"$error":"#N/A"}},{"$f":"VLOOKUP(AR24,'Vejehold 6'!$A$7:$P$23,6,FALSE)","v":{"$error":"#N/A"}}]
[null,null,null,null,null,null,null,null,null,null,null,null,null,null,null,null,null,20,"1900-01-20",{"$f":"VLOOKUP(S25,'Vejehold 1'!$A$7:$P$23,3,FALSE)*VLOOKUP(S25,'Vejehold 1'!$A$7:$P$23,6,FALSE)/1000","v":{"$error":"#N/A"}},{"$f":"VLOOKUP(S25,'Vejehold 1'!$A$7:$P$23,6,FALSE)","v":{"$error":"#N/A"}},null,20,"1900-01-20",{"$f":"VLOOKUP(X25,'Vejehold 2'!$A$7:$P$23,3,FALSE)*VLOOKUP(X25,'Vejehold 2'!$A$7:$P$23,6,FALSE)/1000","v":{"$error":"#N/A"}},{"$f":"VLOOKUP(X25,'Vejehold 2'!$A$7:$P$23,6,FALSE)","v":{"$error":"#N/A"}},null,20,"1900-01-20",{"$f":"VLOOKUP(AC25,'Vejehold 3'!$A$7:$P$23,3,FALSE)*VLOOKUP(AC25,'Vejehold 3'!$A$7:$P$23,6,FALSE)/1000","v":{"$error":"#N/A"}},{"$f":"VLOOKUP(AC25,'Vejehold 3'!$A$7:$P$23,6,FALSE)","v":{"$error":"#N/A"}},null,20,"1900-01-20",{"$f":"VLOOKUP(AH25,'Vejehold 4'!$A$7:$P$23,3,FALSE)*VLOOKUP(AH25,'Vejehold 4'!$A$7:$P$23,6,FALSE)/1000","v":{"$error":"#N/A"}},{"$f":"VLOOKUP(AH25,'Vejehold 4'!$A$7:$P$23,6,FALSE)","v":{"$error":"#N/A"}},null,20,"1900-01-20",{"$f":"VLOOKUP(AM25,'Vejehold 5'!$A$7:$P$23,3,FALSE)*VLOOKUP(AM25,'Vejehold 5'!$A$7:$P$23,6,FALSE)/1000","v":{"$error":"#N/A"}},{"$f":"VLOOKUP(AM25,'Vejehold 5'!$A$7:$P$23,6,FALSE)","v":{"$error":"#N/A"}},null,20,"1900-01-20",{"$f":"VLOOKUP(AR25,'Vejehold 6'!$A$7:$P$23,3,FALSE)*VLOOKUP(AR25,'Vejehold 6'!$A$7:$P$23,6,FALSE)/1000","v":{"$error":"#N/A"}},{"$f":"VLOOKUP(AR25,'Vejehold 6'!$A$7:$P$23,6,FALSE)","v":{"$error":"#N/A"}}]
[null,null,null,null,null,null,null,null,null,null,null,null,null,null,null,null,null,21,"1900-01-21",{"$f":"VLOOKUP(S26,'Vejehold 1'!$A$7:$P$23,3,FALSE)*VLOOKUP(S26,'Vejehold 1'!$A$7:$P$23,6,FALSE)/1000","v":{"$error":"#N/A"}},{"$f":"VLOOKUP(S26,'Vejehold 1'!$A$7:$P$23,6,FALSE)","v":{"$error":"#N/A"}},null,21,"1900-01-21",{"$f":"VLOOKUP(X26,'Vejehold 2'!$A$7:$P$23,3,FALSE)*VLOOKUP(X26,'Vejehold 2'!$A$7:$P$23,6,FALSE)/1000","v":{"$error":"#N/A"}},{"$f":"VLOOKUP(X26,'Vejehold 2'!$A$7:$P$23,6,FALSE)","v":{"$error":"#N/A"}},null,21,"1900-01-21",{"$f":"VLOOKUP(AC26,'Vejehold 3'!$A$7:$P$23,3,FALSE)*VLOOKUP(AC26,'Vejehold 3'!$A$7:$P$23,6,FALSE)/1000","v":{"$error":"#N/A"}},{"$f":"VLOOKUP(AC26,'Vejehold 3'!$A$7:$P$23,6,FALSE)","v":{"$error":"#N/A"}},null,21,"1900-01-21",{"$f":"VLOOKUP(AH26,'Vejehold 4'!$A$7:$P$23,3,FALSE)*VLOOKUP(AH26,'Vejehold 4'!$A$7:$P$23,6,FALSE)/1000","v":{"$error":"#N/A"}},{"$f":"VLOOKUP(AH26,'Vejehold 4'!$A$7:$P$23,6,FALSE)","v":{"$error":"#N/A"}},null,21,"1900-01-21",{"$f":"VLOOKUP(AM26,'Vejehold 5'!$A$7:$P$23,3,FALSE)*VLOOKUP(AM26,'Vejehold 5'!$A$7:$P$23,6,FALSE)/1000","v":{"$error":"#N/A"}},{"$f":"VLOOKUP(AM26,'Vejehold 5'!$A$7:$P$23,6,FALSE)","v":{"$error":"#N/A"}},null,21,"1900-01-21",{"$f":"VLOOKUP(AR26,'Vejehold 6'!$A$7:$P$23,3,FALSE)*VLOOKUP(AR26,'Vejehold 6'!$A$7:$P$23,6,FALSE)/1000","v":{"$error":"#N/A"}},{"$f":"VLOOKUP(AR26,'Vejehold 6'!$A$7:$P$23,6,FALSE)","v":{"$error":"#N/A"}}]
[null,null,null,null,null,null,null,null,null,null,null,null,null,null,null,null,null,22,"1900-01-22",{"$f":"VLOOKUP(S27,'Vejehold 1'!$A$7:$P$23,3,FALSE)*VLOOKUP(S27,'Vejehold 1'!$A$7:$P$23,6,FALSE)/1000","v":{"$error":"#N/A"}},{"$f":"VLOOKUP(S27,'Vejehold 1'!$A$7:$P$23,6,FALSE)","v":{"$error":"#N/A"}},null,22,"1900-01-22",{"$f":"VLOOKUP(X27,'Vejehold 2'!$A$7:$P$23,3,FALSE)*VLOOKUP(X27,'Vejehold 2'!$A$7:$P$23,6,FALSE)/1000","v":{"$error":"#N/A"}},{"$f":"VLOOKUP(X27,'Vejehold 2'!$A$7:$P$23,6,FALSE)","v":{"$error":"#N/A"}},null,22,"1900-01-22",{"$f":"VLOOKUP(AC27,'Vejehold 3'!$A$7:$P$23,3,FALSE)*VLOOKUP(AC27,'Vejehold 3'!$A$7:$P$23,6,FALSE)/1000","v":{"$error":"#N/A"}},{"$f":"VLOOKUP(AC27,'Vejehold 3'!$A$7:$P$23,6,FALSE)","v":{"$error":"#N/A"}},null,22,"1900-01-22",{"$f":"VLOOKUP(AH27,'Vejehold 4'!$A$7:$P$23,3,FALSE)*VLOOKUP(AH27,'Vejehold 4'!$A$7:$P$23,6,FALSE)/1000","v":{"$error":"#N/A"}},{"$f":"VLOOKUP(AH27,'Vejehold 4'!$A$7:$P$23,6,FALSE)","v":{"$error":"#N/A"}},null,22,"1900-01-22",{"$f":"VLOOKUP(AM27,'Vejehold 5'!$A$7:$P$23,3,FALSE)*VLOOKUP(AM27,'Vejehold 5'!$A$7:$P$23,6,FALSE)/1000","v":{"$error":"#N/A"}},{"$f":"VLOOKUP(AM27,'Vejehold 5'!$A$7:$P$23,6,FALSE)","v":{"$error":"#N/A"}},null,22,"1900-01-22",{"$f":"VLOOKUP(AR27,'Vejehold 6'!$A$7:$P$23,3,FALSE)*VLOOKUP(AR27,'Vejehold 6'!$A$7:$P$23,6,FALSE)/1000","v":{"$error":"#N/A"}},{"$f":"VLOOKUP(AR27,'Vejehold 6'!$A$7:$P$23,6,FALSE)","v":{"$error":"#N/A"}}]
[null,null,null,null,null,null,null,null,null,null,null,null,null,null,null,null,null,23,"1900-01-23",{"$f":"VLOOKUP(S28,'Vejehold 1'!$A$7:$P$23,3,FALSE)*VLOOKUP(S28,'Vejehold 1'!$A$7:$P$23,6,FALSE)/1000","v":{"$error":"#N/A"}},{"$f":"VLOOKUP(S28,'Vejehold 1'!$A$7:$P$23,6,FALSE)","v":{"$error":"#N/A"}},null,23,"1900-01-23",{"$f":"VLOOKUP(X28,'Vejehold 2'!$A$7:$P$23,3,FALSE)*VLOOKUP(X28,'Vejehold 2'!$A$7:$P$23,6,FALSE)/1000","v":{"$error":"#N/A"}},{"$f":"VLOOKUP(X28,'Vejehold 2'!$A$7:$P$23,6,FALSE)","v":{"$error":"#N/A"}},null,23,"1900-01-23",{"$f":"VLOOKUP(AC28,'Vejehold 3'!$A$7:$P$23,3,FALSE)*VLOOKUP(AC28,'Vejehold 3'!$A$7:$P$23,6,FALSE)/1000","v":{"$error":"#N/A"}},{"$f":"VLOOKUP(AC28,'Vejehold 3'!$A$7:$P$23,6,FALSE)","v":{"$error":"#N/A"}},null,23,"1900-01-23",{"$f":"VLOOKUP(AH28,'Vejehold 4'!$A$7:$P$23,3,FALSE)*VLOOKUP(AH28,'Vejehold 4'!$A$7:$P$23,6,FALSE)/1000","v":{"$error":"#N/A"}},{"$f":"VLOOKUP(AH28,'Vejehold 4'!$A$7:$P$23,6,FALSE)","v":{"$error":"#N/A"}},null,23,"1900-01-23",{"$f":"VLOOKUP(AM28,'Vejehold 5'!$A$7:$P$23,3,FALSE)*VLOOKUP(AM28,'Vejehold 5'!$A$7:$P$23,6,FALSE)/1000","v":{"$error":"#N/A"}},{"$f":"VLOOKUP(AM28,'Vejehold 5'!$A$7:$P$23,6,FALSE)","v":{"$error":"#N/A"}},null,23,"1900-01-23",{"$f":"VLOOKUP(AR28,'Vejehold 6'!$A$7:$P$23,3,FALSE)*VLOOKUP(AR28,'Vejehold 6'!$A$7:$P$23,6,FALSE)/1000","v":{"$error":"#N/A"}},{"$f":"VLOOKUP(AR28,'Vejehold 6'!$A$7:$P$23,6,FALSE)","v":{"$error":"#N/A"}}]
[null,null,null,null,null,null,null,null,null,null,null,null,null,null,null,null,null,24,"1900-01-24",{"$f":"VLOOKUP(S29,'Vejehold 1'!$A$7:$P$23,3,FALSE)*VLOOKUP(S29,'Vejehold 1'!$A$7:$P$23,6,FALSE)/1000","v":{"$error":"#N/A"}},{"$f":"VLOOKUP(S29,'Vejehold 1'!$A$7:$P$23,6,FALSE)","v":{"$error":"#N/A"}},null,24,"1900-01-24",{"$f":"VLOOKUP(X29,'Vejehold 2'!$A$7:$P$23,3,FALSE)*VLOOKUP(X29,'Vejehold 2'!$A$7:$P$23,6,FALSE)/1000","v":{"$error":"#N/A"}},{"$f":"VLOOKUP(X29,'Vejehold 2'!$A$7:$P$23,6,FALSE)","v":{"$error":"#N/A"}},null,24,"1900-01-24",{"$f":"VLOOKUP(AC29,'Vejehold 3'!$A$7:$P$23,3,FALSE)*VLOOKUP(AC29,'Vejehold 3'!$A$7:$P$23,6,FALSE)/1000","v":{"$error":"#N/A"}},{"$f":"VLOOKUP(AC29,'Vejehold 3'!$A$7:$P$23,6,FALSE)","v":{"$error":"#N/A"}},null,24,"1900-01-24",{"$f":"VLOOKUP(AH29,'Vejehold 4'!$A$7:$P$23,3,FALSE)*VLOOKUP(AH29,'Vejehold 4'!$A$7:$P$23,6,FALSE)/1000","v":{"$error":"#N/A"}},{"$f":"VLOOKUP(AH29,'Vejehold 4'!$A$7:$P$23,6,FALSE)","v":{"$error":"#N/A"}},null,24,"1900-01-24",{"$f":"VLOOKUP(AM29,'Vejehold 5'!$A$7:$P$23,3,FALSE)*VLOOKUP(AM29,'Vejehold 5'!$A$7:$P$23,6,FALSE)/1000","v":{"$error":"#N/A"}},{"$f":"VLOOKUP(AM29,'Vejehold 5'!$A$7:$P$23,6,FALSE)","v":{"$error":"#N/A"}},null,24,"1900-01-24",{"$f":"VLOOKUP(AR29,'Vejehold 6'!$A$7:$P$23,3,FALSE)*VLOOKUP(AR29,'Vejehold 6'!$A$7:$P$23,6,FALSE)/1000","v":{"$error":"#N/A"}},{"$f":"VLOOKUP(AR29,'Vejehold 6'!$A$7:$P$23,6,FALSE)","v":{"$error":"#N/A"}}]
[null,null,null,null,null,null,null,null,null,null,null,null,null,null,null,null,null,25,"1900-01-25",{"$f":"VLOOKUP(S30,'Vejehold 1'!$A$7:$P$23,3,FALSE)*VLOOKUP(S30,'Vejehold 1'!$A$7:$P$23,6,FALSE)/1000","v":{"$error":"#N/A"}},{"$f":"VLOOKUP(S30,'Vejehold 1'!$A$7:$P$23,6,FALSE)","v":{"$error":"#N/A"}},null,25,"1900-01-25",{"$f":"VLOOKUP(X30,'Vejehold 2'!$A$7:$P$23,3,FALSE)*VLOOKUP(X30,'Vejehold 2'!$A$7:$P$23,6,FALSE)/1000","v":{"$error":"#N/A"}},{"$f":"VLOOKUP(X30,'Vejehold 2'!$A$7:$P$23,6,FALSE)","v":{"$error":"#N/A"}},null,25,"1900-01-25",{"$f":"VLOOKUP(AC30,'Vejehold 3'!$A$7:$P$23,3,FALSE)*VLOOKUP(AC30,'Vejehold 3'!$A$7:$P$23,6,FALSE)/1000","v":{"$error":"#N/A"}},{"$f":"VLOOKUP(AC30,'Vejehold 3'!$A$7:$P$23,6,FALSE)","v":{"$error":"#N/A"}},null,25,"1900-01-25",{"$f":"VLOOKUP(AH30,'Vejehold 4'!$A$7:$P$23,3,FALSE)*VLOOKUP(AH30,'Vejehold 4'!$A$7:$P$23,6,FALSE)/1000","v":{"$error":"#N/A"}},{"$f":"VLOOKUP(AH30,'Vejehold 4'!$A$7:$P$23,6,FALSE)","v":{"$error":"#N/A"}},null,25,"1900-01-25",{"$f":"VLOOKUP(AM30,'Vejehold 5'!$A$7:$P$23,3,FALSE)*VLOOKUP(AM30,'Vejehold 5'!$A$7:$P$23,6,FALSE)/1000","v":{"$error":"#N/A"}},{"$f":"VLOOKUP(AM30,'Vejehold 5'!$A$7:$P$23,6,FALSE)","v":{"$error":"#N/A"}},null,25,"1900-01-25",{"$f":"VLOOKUP(AR30,'Vejehold 6'!$A$7:$P$23,3,FALSE)*VLOOKUP(AR30,'Vejehold 6'!$A$7:$P$23,6,FALSE)/1000","v":{"$error":"#N/A"}},{"$f":"VLOOKUP(AR30,'Vejehold 6'!$A$7:$P$23,6,FALSE)","v":{"$error":"#N/A"}}]
[null,null,null,null,null,null,null,null,null,null,null,null,null,null,null,null,null,26,"1900-01-26",{"$f":"VLOOKUP(S31,'Vejehold 1'!$A$7:$P$23,3,FALSE)*VLOOKUP(S31,'Vejehold 1'!$A$7:$P$23,6,FALSE)/1000","v":{"$error":"#N/A"}},{"$f":"VLOOKUP(S31,'Vejehold 1'!$A$7:$P$23,6,FALSE)","v":{"$error":"#N/A"}},null,26,"1900-01-26",{"$f":"VLOOKUP(X31,'Vejehold 2'!$A$7:$P$23,3,FALSE)*VLOOKUP(X31,'Vejehold 2'!$A$7:$P$23,6,FALSE)/1000","v":{"$error":"#N/A"}},{"$f":"VLOOKUP(X31,'Vejehold 2'!$A$7:$P$23,6,FALSE)","v":{"$error":"#N/A"}},null,26,"1900-01-26",{"$f":"VLOOKUP(AC31,'Vejehold 3'!$A$7:$P$23,3,FALSE)*VLOOKUP(AC31,'Vejehold 3'!$A$7:$P$23,6,FALSE)/1000","v":{"$error":"#N/A"}},{"$f":"VLOOKUP(AC31,'Vejehold 3'!$A$7:$P$23,6,FALSE)","v":{"$error":"#N/A"}},null,26,"1900-01-26",{"$f":"VLOOKUP(AH31,'Vejehold 4'!$A$7:$P$23,3,FALSE)*VLOOKUP(AH31,'Vejehold 4'!$A$7:$P$23,6,FALSE)/1000","v":{"$error":"#N/A"}},{"$f":"VLOOKUP(AH31,'Vejehold 4'!$A$7:$P$23,6,FALSE)","v":{"$error":"#N/A"}},null,26,"1900-01-26",{"$f":"VLOOKUP(AM31,'Vejehold 5'!$A$7:$P$23,3,FALSE)*VLOOKUP(AM31,'Vejehold 5'!$A$7:$P$23,6,FALSE)/1000","v":{"$error":"#N/A"}},{"$f":"VLOOKUP(AM31,'Vejehold 5'!$A$7:$P$23,6,FALSE)","v":{"$error":"#N/A"}},null,26,"1900-01-26",{"$f":"VLOOKUP(AR31,'Vejehold 6'!$A$7:$P$23,3,FALSE)*VLOOKUP(AR31,'Vejehold 6'!$A$7:$P$23,6,FALSE)/1000","v":{"$error":"#N/A"}},{"$f":"VLOOKUP(AR31,'Vejehold 6'!$A$7:$P$23,6,FALSE)","v":{"$error":"#N/A"}}]
[null,null,null,null,null,null,null,null,null,null,null,null,null,null,null,null,null,27,"1900-01-27",{"$f":"VLOOKUP(S32,'Vejehold 1'!$A$7:$P$23,3,FALSE)*VLOOKUP(S32,'Vejehold 1'!$A$7:$P$23,6,FALSE)/1000","v":{"$error":"#N/A"}},{"$f":"VLOOKUP(S32,'Vejehold 1'!$A$7:$P$23,6,FALSE)","v":{"$error":"#N/A"}},null,27,"1900-01-27",{"$f":"VLOOKUP(X32,'Vejehold 2'!$A$7:$P$23,3,FALSE)*VLOOKUP(X32,'Vejehold 2'!$A$7:$P$23,6,FALSE)/1000","v":{"$error":"#N/A"}},{"$f":"VLOOKUP(X32,'Vejehold 2'!$A$7:$P$23,6,FALSE)","v":{"$error":"#N/A"}},null,27,"1900-01-27",{"$f":"VLOOKUP(AC32,'Vejehold 3'!$A$7:$P$23,3,FALSE)*VLOOKUP(AC32,'Vejehold 3'!$A$7:$P$23,6,FALSE)/1000","v":{"$error":"#N/A"}},{"$f":"VLOOKUP(AC32,'Vejehold 3'!$A$7:$P$23,6,FALSE)","v":{"$error":"#N/A"}},null,27,"1900-01-27",{"$f":"VLOOKUP(AH32,'Vejehold 4'!$A$7:$P$23,3,FALSE)*VLOOKUP(AH32,'Vejehold 4'!$A$7:$P$23,6,FALSE)/1000","v":{"$error":"#N/A"}},{"$f":"VLOOKUP(AH32,'Vejehold 4'!$A$7:$P$23,6,FALSE)","v":{"$error":"#N/A"}},null,27,"1900-01-27",{"$f":"VLOOKUP(AM32,'Vejehold 5'!$A$7:$P$23,3,FALSE)*VLOOKUP(AM32,'Vejehold 5'!$A$7:$P$23,6,FALSE)/1000","v":{"$error":"#N/A"}},{"$f":"VLOOKUP(AM32,'Vejehold 5'!$A$7:$P$23,6,FALSE)","v":{"$error":"#N/A"}},null,27,"1900-01-27",{"$f":"VLOOKUP(AR32,'Vejehold 6'!$A$7:$P$23,3,FALSE)*VLOOKUP(AR32,'Vejehold 6'!$A$7:$P$23,6,FALSE)/1000","v":{"$error":"#N/A"}},{"$f":"VLOOKUP(AR32,'Vejehold 6'!$A$7:$P$23,6,FALSE)","v":{"$error":"#N/A"}}]
[null,null,null,null,null,null,null,null,null,null,null,null,null,null,null,null,null,28,"1900-01-28",{"$f":"VLOOKUP(S33,'Vejehold 1'!$A$7:$P$23,3,FALSE)*VLOOKUP(S33,'Vejehold 1'!$A$7:$P$23,6,FALSE)/1000","v":{"$error":"#N/A"}},{"$f":"VLOOKUP(S33,'Vejehold 1'!$A$7:$P$23,6,FALSE)","v":{"$error":"#N/A"}},null,28,"1900-01-28",{"$f":"VLOOKUP(X33,'Vejehold 2'!$A$7:$P$23,3,FALSE)*VLOOKUP(X33,'Vejehold 2'!$A$7:$P$23,6,FALSE)/1000","v":{"$error":"#N/A"}},{"$f":"VLOOKUP(X33,'Vejehold 2'!$A$7:$P$23,6,FALSE)","v":{"$error":"#N/A"}},null,28,"1900-01-28",{"$f":"VLOOKUP(AC33,'Vejehold 3'!$A$7:$P$23,3,FALSE)*VLOOKUP(AC33,'Vejehold 3'!$A$7:$P$23,6,FALSE)/1000","v":{"$error":"#N/A"}},{"$f":"VLOOKUP(AC33,'Vejehold 3'!$A$7:$P$23,6,FALSE)","v":{"$error":"#N/A"}},null,28,"1900-01-28",{"$f":"VLOOKUP(AH33,'Vejehold 4'!$A$7:$P$23,3,FALSE)*VLOOKUP(AH33,'Vejehold 4'!$A$7:$P$23,6,FALSE)/1000","v":{"$error":"#N/A"}},{"$f":"VLOOKUP(AH33,'Vejehold 4'!$A$7:$P$23,6,FALSE)","v":{"$error":"#N/A"}},null,28,"1900-01-28",{"$f":"VLOOKUP(AM33,'Vejehold 5'!$A$7:$P$23,3,FALSE)*VLOOKUP(AM33,'Vejehold 5'!$A$7:$P$23,6,FALSE)/1000","v":{"$error":"#N/A"}},{"$f":"VLOOKUP(AM33,'Vejehold 5'!$A$7:$P$23,6,FALSE)","v":{"$error":"#N/A"}},null,28,"1900-01-28",{"$f":"VLOOKUP(AR33,'Vejehold 6'!$A$7:$P$23,3,FALSE)*VLOOKUP(AR33,'Vejehold 6'!$A$7:$P$23,6,FALSE)/1000","v":{"$error":"#N/A"}},{"$f":"VLOOKUP(AR33,'Vejehold 6'!$A$7:$P$23,6,FALSE)","v":{"$error":"#N/A"}}]
[null,null,null,null,null,null,null,null,null,null,null,null,null,null,null,null,null,29,"1900-01-29",{"$f":"VLOOKUP(S34,'Vejehold 1'!$A$7:$P$23,3,FALSE)*VLOOKUP(S34,'Vejehold 1'!$A$7:$P$23,6,FALSE)/1000","v":{"$error":"#N/A"}},{"$f":"VLOOKUP(S34,'Vejehold 1'!$A$7:$P$23,6,FALSE)","v":{"$error":"#N/A"}},null,29,"1900-01-29",{"$f":"VLOOKUP(X34,'Vejehold 2'!$A$7:$P$23,3,FALSE)*VLOOKUP(X34,'Vejehold 2'!$A$7:$P$23,6,FALSE)/1000","v":{"$error":"#N/A"}},{"$f":"VLOOKUP(X34,'Vejehold 2'!$A$7:$P$23,6,FALSE)","v":{"$error":"#N/A"}},null,29,"1900-01-29",{"$f":"VLOOKUP(AC34,'Vejehold 3'!$A$7:$P$23,3,FALSE)*VLOOKUP(AC34,'Vejehold 3'!$A$7:$P$23,6,FALSE)/1000","v":{"$error":"#N/A"}},{"$f":"VLOOKUP(AC34,'Vejehold 3'!$A$7:$P$23,6,FALSE)","v":{"$error":"#N/A"}},null,29,"1900-01-29",{"$f":"VLOOKUP(AH34,'Vejehold 4'!$A$7:$P$23,3,FALSE)*VLOOKUP(AH34,'Vejehold 4'!$A$7:$P$23,6,FALSE)/1000","v":{"$error":"#N/A"}},{"$f":"VLOOKUP(AH34,'Vejehold 4'!$A$7:$P$23,6,FALSE)","v":{"$error":"#N/A"}},null,29,"1900-01-29",{"$f":"VLOOKUP(AM34,'Vejehold 5'!$A$7:$P$23,3,FALSE)*VLOOKUP(AM34,'Vejehold 5'!$A$7:$P$23,6,FALSE)/1000","v":{"$error":"#N/A"}},{"$f":"VLOOKUP(AM34,'Vejehold 5'!$A$7:$P$23,6,FALSE)","v":{"$error":"#N/A"}},null,29,"1900-01-29",{"$f":"VLOOKUP(AR34,'Vejehold 6'!$A$7:$P$23,3,FALSE)*VLOOKUP(AR34,'Vejehold 6'!$A$7:$P$23,6,FALSE)/1000","v":{"$error":"#N/A"}},{"$f":"VLOOKUP(AR34,'Vejehold 6'!$A$7:$P$23,6,FALSE)","v":{"$error":"#N/A"}}]
[null,null,null,null,null,null,null,null,null,null,null,null,null,null,null,null,null,30,"1900-01-30",{"$f":"VLOOKUP(S35,'Vejehold 1'!$A$7:$P$23,3,FALSE)*VLOOKUP(S35,'Vejehold 1'!$A$7:$P$23,6,FALSE)/1000","v":{"$error":"#N/A"}},{"$f":"VLOOKUP(S35,'Vejehold 1'!$A$7:$P$23,6,FALSE)","v":{"$error":"#N/A"}},null,30,"1900-01-30",{"$f":"VLOOKUP(X35,'Vejehold 2'!$A$7:$P$23,3,FALSE)*VLOOKUP(X35,'Vejehold 2'!$A$7:$P$23,6,FALSE)/1000","v":{"$error":"#N/A"}},{"$f":"VLOOKUP(X35,'Vejehold 2'!$A$7:$P$23,6,FALSE)","v":{"$error":"#N/A"}},null,30,"1900-01-30",{"$f":"VLOOKUP(AC35,'Vejehold 3'!$A$7:$P$23,3,FALSE)*VLOOKUP(AC35,'Vejehold 3'!$A$7:$P$23,6,FALSE)/1000","v":{"$error":"#N/A"}},{"$f":"VLOOKUP(AC35,'Vejehold 3'!$A$7:$P$23,6,FALSE)","v":{"$error":"#N/A"}},null,30,"1900-01-30",{"$f":"VLOOKUP(AH35,'Vejehold 4'!$A$7:$P$23,3,FALSE)*VLOOKUP(AH35,'Vejehold 4'!$A$7:$P$23,6,FALSE)/1000","v":{"$error":"#N/A"}},{"$f":"VLOOKUP(AH35,'Vejehold 4'!$A$7:$P$23,6,FALSE)","v":{"$error":"#N/A"}},null,30,"1900-01-30",{"$f":"VLOOKUP(AM35,'Vejehold 5'!$A$7:$P$23,3,FALSE)*VLOOKUP(AM35,'Vejehold 5'!$A$7:$P$23,6,FALSE)/1000","v":{"$error":"#N/A"}},{"$f":"VLOOKUP(AM35,'Vejehold 5'!$A$7:$P$23,6,FALSE)","v":{"$error":"#N/A"}},null,30,"1900-01-30",{"$f":"VLOOKUP(AR35,'Vejehold 6'!$A$7:$P$23,3,FALSE)*VLOOKUP(AR35,'Vejehold 6'!$A$7:$P$23,6,FALSE)/1000","v":{"$error":"#N/A"}},{"$f":"VLOOKUP(AR35,'Vejehold 6'!$A$7:$P$23,6,FALSE)","v":{"$error":"#N/A"}}]
[null,null,null,null,null,null,null,null,null,null,null,null,null,null,null,null,null,31,"1900-01-31",{"$f":"VLOOKUP(S36,'Vejehold 1'!$A$7:$P$23,3,FALSE)*VLOOKUP(S36,'Vejehold 1'!$A$7:$P$23,6,FALSE)/1000","v":{"$error":"#N/A"}},{"$f":"VLOOKUP(S36,'Vejehold 1'!$A$7:$P$23,6,FALSE)","v":{"$error":"#N/A"}},null,31,"1900-01-31",{"$f":"VLOOKUP(X36,'Vejehold 2'!$A$7:$P$23,3,FALSE)*VLOOKUP(X36,'Vejehold 2'!$A$7:$P$23,6,FALSE)/1000","v":{"$error":"#N/A"}},{"$f":"VLOOKUP(X36,'Vejehold 2'!$A$7:$P$23,6,FALSE)","v":{"$error":"#N/A"}},null,31,"1900-01-31",{"$f":"VLOOKUP(AC36,'Vejehold 3'!$A$7:$P$23,3,FALSE)*VLOOKUP(AC36,'Vejehold 3'!$A$7:$P$23,6,FALSE)/1000","v":{"$error":"#N/A"}},{"$f":"VLOOKUP(AC36,'Vejehold 3'!$A$7:$P$23,6,FALSE)","v":{"$error":"#N/A"}},null,31,"1900-01-31",{"$f":"VLOOKUP(AH36,'Vejehold 4'!$A$7:$P$23,3,FALSE)*VLOOKUP(AH36,'Vejehold 4'!$A$7:$P$23,6,FALSE)/1000","v":{"$error":"#N/A"}},{"$f":"VLOOKUP(AH36,'Vejehold 4'!$A$7:$P$23,6,FALSE)","v":{"$error":"#N/A"}},null,31,"1900-01-31",{"$f":"VLOOKUP(AM36,'Vejehold 5'!$A$7:$P$23,3,FALSE)*VLOOKUP(AM36,'Vejehold 5'!$A$7:$P$23,6,FALSE)/1000","v":{"$error":"#N/A"}},{"$f":"VLOOKUP(AM36,'Vejehold 5'!$A$7:$P$23,6,FALSE)","v":{"$error":"#N/A"}},null,31,"1900-01-31",{"$f":"VLOOKUP(AR36,'Vejehold 6'!$A$7:$P$23,3,FALSE)*VLOOKUP(AR36,'Vejehold 6'!$A$7:$P$23,6,FALSE)/1000","v":{"$error":"#N/A"}},{"$f":"VLOOKUP(AR36,'Vejehold 6'!$A$7:$P$23,6,FALSE)","v":{"$error":"#N/A"}}]
[null,null,null,null,null,null,null,null,null,null,null,null,null,null,null,null,null,32,"1900-02-01",{"$f":"VLOOKUP(S37,'Vejehold 1'!$A$7:$P$23,3,FALSE)*VLOOKUP(S37,'Vejehold 1'!$A$7:$P$23,6,FALSE)/1000","v":{"$error":"#N/A"}},{"$f":"VLOOKUP(S37,'Vejehold 1'!$A$7:$P$23,6,FALSE)","v":{"$error":"#N/A"}},null,32,"1900-02-01",{"$f":"VLOOKUP(X37,'Vejehold 2'!$A$7:$P$23,3,FALSE)*VLOOKUP(X37,'Vejehold 2'!$A$7:$P$23,6,FALSE)/1000","v":{"$error":"#N/A"}},{"$f":"VLOOKUP(X37,'Vejehold 2'!$A$7:$P$23,6,FALSE)","v":{"$error":"#N/A"}},null,32,"1900-02-01",{"$f":"VLOOKUP(AC37,'Vejehold 3'!$A$7:$P$23,3,FALSE)*VLOOKUP(AC37,'Vejehold 3'!$A$7:$P$23,6,FALSE)/1000","v":{"$error":"#N/A"}},{"$f":"VLOOKUP(AC37,'Vejehold 3'!$A$7:$P$23,6,FALSE)","v":{"$error":"#N/A"}},null,32,"1900-02-01",{"$f":"VLOOKUP(AH37,'Vejehold 4'!$A$7:$P$23,3,FALSE)*VLOOKUP(AH37,'Vejehold 4'!$A$7:$P$23,6,FALSE)/1000","v":{"$error":"#N/A"}},{"$f":"VLOOKUP(AH37,'Vejehold 4'!$A$7:$P$23,6,FALSE)","v":{"$error":"#N/A"}},null,32,"1900-02-01",{"$f":"VLOOKUP(AM37,'Vejehold 5'!$A$7:$P$23,3,FALSE)*VLOOKUP(AM37,'Vejehold 5'!$A$7:$P$23,6,FALSE)/1000","v":{"$error":"#N/A"}},{"$f":"VLOOKUP(AM37,'Vejehold 5'!$A$7:$P$23,6,FALSE)","v":{"$error":"#N/A"}},null,32,"1900-02-01",{"$f":"VLOOKUP(AR37,'Vejehold 6'!$A$7:$P$23,3,FALSE)*VLOOKUP(AR37,'Vejehold 6'!$A$7:$P$23,6,FALSE)/1000","v":{"$error":"#N/A"}},{"$f":"VLOOKUP(AR37,'Vejehold 6'!$A$7:$P$23,6,FALSE)","v":{"$error":"#N/A"}}]
[null,null,null,null,null,null,null,null,null,null,null,null,null,null,null,null,null,33,"1900-02-02",{"$f":"VLOOKUP(S38,'Vejehold 1'!$A$7:$P$23,3,FALSE)*VLOOKUP(S38,'Vejehold 1'!$A$7:$P$23,6,FALSE)/1000","v":{"$error":"#N/A"}},{"$f":"VLOOKUP(S38,'Vejehold 1'!$A$7:$P$23,6,FALSE)","v":{"$error":"#N/A"}},null,33,"1900-02-02",{"$f":"VLOOKUP(X38,'Vejehold 2'!$A$7:$P$23,3,FALSE)*VLOOKUP(X38,'Vejehold 2'!$A$7:$P$23,6,FALSE)/1000","v":{"$error":"#N/A"}},{"$f":"VLOOKUP(X38,'Vejehold 2'!$A$7:$P$23,6,FALSE)","v":{"$error":"#N/A"}},null,33,"1900-02-02",{"$f":"VLOOKUP(AC38,'Vejehold 3'!$A$7:$P$23,3,FALSE)*VLOOKUP(AC38,'Vejehold 3'!$A$7:$P$23,6,FALSE)/1000","v":{"$error":"#N/A"}},{"$f":"VLOOKUP(AC38,'Vejehold 3'!$A$7:$P$23,6,FALSE)","v":{"$error":"#N/A"}},null,33,"1900-02-02",{"$f":"VLOOKUP(AH38,'Vejehold 4'!$A$7:$P$23,3,FALSE)*VLOOKUP(AH38,'Vejehold 4'!$A$7:$P$23,6,FALSE)/1000","v":{"$error":"#N/A"}},{"$f":"VLOOKUP(AH38,'Vejehold 4'!$A$7:$P$23,6,FALSE)","v":{"$error":"#N/A"}},null,33,"1900-02-02",{"$f":"VLOOKUP(AM38,'Vejehold 5'!$A$7:$P$23,3,FALSE)*VLOOKUP(AM38,'Vejehold 5'!$A$7:$P$23,6,FALSE)/1000","v":{"$error":"#N/A"}},{"$f":"VLOOKUP(AM38,'Vejehold 5'!$A$7:$P$23,6,FALSE)","v":{"$error":"#N/A"}},null,33,"1900-02-02",{"$f":"VLOOKUP(AR38,'Vejehold 6'!$A$7:$P$23,3,FALSE)*VLOOKUP(AR38,'Vejehold 6'!$A$7:$P$23,6,FALSE)/1000","v":{"$error":"#N/A"}},{"$f":"VLOOKUP(AR38,'Vejehold 6'!$A$7:$P$23,6,FALSE)","v":{"$error":"#N/A"}}]
[null,null,null,null,null,null,null,null,null,null,null,null,null,null,null,null,null,34,"1900-02-03",{"$f":"VLOOKUP(S39,'Vejehold 1'!$A$7:$P$23,3,FALSE)*VLOOKUP(S39,'Vejehold 1'!$A$7:$P$23,6,FALSE)/1000","v":{"$error":"#N/A"}},{"$f":"VLOOKUP(S39,'Vejehold 1'!$A$7:$P$23,6,FALSE)","v":{"$error":"#N/A"}},null,34,"1900-02-03",{"$f":"VLOOKUP(X39,'Vejehold 2'!$A$7:$P$23,3,FALSE)*VLOOKUP(X39,'Vejehold 2'!$A$7:$P$23,6,FALSE)/1000","v":{"$error":"#N/A"}},{"$f":"VLOOKUP(X39,'Vejehold 2'!$A$7:$P$23,6,FALSE)","v":{"$error":"#N/A"}},null,34,"1900-02-03",{"$f":"VLOOKUP(AC39,'Vejehold 3'!$A$7:$P$23,3,FALSE)*VLOOKUP(AC39,'Vejehold 3'!$A$7:$P$23,6,FALSE)/1000","v":{"$error":"#N/A"}},{"$f":"VLOOKUP(AC39,'Vejehold 3'!$A$7:$P$23,6,FALSE)","v":{"$error":"#N/A"}},null,34,"1900-02-03",{"$f":"VLOOKUP(AH39,'Vejehold 4'!$A$7:$P$23,3,FALSE)*VLOOKUP(AH39,'Vejehold 4'!$A$7:$P$23,6,FALSE)/1000","v":{"$error":"#N/A"}},{"$f":"VLOOKUP(AH39,'Vejehold 4'!$A$7:$P$23,6,FALSE)","v":{"$error":"#N/A"}},null,34,"1900-02-03",{"$f":"VLOOKUP(AM39,'Vejehold 5'!$A$7:$P$23,3,FALSE)*VLOOKUP(AM39,'Vejehold 5'!$A$7:$P$23,6,FALSE)/1000","v":{"$error":"#N/A"}},{"$f":"VLOOKUP(AM39,'Vejehold 5'!$A$7:$P$23,6,FALSE)","v":{"$error":"#N/A"}},null,34,"1900-02-03",{"$f":"VLOOKUP(AR39,'Vejehold 6'!$A$7:$P$23,3,FALSE)*VLOOKUP(AR39,'Vejehold 6'!$A$7:$P$23,6,FALSE)/1000","v":{"$error":"#N/A"}},{"$f":"VLOOKUP(AR39,'Vejehold 6'!$A$7:$P$23,6,FALSE)","v":{"$error":"#N/A"}}]
[null,null,null,null,null,null,null,null,null,null,null,null,null,null,null,null,null,35,"1900-02-04",{"$f":"VLOOKUP(S40,'Vejehold 1'!$A$7:$P$23,3,FALSE)*VLOOKUP(S40,'Vejehold 1'!$A$7:$P$23,6,FALSE)/1000","v":{"$error":"#N/A"}},{"$f":"VLOOKUP(S40,'Vejehold 1'!$A$7:$P$23,6,FALSE)","v":{"$error":"#N/A"}},null,35,"1900-02-04",{"$f":"VLOOKUP(X40,'Vejehold 2'!$A$7:$P$23,3,FALSE)*VLOOKUP(X40,'Vejehold 2'!$A$7:$P$23,6,FALSE)/1000","v":{"$error":"#N/A"}},{"$f":"VLOOKUP(X40,'Vejehold 2'!$A$7:$P$23,6,FALSE)","v":{"$error":"#N/A"}},null,35,"1900-02-04",{"$f":"VLOOKUP(AC40,'Vejehold 3'!$A$7:$P$23,3,FALSE)*VLOOKUP(AC40,'Vejehold 3'!$A$7:$P$23,6,FALSE)/1000","v":{"$error":"#N/A"}},{"$f":"VLOOKUP(AC40,'Vejehold 3'!$A$7:$P$23,6,FALSE)","v":{"$error":"#N/A"}},null,35,"1900-02-04",{"$f":"VLOOKUP(AH40,'Vejehold 4'!$A$7:$P$23,3,FALSE)*VLOOKUP(AH40,'Vejehold 4'!$A$7:$P$23,6,FALSE)/1000","v":{"$error":"#N/A"}},{"$f":"VLOOKUP(AH40,'Vejehold 4'!$A$7:$P$23,6,FALSE)","v":{"$error":"#N/A"}},null,35,"1900-02-04",{"$f":"VLOOKUP(AM40,'Vejehold 5'!$A$7:$P$23,3,FALSE)*VLOOKUP(AM40,'Vejehold 5'!$A$7:$P$23,6,FALSE)/1000","v":{"$error":"#N/A"}},{"$f":"VLOOKUP(AM40,'Vejehold 5'!$A$7:$P$23,6,FALSE)","v":{"$error":"#N/A"}},null,35,"1900-02-04",{"$f":"VLOOKUP(AR40,'Vejehold 6'!$A$7:$P$23,3,FALSE)*VLOOKUP(AR40,'Vejehold 6'!$A$7:$P$23,6,FALSE)/1000","v":{"$error":"#N/A"}},{"$f":"VLOOKUP(AR40,'Vejehold 6'!$A$7:$P$23,6,FALSE)","v":{"$error":"#N/A"}}]
[null,null,null,null,null,null,null,null,null,null,null,null,null,null,null,null,null,36,"1900-02-05",{"$f":"VLOOKUP(S41,'Vejehold 1'!$A$7:$P$23,3,FALSE)*VLOOKUP(S41,'Vejehold 1'!$A$7:$P$23,6,FALSE)/1000","v":{"$error":"#N/A"}},{"$f":"VLOOKUP(S41,'Vejehold 1'!$A$7:$P$23,6,FALSE)","v":{"$error":"#N/A"}},null,36,"1900-02-05",{"$f":"VLOOKUP(X41,'Vejehold 2'!$A$7:$P$23,3,FALSE)*VLOOKUP(X41,'Vejehold 2'!$A$7:$P$23,6,FALSE)/1000","v":{"$error":"#N/A"}},{"$f":"VLOOKUP(X41,'Vejehold 2'!$A$7:$P$23,6,FALSE)","v":{"$error":"#N/A"}},null,36,"1900-02-05",{"$f":"VLOOKUP(AC41,'Vejehold 3'!$A$7:$P$23,3,FALSE)*VLOOKUP(AC41,'Vejehold 3'!$A$7:$P$23,6,FALSE)/1000","v":{"$error":"#N/A"}},{"$f":"VLOOKUP(AC41,'Vejehold 3'!$A$7:$P$23,6,FALSE)","v":{"$error":"#N/A"}},null,36,"1900-02-05",{"$f":"VLOOKUP(AH41,'Vejehold 4'!$A$7:$P$23,3,FALSE)*VLOOKUP(AH41,'Vejehold 4'!$A$7:$P$23,6,FALSE)/1000","v":{"$error":"#N/A"}},{"$f":"VLOOKUP(AH41,'Vejehold 4'!$A$7:$P$23,6,FALSE)","v":{"$error":"#N/A"}},null,36,"1900-02-05",{"$f":"VLOOKUP(AM41,'Vejehold 5'!$A$7:$P$23,3,FALSE)*VLOOKUP(AM41,'Vejehold 5'!$A$7:$P$23,6,FALSE)/1000","v":{"$error":"#N/A"}},{"$f":"VLOOKUP(AM41,'Vejehold 5'!$A$7:$P$23,6,FALSE)","v":{"$error":"#N/A"}},null,36,"1900-02-05",{"$f":"VLOOKUP(AR41,'Vejehold 6'!$A$7:$P$23,3,FALSE)*VLOOKUP(AR41,'Vejehold 6'!$A$7:$P$23,6,FALSE)/1000","v":{"$error":"#N/A"}},{"$f":"VLOOKUP(AR41,'Vejehold 6'!$A$7:$P$23,6,FALSE)","v":{"$error":"#N/A"}}]
[null,null,null,null,null,null,null,null,null,null,null,null,null,null,null,null,null,37,"1900-02-06",{"$f":"VLOOKUP(S42,'Vejehold 1'!$A$7:$P$23,3,FALSE)*VLOOKUP(S42,'Vejehold 1'!$A$7:$P$23,6,FALSE)/1000","v":{"$error":"#N/A"}},{"$f":"VLOOKUP(S42,'Vejehold 1'!$A$7:$P$23,6,FALSE)","v":{"$error":"#N/A"}},null,37,"1900-02-06",{"$f":"VLOOKUP(X42,'Vejehold 2'!$A$7:$P$23,3,FALSE)*VLOOKUP(X42,'Vejehold 2'!$A$7:$P$23,6,FALSE)/1000","v":{"$error":"#N/A"}},{"$f":"VLOOKUP(X42,'Vejehold 2'!$A$7:$P$23,6,FALSE)","v":{"$error":"#N/A"}},null,37,"1900-02-06",{"$f":"VLOOKUP(AC42,'Vejehold 3'!$A$7:$P$23,3,FALSE)*VLOOKUP(AC42,'Vejehold 3'!$A$7:$P$23,6,FALSE)/1000","v":{"$error":"#N/A"}},{"$f":"VLOOKUP(AC42,'Vejehold 3'!$A$7:$P$23,6,FALSE)","v":{"$error":"#N/A"}},null,37,"1900-02-06",{"$f":"VLOOKUP(AH42,'Vejehold 4'!$A$7:$P$23,3,FALSE)*VLOOKUP(AH42,'Vejehold 4'!$A$7:$P$23,6,FALSE)/1000","v":{"$error":"#N/A"}},{"$f":"VLOOKUP(AH42,'Vejehold 4'!$A$7:$P$23,6,FALSE)","v":{"$error":"#N/A"}},null,37,"1900-02-06",{"$f":"VLOOKUP(AM42,'Vejehold 5'!$A$7:$P$23,3,FALSE)*VLOOKUP(AM42,'Vejehold 5'!$A$7:$P$23,6,FALSE)/1000","v":{"$error":"#N/A"}},{"$f":"VLOOKUP(AM42,'Vejehold 5'!$A$7:$P$23,6,FALSE)","v":{"$error":"#N/A"}},null,37,"1900-02-06",{"$f":"VLOOKUP(AR42,'Vejehold 6'!$A$7:$P$23,3,FALSE)*VLOOKUP(AR42,'Vejehold 6'!$A$7:$P$23,6,FALSE)/1000","v":{"$error":"#N/A"}},{"$f":"VLOOKUP(AR42,'Vejehold 6'!$A$7:$P$23,6,FALSE)","v":{"$error":"#N/A"}}]
[null,null,null,null,null,null,null,null,null,null,null,null,null,null,null,null,null,38,"1900-02-07",{"$f":"VLOOKUP(S43,'Vejehold 1'!$A$7:$P$23,3,FALSE)*VLOOKUP(S43,'Vejehold 1'!$A$7:$P$23,6,FALSE)/1000","v":{"$error":"#N/A"}},{"$f":"VLOOKUP(S43,'Vejehold 1'!$A$7:$P$23,6,FALSE)","v":{"$error":"#N/A"}},null,38,"1900-02-07",{"$f":"VLOOKUP(X43,'Vejehold 2'!$A$7:$P$23,3,FALSE)*VLOOKUP(X43,'Vejehold 2'!$A$7:$P$23,6,FALSE)/1000","v":{"$error":"#N/A"}},{"$f":"VLOOKUP(X43,'Vejehold 2'!$A$7:$P$23,6,FALSE)","v":{"$error":"#N/A"}},null,38,"1900-02-07",{"$f":"VLOOKUP(AC43,'Vejehold 3'!$A$7:$P$23,3,FALSE)*VLOOKUP(AC43,'Vejehold 3'!$A$7:$P$23,6,FALSE)/1000","v":{"$error":"#N/A"}},{"$f":"VLOOKUP(AC43,'Vejehold 3'!$A$7:$P$23,6,FALSE)","v":{"$error":"#N/A"}},null,38,"1900-02-07",{"$f":"VLOOKUP(AH43,'Vejehold 4'!$A$7:$P$23,3,FALSE)*VLOOKUP(AH43,'Vejehold 4'!$A$7:$P$23,6,FALSE)/1000","v":{"$error":"#N/A"}},{"$f":"VLOOKUP(AH43,'Vejehold 4'!$A$7:$P$23,6,FALSE)","v":{"$error":"#N/A"}},null,38,"1900-02-07",{"$f":"VLOOKUP(AM43,'Vejehold 5'!$A$7:$P$23,3,FALSE)*VLOOKUP(AM43,'Vejehold 5'!$A$7:$P$23,6,FALSE)/1000","v":{"$error":"#N/A"}},{"$f":"VLOOKUP(AM43,'Vejehold 5'!$A$7:$P$23,6,FALSE)","v":{"$error":"#N/A"}},null,38,"1900-02-07",{"$f":"VLOOKUP(AR43,'Vejehold 6'!$A$7:$P$23,3,FALSE)*VLOOKUP(AR43,'Vejehold 6'!$A$7:$P$23,6,FALSE)/1000","v":{"$error":"#N/A"}},{"$f":"VLOOKUP(AR43,'Vejehold 6'!$A$7:$P$23,6,FALSE)","v":{"$error":"#N/A"}}]
[null,null,null,null,null,null,null,null,null,null,null,null,null,null,null,null,null,39,"1900-02-08",{"$f":"VLOOKUP(S44,'Vejehold 1'!$A$7:$P$23,3,FALSE)*VLOOKUP(S44,'Vejehold 1'!$A$7:$P$23,6,FALSE)/1000","v":{"$error":"#N/A"}},{"$f":"VLOOKUP(S44,'Vejehold 1'!$A$7:$P$23,6,FALSE)","v":{"$error":"#N/A"}},null,39,"1900-02-08",{"$f":"VLOOKUP(X44,'Vejehold 2'!$A$7:$P$23,3,FALSE)*VLOOKUP(X44,'Vejehold 2'!$A$7:$P$23,6,FALSE)/1000","v":{"$error":"#N/A"}},{"$f":"VLOOKUP(X44,'Vejehold 2'!$A$7:$P$23,6,FALSE)","v":{"$error":"#N/A"}},null,39,"1900-02-08",{"$f":"VLOOKUP(AC44,'Vejehold 3'!$A$7:$P$23,3,FALSE)*VLOOKUP(AC44,'Vejehold 3'!$A$7:$P$23,6,FALSE)/1000","v":{"$error":"#N/A"}},{"$f":"VLOOKUP(AC44,'Vejehold 3'!$A$7:$P$23,6,FALSE)","v":{"$error":"#N/A"}},null,39,"1900-02-08",{"$f":"VLOOKUP(AH44,'Vejehold 4'!$A$7:$P$23,3,FALSE)*VLOOKUP(AH44,'Vejehold 4'!$A$7:$P$23,6,FALSE)/1000","v":{"$error":"#N/A"}},{"$f":"VLOOKUP(AH44,'Vejehold 4'!$A$7:$P$23,6,FALSE)","v":{"$error":"#N/A"}},null,39,"1900-02-08",{"$f":"VLOOKUP(AM44,'Vejehold 5'!$A$7:$P$23,3,FALSE)*VLOOKUP(AM44,'Vejehold 5'!$A$7:$P$23,6,FALSE)/1000","v":{"$error":"#N/A"}},{"$f":"VLOOKUP(AM44,'Vejehold 5'!$A$7:$P$23,6,FALSE)","v":{"$error":"#N/A"}},null,39,"1900-02-08",{"$f":"VLOOKUP(AR44,'Vejehold 6'!$A$7:$P$23,3,FALSE)*VLOOKUP(AR44,'Vejehold 6'!$A$7:$P$23,6,FALSE)/1000","v":{"$error":"#N/A"}},{"$f":"VLOOKUP(AR44,'Vejehold 6'!$A$7:$P$23,6,FALSE)","v":{"$error":"#N/A"}}]
[null,"Daglig tilvækst, kuld",null,null,null,null,null,null,null,null,null,null,null,null,null,null,null,40,"1900-02-09",{"$f":"VLOOKUP(S45,'Vejehold 1'!$A$7:$P$23,3,FALSE)*VLOOKUP(S45,'Vejehold 1'!$A$7:$P$23,6,FALSE)/1000","v":{"$error":"#N/A"}},{"$f":"VLOOKUP(S45,'Vejehold 1'!$A$7:$P$23,6,FALSE)","v":{"$error":"#N/A"}},null,40,"1900-02-09",{"$f":"VLOOKUP(X45,'Vejehold 2'!$A$7:$P$23,3,FALSE)*VLOOKUP(X45,'Vejehold 2'!$A$7:$P$23,6,FALSE)/1000","v":{"$error":"#N/A"}},{"$f":"VLOOKUP(X45,'Vejehold 2'!$A$7:$P$23,6,FALSE)","v":{"$error":"#N/A"}},null,40,"1900-02-09",{"$f":"VLOOKUP(AC45,'Vejehold 3'!$A$7:$P$23,3,FALSE)*VLOOKUP(AC45,'Vejehold 3'!$A$7:$P$23,6,FALSE)/1000","v":{"$error":"#N/A"}},{"$f":"VLOOKUP(AC45,'Vejehold 3'!$A$7:$P$23,6,FALSE)","v":{"$error":"#N/A"}},null,40,"1900-02-09",{"$f":"VLOOKUP(AH45,'Vejehold 4'!$A$7:$P$23,3,FALSE)*VLOOKUP(AH45,'Vejehold 4'!$A$7:$P$23,6,FALSE)/1000","v":{"$error":"#N/A"}},{"$f":"VLOOKUP(AH45,'Vejehold 4'!$A$7:$P$23,6,FALSE)","v":{"$error":"#N/A"}},null,40,"1900-02-09",{"$f":"VLOOKUP(AM45,'Vejehold 5'!$A$7:$P$23,3,FALSE)*VLOOKUP(AM45,'Vejehold 5'!$A$7:$P$23,6,FALSE)/1000","v":{"$error":"#N/A"}},{"$f":"VLOOKUP(AM45,'Vejehold 5'!$A$7:$P$23,6,FALSE)","v":{"$error":"#N/A"}},null,40,"1900-02-09",{"$f":"VLOOKUP(AR45,'Vejehold 6'!$A$7:$P$23,3,FALSE)*VLOOKUP(AR45,'Vejehold 6'!$A$7:$P$23,6,FALSE)/1000","v":{"$error":"#N/A"}},{"$f":"VLOOKUP(AR45,'Vejehold 6'!$A$7:$P$23,6,FALSE)","v":{"$error":"#N/A"}}]
[null,"Dag","Hold 1","Hold 2","Hold 3","Hold 4","Hold 5","Hold 6"]
[null,7,{"$f":"IFERROR('Vejehold 1'!$F8*'Vejehold 1'!$C8/1000,0)","v":0},{"$f":"IFERROR('Vejehold 2'!$F8*'Vejehold 2'!$C8/1000,0)","v":0},{"$f":"IFERROR('Vejehold 3'!$F8*'Vejehold 3'!$C8/1000,0)","v":0},{"$f":"IFERROR('Vejehold 4'!$F8*'Vejehold 4'!$C8/1000,0)","v":0},{"$f":"IFERROR('Vejehold 5'!$F8*'Vejehold 5'!$C8/1000,0)","v":0},{"$f":"IFERROR('Vejehold 6'!$F8*'Vejehold 6'!$C8/1000,0)","v":0}]
[null,14,{"$f":"IFERROR('Vejehold 1'!$F9*'Vejehold 1'!$C9/1000,0)","v":0},{"$f":"IFERROR('Vejehold 2'!$F9*'Vejehold 2'!$C9/1000,0)","v":0},{"$f":"IFERROR('Vejehold 3'!$F9*'Vejehold 3'!$C9/1000,0)","v":0},{"$f":"IFERROR('Vejehold 4'!$F9*'Vejehold 4'!$C9/1000,0)","v":0},{"$f":"IFERROR('Vejehold 5'!$F9*'Vejehold 5'!$C9/1000,0)","v":0},{"$f":"IFERROR('Vejehold 6'!$F9*'Vejehold 6'!$C9/1000,0)","v":0}]
[null,21,{"$f":"IFERROR('Vejehold 1'!$F10*'Vejehold 1'!$C10/1000,0)","v":0},{"$f":"IFERROR('Vejehold 2'!$F10*'Vejehold 2'!$C10/1000,0)","v":0},{"$f":"IFERROR('Vejehold 3'!$F10*'Vejehold 3'!$C10/1000,0)","v":0},{"$f":"IFERROR('Vejehold 4'!$F10*'Vejehold 4'!$C10/1000,0)","v":0},{"$f":"IFERROR('Vejehold 5'!$F10*'Vejehold 5'!$C10/1000,0)","v":0},{"$f":"IFERROR('Vejehold 6'!$F10*'Vejehold 6'!$C10/1000,0)","v":0}]
[null,28,{"$f":"IFERROR('Vejehold 1'!$F11*'Vejehold 1'!$C11/1000,0)","v":0},{"$f":"IFERROR('Vejehold 2'!$F11*'Vejehold 2'!$C11/1000,0)","v":0},{"$f":"IFERROR('Vejehold 3'!$F11*'Vejehold 3'!$C11/1000,0)","v":0},{"$f":"IFERROR('Vejehold 4'!$F11*'Vejehold 4'!$C11/1000,0)","v":0},{"$f":"IFERROR('Vejehold 5'!$F11*'Vejehold 5'!$C11/1000,0)","v":0},{"$f":"IFERROR('Vejehold 6'!$F11*'Vejehold 6'!$C11/1000,0)","v":0}]
[null,35,{"$f":"IFERROR('Vejehold 1'!$F12*'Vejehold 1'!$C12/1000,0)","v":0},{"$f":"IFERROR('Vejehold 2'!$F12*'Vejehold 2'!$C12/1000,0)","v":0},{"$f":"IFERROR('Vejehold 3'!$F12*'Vejehold 3'!$C12/1000,0)","v":0},{"$f":"IFERROR('Vejehold 4'!$F12*'Vejehold 4'!$C12/1000,0)","v":0},{"$f":"IFERROR('Vejehold 5'!$F12*'Vejehold 5'!$C12/1000,0)","v":0},{"$f":"IFERROR('Vejehold 6'!$F12*'Vejehold 6'!$C12/1000,0)","v":0}]
[null,42,{"$f":"IFERROR('Vejehold 1'!$F13*'Vejehold 1'!$C13/1000,0)","v":0},{"$f":"IFERROR('Vejehold 2'!$F13*'Vejehold 2'!$C13/1000,0)","v":0},{"$f":"IFERROR('Vejehold 3'!$F13*'Vejehold 3'!$C13/1000,0)","v":0},{"$f":"IFERROR('Vejehold 4'!$F13*'Vejehold 4'!$C13/1000,0)","v":0},{"$f":"IFERROR('Vejehold 5'!$F13*'Vejehold 5'!$C13/1000,0)","v":0},{"$f":"IFERROR('Vejehold 6'!$F13*'Vejehold 6'!$C13/1000,0)","v":0}]
[null,49,{"$f":"IFERROR('Vejehold 1'!$F14*'Vejehold 1'!$C14/1000,0)","v":0},{"$f":"IFERROR('Vejehold 2'!$F14*'Vejehold 2'!$C14/1000,0)","v":0},{"$f":"IFERROR('Vejehold 3'!$F14*'Vejehold 3'!$C14/1000,0)","v":0},{"$f":"IFERROR('Vejehold 4'!$F14*'Vejehold 4'!$C14/1000,0)","v":0},{"$f":"IFERROR('Vejehold 5'!$F14*'Vejehold 5'!$C14/1000,0)","v":0},{"$f":"IFERROR('Vejehold 6'!$F14*'Vejehold 6'!$C14/1000,0)","v":0}]
[null,56,{"$f":"IFERROR('Vejehold 1'!$F15*'Vejehold 1'!$C15/1000,0)","v":0},{"$f":"IFERROR('Vejehold 2'!$F15*'Vejehold 2'!$C15/1000,0)","v":0},{"$f":"IFERROR('Vejehold 3'!$F15*'Vejehold 3'!$C15/1000,0)","v":0},{"$f":"IFERROR('Vejehold 4'!$F15*'Vejehold 4'!$C15/1000,0)","v":0},{"$f":"IFERROR('Vejehold 5'!$F15*'Vejehold 5'!$C15/1000,0)","v":0},{"$f":"IFERROR('Vejehold 6'!$F15*'Vejehold 6'!$C15/1000,0)","v":0}]
[null,63,{"$f":"IFERROR('Vejehold 1'!$F16*'Vejehold 1'!$C16/1000,0)","v":0},{"$f":"IFERROR('Vejehold 2'!$F16*'Vejehold 2'!$C16/1000,0)","v":0},{"$f":"IFERROR('Vejehold 3'!$F16*'Vejehold 3'!$C16/1000,0)","v":0},{"$f":"IFERROR('Vejehold 4'!$F16*'Vejehold 4'!$C16/1000,0)","v":0},{"$f":"IFERROR('Vejehold 5'!$F16*'Vejehold 5'!$C16/1000,0)","v":0},{"$f":"IFERROR('Vejehold 6'!$F16*'Vejehold 6'!$C16/1000,0)","v":0}]
[null,70,{"$f":"IFERROR('Vejehold 1'!$F17*'Vejehold 1'!$C17/1000,0)","v":0},{"$f":"IFERROR('Vejehold 2'!$F17*'Vejehold 2'!$C17/1000,0)","v":0},{"$f":"IFERROR('Vejehold 3'!$F17*'Vejehold 3'!$C17/1000,0)","v":0},{"$f":"IFERROR('Vejehold 4'!$F17*'Vejehold 4'!$C17/1000,0)","v":0},{"$f":"IFERROR('Vejehold 5'!$F17*'Vejehold 5'!$C17/1000,0)","v":0},{"$f":"IFERROR('Vejehold 6'!$F17*'Vejehold 6'!$C17/1000,0)","v":0}]
[null,77,{"$f":"IFERROR('Vejehold 1'!$F18*'Vejehold 1'!$C18/1000,0)","v":0},{"$f":"IFERROR('Vejehold 2'!$F18*'Vejehold 2'!$C18/1000,0)","v":0},{"$f":"IFERROR('Vejehold 3'!$F18*'Vejehold 3'!$C18/1000,0)","v":0},{"$f":"IFERROR('Vejehold 4'!$F18*'Vejehold 4'!$C18/1000,0)","v":0},{"$f":"IFERROR('Vejehold 5'!$F18*'Vejehold 5'!$C18/1000,0)","v":0},{"$f":"IFERROR('Vejehold 6'!$F18*'Vejehold 6'!$C18/1000,0)","v":0}]
[null,84,{"$f":"IFERROR('Vejehold 1'!$F19*'Vejehold 1'!$C19/1000,0)","v":0},{"$f":"IFERROR('Vejehold 2'!$F19*'Vejehold 2'!$C19/1000,0)","v":0},{"$f":"IFERROR('Vejehold 3'!$F19*'Vejehold 3'!$C19/1000,0)","v":0},{"$f":"IFERROR('Vejehold 4'!$F19*'Vejehold 4'!$C19/1000,0)","v":0},{"$f":"IFERROR('Vejehold 5'!$F19*'Vejehold 5'!$C19/1000,0)","v":0},{"$f":"IFERROR('Vejehold 6'!$F19*'Vejehold 6'!$C19/1000,0)","v":0}]
[null,91,{"$f":"IFERROR('Vejehold 1'!$F20*'Vejehold 1'!$C20/1000,0)","v":0},{"$f":"IFERROR('Vejehold 2'!$F20*'Vejehold 2'!$C20/1000,0)","v":0},{"$f":"IFERROR('Vejehold 3'!$F20*'Vejehold 3'!$C20/1000,0)","v":0},{"$f":"IFERROR('Vejehold 4'!$F20*'Vejehold 4'!$C20/1000,0)","v":0},{"$f":"IFERROR('Vejehold 5'!$F20*'Vejehold 5'!$C20/1000,0)","v":0},{"$f":"IFERROR('Vejehold 6'!$F20*'Vejehold 6'!$C20/1000,0)","v":0}]
[null,98,{"$f":"IFERROR('Vejehold 1'!$F21*'Vejehold 1'!$C21/1000,0)","v":0},{"$f":"IFERROR('Vejehold 2'!$F21*'Vejehold 2'!$C21/1000,0)","v":0},{"$f":"IFERROR('Vejehold 3'!$F21*'Vejehold 3'!$C21/1000,0)","v":0},{"$f":"IFERROR('Vejehold 4'!$F21*'Vejehold 4'!$C21/1000,0)","v":0},{"$f":"IFERROR('Vejehold 5'!$F21*'Vejehold 5'!$C21/1000,0)","v":0},{"$f":"IFERROR('Vejehold 6'!$F21*'Vejehold 6'!$C21/1000,0)","v":0}]
[]
[null,"Daglig tilvækst, pattegris"]
[null,"Dag","Hold 1","Hold 2","Hold 3","Hold 4","Hold 5","Hold 6"]
[null,7,{"$f":"'Vejehold 1'!$F8","v":0},{"$f":"'Vejehold 2'!$F8","v":0},{"$f":"'Vejehold 3'!$F8","v":0},{"$f":"'Vejehold 4'!$F8","v":0},{"$f":"'Vejehold 5'!$F8","v":0},{"$f":"'Vejehold 6'!$F8","v":0}]
[null,14,{"$f":"'Vejehold 1'!$F9","v":0},{"$f":"'Vejehold 2'!$F9","v":0},{"$f":"'Vejehold 3'!$F9","v":0},{"$f":"'Vejehold 4'!$F9","v":0},{"$f":"'Vejehold 5'!$F9","v":0},{"$f":"'Vejehold 6'!$F9","v":0}]
[null,21,{"$f":"'Vejehold 1'!$F10","v":0},{"$f":"'Vejehold 2'!$F10","v":0},{"$f":"'Vejehold 3'!$F10","v":0},{"$f":"'Vejehold 4'!$F10","v":0},{"$f":"'Vejehold 5'!$F10","v":0},{"$f":"'Vejehold 6'!$F10","v":0}]
[null,28,{"$f":"'Vejehold 1'!$F11","v":0},{"$f":"'Vejehold 2'!$F11","v":0},{"$f":"'Vejehold 3'!$F11","v":0},{"$f":"'Vejehold 4'!$F11","v":0},{"$f":"'Vejehold 5'!$F11","v":0},{"$f":"'Vejehold 6'!$F11","v":0}]
[null,35,{"$f":"'Vejehold 1'!$F12","v":0},{"$f":"'Vejehold 2'!$F12","v":0},{"$f":"'Vejehold 3'!$F12","v":0},{"$f":"'Vejehold 4'!$F12","v":0},{"$f":"'Vejehold 5'!$F12","v":0},{"$f":"'Vejehold 6'!$F12","v":0}]
[null,42,{"$f":"'Vejehold 1'!$F13","v":0},{"$f":"'Vejehold 2'!$F13","v":0},{"$f":"'Vejehold 3'!$F13","v":0},{"$f":"'Vejehold 4'!$F13","v":0},{"$f":"'Vejehold 5'!$F13","v":0},{"$f":"'Vejehold 6'!$F13","v":0}]
[null,49,{"$f":"'Vejehold 1'!$F14","v":0},{"$f":"'Vejehold 2'!$F14","v":0},{"$f":"'Vejehold 3'!$F14","v":0},{"$f":"'Vejehold 4'!$F14","v":0},{"$f":"'Vejehold 5'!$F14","v":0},{"$f":"'Vejehold 6'!$F14","v":0}]
[null,56,{"$f":"'Vejehold 1'!$F15","v":0},{"$f":"'Vejehold 2'!$F15","v":0},{"$f":"'Vejehold 3'!$F15","v":0},{"$f":"'Vejehold 4'!$F15","v":0},{"$f":"'Vejehold 5'!$F15","v":0},{"$f":"'Vejehold 6'!$F15","v":0}]
[null,63,{"$f":"'Vejehold 1'!$F16","v":0},{"$f":"'Vejehold 2'!$F16","v":0},{"$f":"'Vejehold 3'!$F16","v":0},{"$f":"'Vejehold 4'!$F16","v":0},{"$f":"'Vejehold 5'!$F16","v":0},{"$f":"'Vejehold 6'!$F16","v":0}]
[null,70,{"$f":"'Vejehold 1'!$F17","v":0},{"$f":"'Vejehold 2'!$F17","v":0},{"$f":"'Vejehold 3'!$F17","v":0},{"$f":"'Vejehold 4'!$F17","v":0},{"$f":"'Vejehold 5'!$F17","v":0},{"$f":"'Vejehold 6'!$F17","v":0}]
[null,77,{"$f":"'Vejehold 1'!$F18","v":0},{"$f":"'Vejehold 2'!$F18","v":0},{"$f":"'Vejehold 3'!$F18","v":0},{"$f":"'Vejehold 4'!$F18","v":0},{"$f":"'Vejehold 5'!$F18","v":0},{"$f":"'Vejehold 6'!$F18","v":0}]
[null,84,{"$f":"'Vejehold 1'!$F19","v":0},{"$f":"'Vejehold 2'!$F19","v":0},{"$f":"'Vejehold 3'!$F19","v":0},{"$f":"'Vejehold 4'!$F19","v":0},{"$f":"'Vejehold 5'!$F19","v":0},{"$f":"'Vejehold 6'!$F19","v":0}]
[null,91,{"$f":"'Vejehold 1'!$F20","v":0},{"$f":"'Vejehold 2'!$F20","v":0},{"$f":"'Vejehold 3'!$F20","v":0},{"$f":"'Vejehold 4'!$F20","v":0},{"$f":"'Vejehold 5'!$F20","v":0},{"$f":"'Vejehold 6'!$F20","v":0}]
[null,98,{"$f":"'Vejehold 1'!$F21","v":0},{"$f":"'Vejehold 2'!$F21","v":0},{"$f":"'Vejehold 3'!$F21","v":0},{"$f":"'Vejehold 4'!$F21","v":0},{"$f":"'Vejehold 5'!$F21","v":0},{"$f":"'Vejehold 6'!$F21","v":0}]

{"sheet":"Vejeskema, staldgang","index":10,"n_rows":16,"n_cols":18,"rows_kept":16,"cut":false,"hidden":false,"merged":[[1,2,1,3],[1,4,1,5],[1,16,1,17]]}
[]
[null,null,"Vægt, kg",null,"Daglig tilv.",null,null,null,null,null,null,null,null,null,null,null,"Manuelt skema til print"]
[null,"Dag","Forventet","Opnået","Forventet","Opnået"]
[null,7,{"$f":"IF($R$4=\"Slagtesvin\",VLOOKUP('Vejeskema, staldgang'!$B4,'Gompertz Slagtesvin Vejeskema'!$A$10:$C$168,2,FALSE),VLOOKUP('Vejeskema, staldgang'!$B4,'Gompertz Smågrise Vejeskema'!$A$10:$C$146,2,FALSE))","v":33.938940689716077},null,{"$f":"IF($R$4=\"Slagtesvin\",VLOOKUP('Vejeskema, staldgang'!$B4,'Gompertz Slagtesvin Vejeskema'!$A$10:$C$168,3,FALSE),VLOOKUP('Vejeskema, staldgang'!$B4,'Gompertz Smågrise Vejeskema'!$A$10:$C$146,3,FALSE))","v":743.30540616536211},null,null,null,null,null,null,null,null,null,null,null,"Vælg dyregruppe","Slagtesvin"]
[null,14,{"$f":"IF($R$4=\"Slagtesvin\",VLOOKUP('Vejeskema, staldgang'!$B5,'Gompertz Slagtesvin Vejeskema'!$A$10:$C$168,2,FALSE),VLOOKUP('Vejeskema, staldgang'!$B5,'Gompertz Smågrise Vejeskema'!$A$10:$C$146,2,FALSE))","v":39.35601076908663},null,{"$f":"IF($R$4=\"Slagtesvin\",VLOOKUP('Vejeskema, staldgang'!$B5,'Gompertz Slagtesvin Vejeskema'!$A$10:$C$168,3,FALSE),VLOOKUP('Vejeskema, staldgang'!$B5,'Gompertz Smågrise Vejeskema'!$A$10:$C$146,3,FALSE))","v":795.9862097257826},null,null,null,null,null,null,null,null,null,null,null,"Indsættelsesvægt =",30]
[null,21,{"$f":"IF($R$4=\"Slagtesvin\",VLOOKUP('Vejeskema, staldgang'!$B6,'Gompertz Slagtesvin Vejeskema'!$A$10:$C$168,2,FALSE),VLOOKUP('Vejeskema, staldgang'!$B6,'Gompertz Smågrise Vejeskema'!$A$10:$C$146,2,FALSE))","v":45.118196182516186},null,{"$f":"IF($R$4=\"Slagtesvin\",VLOOKUP('Vejeskema, staldgang'!$B6,'Gompertz Slagtesvin Vejeskema'!$A$10:$C$168,3,FALSE),VLOOKUP('Vejeskema, staldgang'!$B6,'Gompertz Smågrise Vejeskema'!$A$10:$C$146,3,FALSE))","v":842.64203505516377},null,null,null,null,null,null,null,null,null,null,null,{"$f":"IF(R4=\"Slagtesvin\",\"Dgl tilv 30-100 kg =\",\"Dgl tilv 7-30 kg =\")","v":"Dgl tilv 30-100 kg ="},900]
[null,28,{"$f":"IF($R$4=\"Slagtesvin\",VLOOKUP('Vejeskema, staldgang'!$B7,'Gompertz Slagtesvin Vejeskema'!$A$10:$C$168,2,FALSE),VLOOKUP('Vejeskema, staldgang'!$B7,'Gompertz Smågrise Vejeskema'!$A$10:$C$146,2,FALSE))","v":51.180515915089842},null,{"$f":"IF($R$4=\"Slagtesvin\",VLOOKUP('Vejeskema, staldgang'!$B7,'Gompertz Slagtesvin Vejeskema'!$A$10:$C$168,3,FALSE),VLOOKUP('Vejeskema, staldgang'!$B7,'Gompertz Smågrise Vejeskema'!$A$10:$C$146,3,FALSE))","v":882.60547485670315}]
[null,35,{"$f":"IF($R$4=\"Slagtesvin\",VLOOKUP('Vejeskema, staldgang'!$B8,'Gompertz Slagtesvin Vejeskema'!$A$10:$C$168,2,FALSE),VLOOKUP('Vejeskema, staldgang'!$B8,'Gompertz Smågrise Vejeskema'!$A$10:$C$146,2,FALSE))","v":57.494267979474621},null,{"$f":"IF($R$4=\"Slagtesvin\",VLOOKUP('Vejeskema, staldgang'!$B8,'Gompertz Slagtesvin Vejeskema'!$A$10:$C$168,3,FALSE),VLOOKUP('Vejeskema, staldgang'!$B8,'Gompertz Smågrise Vejeskema'!$A$10:$C$146,3,FALSE))","v":915.44602915796963}]
[null,42,{"$f":"IF($R$4=\"Slagtesvin\",VLOOKUP('Vejeskema, staldgang'!$B9,'Gompertz Slagtesvin Vejeskema'!$A$10:$C$168,2,FALSE),VLOOKUP('Vejeskema, staldgang'!$B9,'Gompertz Smågrise Vejeskema'!$A$10:$C$146,2,FALSE))","v":64.008648929537316},null,{"$f":"IF($R$4=\"Slagtesvin\",VLOOKUP('Vejeskema, staldgang'!$B9,'Gompertz Slagtesvin Vejeskema'!$A$10:$C$168,3,FALSE),VLOOKUP('Vejeskema, staldgang'!$B9,'Gompertz Smågrise Vejeskema'!$A$10:$C$146,3,FALSE))","v":940.95886610071489}]
[null,49,{"$f":"IF($R$4=\"Slagtesvin\",VLOOKUP('Vejeskema, staldgang'!$B10,'Gompertz Slagtesvin Vejeskema'!$A$10:$C$168,2,FALSE),VLOOKUP('Vejeskema, staldgang'!$B10,'Gompertz Smågrise Vejeskema'!$A$10:$C$146,2,FALSE))","v":70.672256172934667},null,{"$f":"IF($R$4=\"Slagtesvin\",VLOOKUP('Vejeskema, staldgang'!$B10,'Gompertz Slagtesvin Vejeskema'!$A$10:$C$168,3,FALSE),VLOOKUP('Vejeskema, staldgang'!$B10,'Gompertz Smågrise Vejeskema'!$A$10:$C$146,3,FALSE))","v":959.14438208851038}]
[null,56,{"$f":"IF($R$4=\"Slagtesvin\",VLOOKUP('Vejeskema, staldgang'!$B11,'Gompertz Slagtesvin Vejeskema'!$A$10:$C$168,2,FALSE),VLOOKUP('Vejeskema, staldgang'!$B11,'Gompertz Smågrise Vejeskema'!$A$10:$C$146,2,FALSE))","v":77.434420634816902},null,{"$f":"IF($R$4=\"Slagtesvin\",VLOOKUP('Vejeskema, staldgang'!$B11,'Gompertz Slagtesvin Vejeskema'!$A$10:$C$168,3,FALSE),VLOOKUP('Vejeskema, staldgang'!$B11,'Gompertz Smågrise Vejeskema'!$A$10:$C$146,3,FALSE))","v":970.1815325809946}]
[null,63,{"$f":"IF($R$4=\"Slagtesvin\",VLOOKUP('Vejeskema, staldgang'!$B12,'Gompertz Slagtesvin Vejeskema'!$A$10:$C$168,2,FALSE),VLOOKUP('Vejeskema, staldgang'!$B12,'Gompertz Smågrise Vejeskema'!$A$10:$C$146,2,FALSE))","v":84.246337304006133},null,{"$f":"IF($R$4=\"Slagtesvin\",VLOOKUP('Vejeskema, staldgang'!$B12,'Gompertz Slagtesvin Vejeskema'!$A$10:$C$168,3,FALSE),VLOOKUP('Vejeskema, staldgang'!$B12,'Gompertz Smågrise Vejeskema'!$A$10:$C$146,3,FALSE))","v":974.3976704612578}]
[null,70,{"$f":"IF($R$4=\"Slagtesvin\",VLOOKUP('Vejeskema, staldgang'!$B13,'Gompertz Slagtesvin Vejeskema'!$A$10:$C$168,2,FALSE),VLOOKUP('Vejeskema, staldgang'!$B13,'Gompertz Smågrise Vejeskema'!$A$10:$C$146,2,FALSE))","v":91.061978839353884},null,{"$f":"IF($R$4=\"Slagtesvin\",VLOOKUP('Vejeskema, staldgang'!$B13,'Gompertz Slagtesvin Vejeskema'!$A$10:$C$168,3,FALSE),VLOOKUP('Vejeskema, staldgang'!$B13,'Gompertz Smågrise Vejeskema'!$A$10:$C$146,3,FALSE))","v":972.23723423067554}]
[null,77,{"$f":"IF($R$4=\"Slagtesvin\",VLOOKUP('Vejeskema, staldgang'!$B14,'Gompertz Slagtesvin Vejeskema'!$A$10:$C$168,2,FALSE),VLOOKUP('Vejeskema, staldgang'!$B14,'Gompertz Smågrise Vejeskema'!$A$10:$C$146,2,FALSE))","v":97.838791941735408},null,{"$f":"IF($R$4=\"Slagtesvin\",VLOOKUP('Vejeskema, staldgang'!$B14,'Gompertz Slagtesvin Vejeskema'!$A$10:$C$168,3,FALSE),VLOOKUP('Vejeskema, staldgang'!$B14,'Gompertz Smågrise Vejeskema'!$A$10:$C$146,3,FALSE))","v":964.23115515621305}]
[null,84,{"$f":"IF($R$4=\"Slagtesvin\",VLOOKUP('Vejeskema, staldgang'!$B15,'Gompertz Slagtesvin Vejeskema'!$A$10:$C$168,2,FALSE),VLOOKUP('Vejeskema, staldgang'!$B15,'Gompertz Smågrise Vejeskema'!$A$10:$C$146,2,FALSE))","v":104.53818732477433},null,{"$f":"IF($R$4=\"Slagtesvin\",VLOOKUP('Vejeskema, staldgang'!$B15,'Gompertz Slagtesvin Vejeskema'!$A$10:$C$168,3,FALSE),VLOOKUP('Vejeskema, staldgang'!$B15,'Gompertz Smågrise Vejeskema'!$A$10:$C$146,3,FALSE))","v":950.96836512286131}]
[null,91,{"$f":"IF($R$4=\"Slagtesvin\",VLOOKUP('Vejeskema, staldgang'!$B16,'Gompertz Slagtesvin Vejeskema'!$A$10:$C$168,2,FALSE),VLOOKUP('Vejeskema, staldgang'!$B16,'Gompertz Smågrise Vejeskema'!$A$10:$C$146,2,FALSE))","v":111.12584193697923},null,{"$f":"IF($R$4=\"Slagtesvin\",VLOOKUP('Vejeskema, staldgang'!$B16,'Gompertz Slagtesvin Vejeskema'!$A$10:$C$168,3,FALSE),VLOOKUP('Vejeskema, staldgang'!$B16,'Gompertz Smågrise Vejeskema'!$A$10:$C$146,3,FALSE))","v":933.0703306279986}]

{"sheet":"Gompertz Slagtesvin","index":11,"n_rows":170,"n_cols":54,"rows_kept":170,"cut":false,"hidden":false,"merged":[[2,11,2,13],[3,11,3,13],[4,11,4,13]]}
["Regneark til beregning af tilvækst og foderforbrug. Der inddateres  "]
["Indsættelsesvægt, daglig tilvækst 30-100 kg og FEsv/kg tilvækst 30-100 kg",null,null,null,null,null,null,"FEsv/kg 30-100 kg",null,2.8,null,"Opstartsfunktion"]
["Specialligning 0-14 dage, derefter Gompertz vækstfunktion",null,null,null,null,null,null,"Vægtkorrektionsfaktor",null,{"$f":" 0.018+(J2-2.73)*0.0165","v":1.9154999999999995E-2},null,"foder dag 1",null,null,65]
[null,null,null,null,null,null,null,null,null,null,null,"foder dag 2",null,null,85]
[null,null,null,null,null,null,null,null,null,null,null,"foder dag 3",null,null,93]
["Vejehold","Hold 1","Hold 2","Hold 3","Hold 4","Hold 5","Hold 6"]
["Indsættelsesvægt =",{"$f":"'Vejehold 1'!$E$7","v":0},{"$f":"'Vejehold 2'!$E$7","v":0},{"$f":"'Vejehold 3'!$E$7","v":0},{"$f":"'Vejehold 4'!$E$7","v":0},{"$f":"'Vejehold 5'!$E$7","v":0},{"$f":"'Vejehold 6'!$E$7","v":0}]
["Dgl tilv 30-100 kg =",900,900,900,900,900,900]
["Vækstrate",{"$f":"0.00115+B8/87000","v":1.1494827586206896E-2},1.1494827586206896E-2,1.1494827586206896E-2,1.1494827586206896E-2,1.1494827586206896E-2,1.1494827586206896E-2]
[null,null,null,null,null,null,null,null,null,"Hold nr",1,null,null,"Hold nr ",2,null,null,"Hold nr ",3,null,null,"Hold nr ",4,null,null,"Hold nr ",5,null,null,"Hold nr ",6,null,null,null,"Hold 1","Hold 2","Hold 3","Hold 4","Hold 5","Hold 6",null,"Hold 1","Hold 2","Hold 3","Hold 4","Hold 5","Hold 6",null,"Hold 1","Hold 2","Hold 3","Hold 4","Hold 5","Hold 6"]
["Dag","vægt","vægt","vægt","vægt","vægt","vægt",null,"Dag","dgl tilv","FEs/kg","FEs/dag",null,"dgl tilv","FEs/kg","FEs/dag",null,"dgl tilv","FEs/kg","FEs/dag",null,"dgl tilv","FEs/kg","FEs/dag",null,"dgl tilv","FEs/kg","FEs/dag",null,"dgl tilv","FEs/kg","FEs/dag",null,"Dag","dgl tilv","dgl tilv","dgl tilv","dgl tilv","dgl tilv","dgl tilv","Dag","FEs/kg","FEs/kg","FEs/kg","FEs/kg","FEs/kg","FEs/kg","Dag","FEs/dag","FEs/dag","FEs/dag","FEs/dag","FEs/dag","FEs/dag"]
[1,{"$f":"IFERROR( B7,0)","v":0},0,0,0,0,0,null,7,{"$f":"IFERROR( VLOOKUP($I12,$AH$12:$AN$170,$K$10+1,FALSE),0)","v":0},{"$f":"IFERROR( VLOOKUP($I12,$AO$12:$AU$170,$K$10+1,FALSE),0)","v":0},{"$f":"IFERROR( VLOOKUP($I12,$AV$12:$BB$170,$K$10+1,FALSE),0)","v":0},null,{"$f":"IFERROR( VLOOKUP($I12,$AH$12:$AN$170,$O$10+1,FALSE),0)","v":0},{"$f":"IFERROR( VLOOKUP($I12,$AO$12:$AU$170,$O$10+1,FALSE),0)","v":0},{"$f":"IFERROR( VLOOKUP($I12,$AV$12:$BB$170,$O$10+1,FALSE),0)","v":0},null,{"$f":"IFERROR( VLOOKUP($I12,$AH$12:$AN$170,$S$10+1,FALSE),0)","v":0},{"$f":"IFERROR( VLOOKUP($I12,$AO$12:$AU$170,$S$10+1,FALSE),0)","v":0},{"$f":"IFERROR( VLOOKUP($I12,$AV$12:$BB$170,$S$10+1,FALSE),0)","v":0},null,{"$f":"IFERROR( VLOOKUP($I12,$AH$12:$AN$170,$W$10+1,FALSE),0)","v":0},{"$f":"IFERROR( VLOOKUP($I12,$AO$12:$AU$170,$W$10+1,FALSE),0)","v":0},{"$f":"IFERROR( VLOOKUP($I12,$AV$12:$BB$170,$W$10+1,FALSE),0)","v":0},null,{"$f":"IFERROR( VLOOKUP($I12,$AH$12:$AN$170,$AA$10+1,FALSE),0)","v":0},{"$f":"IFERROR( VLOOKUP($I12,$AO$12:$AU$170,$AA$10+1,FALSE),0)","v":0},{"$f":"IFERROR( VLOOKUP($I12,$AV$12:$BB$170,$AA$10+1,FALSE),0)","v":0},null,{"$f":"IFERROR( VLOOKUP($I12,$AH$12:$AN$170,$AE$10+1,FALSE),0)","v":0},{"$f":"IFERROR( VLOOKUP($I12,$AO$12:$AU$170,$AE$10+1,FALSE),0)","v":0},{"$f":"IFERROR( VLOOKUP($I12,$AV$12:$BB$170,$AE$10+1,FALSE),0)","v":0},null,{"$f":"$A12","v":1},null,null,null,null,null,null,{"$f":"$A12","v":1},null,null,null,null,null,null,{"$f":"$A12","v":1}]
[2,{"$f":"IFERROR( EXP(5.44-(5.44-LN(B12))*EXP(-B$9*$O$3/100*($A13-$A12))),0)","v":0},0,0,0,0,0,null,{"$f":"I12+7","v":14},0,0,0,null,0,0,0,null,0,0,0,null,0,0,0,null,0,0,0,null,0,0,0,null,{"$f":"$A13","v":2},{"$f":"(B13-B12)/($A13-$A12)*1000","v":0},0,0,0,0,0,{"$f":"$A13","v":2},{"$f":"IF(B13>0,1.7+(B13-8)*$J$3,0)","v":0},{"$f":"IF(C13>0,1.7+(C13-8)*$J$3,0)","v":0},{"$f":"IF(D13>0,1.7+(D13-8)*$J$3,0)","v":0},{"$f":"IF(E13>0,1.7+(E13-8)*$J$3,0)","v":0},{"$f":"IF(F13>0,1.7+(F13-8)*$J$3,0)","v":0},{"$f":"IF(G13>0,1.7+(G13-8)*$J$3,0)","v":0},{"$f":"$A13","v":2},{"$f":"AI13*AP13/1000","v":0},0,0,0,0,0]
[3,{"$f":"IFERROR( EXP(5.44-(5.44-LN(B13))*EXP(-B$9*$O$4/100*($A14-$A13))),0)","v":0},0,0,0,0,0,null,{"$f":"I13+7","v":21},0,0,0,null,0,0,0,null,0,0,0,null,0,0,0,null,0,0,0,null,0,0,0,null,3,{"$f":"(B14-B13)/(A14-A13)*1000","v":0},{"$f":"(C14-C13)/($A14-$A13)*1000","v":0},{"$f":"(D14-D13)/($A14-$A13)*1000","v":0},{"$f":"(E14-E13)/($A14-$A13)*1000","v":0},{"$f":"(F14-F13)/($A14-$A13)*1000","v":0},{"$f":"(G14-G13)/($A14-$A13)*1000","v":0},3,0,0,0,0,0,0,3,{"$f":"AI14*AP14/1000","v":0},{"$f":"AJ14*AQ14/1000","v":0},{"$f":"AK14*AR14/1000","v":0},{"$f":"AL14*AS14/1000","v":0},{"$f":"AM14*AT14/1000","v":0},{"$f":"AN14*AU14/1000","v":0}]
[4,{"$f":"IFERROR( EXP(5.44-(5.44-LN(B14))*EXP(-B$9*$O$5/100*($A15-$A14))),0)","v":0},0,0,0,0,0,null,28,0,0,0,null,0,0,0,null,0,0,0,null,0,0,0,null,0,0,0,null,0,0,0,null,4,0,0,0,0,0,0,4,0,0,0,0,0,0,4,0,0,0,0,0,0]
[5,{"$f":"IFERROR( EXP(5.44-(5.44-LN(B15))*EXP(-B$9*($A16-$A15))),0)","v":0},{"$f":"IFERROR( EXP(5.44-(5.44-LN(C15))*EXP(-C$9*($A16-$A15))),0)","v":0},{"$f":"IFERROR( EXP(5.44-(5.44-LN(D15))*EXP(-D$9*($A16-$A15))),0)","v":0},{"$f":"IFERROR( EXP(5.44-(5.44-LN(E15))*EXP(-E$9*($A16-$A15))),0)","v":0},{"$f":"IFERROR( EXP(5.44-(5.44-LN(F15))*EXP(-F$9*($A16-$A15))),0)","v":0},{"$f":"IFERROR( EXP(5.44-(5.44-LN(G15))*EXP(-G$9*($A16-$A15))),0)","v":0},null,35,0,0,0,null,0,0,0,null,0,0,0,null,0,0,0,null,0,0,0,null,0,0,0,null,5,0,0,0,0,0,0,5,0,0,0,0,0,0,5,0,0,0,0,0,0]
[6,0,0,0,0,0,0,null,42,0,0,0,null,0,0,0,null,0,0,0,null,0,0,0,null,0,0,0,null,0,0,0,null,6,0,0,0,0,0,0,6,0,0,0,0,0,0,6,0,0,0,0,0,0]
[7,0,0,0,0,0,0,null,49,0,0,0,null,0,0,0,null,0,0,0,null,0,0,0,null,0,0,0,null,0,0,0,null,7,0,0,0,0,0,0,7,0,0,0,0,0,0,7,0,0,0,0,0,0]
[8,0,0,0,0,0,0,null,56,0,0,0,null,0,0,0,null,0,0,0,null,0,0,0,null,0,0,0,null,0,0,0,null,8,0,0,0,0,0,0,8,0,0,0,0,0,0,8,0,0,0,0,0,0]
[9,0,0,0,0,0,0,null,63,0,0,0,null,0,0,0,null,0,0,0,null,0,0,0,null,0,0,0,null,0,0,0,null,9,0,0,0,0,0,0,9,0,0,0,0,0,0,9,0,0,0,0,0,0]
[10,0,0,0,0,0,0,null,70,0,0,0,null,0,0,0,null,0,0,0,null,0,0,0,null,0,0,0,null,0,0,0,null,10,0,0,0,0,0,0,10,0,0,0,0,0,0,10,0,0,0,0,0,0]
[11,0,0,0,0,0,0,null,77,0,0,0,null,0,0,0,null,0,0,0,null,0,0,0,null,0,0,0,null,0,0,0,null,11,0,0,0,0,0,0,11,0,0,0,0,0,0,11,0,0,0,0,0,0]
[12,0,0,0,0,0,0,null,84,0,0,0,null,0,0,0,null,0,0,0,null,0,0,0,null,0,0,0,null,0,0,0,null,12,0,0,0,0,0,0,12,0,0,0,0,0,0,12,0,0,0,0,0,0]
[13,0,0,0,0,0,0,null,91,0,0,0,null,0,0,0,null,0,0,0,null,0,0,0,null,0,0,0,null,0,0,0,null,13,0,0,0,0,0,0,13,0,0,0,0,0,0,13,0,0,0,0,0,0]
[14,0,0,0,0,0,0,null,98,0,0,0,null,0,0,0,null,0,0,0,null,0,0,0,null,0,0,0,null,0,0,0,null,14,0,0,0,0,0,0,14,0,0,0,0,0,0,14,0,0,0,0,0,0]
[15,0,0,0,0,0,0,null,105,0,0,0,null,0,0,0,null,0,0,0,null,0,0,0,null,0,0,0,null,0,0,0,null,15,0,0,0,0,0,0,15,0,0,0,0,0,0,15,0,0,0,0,0,0]
[16,0,0,0,0,0,0,null,112,0,0,0,null,0,0,0,null,0,0,0,null,0,0,0,null,0,0,0,null,0,0,0,null,16,0,0,0,0,0,0,16,0,0,0,0,0,0,16,0,0,0,0,0,0]
[17,0,0,0,0,0,0,null,119,0,0,0,null,0,0,0,null,0,0,0,null,0,0,0,null,0,0,0,null,0,0,0,null,17,0,0,0,0,0,0,17,0,0,0,0,0,0,17,0,0,0,0,0,0]
[18,0,0,0,0,0,0,null,126,0,0,0,null,0,0,0,null,0,0,0,null,0,0,0,null,0,0,0,null,0,0,0,null,18,0,0,0,0,0,0,18,0,0,0,0,0,0,18,0,0,0,0,0,0]
[19,0,0,0,0,0,0,null,133,0,0,0,null,0,0,0,null,0,0,0,null,0,0,0,null,0,0,0,null,0,0,0,null,19,0,0,0,0,0,0,19,0,0,0,0,0,0,19,0,0,0,0,0,0]
[20,0,0,0,0,0,0,null,140,0,0,0,null,0,0,0,null,0,0,0,null,0,0,0,null,0,0,0,null,0,0,0,null,20,0,0,0,0,0,0,20,0,0,0,0,0,0,20,0,0,0,0,0,0]
[21,0,0,0,0,0,0,null,147,0,0,0,null,0,0,0,null,0,0,0,null,0,0,0,null,0,0,0,null,0,0,0,null,21,0,0,0,0,0,0,21,0,0,0,0,0,0,21,0,0,0,0,0,0]
[22,0,0,0,0,0,0,null,154,0,0,0,null,0,0,0,null,0,0,0,null,0,0,0,null,0,0,0,null,0,0,0,null,22,0,0,0,0,0,0,22,0,0,0,0,0,0,22,0,0,0,0,0,0]
[23,0,0,0,0,0,0,null,null,null,null,null,null,null,null,null,null,null,null,null,null,null,null,null,null,null,null,null,null,null,null,null,null,23,0,0,0,0,0,0,23,0,0,0,0,0,0,23,0,0,0,0,0,0]
[24,0,0,0,0,0,0,null,null,null,null,null,null,null,null,null,null,null,null,null,null,null,null,null,null,null,null,null,null,null,null,null,null,24,0,0,0,0,0,0,24,0,0,0,0,0,0,24,0,0,0,0,0,0]
[25,0,0,0,0,0,0,null,null,null,null,null,null,null,null,null,null,null,null,null,null,null,null,null,null,null,null,null,null,null,null,null,null,25,0,0,0,0,0,0,25,0,0,0,0,0,0,25,0,0,0,0,0,0]
[26,0,0,0,0,0,0,null,null,null,null,null,null,null,null,null,null,null,null,null,null,null,null,null,null,null,null,null,null,null,null,null,null,26,0,0,0,0,0,0,26,0,0,0,0,0,0,26,0,0,0,0,0,0]
[27,0,0,0,0,0,0,null,null,null,null,null,null,null,null,null,null,null,null,null,null,null,null,null,null,null,null,null,null,null,null,null,null,27,0,0,0,0,0,0,27,0,0,0,0,0,0,27,0,0,0,0,0,0]
[28,0,0,0,0,0,0,null,null,null,null,null,null,null,null,null,null,null,null,null,null,null,null,null,null,null,null,null,null,null,null,null,null,28,0,0,0,0,0,0,28,0,0,0,0,0,0,28,0,0,0,0,0,0]
[29,0,0,0,0,0,0,null,null,null,null,null,null,null,null,null,null,null,null,null,null,null,null,null,null,null,null,null,null,null,null,null,null,29,0,0,0,0,0,0,29,0,0,0,0,0,0,29,0,0,0,0,0,0]
[30,0,0,0,0,0,0,null,null,null,null,null,null,null,null,null,null,null,null,null,null,null,null,null,null,null,null,null,null,null,null,null,null,30,0,0,0,0,0,0,30,0,0,0,0,0,0,30,0,0,0,0,0,0]
[31,0,0,0,0,0,0,null,null,null,null,null,null,null,null,null,null,null,null,null,null,null,null,null,null,null,null,null,null,null,null,null,null,31,0,0,0,0,0,0,31,0,0,0,0,0,0,31,0,0,0,0,0,0]
[32,0,0,0,0,0,0,null,null,null,null,null,null,null,null,null,null,null,null,null,null,null,null,null,null,null,null,null,null,null,null,null,null,32,0,0,0,0,0,0,32,0,0,0,0,0,0,32,0,0,0,0,0,0]
[33,0,0,0,0,0,0,null,null,null,null,null,null,null,null,null,null,null,null,null,null,null,null,null,null,null,null,null,null,null,null,null,null,33,0,0,0,0,0,0,33,0,0,0,0,0,0,33,0,0,0,0,0,0]
[34,0,0,0,0,0,0,null,null,null,null,null,null,null,null,null,null,null,null,null,null,null,null,null,null,null,null,null,null,null,null,null,null,34,0,0,0,0,0,0,34,{"$f":"IF(B45>0,1.7+(B45-8)*$J$3,0)","v":0},{"$f":"IF(C45>0,1.7+(C45-8)*$J$3,0)","v":0},{"$f":"IF(D45>0,1.7+(D45-8)*$J$3,0)","v":0},{"$f":"IF(E45>0,1.7+(E45-8)*$J$3,0)","v":0},{"$f":"IF(F45>0,1.7+(F45-8)*$J$3,0)","v":0},{"$f":"IF(G45>0,1.7+(G45-8)*$J$3,0)","v":0},34,0,0,0,0,0,0]
[35,0,0,0,0,0,0,null,null,null,null,null,null,null,null,null,null,null,null,null,null,null,null,null,null,null,null,null,null,null,null,null,null,35,{"$f":"(B46-B45)/(A46-A45)*1000","v":0},{"$f":"(C46-C45)/($A46-$A45)*1000","v":0},{"$f":"(D46-D45)/($A46-$A45)*1000","v":0},{"$f":"(E46-E45)/($A46-$A45)*1000","v":0},{"$f":"(F46-F45)/($A46-$A45)*1000","v":0},{"$f":"(G46-G45)/($A46-$A45)*1000","v":0},35,0,0,0,0,0,0,35,0,0,0,0,0,0]
[36,0,0,0,0,0,0,null,null,null,null,null,null,null,null,null,null,null,null,null,null,null,null,null,null,null,null,null,null,null,null,null,null,36,0,0,0,0,0,0,36,0,0,0,0,0,0,36,0,0,0,0,0,0]
[37,{"$f":"IFERROR( EXP(5.44-(5.44-LN(B47))*EXP(-B$9*($A48-$A47))),0)","v":0},{"$f":"IFERROR( EXP(5.44-(5.44-LN(C47))*EXP(-C$9*($A48-$A47))),0)","v":0},{"$f":"IFERROR( EXP(5.44-(5.44-LN(D47))*EXP(-D$9*($A48-$A47))),0)","v":0},{"$f":"IFERROR( EXP(5.44-(5.44-LN(E47))*EXP(-E$9*($A48-$A47))),0)","v":0},{"$f":"IFERROR( EXP(5.44-(5.44-LN(F47))*EXP(-F$9*($A48-$A47))),0)","v":0},{"$f":"IFERROR( EXP(5.44-(5.44-LN(G47))*EXP(-G$9*($A48-$A47))),0)","v":0},null,null,null,null,null,null,null,null,null,null,null,null,null,null,null,null,null,null,null,null,null,null,null,null,null,null,37,0,0,0,0,0,0,37,0,0,0,0,0,0,37,0,0,0,0,0,0]
[38,0,0,0,0,0,0,null,null,null,null,null,null,null,null,null,null,null,null,null,null,null,null,null,null,null,null,null,null,null,null,null,null,38,0,0,0,0,0,0,38,0,0,0,0,0,0,38,0,0,0,0,0,0]
[39,0,0,0,0,0,0,null,null,null,null,null,null,null,null,null,null,null,null,null,null,null,null,null,null,null,null,null,null,null,null,null,null,39,0,0,0,0,0,0,39,0,0,0,0,0,0,39,0,0,0,0,0,0]
[40,0,0,0,0,0,0,null,null,null,null,null,null,null,null,null,null,null,null,null,null,null,null,null,null,null,null,null,null,null,null,null,null,40,0,0,0,0,0,0,40,0,0,0,0,0,0,40,0,0,0,0,0,0]
[41,0,0,0,0,0,0,null,null,null,null,null,null,null,null,null,null,null,null,null,null,null,null,null,null,null,null,null,null,null,null,null,null,41,0,0,0,0,0,0,41,0,0,0,0,0,0,41,0,0,0,0,0,0]
[42,0,0,0,0,0,0,null,null,null,null,null,null,null,null,null,null,null,null,null,null,null,null,null,null,null,null,null,null,null,null,null,null,42,0,0,0,0,0,0,42,0,0,0,0,0,0,42,0,0,0,0,0,0]
[43,0,0,0,0,0,0,null,null,null,null,null,null,null,null,null,null,null,null,null,null,null,null,null,null,null,null,null,null,null,null,null,null,43,0,0,0,0,0,0,43,0,0,0,0,0,0,43,0,0,0,0,0,0]
[44,0,0,0,0,0,0,null,null,null,null,null,null,null,null,null,null,null,null,null,null,null,null,null,null,null,null,null,null,null,null,null,null,44,0,0,0,0,0,0,44,0,0,0,0,0,0,44,0,0,0,0,0,0]
[45,0,0,0,0,0,0,null,null,null,null,null,null,null,null,null,null,null,null,null,null,null,null,null,null,null,null,null,null,null,null,null,null,45,0,0,0,0,0,0,45,0,0,0,0,0,0,45,0,0,0,0,0,0]
[46,0,0,0,0,0,0,null,null,null,null,null,null,null,null,null,null,null,null,null,null,null,null,null,null,null,null,null,null,null,null,null,null,46,0,0,0,0,0,0,46,0,0,0,0,0,0,46,0,0,0,0,0,0]
[47,0,0,0,0,0,0,null,null,null,null,null,null,null,null,null,null,null,null,null,null,null,null,null,null,null,null,null,null,null,null,null,null,47,0,0,0,0,0,0,47,0,0,0,0,0,0,47,0,0,0,0,0,0]
[48,0,0,0,0,0,0,null,null,null,null,null,null,null,null,null,null,null,null,null,null,null,null,null,null,null,null,null,null,null,null,null,null,48,0,0,0,0,0,0,48,0,0,0,0,0,0,48,0,0,0,0,0,0]
[49,0,0,0,0,0,0,null,null,null,null,null,null,null,null,null,null,null,null,null,null,null,null,null,null,null,null,null,null,null,null,null,null,49,0,0,0,0,0,0,49,0,0,0,0,0,0,49,0,0,0,0,0,0]
[50,0,0,0,0,0,0,null,null,null,null,null,null,null,null,null,null,null,null,null,null,null,null,null,null,null,null,null,null,null,null,null,null,50,0,0,0,0,0,0,50,0,0,0,0,0,0,50,0,0,0,0,0,0]
[51,0,0,0,0,0,0,null,null,null,null,null,null,null,null,null,null,null,null,null,null,null,null,null,null,null,null,null,null,null,null,null,null,51,0,0,0,0,0,0,51,0,0,0,0,0,0,51,0,0,0,0,0,0]
[52,0,0,0,0,0,0,null,null,null,null,null,null,null,null,null,null,null,null,null,null,null,null,null,null,null,null,null,null,null,null,null,null,52,0,0,0,0,0,0,52,0,0,0,0,0,0,52,0,0,0,0,0,0]
[53,0,0,0,0,0,0,null,null,null,null,null,null,null,null,null,null,null,null,null,null,null,null,null,null,null,null,null,null,null,null,null,null,53,0,0,0,0,0,0,53,0,0,0,0,0,0,53,0,0,0,0,0,0]
[54,0,0,0,0,0,0,null,null,null,null,null,null,null,null,null,null,null,null,null,null,null,null,null,null,null,null,null,null,null,null,null,null,54,0,0,0,0,0,0,54,0,0,0,0,0,0,54,0,0,0,0,0,0]
[55,0,0,0,0,0,0,null,null,null,null,null,null,null,null,null,null,null,null,null,null,null,null,null,null,null,null,null,null,null,null,null,null,55,0,0,0,0,0,0,55,0,0,0,0,0,0,55,0,0,0,0,0,0]
[56,0,0,0,0,0,0,null,null,null,null,null,null,null,null,null,null,null,null,null,null,null,null,null,null,null,null,null,null,null,null,null,null,56,0,0,0,0,0,0,56,0,0,0,0,0,0,56,0,0,0,0,0,0]
[57,0,0,0,0,0,0,null,null,null,null,null,null,null,null,null,null,null,null,null,null,null,null,null,null,null,null,null,null,null,null,null,null,57,0,0,0,0,0,0,57,0,0,0,0,0,0,57,0,0,0,0,0,0]
[58,0,0,0,0,0,0,null,null,null,null,null,null,null,null,null,null,null,null,null,null,null,null,null,null,null,null,null,null,null,null,null,null,58,0,0,0,0,0,0,58,0,0,0,0,0,0,58,0,0,0,0,0,0]
[59,0,0,0,0,0,0,null,null,null,null,null,null,null,null,null,null,null,null,null,null,null,null,null,null,null,null,null,null,null,null,null,null,59,0,0,0,0,0,0,59,0,0,0,0,0,0,59,0,0,0,0,0,0]
[60,0,0,0,0,0,0,null,null,null,null,null,null,null,null,null,null,null,null,null,null,null,null,null,null,null,null,null,null,null,null,null,null,60,0,0,0,0,0,0,60,0,0,0,0,0,0,60,0,0,0,0,0,0]
[61,0,0,0,0,0,0,null,null,null,null,null,null,null,null,null,null,null,null,null,null,null,null,null,null,null,null,null,null,null,null,null,null,61,0,0,0,0,0,0,61,0,0,0,0,0,0,61,0,0,0,0,0,0]
[62,0,0,0,0,0,0,null,null,null,null,null,null,null,null,null,null,null,null,null,null,null,null,null,null,null,null,null,null,null,null,null,null,62,0,0,0,0,0,0,62,0,0,0,0,0,0,62,0,0,0,0,0,0]
[63,0,0,0,0,0,0,null,null,null,null,null,null,null,null,null,null,null,null,null,null,null,null,null,null,null,null,null,null,null,null,null,null,63,0,0,0,0,0,0,63,0,0,0,0,0,0,63,0,0,0,0,0,0]
[64,0,0,0,0,0,0,null,null,null,null,null,null,null,null,null,null,null,null,null,null,null,null,null,null,null,null,null,null,null,null,null,null,64,0,0,0,0,0,0,64,0,0,0,0,0,0,64,0,0,0,0,0,0]
[65,0,0,0,0,0,0,null,null,null,null,null,null,null,null,null,null,null,null,null,null,null,null,null,null,null,null,null,null,null,null,null,null,65,0,0,0,0,0,0,65,0,0,0,0,0,0,65,0,0,0,0,0,0]
[66,0,0,0,0,0,0,null,null,null,null,null,null,null,null,null,null,null,null,null,null,null,null,null,null,null,null,null,null,null,null,null,null,{"$f":"$A77","v":66},0,0,0,0,0,0,{"$f":"$A77","v":66},{"$f":"IF(B77>0,1.7+(B77-8)*$J$3,0)","v":0},{"$f":"IF(C77>0,1.7+(C77-8)*$J$3,0)","v":0},{"$f":"IF(D77>0,1.7+(D77-8)*$J$3,0)","v":0},{"$f":"IF(E77>0,1.7+(E77-8)*$J$3,0)","v":0},{"$f":"IF(F77>0,1.7+(F77-8)*$J$3,0)","v":0},{"$f":"IF(G77>0,1.7+(G77-8)*$J$3,0)","v":0},{"$f":"$A77","v":66},0,0,0,0,0,0]
[67,0,0,0,0,0,0,null,null,null,null,null,null,null,null,null,null,null,null,null,null,null,null,null,null,null,null,null,null,null,null,null,null,67,{"$f":"(B78-B77)/(A78-A77)*1000","v":0},{"$f":"(C78-C77)/($A78-$A77)*1000","v":0},{"$f":"(D78-D77)/($A78-$A77)*1000","v":0},{"$f":"(E78-E77)/($A78-$A77)*1000","v":0},{"$f":"(F78-F77)/($A78-$A77)*1000","v":0},{"$f":"(G78-G77)/($A78-$A77)*1000","v":0},67,0,0,0,0,0,0,67,{"$f":"AI78*AP78/1000","v":0},{"$f":"AJ78*AQ78/1000","v":0},{"$f":"AK78*AR78/1000","v":0},{"$f":"AL78*AS78/1000","v":0},{"$f":"AM78*AT78/1000","v":0},{"$f":"AN78*AU78/1000","v":0}]
[68,0,0,0,0,0,0,null,null,null,null,null,null,null,null,null,null,null,null,null,null,null,null,null,null,null,null,null,null,null,null,null,null,68,0,0,0,0,0,0,68,0,0,0,0,0,0,68,0,0,0,0,0,0]
[69,{"$f":"IFERROR( EXP(5.44-(5.44-LN(B79))*EXP(-B$9*($A80-$A79))),0)","v":0},{"$f":"IFERROR( EXP(5.44-(5.44-LN(C79))*EXP(-C$9*($A80-$A79))),0)","v":0},{"$f":"IFERROR( EXP(5.44-(5.44-LN(D79))*EXP(-D$9*($A80-$A79))),0)","v":0},{"$f":"IFERROR( EXP(5.44-(5.44-LN(E79))*EXP(-E$9*($A80-$A79))),0)","v":0},{"$f":"IFERROR( EXP(5.44-(5.44-LN(F79))*EXP(-F$9*($A80-$A79))),0)","v":0},{"$f":"IFERROR( EXP(5.44-(5.44-LN(G79))*EXP(-G$9*($A80-$A79))),0)","v":0},null,null,null,null,null,null,null,null,null,null,null,null,null,null,null,null,null,null,null,null,null,null,null,null,null,null,69,0,0,0,0,0,0,69,0,0,0,0,0,0,69,0,0,0,0,0,0]
[70,0,0,0,0,0,0,null,null,null,null,null,null,null,null,null,null,null,null,null,null,null,null,null,null,null,null,null,null,null,null,null,null,70,0,0,0,0,0,0,70,0,0,0,0,0,0,70,0,0,0,0,0,0]
[71,0,0,0,0,0,0,null,null,null,null,null,null,null,null,null,null,null,null,null,null,null,null,null,null,null,null,null,null,null,null,null,null,71,0,0,0,0,0,0,71,0,0,0,0,0,0,71,0,0,0,0,0,0]
[72,0,0,0,0,0,0,null,null,null,null,null,null,null,null,null,null,null,null,null,null,null,null,null,null,null,null,null,null,null,null,null,null,72,0,0,0,0,0,0,72,0,0,0,0,0,0,72,0,0,0,0,0,0]
[73,0,0,0,0,0,0,null,null,null,null,null,null,null,null,null,null,null,null,null,null,null,null,null,null,null,null,null,null,null,null,null,null,73,0,0,0,0,0,0,73,0,0,0,0,0,0,73,0,0,0,0,0,0]
[74,0,0,0,0,0,0,null,null,null,null,null,null,null,null,null,null,null,null,null,null,null,null,null,null,null,null,null,null,null,null,null,null,74,0,0,0,0,0,0,74,0,0,0,0,0,0,74,0,0,0,0,0,0]
[75,0,0,0,0,0,0,null,null,null,null,null,null,null,null,null,null,null,null,null,null,null,null,null,null,null,null,null,null,null,null,null,null,75,0,0,0,0,0,0,75,0,0,0,0,0,0,75,0,0,0,0,0,0]
[76,0,0,0,0,0,0,null,null,null,null,null,null,null,null,null,null,null,null,null,null,null,null,null,null,null,null,null,null,null,null,null,null,76,0,0,0,0,0,0,76,0,0,0,0,0,0,76,0,0,0,0,0,0]
[77,0,0,0,0,0,0,null,null,null,null,null,null,null,null,null,null,null,null,null,null,null,null,null,null,null,null,null,null,null,null,null,null,77,0,0,0,0,0,0,77,0,0,0,0,0,0,77,0,0,0,0,0,0]
[78,0,0,0,0,0,0,null,null,null,null,null,null,null,null,null,null,null,null,null,null,null,null,null,null,null,null,null,null,null,null,null,null,78,0,0,0,0,0,0,78,0,0,0,0,0,0,78,0,0,0,0,0,0]
[79,0,0,0,0,0,0,null,null,null,null,null,null,null,null,null,null,null,null,null,null,null,null,null,null,null,null,null,null,null,null,null,null,79,0,0,0,0,0,0,79,0,0,0,0,0,0,79,0,0,0,0,0,0]
[80,0,0,0,0,0,0,null,null,null,null,null,null,null,null,null,null,null,null,null,null,null,null,null,null,null,null,null,null,null,null,null,null,80,0,0,0,0,0,0,80,0,0,0,0,0,0,80,0,0,0,0,0,0]
[81,0,0,0,0,0,0,null,null,null,null,null,null,null,null,null,null,null,null,null,null,null,null,null,null,null,null,null,null,null,null,null,null,81,0,0,0,0,0,0,81,0,0,0,0,0,0,81,0,0,0,0,0,0]
[82,0,0,0,0,0,0,null,null,null,null,null,null,null,null,null,null,null,null,null,null,null,null,null,null,null,null,null,null,null,null,null,null,82,0,0,0,0,0,0,82,0,0,0,0,0,0,82,0,0,0,0,0,0]
[83,0,0,0,0,0,0,null,null,null,null,null,null,null,null,null,null,null,null,null,null,null,null,null,null,null,null,null,null,null,null,null,null,83,0,0,0,0,0,0,83,0,0,0,0,0,0,83,0,0,0,0,0,0]
[84,0,0,0,0,0,0,null,null,null,null,null,null,null,null,null,null,null,null,null,null,null,null,null,null,null,null,null,null,null,null,null,null,84,0,0,0,0,0,0,84,0,0,0,0,0,0,84,0,0,0,0,0,0]
[85,0,0,0,0,0,0,null,null,null,null,null,null,null,null,null,null,null,null,null,null,null,null,null,null,null,null,null,null,null,null,null,null,85,0,0,0,0,0,0,85,0,0,0,0,0,0,85,0,0,0,0,0,0]
[86,0,0,0,0,0,0,null,null,null,null,null,null,null,null,null,null,null,null,null,null,null,null,null,null,null,null,null,null,null,null,null,null,86,0,0,0,0,0,0,86,0,0,0,0,0,0,86,0,0,0,0,0,0]
[87,0,0,0,0,0,0,null,null,null,null,null,null,null,null,null,null,null,null,null,null,null,null,null,null,null,null,null,null,null,null,null,null,87,0,0,0,0,0,0,87,0,0,0,0,0,0,87,0,0,0,0,0,0]
[88,0,0,0,0,0,0,null,null,null,null,null,null,null,null,null,null,null,null,null,null,null,null,null,null,null,null,null,null,null,null,null,null,88,0,0,0,0,0,0,88,0,0,0,0,0,0,88,0,0,0,0,0,0]
[89,0,0,0,0,0,0,null,null,null,null,null,null,null,null,null,null,null,null,null,null,null,null,null,null,null,null,null,null,null,null,null,null,89,0,0,0,0,0,0,89,0,0,0,0,0,0,89,0,0,0,0,0,0]
[90,0,0,0,0,0,0,null,null,null,null,null,null,null,null,null,null,null,null,null,null,null,null,null,null,null,null,null,null,null,null,null,null,90,0,0,0,0,0,0,90,0,0,0,0,0,0,90,0,0,0,0,0,0]
[91,0,0,0,0,0,0,null,null,null,null,null,null,null,null,null,null,null,null,null,null,null,null,null,null,null,null,null,null,null,null,null,null,91,0,0,0,0,0,0,91,0,0,0,0,0,0,91,0,0,0,0,0,0]
[92,0,0,0,0,0,0,null,null,null,null,null,null,null,null,null,null,null,null,null,null,null,null,null,null,null,null,null,null,null,null,null,null,92,0,0,0,0,0,0,92,0,0,0,0,0,0,92,0,0,0,0,0,0]
[93,0,0,0,0,0,0,null,null,null,null,null,null,null,null,null,null,null,null,null,null,null,null,null,null,null,null,null,null,null,null,null,null,93,0,0,0,0,0,0,93,0,0,0,0,0,0,93,0,0,0,0,0,0]
[94,0,0,0,0,0,0,null,null,null,null,null,null,null,null,null,null,null,null,null,null,null,null,null,null,null,null,null,null,null,null,null,null,94,0,0,0,0,0,0,94,0,0,0,0,0,0,94,0,0,0,0,0,0]
[95,0,0,0,0,0,0,null,null,null,null,null,null,null,null,null,null,null,null,null,null,null,null,null,null,null,null,null,null,null,null,null,null,95,0,0,0,0,0,0,95,0,0,0,0,0,0,95,0,0,0,0,0,0]
[96,0,0,0,0,0,0,null,null,null,null,null,null,null,null,null,null,null,null,null,null,null,null,null,null,null,null,null,null,null,null,null,null,96,0,0,0,0,0,0,96,0,0,0,0,0,0,96,0,0,0,0,0,0]
[97,0,0,0,0,0,0,null,null,null,null,null,null,null,null,null,null,null,null,null,null,null,null,null,null,null,null,null,null,null,null,null,null,97,0,0,0,0,0,0,97,0,0,0,0,0,0,97,0,0,0,0,0,0]
[98,0,0,0,0,0,0,null,null,null,null,null,null,null,null,null,null,null,null,null,null,null,null,null,null,null,null,null,null,null,null,null,null,98,0,0,0,0,0,0,98,{"$f":"IF(B109>0,1.7+(B109-8)*$J$3,0)","v":0},{"$f":"IF(C109>0,1.7+(C109-8)*$J$3,0)","v":0},{"$f":"IF(D109>0,1.7+(D109-8)*$J$3,0)","v":0},{"$f":"IF(E109>0,1.7+(E109-8)*$J$3,0)","v":0},{"$f":"IF(F109>0,1.7+(F109-8)*$J$3,0)","v":0},{"$f":"IF(G109>0,1.7+(G109-8)*$J$3,0)","v":0},98,0,0,0,0,0,0]
[99,0,0,0,0,0,0,null,null,null,null,null,null,null,null,null,null,null,null,null,null,null,null,null,null,null,null,null,null,null,null,null,null,99,{"$f":"(B110-B109)/(A110-A109)*1000","v":0},{"$f":"(C110-C109)/($A110-$A109)*1000","v":0},{"$f":"(D110-D109)/($A110-$A109)*1000","v":0},{"$f":"(E110-E109)/($A110-$A109)*1000","v":0},{"$f":"(F110-F109)/($A110-$A109)*1000","v":0},{"$f":"(G110-G109)/($A110-$A109)*1000","v":0},99,0,0,0,0,0,0,99,0,0,0,0,0,0]
[100,0,0,0,0,0,0,null,null,null,null,null,null,null,null,null,null,null,null,null,null,null,null,null,null,null,null,null,null,null,null,null,null,100,0,0,0,0,0,0,100,0,0,0,0,0,0,100,0,0,0,0,0,0]
[101,{"$f":"IFERROR( EXP(5.44-(5.44-LN(B111))*EXP(-B$9*($A112-$A111))),0)","v":0},{"$f":"IFERROR( EXP(5.44-(5.44-LN(C111))*EXP(-C$9*($A112-$A111))),0)","v":0},{"$f":"IFERROR( EXP(5.44-(5.44-LN(D111))*EXP(-D$9*($A112-$A111))),0)","v":0},{"$f":"IFERROR( EXP(5.44-(5.44-LN(E111))*EXP(-E$9*($A112-$A111))),0)","v":0},{"$f":"IFERROR( EXP(5.44-(5.44-LN(F111))*EXP(-F$9*($A112-$A111))),0)","v":0},{"$f":"IFERROR( EXP(5.44-(5.44-LN(G111))*EXP(-G$9*($A112-$A111))),0)","v":0},null,null,null,null,null,null,null,null,null,null,null,null,null,null,null,null,null,null,null,null,null,null,null,null,null,null,101,0,0,0,0,0,0,101,0,0,0,0,0,0,101,0,0,0,0,0,0]
[102,0,0,0,0,0,0,null,null,null,null,null,null,null,null,null,null,null,null,null,null,null,null,null,null,null,null,null,null,null,null,null,null,102,0,0,0,0,0,0,102,0,0,0,0,0,0,102,0,0,0,0,0,0]
[103,0,0,0,0,0,0,null,null,null,null,null,null,null,null,null,null,null,null,null,null,null,null,null,null,null,null,null,null,null,null,null,null,103,0,0,0,0,0,0,103,0,0,0,0,0,0,103,0,0,0,0,0,0]
[104,0,0,0,0,0,0,null,null,null,null,null,null,null,null,null,null,null,null,null,null,null,null,null,null,null,null,null,null,null,null,null,null,104,0,0,0,0,0,0,104,0,0,0,0,0,0,104,0,0,0,0,0,0]
[105,0,0,0,0,0,0,null,null,null,null,null,null,null,null,null,null,null,null,null,null,null,null,null,null,null,null,null,null,null,null,null,null,105,0,0,0,0,0,0,105,0,0,0,0,0,0,105,0,0,0,0,0,0]
[106,0,0,0,0,0,0,null,null,null,null,null,null,null,null,null,null,null,null,null,null,null,null,null,null,null,null,null,null,null,null,null,null,106,0,0,0,0,0,0,106,0,0,0,0,0,0,106,0,0,0,0,0,0]
[107,0,0,0,0,0,0,null,null,null,null,null,null,null,null,null,null,null,null,null,null,null,null,null,null,null,null,null,null,null,null,null,null,107,0,0,0,0,0,0,107,0,0,0,0,0,0,107,0,0,0,0,0,0]
[108,0,0,0,0,0,0,null,null,null,null,null,null,null,null,null,null,null,null,null,null,null,null,null,null,null,null,null,null,null,null,null,null,108,0,0,0,0,0,0,108,0,0,0,0,0,0,108,0,0,0,0,0,0]
[109,0,0,0,0,0,0,null,null,null,null,null,null,null,null,null,null,null,null,null,null,null,null,null,null,null,null,null,null,null,null,null,null,109,0,0,0,0,0,0,109,0,0,0,0,0,0,109,0,0,0,0,0,0]
[110,0,0,0,0,0,0,null,null,null,null,null,null,null,null,null,null,null,null,null,null,null,null,null,null,null,null,null,null,null,null,null,null,110,0,0,0,0,0,0,110,0,0,0,0,0,0,110,0,0,0,0,0,0]
[111,0,0,0,0,0,0,null,null,null,null,null,null,null,null,null,null,null,null,null,null,null,null,null,null,null,null,null,null,null,null,null,null,111,0,0,0,0,0,0,111,0,0,0,0,0,0,111,0,0,0,0,0,0]
[112,0,0,0,0,0,0,null,null,null,null,null,null,null,null,null,null,null,null,null,null,null,null,null,null,null,null,null,null,null,null,null,null,112,0,0,0,0,0,0,112,0,0,0,0,0,0,112,0,0,0,0,0,0]
[113,0,0,0,0,0,0,null,null,null,null,null,null,null,null,null,null,null,null,null,null,null,null,null,null,null,null,null,null,null,null,null,null,113,0,0,0,0,0,0,113,0,0,0,0,0,0,113,0,0,0,0,0,0]
[114,0,0,0,0,0,0,null,null,null,null,null,null,null,null,null,null,null,null,null,null,null,null,null,null,null,null,null,null,null,null,null,null,114,0,0,0,0,0,0,114,0,0,0,0,0,0,114,0,0,0,0,0,0]
[115,0,0,0,0,0,0,null,null,null,null,null,null,null,null,null,null,null,null,null,null,null,null,null,null,null,null,null,null,null,null,null,null,115,0,0,0,0,0,0,115,0,0,0,0,0,0,115,0,0,0,0,0,0]
[116,0,0,0,0,0,0,null,null,null,null,null,null,null,null,null,null,null,null,null,null,null,null,null,null,null,null,null,null,null,null,null,null,116,0,0,0,0,0,0,116,0,0,0,0,0,0,116,0,0,0,0,0,0]
[117,0,0,0,0,0,0,null,null,null,null,null,null,null,null,null,null,null,null,null,null,null,null,null,null,null,null,null,null,null,null,null,null,117,0,0,0,0,0,0,117,0,0,0,0,0,0,117,0,0,0,0,0,0]
[118,0,0,0,0,0,0,null,null,null,null,null,null,null,null,null,null,null,null,null,null,null,null,null,null,null,null,null,null,null,null,null,null,118,0,0,0,0,0,0,118,0,0,0,0,0,0,118,0,0,0,0,0,0]
[119,0,0,0,0,0,0,null,null,null,null,null,null,null,null,null,null,null,null,null,null,null,null,null,null,null,null,null,null,null,null,null,null,119,0,0,0,0,0,0,119,0,0,0,0,0,0,119,0,0,0,0,0,0]
[120,0,0,0,0,0,0,null,null,null,null,null,null,null,null,null,null,null,null,null,null,null,null,null,null,null,null,null,null,null,null,null,null,120,0,0,0,0,0,0,120,0,0,0,0,0,0,120,0,0,0,0,0,0]
[121,0,0,0,0,0,0,null,null,null,null,null,null,null,null,null,null,null,null,null,null,null,null,null,null,null,null,null,null,null,null,null,null,121,0,0,0,0,0,0,121,0,0,0,0,0,0,121,0,0,0,0,0,0]
[122,0,0,0,0,0,0,null,null,null,null,null,null,null,null,null,null,null,null,null,null,null,null,null,null,null,null,null,null,null,null,null,null,122,0,0,0,0,0,0,122,0,0,0,0,0,0,122,0,0,0,0,0,0]
[123,0,0,0,0,0,0,null,null,null,null,null,null,null,null,null,null,null,null,null,null,null,null,null,null,null,null,null,null,null,null,null,null,123,0,0,0,0,0,0,123,0,0,0,0,0,0,123,0,0,0,0,0,0]
[124,0,0,0,0,0,0,null,null,null,null,null,null,null,null,null,null,null,null,null,null,null,null,null,null,null,null,null,null,null,null,null,null,124,0,0,0,0,0,0,124,0,0,0,0,0,0,124,0,0,0,0,0,0]
[125,0,0,0,0,0,0,null,null,null,null,null,null,null,null,null,null,null,null,null,null,null,null,null,null,null,null,null,null,null,null,null,null,125,0,0,0,0,0,0,125,0,0,0,0,0,0,125,0,0,0,0,0,0]
[126,0,0,0,0,0,0,null,null,null,null,null,null,null,null,null,null,null,null,null,null,null,null,null,null,null,null,null,null,null,null,null,null,126,0,0,0,0,0,0,126,0,0,0,0,0,0,126,0,0,0,0,0,0]
[127,0,0,0,0,0,0,null,null,null,null,null,null,null,null,null,null,null,null,null,null,null,null,null,null,null,null,null,null,null,null,null,null,127,0,0,0,0,0,0,127,0,0,0,0,0,0,127,0,0,0,0,0,0]
[128,0,0,0,0,0,0,null,null,null,null,null,null,null,null,null,null,null,null,null,null,null,null,null,null,null,null,null,null,null,null,null,null,128,0,0,0,0,0,0,128,0,0,0,0,0,0,128,0,0,0,0,0,0]
[129,0,0,0,0,0,0,null,null,null,null,null,null,null,null,null,null,null,null,null,null,null,null,null,null,null,null,null,null,null,null,null,null,129,0,0,0,0,0,0,129,0,0,0,0,0,0,129,0,0,0,0,0,0]
[130,0,0,0,0,0,0,null,null,null,null,null,null,null,null,null,null,null,null,null,null,null,null,null,null,null,null,null,null,null,null,null,null,{"$f":"$A141","v":130},0,0,0,0,0,0,{"$f":"$A141","v":130},{"$f":"IF(B141>0,1.7+(B141-8)*$J$3,0)","v":0},{"$f":"IF(C141>0,1.7+(C141-8)*$J$3,0)","v":0},{"$f":"IF(D141>0,1.7+(D141-8)*$J$3,0)","v":0},{"$f":"IF(E141>0,1.7+(E141-8)*$J$3,0)","v":0},{"$f":"IF(F141>0,1.7+(F141-8)*$J$3,0)","v":0},{"$f":"IF(G141>0,1.7+(G141-8)*$J$3,0)","v":0},{"$f":"$A141","v":130},0,0,0,0,0,0]
[131,0,0,0,0,0,0,null,null,null,null,null,null,null,null,null,null,null,null,null,null,null,null,null,null,null,null,null,null,null,null,null,null,131,{"$f":"(B142-B141)/(A142-A141)*1000","v":0},{"$f":"(C142-C141)/($A142-$A141)*1000","v":0},{"$f":"(D142-D141)/($A142-$A141)*1000","v":0},{"$f":"(E142-E141)/($A142-$A141)*1000","v":0},{"$f":"(F142-F141)/($A142-$A141)*1000","v":0},{"$f":"(G142-G141)/($A142-$A141)*1000","v":0},131,0,0,0,0,0,0,131,{"$f":"AI142*AP142/1000","v":0},{"$f":"AJ142*AQ142/1000","v":0},{"$f":"AK142*AR142/1000","v":0},{"$f":"AL142*AS142/1000","v":0},{"$f":"AM142*AT142/1000","v":0},{"$f":"AN142*AU142/1000","v":0}]
[132,0,0,0,0,0,0,null,null,null,null,null,null,null,null,null,null,null,null,null,null,null,null,null,null,null,null,null,null,null,null,null,null,132,0,0,0,0,0,0,132,0,0,0,0,0,0,132,0,0,0,0,0,0]
[133,{"$f":"IFERROR( EXP(5.44-(5.44-LN(B143))*EXP(-B$9*($A144-$A143))),0)","v":0},{"$f":"IFERROR( EXP(5.44-(5.44-LN(C143))*EXP(-C$9*($A144-$A143))),0)","v":0},{"$f":"IFERROR( EXP(5.44-(5.44-LN(D143))*EXP(-D$9*($A144-$A143))),0)","v":0},{"$f":"IFERROR( EXP(5.44-(5.44-LN(E143))*EXP(-E$9*($A144-$A143))),0)","v":0},{"$f":"IFERROR( EXP(5.44-(5.44-LN(F143))*EXP(-F$9*($A144-$A143))),0)","v":0},{"$f":"IFERROR( EXP(5.44-(5.44-LN(G143))*EXP(-G$9*($A144-$A143))),0)","v":0},null,null,null,null,null,null,null,null,null,null,null,null,null,null,null,null,null,null,null,null,null,null,null,null,null,null,133,0,0,0,0,0,0,133,0,0,0,0,0,0,133,0,0,0,0,0,0]
[134,0,0,0,0,0,0,null,null,null,null,null,null,null,null,null,null,null,null,null,null,null,null,null,null,null,null,null,null,null,null,null,null,134,0,0,0,0,0,0,134,0,0,0,0,0,0,134,0,0,0,0,0,0]
[135,0,0,0,0,0,0,null,null,null,null,null,null,null,null,null,null,null,null,null,null,null,null,null,null,null,null,null,null,null,null,null,null,135,0,0,0,0,0,0,135,0,0,0,0,0,0,135,0,0,0,0,0,0]
[136,0,0,0,0,0,0,null,null,null,null,null,null,null,null,null,null,null,null,null,null,null,null,null,null,null,null,null,null,null,null,null,null,136,0,0,0,0,0,0,136,0,0,0,0,0,0,136,0,0,0,0,0,0]
[137,0,0,0,0,0,0,null,null,null,null,null,null,null,null,null,null,null,null,null,null,null,null,null,null,null,null,null,null,null,null,null,null,137,0,0,0,0,0,0,137,0,0,0,0,0,0,137,0,0,0,0,0,0]
[138,0,0,0,0,0,0,null,null,null,null,null,null,null,null,null,null,null,null,null,null,null,null,null,null,null,null,null,null,null,null,null,null,138,0,0,0,0,0,0,138,0,0,0,0,0,0,138,0,0,0,0,0,0]
[139,0,0,0,0,0,0,null,null,null,null,null,null,null,null,null,null,null,null,null,null,null,null,null,null,null,null,null,null,null,null,null,null,139,0,0,0,0,0,0,139,0,0,0,0,0,0,139,0,0,0,0,0,0]
[140,0,0,0,0,0,0,null,null,null,null,null,null,null,null,null,null,null,null,null,null,null,null,null,null,null,null,null,null,null,null,null,null,140,0,0,0,0,0,0,140,0,0,0,0,0,0,140,0,0,0,0,0,0]
[141,0,0,0,0,0,0,null,null,null,null,null,null,null,null,null,null,null,null,null,null,null,null,null,null,null,null,null,null,null,null,null,null,141,0,0,0,0,0,0,141,0,0,0,0,0,0,141,0,0,0,0,0,0]
[142,0,0,0,0,0,0,null,null,null,null,null,null,null,null,null,null,null,null,null,null,null,null,null,null,null,null,null,null,null,null,null,null,142,0,0,0,0,0,0,142,0,0,0,0,0,0,142,0,0,0,0,0,0]
[143,0,0,0,0,0,0,null,null,null,null,null,null,null,null,null,null,null,null,null,null,null,null,null,null,null,null,null,null,null,null,null,null,143,0,0,0,0,0,0,143,0,0,0,0,0,0,143,0,0,0,0,0,0]
[144,0,0,0,0,0,0,null,null,null,null,null,null,null,null,null,null,null,null,null,null,null,null,null,null,null,null,null,null,null,null,null,null,144,0,0,0,0,0,0,144,0,0,0,0,0,0,144,0,0,0,0,0,0]
[145,0,0,0,0,0,0,null,null,null,null,null,null,null,null,null,null,null,null,null,null,null,null,null,null,null,null,null,null,null,null,null,null,145,0,0,0,0,0,0,145,0,0,0,0,0,0,145,0,0,0,0,0,0]
[146,0,0,0,0,0,0,null,null,null,null,null,null,null,null,null,null,null,null,null,null,null,null,null,null,null,null,null,null,null,null,null,null,146,0,0,0,0,0,0,146,0,0,0,0,0,0,146,0,0,0,0,0,0]
[147,0,0,0,0,0,0,null,null,null,null,null,null,null,null,null,null,null,null,null,null,null,null,null,null,null,null,null,null,null,null,null,null,147,0,0,0,0,0,0,147,0,0,0,0,0,0,147,0,0,0,0,0,0]
[148,0,0,0,0,0,0,null,null,null,null,null,null,null,null,null,null,null,null,null,null,null,null,null,null,null,null,null,null,null,null,null,null,148,0,0,0,0,0,0,148,0,0,0,0,0,0,148,0,0,0,0,0,0]
[149,0,0,0,0,0,0,null,null,null,null,null,null,null,null,null,null,null,null,null,null,null,null,null,null,null,null,null,null,null,null,null,null,149,0,0,0,0,0,0,149,0,0,0,0,0,0,149,0,0,0,0,0,0]
[150,0,0,0,0,0,0,null,null,null,null,null,null,null,null,null,null,null,null,null,null,null,null,null,null,null,null,null,null,null,null,null,null,150,0,0,0,0,0,0,150,0,0,0,0,0,0,150,0,0,0,0,0,0]
[151,0,0,0,0,0,0,null,null,null,null,null,null,null,null,null,null,null,null,null,null,null,null,null,null,null,null,null,null,null,null,null,null,151,0,0,0,0,0,0,151,0,0,0,0,0,0,151,0,0,0,0,0,0]
[152,0,0,0,0,0,0,null,null,null,null,null,null,null,null,null,null,null,null,null,null,null,null,null,null,null,null,null,null,null,null,null,null,152,0,0,0,0,0,0,152,0,0,0,0,0,0,152,0,0,0,0,0,0]
[153,0,0,0,0,0,0,null,null,null,null,null,null,null,null,null,null,null,null,null,null,null,null,null,null,null,null,null,null,null,null,null,null,153,0,0,0,0,0,0,153,0,0,0,0,0,0,153,0,0,0,0,0,0]
[154,0,0,0,0,0,0,null,null,null,null,null,null,null,null,null,null,null,null,null,null,null,null,null,null,null,null,null,null,null,null,null,null,154,0,0,0,0,0,0,154,0,0,0,0,0,0,154,0,0,0,0,0,0]
[155,0,0,0,0,0,0,null,null,null,null,null,null,null,null,null,null,null,null,null,null,null,null,null,null,null,null,null,null,null,null,null,null,155,0,0,0,0,0,0,155,0,0,0,0,0,0,155,0,0,0,0,0,0]
[156,0,0,0,0,0,0,null,null,null,null,null,null,null,null,null,null,null,null,null,null,null,null,null,null,null,null,null,null,null,null,null,null,156,0,0,0,0,0,0,156,0,0,0,0,0,0,156,0,0,0,0,0,0]
[157,0,0,0,0,0,0,null,null,null,null,null,null,null,null,null,null,null,null,null,null,null,null,null,null,null,null,null,null,null,null,null,null,157,0,0,0,0,0,0,157,0,0,0,0,0,0,157,0,0,0,0,0,0]
[158,0,0,0,0,0,0,null,null,null,null,null,null,null,null,null,null,null,null,null,null,null,null,null,null,null,null,null,null,null,null,null,null,158,0,0,0,0,0,0,158,0,0,0,0,0,0,158,0,0,0,0,0,0]
[159,0,0,0,0,0,0,null,null,null,null,null,null,null,null,null,null,null,null,null,null,null,null,null,null,null,null,null,null,null,null,null,null,159,0,0,0,0,0,0,159,0,0,0,0,0,0,159,0,0,0,0,0,0]

{"sheet":"Gompertz Smågrise","index":12,"n_rows":149,"n_cols":56,"rows_kept":149,"cut":false,"hidden":false,"merged":[]}
["Regneark til beregning af tilvækst og foderforbrug. Der inddateres  ",null,null,null,null,null,null,null,null,"Desuden kan rettes i vækst i 14 dage fra indsættelse"]
["Indsættelsesvægt, daglig tilvækst 7-30 kg og FEsv/kg tilvækst 7-30 kg",null,null,null,null,null,null,null,null,"Vækst i procent af Gomperts efter fravænning"]
["Specialligning 0-14 dage, derefter Gompertz vækstfunktion",null,null,null,null,null,null,null,"Dag 1",-20,"Dag 5",48,"Dag 9",null,80,null,"FEsv/kg 30-100 kg",null,null,2.75]
[null,null,null,null,null,null,null,null,"Dag 2",-5,"dag 6",57,"Dag10",null,86,null,"Vægtkorrektionsfaktor",null,null,{"$f":" (T3-T5)/46.5","v":1.8279569892473119E-2}]
[null,null,null,null,null,null,null,null,"Dag 3",20,"dag 7",65,"Dag 11",null,91,null,"Fesv/kg 7-30 kg",null,null,1.9]
["Vejehold","Hold 1","Hold 2","Hold 3","Hold 4","Hold 5","Hold 6",null,"Dag 4",35,"Dag 8",72,"Dag 12",null,95]
["Indsættelsesvægt =",{"$f":"'Vejehold 1'!$E$7","v":0},{"$f":"'Vejehold 2'!$E$7","v":0},{"$f":"'Vejehold 3'!$E$7","v":0},{"$f":"'Vejehold 4'!$E$7","v":0},{"$f":"'Vejehold 5'!$E$7","v":0},{"$f":"'Vejehold 6'!$E$7","v":0},null,null,null,null,null,"Dag 13",null,98]
["Dgl tilv 7-30 kg =",450,450,450,450,450,450,null,null,null,null,null,"Dag 14",null,100]
["Væksrate",{"$f":"-0.0015+B8/33600","v":1.1892857142857143E-2},1.1892857142857143E-2,1.1892857142857143E-2,1.1892857142857143E-2,1.1892857142857143E-2,1.1892857142857143E-2]
[]
[null,null,null,null,null,null,null,null,null,"Hold nr",1,null,null,"Hold nr ",2,null,null,"Hold nr ",3,null,null,"Hold nr ",4,null,null,"Hold nr ",5,null,null,"Hold nr ",6]
["Dag","vægt","vægt","vægt","vægt","vægt","vægt",null,"Dag","Dgl tilv.","FEs/kg","FEs/dag",null,"Dgl tilv.","FEs/kg","FEs/dag",null,"Dgl tilv.","FEs/kg","FEs/dag",null,"Dgl tilv.","FEs/kg","FEs/dag",null,"Dgl tilv.","FEs/kg","FEs/dag",null,"Dgl tilv.","FEs/kg","FEs/dag",null,"Dag","dgl tilv","dgl tilv","dgl tilv","dgl tilv","dgl tilv","dgl tilv",null,"Dag","FEs/kg","FEs/kg","FEs/kg","FEs/kg","FEs/kg","FEs/kg",null,"Dag","FEs/dag","FEs/dag","FEs/dag","FEs/dag","FEs/dag","FEs/dag"]
[1,{"$f":"IFERROR( B7,0)","v":0},0,0,0,0,0,null,1,{"$f":"VLOOKUP($I13,$AH$13:$AN$149,K$11+1,FALSE)","v":0},{"$f":"VLOOKUP($I13,$AP$13:$AV$149,K$11+1,FALSE)","v":0},{"$f":"VLOOKUP($I13,$AX$13:$BD$149,K$11+1,FALSE)","v":0},null,{"$f":"VLOOKUP($I13,$AH$13:$AN$149,O$11+1,FALSE)","v":0},{"$f":"VLOOKUP($I13,$AP$13:$AV$149,O$11+1,FALSE)","v":0},{"$f":"VLOOKUP($I13,$AX$13:$BD$149,O$11+1,FALSE)","v":0},null,{"$f":"VLOOKUP($I13,$AH$13:$AN$149,S$11+1,FALSE)","v":0},{"$f":"VLOOKUP($I13,$AP$13:$AV$149,S$11+1,FALSE)","v":0},{"$f":"VLOOKUP($I13,$AX$13:$BD$149,S$11+1,FALSE)","v":0},null,{"$f":"VLOOKUP($I13,$AH$13:$AN$149,W$11+1,FALSE)","v":0},{"$f":"VLOOKUP($I13,$AP$13:$AV$149,W$11+1,FALSE)","v":0},{"$f":"VLOOKUP($I13,$AX$13:$BD$149,W$11+1,FALSE)","v":0},null,{"$f":"VLOOKUP($I13,$AH$13:$AN$149,AA$11+1,FALSE)","v":0},{"$f":"VLOOKUP($I13,$AP$13:$AV$149,AA$11+1,FALSE)","v":0},{"$f":"VLOOKUP($I13,$AX$13:$BD$149,AA$11+1,FALSE)","v":0},null,{"$f":"VLOOKUP($I13,$AH$13:$AN$149,AE$11+1,FALSE)","v":0},{"$f":"VLOOKUP($I13,$AP$13:$AV$149,AE$11+1,FALSE)","v":0},{"$f":"VLOOKUP($I13,$AX$13:$BD$149,AE$11+1,FALSE)","v":0},null,1,{"$f":"(B14-B13)/($A14-$A13)*1000","v":0},{"$f":"(C14-C13)/($A14-$A13)*1000","v":0},{"$f":"(D14-D13)/($A14-$A13)*1000","v":0},{"$f":"(E14-E13)/($A14-$A13)*1000","v":0},{"$f":"(F14-F13)/($A14-$A13)*1000","v":0},{"$f":"(G14-G13)/($A14-$A13)*1000","v":0},null,1,{"$f":"IFERROR( (AY13/AI13*1000),0)","v":0},0,0,0,0,0,null,1,{"$f":"AI13/1000*0.9+B13*0.017","v":0},0,0,0,0,0]
[2,{"$f":"IFERROR( EXP(5.44-(5.44-LN(B13))*EXP(-B$9*$J$3/100*($A14-$A13))),0)","v":0},0,0,0,0,0,null,2,0,0,0,null,0,0,0,null,0,0,0,null,0,0,0,null,0,0,0,null,0,0,0,null,2,0,0,0,0,0,0,null,2,0,0,0,0,0,0,null,2,0,0,0,0,0,0]
[3,{"$f":"IFERROR( EXP(5.44-(5.44-LN(B14))*EXP(-B$9*$J$4/100*($A15-$A14))),0)","v":0},0,0,0,0,0,null,3,0,0,0,null,0,0,0,null,0,0,0,null,0,0,0,null,0,0,0,null,0,0,0,null,3,0,0,0,0,0,0,null,3,0,0,0,0,0,0,null,3,0,0,0,0,0,0]
[4,{"$f":"IFERROR( EXP(5.44-(5.44-LN(B15))*EXP(-B$9*$J$5/100*($A16-$A15))),0)","v":0},0,0,0,0,0,null,4,0,0,0,null,0,0,0,null,0,0,0,null,0,0,0,null,0,0,0,null,0,0,0,null,4,0,0,0,0,0,0,null,4,0,0,0,0,0,0,null,4,0,0,0,0,0,0]
[5,{"$f":"IFERROR( EXP(5.44-(5.44-LN(B16))*EXP(-B$9*$J$6/100*($A17-$A16))),0)","v":0},0,0,0,0,0,null,5,0,0,0,null,0,0,0,null,0,0,0,null,0,0,0,null,0,0,0,null,0,0,0,null,5,0,0,0,0,0,0,null,5,0,0,0,0,0,0,null,5,0,0,0,0,0,0]
[6,{"$f":"IFERROR( EXP(5.44-(5.44-LN(B17))*EXP(-B$9*$L$3/100*($A18-$A17))),0)","v":0},0,0,0,0,0,null,6,0,0,0,null,0,0,0,null,0,0,0,null,0,0,0,null,0,0,0,null,0,0,0,null,6,0,0,0,0,0,0,null,6,{"$f":"IF(B18>0,$T$5+(B18-18.5)*$T$4,0)","v":0},{"$f":"IF(C18>0,$T$5+(C18-18.5)*$T$4,0)","v":0},{"$f":"IF(D18>0,$T$5+(D18-18.5)*$T$4,0)","v":0},{"$f":"IF(E18>0,$T$5+(E18-18.5)*$T$4,0)","v":0},{"$f":"IF(F18>0,$T$5+(F18-18.5)*$T$4,0)","v":0},{"$f":"IF(G18>0,$T$5+(G18-18.5)*$T$4,0)","v":0},null,6,{"$f":"AI18*AQ18/1000","v":0},0,0,0,0,0]
[7,{"$f":"IFERROR( EXP(5.44-(5.44-LN(B18))*EXP(-B$9*$L$4/100*($A19-$A18))),0)","v":0},0,0,0,0,0,null,7,0,0,0,null,0,0,0,null,0,0,0,null,0,0,0,null,0,0,0,null,0,0,0,null,7,0,0,0,0,0,0,null,7,0,0,0,0,0,0,null,7,{"$f":"AI19*AQ19/1000","v":0},{"$f":"AJ19*AR19/1000","v":0},{"$f":"AK19*AS19/1000","v":0},{"$f":"AL19*AT19/1000","v":0},{"$f":"AM19*AU19/1000","v":0},{"$f":"AN19*AV19/1000","v":0}]
[8,{"$f":"IFERROR( EXP(5.44-(5.44-LN(B19))*EXP(-B$9*$L$5/100*($A20-$A19))),0)","v":0},0,0,0,0,0,null,8,0,0,0,null,0,0,0,null,0,0,0,null,0,0,0,null,0,0,0,null,0,0,0,null,8,0,0,0,0,0,0,null,8,0,0,0,0,0,0,null,8,0,0,0,0,0,0]
[9,{"$f":"IFERROR( EXP(5.44-(5.44-LN(B20))*EXP(-B$9*$L$6/100*($A21-$A20))),0)","v":0},0,0,0,0,0,null,9,0,0,0,null,0,0,0,null,0,0,0,null,0,0,0,null,0,0,0,null,0,0,0,null,9,0,0,0,0,0,0,null,9,0,0,0,0,0,0,null,9,0,0,0,0,0,0]
[10,{"$f":"IFERROR( EXP(5.44-(5.44-LN(B21))*EXP(-B$9*$O$3/100*($A22-$A21))),0)","v":0},0,0,0,0,0,null,10,0,0,0,null,0,0,0,null,0,0,0,null,0,0,0,null,0,0,0,null,0,0,0,null,10,0,0,0,0,0,0,null,10,0,0,0,0,0,0,null,10,0,0,0,0,0,0]
[11,{"$f":"IFERROR( EXP(5.44-(5.44-LN(B22))*EXP(-B$9*$O$4/100*($A23-$A22))),0)","v":0},0,0,0,0,0,null,11,0,0,0,null,0,0,0,null,0,0,0,null,0,0,0,null,0,0,0,null,0,0,0,null,11,0,0,0,0,0,0,null,11,0,0,0,0,0,0,null,11,0,0,0,0,0,0]
[12,{"$f":"IFERROR( EXP(5.44-(5.44-LN(B23))*EXP(-B$9*$O$5/100*($A24-$A23))),0)","v":0},0,0,0,0,0,null,12,0,0,0,null,0,0,0,null,0,0,0,null,0,0,0,null,0,0,0,null,0,0,0,null,12,0,0,0,0,0,0,null,12,0,0,0,0,0,0,null,12,0,0,0,0,0,0]
[13,{"$f":"IFERROR( EXP(5.44-(5.44-LN(B24))*EXP(-B$9*$O$6/100*($A25-$A24))),0)","v":0},0,0,0,0,0,null,13,0,0,0,null,0,0,0,null,0,0,0,null,0,0,0,null,0,0,0,null,0,0,0,null,13,0,0,0,0,0,0,null,13,0,0,0,0,0,0,null,13,0,0,0,0,0,0]
[14,{"$f":"IFERROR( EXP(5.44-(5.44-LN(B25))*EXP(-B$9*$O$7/100*($A26-$A25))),0)","v":0},0,0,0,0,0,null,14,0,0,0,null,0,0,0,null,0,0,0,null,0,0,0,null,0,0,0,null,0,0,0,null,14,0,0,0,0,0,0,null,14,0,0,0,0,0,0,null,14,0,0,0,0,0,0]
[15,{"$f":"IFERROR( EXP(5.44-(5.44-LN(B26))*EXP(-B$9*$O$8/100*($A27-$A26))),0)","v":0},0,0,0,0,0,null,15,0,0,0,null,0,0,0,null,0,0,0,null,0,0,0,null,0,0,0,null,0,0,0,null,15,{"$f":"(B30-B27)/($A30-$A27)*1000","v":0},0,0,0,0,0,null,15,0,0,0,0,0,0,null,15,0,0,0,0,0,0]
[]
[15,{"$f":"IFERROR( B27,0)","v":0},0,0,0,0,0,null,21,{"$f":"VLOOKUP($I29,$AH$13:$AN$149,K$11+1,FALSE)","v":0},{"$f":"VLOOKUP($I29,$AP$13:$AV$149,K$11+1,FALSE)","v":0},{"$f":"VLOOKUP($I29,$AX$13:$BD$149,K$11+1,FALSE)","v":0},null,{"$f":"VLOOKUP($I29,$AH$13:$AN$149,O$11+1,FALSE)","v":0},{"$f":"VLOOKUP($I29,$AP$13:$AV$149,O$11+1,FALSE)","v":0},{"$f":"VLOOKUP($I29,$AX$13:$BD$149,O$11+1,FALSE)","v":0},null,{"$f":"VLOOKUP($I29,$AH$13:$AN$149,S$11+1,FALSE)","v":0},{"$f":"VLOOKUP($I29,$AP$13:$AV$149,S$11+1,FALSE)","v":0},{"$f":"VLOOKUP($I29,$AX$13:$BD$149,S$11+1,FALSE)","v":0},null,{"$f":"VLOOKUP($I29,$AH$13:$AN$149,W$11+1,FALSE)","v":0},{"$f":"VLOOKUP($I29,$AP$13:$AV$149,W$11+1,FALSE)","v":0},{"$f":"VLOOKUP($I29,$AX$13:$BD$149,W$11+1,FALSE)","v":0},null,{"$f":"VLOOKUP($I29,$AH$13:$AN$149,AA$11+1,FALSE)","v":0},{"$f":"VLOOKUP($I29,$AP$13:$AV$149,AA$11+1,FALSE)","v":0},{"$f":"VLOOKUP($I29,$AX$13:$BD$149,AA$11+1,FALSE)","v":0},null,{"$f":"VLOOKUP($I29,$AH$13:$AN$149,AE$11+1,FALSE)","v":0},{"$f":"VLOOKUP($I29,$AP$13:$AV$149,AE$11+1,FALSE)","v":0},{"$f":"VLOOKUP($I29,$AX$13:$BD$149,AE$11+1,FALSE)","v":0},null,15,{"$f":"(B30-B29)/($A30-$A29)*1000","v":0},{"$f":"(C30-C29)/($A30-$A29)*1000","v":0},{"$f":"(D30-D29)/($A30-$A29)*1000","v":0},{"$f":"(E30-E29)/($A30-$A29)*1000","v":0},{"$f":"(F30-F29)/($A30-$A29)*1000","v":0},{"$f":"(G30-G29)/($A30-$A29)*1000","v":0},null,15,{"$f":"IF(B29>0,$T$5+(B29-18.5)*$T$4,0)","v":0},{"$f":"IF(C29>0,$T$5+(C29-18.5)*$T$4,0)","v":0},{"$f":"IF(D29>0,$T$5+(D29-18.5)*$T$4,0)","v":0},{"$f":"IF(E29>0,$T$5+(E29-18.5)*$T$4,0)","v":0},{"$f":"IF(F29>0,$T$5+(F29-18.5)*$T$4,0)","v":0},{"$f":"IF(G29>0,$T$5+(G29-18.5)*$T$4,0)","v":0},null,15,{"$f":"AI29*AQ29/1000","v":0},0,0,0,0,0]
[16,{"$f":"IFERROR( EXP(5.44-(5.44-LN(B29))*EXP(-B$9*($A30-$A29))),0)","v":0},{"$f":"IFERROR( EXP(5.44-(5.44-LN(C29))*EXP(-C$9*($A30-$A29))),0)","v":0},{"$f":"IFERROR( EXP(5.44-(5.44-LN(D29))*EXP(-D$9*($A30-$A29))),0)","v":0},{"$f":"IFERROR( EXP(5.44-(5.44-LN(E29))*EXP(-E$9*($A30-$A29))),0)","v":0},{"$f":"IFERROR( EXP(5.44-(5.44-LN(F29))*EXP(-F$9*($A30-$A29))),0)","v":0},{"$f":"IFERROR( EXP(5.44-(5.44-LN(G29))*EXP(-G$9*($A30-$A29))),0)","v":0},null,{"$f":"I29+7","v":28},0,0,0,null,0,0,0,null,0,0,0,null,0,0,0,null,0,0,0,null,0,0,0,null,16,0,0,0,0,0,0,null,16,0,0,0,0,0,0,null,16,{"$f":"AI30*AQ30/1000","v":0},{"$f":"AJ30*AR30/1000","v":0},{"$f":"AK30*AS30/1000","v":0},{"$f":"AL30*AT30/1000","v":0},{"$f":"AM30*AU30/1000","v":0},{"$f":"AN30*AV30/1000","v":0}]
[17,0,0,0,0,0,0,null,35,0,0,0,null,0,0,0,null,0,0,0,null,0,0,0,null,0,0,0,null,0,0,0,null,17,0,0,0,0,0,0,null,17,0,0,0,0,0,0,null,17,0,0,0,0,0,0]
[18,0,0,0,0,0,0,null,42,0,0,0,null,0,0,0,null,0,0,0,null,0,0,0,null,0,0,0,null,0,0,0,null,18,0,0,0,0,0,0,null,18,0,0,0,0,0,0,null,18,0,0,0,0,0,0]
[19,0,0,0,0,0,0,null,49,0,0,0,null,0,0,0,null,0,0,0,null,0,0,0,null,0,0,0,null,0,0,0,null,19,0,0,0,0,0,0,null,19,0,0,0,0,0,0,null,19,0,0,0,0,0,0]
[20,0,0,0,0,0,0,null,56,0,0,0,null,0,0,0,null,0,0,0,null,0,0,0,null,0,0,0,null,0,0,0,null,20,0,0,0,0,0,0,null,20,0,0,0,0,0,0,null,20,0,0,0,0,0,0]
[21,0,0,0,0,0,0,null,63,0,0,0,null,0,0,0,null,0,0,0,null,0,0,0,null,0,0,0,null,0,0,0,null,21,0,0,0,0,0,0,null,21,0,0,0,0,0,0,null,21,0,0,0,0,0,0]
[22,0,0,0,0,0,0,null,70,0,0,0,null,0,0,0,null,0,0,0,null,0,0,0,null,0,0,0,null,0,0,0,null,22,0,0,0,0,0,0,null,22,0,0,0,0,0,0,null,22,0,0,0,0,0,0]
[23,0,0,0,0,0,0,null,77,0,0,0,null,0,0,0,null,0,0,0,null,0,0,0,null,0,0,0,null,0,0,0,null,23,0,0,0,0,0,0,null,23,0,0,0,0,0,0,null,23,0,0,0,0,0,0]
[24,0,0,0,0,0,0,null,null,null,null,null,null,null,null,null,null,null,null,null,null,null,null,null,null,null,null,null,null,null,null,null,null,24,0,0,0,0,0,0,null,24,0,0,0,0,0,0,null,24,{"$f":"AI38*AQ38/1000","v":0},{"$f":"AJ38*AR38/1000","v":0},{"$f":"AK38*AS38/1000","v":0},{"$f":"AL38*AT38/1000","v":0},{"$f":"AM38*AU38/1000","v":0},{"$f":"AN38*AV38/1000","v":0}]
[25,0,0,0,0,0,0,null,null,null,null,null,null,null,null,null,null,null,null,null,null,null,null,null,null,null,null,null,null,null,null,null,null,25,0,0,0,0,0,0,null,25,0,0,0,0,0,0,null,25,0,0,0,0,0,0]
[26,0,0,0,0,0,0,null,null,null,null,null,null,null,null,null,null,null,null,null,null,null,null,null,null,null,null,null,null,null,null,null,null,26,0,0,0,0,0,0,null,26,0,0,0,0,0,0,null,26,0,0,0,0,0,0]
[27,0,0,0,0,0,0,null,null,null,null,null,null,null,null,null,null,null,null,null,null,null,null,null,null,null,null,null,null,null,null,null,null,27,0,0,0,0,0,0,null,27,0,0,0,0,0,0,null,27,0,0,0,0,0,0]
[28,0,0,0,0,0,0,null,null,null,null,null,null,null,null,null,null,null,null,null,null,null,null,null,null,null,null,null,null,null,null,null,null,28,0,0,0,0,0,0,null,28,0,0,0,0,0,0,null,28,0,0,0,0,0,0]
[29,0,0,0,0,0,0,null,null,null,null,null,null,null,null,null,null,null,null,null,null,null,null,null,null,null,null,null,null,null,null,null,null,29,0,0,0,0,0,0,null,29,0,0,0,0,0,0,null,29,0,0,0,0,0,0]
[{"$f":"A43+1","v":30},0,0,0,0,0,0,null,null,null,null,null,null,null,null,null,null,null,null,null,null,null,null,null,null,null,null,null,null,null,null,null,null,{"$f":"AH43+1","v":30},0,0,0,0,0,0,null,{"$f":"AP43+1","v":30},0,0,0,0,0,0,null,{"$f":"AX43+1","v":30},0,0,0,0,0,0]
[{"$f":"A44+1","v":31},0,0,0,0,0,0,null,null,null,null,null,null,null,null,null,null,null,null,null,null,null,null,null,null,null,null,null,null,null,null,null,null,{"$f":"AH44+1","v":31},0,0,0,0,0,0,null,{"$f":"AP44+1","v":31},0,0,0,0,0,0,null,{"$f":"AX44+1","v":31},0,0,0,0,0,0]
[32,0,0,0,0,0,0,null,null,null,null,null,null,null,null,null,null,null,null,null,null,null,null,null,null,null,null,null,null,null,null,null,null,32,0,0,0,0,0,0,null,32,0,0,0,0,0,0,null,32,0,0,0,0,0,0]
[33,0,0,0,0,0,0,null,null,null,null,null,null,null,null,null,null,null,null,null,null,null,null,null,null,null,null,null,null,null,null,null,null,33,0,0,0,0,0,0,null,33,0,0,0,0,0,0,null,33,0,0,0,0,0,0]
[34,0,0,0,0,0,0,null,null,null,null,null,null,null,null,null,null,null,null,null,null,null,null,null,null,null,null,null,null,null,null,null,null,34,0,0,0,0,0,0,null,34,0,0,0,0,0,0,null,34,0,0,0,0,0,0]
[35,0,0,0,0,0,0,null,null,null,null,null,null,null,null,null,null,null,null,null,null,null,null,null,null,null,null,null,null,null,null,null,null,35,0,0,0,0,0,0,null,35,0,0,0,0,0,0,null,35,0,0,0,0,0,0]
[36,0,0,0,0,0,0,null,null,null,null,null,null,null,null,null,null,null,null,null,null,null,null,null,null,null,null,null,null,null,null,null,null,36,0,0,0,0,0,0,null,36,0,0,0,0,0,0,null,36,0,0,0,0,0,0]
[37,0,0,0,0,0,0,null,null,null,null,null,null,null,null,null,null,null,null,null,null,null,null,null,null,null,null,null,null,null,null,null,null,37,0,0,0,0,0,0,null,37,0,0,0,0,0,0,null,37,0,0,0,0,0,0]
[38,0,0,0,0,0,0,null,null,null,null,null,null,null,null,null,null,null,null,null,null,null,null,null,null,null,null,null,null,null,null,null,null,38,0,0,0,0,0,0,null,38,0,0,0,0,0,0,null,38,0,0,0,0,0,0]
[39,0,0,0,0,0,0,null,null,null,null,null,null,null,null,null,null,null,null,null,null,null,null,null,null,null,null,null,null,null,null,null,null,39,0,0,0,0,0,0,null,39,0,0,0,0,0,0,null,39,0,0,0,0,0,0]
[40,0,0,0,0,0,0,null,null,null,null,null,null,null,null,null,null,null,null,null,null,null,null,null,null,null,null,null,null,null,null,null,null,40,0,0,0,0,0,0,null,40,0,0,0,0,0,0,null,40,0,0,0,0,0,0]
[41,0,0,0,0,0,0,null,null,null,null,null,null,null,null,null,null,null,null,null,null,null,null,null,null,null,null,null,null,null,null,null,null,41,0,0,0,0,0,0,null,41,0,0,0,0,0,0,null,41,0,0,0,0,0,0]
[42,0,0,0,0,0,0,null,null,null,null,null,null,null,null,null,null,null,null,null,null,null,null,null,null,null,null,null,null,null,null,null,null,42,0,0,0,0,0,0,null,42,0,0,0,0,0,0,null,42,0,0,0,0,0,0]
[43,0,0,0,0,0,0,null,null,null,null,null,null,null,null,null,null,null,null,null,null,null,null,null,null,null,null,null,null,null,null,null,null,43,0,0,0,0,0,0,null,43,0,0,0,0,0,0,null,43,0,0,0,0,0,0]
[44,0,0,0,0,0,0,null,null,null,null,null,null,null,null,null,null,null,null,null,null,null,null,null,null,null,null,null,null,null,null,null,null,44,0,0,0,0,0,0,null,44,0,0,0,0,0,0,null,44,0,0,0,0,0,0]
[45,0,0,0,0,0,0,null,null,null,null,null,null,null,null,null,null,null,null,null,null,null,null,null,null,null,null,null,null,null,null,null,null,45,0,0,0,0,0,0,null,45,0,0,0,0,0,0,null,45,0,0,0,0,0,0]
[46,0,0,0,0,0,0,null,null,null,null,null,null,null,null,null,null,null,null,null,null,null,null,null,null,null,null,null,null,null,null,null,null,46,0,0,0,0,0,0,null,46,0,0,0,0,0,0,null,46,0,0,0,0,0,0]
[47,0,0,0,0,0,0,null,null,null,null,null,null,null,null,null,null,null,null,null,null,null,null,null,null,null,null,null,null,null,null,null,null,47,{"$f":"(B62-B61)/($A62-$A61)*1000","v":0},{"$f":"(C62-C61)/($A62-$A61)*1000","v":0},{"$f":"(D62-D61)/($A62-$A61)*1000","v":0},{"$f":"(E62-E61)/($A62-$A61)*1000","v":0},{"$f":"(F62-F61)/($A62-$A61)*1000","v":0},{"$f":"(G62-G61)/($A62-$A61)*1000","v":0},null,47,{"$f":"IF(B61>0,$T$5+(B61-18.5)*$T$4,0)","v":0},{"$f":"IF(C61>0,$T$5+(C61-18.5)*$T$4,0)","v":0},{"$f":"IF(D61>0,$T$5+(D61-18.5)*$T$4,0)","v":0},{"$f":"IF(E61>0,$T$5+(E61-18.5)*$T$4,0)","v":0},{"$f":"IF(F61>0,$T$5+(F61-18.5)*$T$4,0)","v":0},{"$f":"IF(G61>0,$T$5+(G61-18.5)*$T$4,0)","v":0},null,47,0,0,0,0,0,0]
[48,{"$f":"IFERROR( EXP(5.44-(5.44-LN(B61))*EXP(-B$9*($A62-$A61))),0)","v":0},{"$f":"IFERROR( EXP(5.44-(5.44-LN(C61))*EXP(-C$9*($A62-$A61))),0)","v":0},{"$f":"IFERROR( EXP(5.44-(5.44-LN(D61))*EXP(-D$9*($A62-$A61))),0)","v":0},{"$f":"IFERROR( EXP(5.44-(5.44-LN(E61))*EXP(-E$9*($A62-$A61))),0)","v":0},{"$f":"IFERROR( EXP(5.44-(5.44-LN(F61))*EXP(-F$9*($A62-$A61))),0)","v":0},{"$f":"IFERROR( EXP(5.44-(5.44-LN(G61))*EXP(-G$9*($A62-$A61))),0)","v":0},null,null,null,null,null,null,null,null,null,null,null,null,null,null,null,null,null,null,null,null,null,null,null,null,null,null,48,0,0,0,0,0,0,null,48,0,0,0,0,0,0,null,48,0,0,0,0,0,0]
[49,0,0,0,0,0,0,null,null,null,null,null,null,null,null,null,null,null,null,null,null,null,null,null,null,null,null,null,null,null,null,null,null,49,0,0,0,0,0,0,null,49,0,0,0,0,0,0,null,49,0,0,0,0,0,0]
[50,0,0,0,0,0,0,null,null,null,null,null,null,null,null,null,null,null,null,null,null,null,null,null,null,null,null,null,null,null,null,null,null,50,0,0,0,0,0,0,null,50,0,0,0,0,0,0,null,50,0,0,0,0,0,0]
[51,0,0,0,0,0,0,null,null,null,null,null,null,null,null,null,null,null,null,null,null,null,null,null,null,null,null,null,null,null,null,null,null,51,0,0,0,0,0,0,null,51,0,0,0,0,0,0,null,51,0,0,0,0,0,0]
[52,0,0,0,0,0,0,null,null,null,null,null,null,null,null,null,null,null,null,null,null,null,null,null,null,null,null,null,null,null,null,null,null,52,0,0,0,0,0,0,null,52,0,0,0,0,0,0,null,52,0,0,0,0,0,0]
[53,0,0,0,0,0,0,null,null,null,null,null,null,null,null,null,null,null,null,null,null,null,null,null,null,null,null,null,null,null,null,null,null,53,0,0,0,0,0,0,null,53,0,0,0,0,0,0,null,53,0,0,0,0,0,0]
[54,0,0,0,0,0,0,null,null,null,null,null,null,null,null,null,null,null,null,null,null,null,null,null,null,null,null,null,null,null,null,null,null,54,0,0,0,0,0,0,null,54,0,0,0,0,0,0,null,54,0,0,0,0,0,0]
[55,0,0,0,0,0,0,null,null,null,null,null,null,null,null,null,null,null,null,null,null,null,null,null,null,null,null,null,null,null,null,null,null,55,0,0,0,0,0,0,null,55,0,0,0,0,0,0,null,55,0,0,0,0,0,0]
[56,0,0,0,0,0,0,null,null,null,null,null,null,null,null,null,null,null,null,null,null,null,null,null,null,null,null,null,null,null,null,null,null,56,0,0,0,0,0,0,null,56,0,0,0,0,0,0,null,56,0,0,0,0,0,0]
[57,0,0,0,0,0,0,null,null,null,null,null,null,null,null,null,null,null,null,null,null,null,null,null,null,null,null,null,null,null,null,null,null,57,0,0,0,0,0,0,null,57,0,0,0,0,0,0,null,57,0,0,0,0,0,0]
[58,0,0,0,0,0,0,null,null,null,null,null,null,null,null,null,null,null,null,null,null,null,null,null,null,null,null,null,null,null,null,null,null,58,0,0,0,0,0,0,null,58,0,0,0,0,0,0,null,58,0,0,0,0,0,0]
[59,0,0,0,0,0,0,null,null,null,null,null,null,null,null,null,null,null,null,null,null,null,null,null,null,null,null,null,null,null,null,null,null,59,0,0,0,0,0,0,null,59,0,0,0,0,0,0,null,59,0,0,0,0,0,0]
[60,0,0,0,0,0,0,null,null,null,null,null,null,null,null,null,null,null,null,null,null,null,null,null,null,null,null,null,null,null,null,null,null,60,0,0,0,0,0,0,null,60,0,0,0,0,0,0,null,60,0,0,0,0,0,0]
[61,0,0,0,0,0,0,null,null,null,null,null,null,null,null,null,null,null,null,null,null,null,null,null,null,null,null,null,null,null,null,null,null,61,0,0,0,0,0,0,null,61,0,0,0,0,0,0,null,61,0,0,0,0,0,0]
[62,0,0,0,0,0,0,null,null,null,null,null,null,null,null,null,null,null,null,null,null,null,null,null,null,null,null,null,null,null,null,null,null,62,0,0,0,0,0,0,null,62,0,0,0,0,0,0,null,62,0,0,0,0,0,0]
[63,0,0,0,0,0,0,null,null,null,null,null,null,null,null,null,null,null,null,null,null,null,null,null,null,null,null,null,null,null,null,null,null,63,0,0,0,0,0,0,null,63,0,0,0,0,0,0,null,63,0,0,0,0,0,0]
[64,0,0,0,0,0,0,null,null,null,null,null,null,null,null,null,null,null,null,null,null,null,null,null,null,null,null,null,null,null,null,null,null,64,0,0,0,0,0,0,null,64,0,0,0,0,0,0,null,64,0,0,0,0,0,0]
[65,0,0,0,0,0,0,null,null,null,null,null,null,null,null,null,null,null,null,null,null,null,null,null,null,null,null,null,null,null,null,null,null,65,0,0,0,0,0,0,null,65,0,0,0,0,0,0,null,65,0,0,0,0,0,0]
[66,0,0,0,0,0,0,null,null,null,null,null,null,null,null,null,null,null,null,null,null,null,null,null,null,null,null,null,null,null,null,null,null,66,0,0,0,0,0,0,null,66,0,0,0,0,0,0,null,66,0,0,0,0,0,0]
[67,0,0,0,0,0,0,null,null,null,null,null,null,null,null,null,null,null,null,null,null,null,null,null,null,null,null,null,null,null,null,null,null,67,0,0,0,0,0,0,null,67,0,0,0,0,0,0,null,67,0,0,0,0,0,0]
[68,0,0,0,0,0,0,null,null,null,null,null,null,null,null,null,null,null,null,null,null,null,null,null,null,null,null,null,null,null,null,null,null,68,0,0,0,0,0,0,null,68,0,0,0,0,0,0,null,68,0,0,0,0,0,0]
[69,0,0,0,0,0,0,null,null,null,null,null,null,null,null,null,null,null,null,null,null,null,null,null,null,null,null,null,null,null,null,null,null,69,0,0,0,0,0,0,null,69,0,0,0,0,0,0,null,69,0,0,0,0,0,0]
[70,0,0,0,0,0,0,null,null,null,null,null,null,null,null,null,null,null,null,null,null,null,null,null,null,null,null,null,null,null,null,null,null,70,0,0,0,0,0,0,null,70,0,0,0,0,0,0,null,70,0,0,0,0,0,0]
[71,0,0,0,0,0,0,null,null,null,null,null,null,null,null,null,null,null,null,null,null,null,null,null,null,null,null,null,null,null,null,null,null,71,0,0,0,0,0,0,null,71,0,0,0,0,0,0,null,71,0,0,0,0,0,0]
[72,0,0,0,0,0,0,null,null,null,null,null,null,null,null,null,null,null,null,null,null,null,null,null,null,null,null,null,null,null,null,null,null,72,0,0,0,0,0,0,null,72,0,0,0,0,0,0,null,72,0,0,0,0,0,0]
[73,0,0,0,0,0,0,null,null,null,null,null,null,null,null,null,null,null,null,null,null,null,null,null,null,null,null,null,null,null,null,null,null,73,0,0,0,0,0,0,null,73,0,0,0,0,0,0,null,73,0,0,0,0,0,0]
[74,0,0,0,0,0,0,null,null,null,null,null,null,null,null,null,null,null,null,null,null,null,null,null,null,null,null,null,null,null,null,null,null,74,0,0,0,0,0,0,null,74,0,0,0,0,0,0,null,74,0,0,0,0,0,0]
[75,0,0,0,0,0,0,null,null,null,null,null,null,null,null,null,null,null,null,null,null,null,null,null,null,null,null,null,null,null,null,null,null,75,0,0,0,0,0,0,null,75,0,0,0,0,0,0,null,75,0,0,0,0,0,0]
[76,0,0,0,0,0,0,null,null,null,null,null,null,null,null,null,null,null,null,null,null,null,null,null,null,null,null,null,null,null,null,null,null,76,0,0,0,0,0,0,null,76,0,0,0,0,0,0,null,76,0,0,0,0,0,0]
[77,0,0,0,0,0,0,null,null,null,null,null,null,null,null,null,null,null,null,null,null,null,null,null,null,null,null,null,null,null,null,null,null,77,0,0,0,0,0,0,null,77,0,0,0,0,0,0,null,77,0,0,0,0,0,0]
[78,0,0,0,0,0,0,null,null,null,null,null,null,null,null,null,null,null,null,null,null,null,null,null,null,null,null,null,null,null,null,null,null,78,0,0,0,0,0,0,null,78,0,0,0,0,0,0,null,78,0,0,0,0,0,0]
[79,0,0,0,0,0,0,null,null,null,null,null,null,null,null,null,null,null,null,null,null,null,null,null,null,null,null,null,null,null,null,null,null,79,{"$f":"(B94-B93)/($A94-$A93)*1000","v":0},{"$f":"(C94-C93)/($A94-$A93)*1000","v":0},{"$f":"(D94-D93)/($A94-$A93)*1000","v":0},{"$f":"(E94-E93)/($A94-$A93)*1000","v":0},{"$f":"(F94-F93)/($A94-$A93)*1000","v":0},{"$f":"(G94-G93)/($A94-$A93)*1000","v":0},null,79,{"$f":"IF(B93>0,$T$5+(B93-18.5)*$T$4,0)","v":0},{"$f":"IF(C93>0,$T$5+(C93-18.5)*$T$4,0)","v":0},{"$f":"IF(D93>0,$T$5+(D93-18.5)*$T$4,0)","v":0},{"$f":"IF(E93>0,$T$5+(E93-18.5)*$T$4,0)","v":0},{"$f":"IF(F93>0,$T$5+(F93-18.5)*$T$4,0)","v":0},{"$f":"IF(G93>0,$T$5+(G93-18.5)*$T$4,0)","v":0},null,79,0,0,0,0,0,0]
[80,{"$f":"IFERROR( EXP(5.44-(5.44-LN(B93))*EXP(-B$9*($A94-$A93))),0)","v":0},{"$f":"IFERROR( EXP(5.44-(5.44-LN(C93))*EXP(-C$9*($A94-$A93))),0)","v":0},{"$f":"IFERROR( EXP(5.44-(5.44-LN(D93))*EXP(-D$9*($A94-$A93))),0)","v":0},{"$f":"IFERROR( EXP(5.44-(5.44-LN(E93))*EXP(-E$9*($A94-$A93))),0)","v":0},{"$f":"IFERROR( EXP(5.44-(5.44-LN(F93))*EXP(-F$9*($A94-$A93))),0)","v":0},{"$f":"IFERROR( EXP(5.44-(5.44-LN(G93))*EXP(-G$9*($A94-$A93))),0)","v":0},null,null,null,null,null,null,null,null,null,null,null,null,null,null,null,null,null,null,null,null,null,null,null,null,null,null,80,0,0,0,0,0,0,null,80,0,0,0,0,0,0,null,80,0,0,0,0,0,0]
[81,0,0,0,0,0,0,null,null,null,null,null,null,null,null,null,null,null,null,null,null,null,null,null,null,null,null,null,null,null,null,null,null,81,0,0,0,0,0,0,null,81,0,0,0,0,0,0,null,81,0,0,0,0,0,0]
[82,0,0,0,0,0,0,null,null,null,null,null,null,null,null,null,null,null,null,null,null,null,null,null,null,null,null,null,null,null,null,null,null,82,0,0,0,0,0,0,null,82,0,0,0,0,0,0,null,82,0,0,0,0,0,0]
[83,0,0,0,0,0,0,null,null,null,null,null,null,null,null,null,null,null,null,null,null,null,null,null,null,null,null,null,null,null,null,null,null,83,0,0,0,0,0,0,null,83,0,0,0,0,0,0,null,83,0,0,0,0,0,0]
[84,0,0,0,0,0,0,null,null,null,null,null,null,null,null,null,null,null,null,null,null,null,null,null,null,null,null,null,null,null,null,null,null,84,0,0,0,0,0,0,null,84,0,0,0,0,0,0,null,84,0,0,0,0,0,0]
[85,0,0,0,0,0,0,null,null,null,null,null,null,null,null,null,null,null,null,null,null,null,null,null,null,null,null,null,null,null,null,null,null,85,0,0,0,0,0,0,null,85,0,0,0,0,0,0,null,85,0,0,0,0,0,0]
[86,0,0,0,0,0,0,null,null,null,null,null,null,null,null,null,null,null,null,null,null,null,null,null,null,null,null,null,null,null,null,null,null,86,0,0,0,0,0,0,null,86,0,0,0,0,0,0,null,86,0,0,0,0,0,0]
[87,0,0,0,0,0,0,null,null,null,null,null,null,null,null,null,null,null,null,null,null,null,null,null,null,null,null,null,null,null,null,null,null,87,0,0,0,0,0,0,null,87,0,0,0,0,0,0,null,87,0,0,0,0,0,0]
[88,0,0,0,0,0,0,null,null,null,null,null,null,null,null,null,null,null,null,null,null,null,null,null,null,null,null,null,null,null,null,null,null,88,0,0,0,0,0,0,null,88,0,0,0,0,0,0,null,88,{"$f":"AI102*AQ102/1000","v":0},{"$f":"AJ102*AR102/1000","v":0},{"$f":"AK102*AS102/1000","v":0},{"$f":"AL102*AT102/1000","v":0},{"$f":"AM102*AU102/1000","v":0},{"$f":"AN102*AV102/1000","v":0}]
[89,0,0,0,0,0,0,null,null,null,null,null,null,null,null,null,null,null,null,null,null,null,null,null,null,null,null,null,null,null,null,null,null,89,0,0,0,0,0,0,null,89,0,0,0,0,0,0,null,89,0,0,0,0,0,0]
[90,0,0,0,0,0,0,null,null,null,null,null,null,null,null,null,null,null,null,null,null,null,null,null,null,null,null,null,null,null,null,null,null,90,0,0,0,0,0,0,null,90,0,0,0,0,0,0,null,90,0,0,0,0,0,0]
[91,0,0,0,0,0,0,null,null,null,null,null,null,null,null,null,null,null,null,null,null,null,null,null,null,null,null,null,null,null,null,null,null,91,0,0,0,0,0,0,null,91,0,0,0,0,0,0,null,91,0,0,0,0,0,0]
[92,0,0,0,0,0,0,null,null,null,null,null,null,null,null,null,null,null,null,null,null,null,null,null,null,null,null,null,null,null,null,null,null,92,0,0,0,0,0,0,null,92,0,0,0,0,0,0,null,92,0,0,0,0,0,0]
[93,0,0,0,0,0,0,null,null,null,null,null,null,null,null,null,null,null,null,null,null,null,null,null,null,null,null,null,null,null,null,null,null,93,0,0,0,0,0,0,null,93,0,0,0,0,0,0,null,93,0,0,0,0,0,0]
[94,0,0,0,0,0,0,null,null,null,null,null,null,null,null,null,null,null,null,null,null,null,null,null,null,null,null,null,null,null,null,null,null,94,0,0,0,0,0,0,null,94,0,0,0,0,0,0,null,94,0,0,0,0,0,0]
[{"$f":"A108+1","v":95},0,0,0,0,0,0,null,null,null,null,null,null,null,null,null,null,null,null,null,null,null,null,null,null,null,null,null,null,null,null,null,null,{"$f":"AH108+1","v":95},0,0,0,0,0,0,null,{"$f":"AP108+1","v":95},0,0,0,0,0,0,null,{"$f":"AX108+1","v":95},0,0,0,0,0,0]
[96,0,0,0,0,0,0,null,null,null,null,null,null,null,null,null,null,null,null,null,null,null,null,null,null,null,null,null,null,null,null,null,null,96,0,0,0,0,0,0,null,96,0,0,0,0,0,0,null,96,0,0,0,0,0,0]
[97,0,0,0,0,0,0,null,null,null,null,null,null,null,null,null,null,null,null,null,null,null,null,null,null,null,null,null,null,null,null,null,null,97,0,0,0,0,0,0,null,97,0,0,0,0,0,0,null,97,0,0,0,0,0,0]
[98,0,0,0,0,0,0,null,null,null,null,null,null,null,null,null,null,null,null,null,null,null,null,null,null,null,null,null,null,null,null,null,null,98,0,0,0,0,0,0,null,98,0,0,0,0,0,0,null,98,0,0,0,0,0,0]
[99,0,0,0,0,0,0,null,null,null,null,null,null,null,null,null,null,null,null,null,null,null,null,null,null,null,null,null,null,null,null,null,null,99,0,0,0,0,0,0,null,99,0,0,0,0,0,0,null,99,0,0,0,0,0,0]
[100,0,0,0,0,0,0,null,null,null,null,null,null,null,null,null,null,null,null,null,null,null,null,null,null,null,null,null,null,null,null,null,null,100,0,0,0,0,0,0,null,100,0,0,0,0,0,0,null,100,0,0,0,0,0,0]
[101,0,0,0,0,0,0,null,null,null,null,null,null,null,null,null,null,null,null,null,null,null,null,null,null,null,null,null,null,null,null,null,null,101,0,0,0,0,0,0,null,101,0,0,0,0,0,0,null,101,0,0,0,0,0,0]
[102,0,0,0,0,0,0,null,null,null,null,null,null,null,null,null,null,null,null,null,null,null,null,null,null,null,null,null,null,null,null,null,null,102,0,0,0,0,0,0,null,102,0,0,0,0,0,0,null,102,0,0,0,0,0,0]
[103,0,0,0,0,0,0,null,null,null,null,null,null,null,null,null,null,null,null,null,null,null,null,null,null,null,null,null,null,null,null,null,null,103,0,0,0,0,0,0,null,103,0,0,0,0,0,0,null,103,0,0,0,0,0,0]
[104,0,0,0,0,0,0,null,null,null,null,null,null,null,null,null,null,null,null,null,null,null,null,null,null,null,null,null,null,null,null,null,null,104,0,0,0,0,0,0,null,104,0,0,0,0,0,0,null,104,0,0,0,0,0,0]
[105,0,0,0,0,0,0,null,null,null,null,null,null,null,null,null,null,null,null,null,null,null,null,null,null,null,null,null,null,null,null,null,null,105,0,0,0,0,0,0,null,105,0,0,0,0,0,0,null,105,0,0,0,0,0,0]
[106,0,0,0,0,0,0,null,null,null,null,null,null,null,null,null,null,null,null,null,null,null,null,null,null,null,null,null,null,null,null,null,null,106,0,0,0,0,0,0,null,106,0,0,0,0,0,0,null,106,0,0,0,0,0,0]
[107,0,0,0,0,0,0,null,null,null,null,null,null,null,null,null,null,null,null,null,null,null,null,null,null,null,null,null,null,null,null,null,null,107,0,0,0,0,0,0,null,107,0,0,0,0,0,0,null,107,0,0,0,0,0,0]
[108,0,0,0,0,0,0,null,null,null,null,null,null,null,null,null,null,null,null,null,null,null,null,null,null,null,null,null,null,null,null,null,null,108,0,0,0,0,0,0,null,108,0,0,0,0,0,0,null,108,0,0,0,0,0,0]
[109,0,0,0,0,0,0,null,null,null,null,null,null,null,null,null,null,null,null,null,null,null,null,null,null,null,null,null,null,null,null,null,null,109,0,0,0,0,0,0,null,109,0,0,0,0,0,0,null,109,0,0,0,0,0,0]
[110,0,0,0,0,0,0,null,null,null,null,null,null,null,null,null,null,null,null,null,null,null,null,null,null,null,null,null,null,null,null,null,null,110,0,0,0,0,0,0,null,110,0,0,0,0,0,0,null,110,0,0,0,0,0,0]
[111,0,0,0,0,0,0,null,null,null,null,null,null,null,null,null,null,null,null,null,null,null,null,null,null,null,null,null,null,null,null,null,null,111,{"$f":"(B126-B125)/($A126-$A125)*1000","v":0},{"$f":"(C126-C125)/($A126-$A125)*1000","v":0},{"$f":"(D126-D125)/($A126-$A125)*1000","v":0},{"$f":"(E126-E125)/($A126-$A125)*1000","v":0},{"$f":"(F126-F125)/($A126-$A125)*1000","v":0},{"$f":"(G126-G125)/($A126-$A125)*1000","v":0},null,111,{"$f":"IF(B125>0,$T$5+(B125-18.5)*$T$4,0)","v":0},{"$f":"IF(C125>0,$T$5+(C125-18.5)*$T$4,0)","v":0},{"$f":"IF(D125>0,$T$5+(D125-18.5)*$T$4,0)","v":0},{"$f":"IF(E125>0,$T$5+(E125-18.5)*$T$4,0)","v":0},{"$f":"IF(F125>0,$T$5+(F125-18.5)*$T$4,0)","v":0},{"$f":"IF(G125>0,$T$5+(G125-18.5)*$T$4,0)","v":0},null,111,0,0,0,0,0,0]
[112,{"$f":"IFERROR( EXP(5.44-(5.44-LN(B125))*EXP(-B$9*($A126-$A125))),0)","v":0},{"$f":"IFERROR( EXP(5.44-(5.44-LN(C125))*EXP(-C$9*($A126-$A125))),0)","v":0},{"$f":"IFERROR( EXP(5.44-(5.44-LN(D125))*EXP(-D$9*($A126-$A125))),0)","v":0},{"$f":"IFERROR( EXP(5.44-(5.44-LN(E125))*EXP(-E$9*($A126-$A125))),0)","v":0},{"$f":"IFERROR( EXP(5.44-(5.44-LN(F125))*EXP(-F$9*($A126-$A125))),0)","v":0},{"$f":"IFERROR( EXP(5.44-(5.44-LN(G125))*EXP(-G$9*($A126-$A125))),0)","v":0},null,null,null,null,null,null,null,null,null,null,null,null,null,null,null,null,null,null,null,null,null,null,null,null,null,null,112,0,0,0,0,0,0,null,112,0,0,0,0,0,0,null,112,0,0,0,0,0,0]
[113,0,0,0,0,0,0,null,null,null,null,null,null,null,null,null,null,null,null,null,null,null,null,null,null,null,null,null,null,null,null,null,null,113,0,0,0,0,0,0,null,113,0,0,0,0,0,0,null,113,0,0,0,0,0,0]
[114,0,0,0,0,0,0,null,null,null,null,null,null,null,null,null,null,null,null,null,null,null,null,null,null,null,null,null,null,null,null,null,null,114,0,0,0,0,0,0,null,114,0,0,0,0,0,0,null,114,0,0,0,0,0,0]
[115,0,0,0,0,0,0,null,null,null,null,null,null,null,null,null,null,null,null,null,null,null,null,null,null,null,null,null,null,null,null,null,null,115,0,0,0,0,0,0,null,115,0,0,0,0,0,0,null,115,0,0,0,0,0,0]
[116,0,0,0,0,0,0,null,null,null,null,null,null,null,null,null,null,null,null,null,null,null,null,null,null,null,null,null,null,null,null,null,null,116,0,0,0,0,0,0,null,116,0,0,0,0,0,0,null,116,0,0,0,0,0,0]
[117,0,0,0,0,0,0,null,null,null,null,null,null,null,null,null,null,null,null,null,null,null,null,null,null,null,null,null,null,null,null,null,null,117,0,0,0,0,0,0,null,117,0,0,0,0,0,0,null,117,0,0,0,0,0,0]
[118,0,0,0,0,0,0,null,null,null,null,null,null,null,null,null,null,null,null,null,null,null,null,null,null,null,null,null,null,null,null,null,null,118,0,0,0,0,0,0,null,118,0,0,0,0,0,0,null,118,0,0,0,0,0,0]
[119,0,0,0,0,0,0,null,null,null,null,null,null,null,null,null,null,null,null,null,null,null,null,null,null,null,null,null,null,null,null,null,null,119,0,0,0,0,0,0,null,119,0,0,0,0,0,0,null,119,0,0,0,0,0,0]
[120,0,0,0,0,0,0,null,null,null,null,null,null,null,null,null,null,null,null,null,null,null,null,null,null,null,null,null,null,null,null,null,null,120,0,0,0,0,0,0,null,120,0,0,0,0,0,0,null,120,0,0,0,0,0,0]
[121,0,0,0,0,0,0,null,null,null,null,null,null,null,null,null,null,null,null,null,null,null,null,null,null,null,null,null,null,null,null,null,null,121,0,0,0,0,0,0,null,121,0,0,0,0,0,0,null,121,0,0,0,0,0,0]
[122,0,0,0,0,0,0,null,null,null,null,null,null,null,null,null,null,null,null,null,null,null,null,null,null,null,null,null,null,null,null,null,null,122,0,0,0,0,0,0,null,122,0,0,0,0,0,0,null,122,0,0,0,0,0,0]
[123,0,0,0,0,0,0,null,null,null,null,null,null,null,null,null,null,null,null,null,null,null,null,null,null,null,null,null,null,null,null,null,null,123,0,0,0,0,0,0,null,123,0,0,0,0,0,0,null,123,0,0,0,0,0,0]
[124,0,0,0,0,0,0,null,null,null,null,null,null,null,null,null,null,null,null,null,null,null,null,null,null,null,null,null,null,null,null,null,null,124,0,0,0,0,0,0,null,124,0,0,0,0,0,0,null,124,0,0,0,0,0,0]
[125,0,0,0,0,0,0,null,null,null,null,null,null,null,null,null,null,null,null,null,null,null,null,null,null,null,null,null,null,null,null,null,null,125,0,0,0,0,0,0,null,125,0,0,0,0,0,0,null,125,0,0,0,0,0,0]
[126,0,0,0,0,0,0,null,null,null,null,null,null,null,null,null,null,null,null,null,null,null,null,null,null,null,null,null,null,null,null,null,null,126,0,0,0,0,0,0,null,126,0,0,0,0,0,0,null,126,0,0,0,0,0,0]
[127,0,0,0,0,0,0,null,null,null,null,null,null,null,null,null,null,null,null,null,null,null,null,null,null,null,null,null,null,null,null,null,null,127,0,0,0,0,0,0,null,127,0,0,0,0,0,0,null,127,0,0,0,0,0,0]
[128,0,0,0,0,0,0,null,null,null,null,null,null,null,null,null,null,null,null,null,null,null,null,null,null,null,null,null,null,null,null,null,null,128,0,0,0,0,0,0,null,128,0,0,0,0,0,0,null,128,0,0,0,0,0,0]
[129,0,0,0,0,0,0,null,null,null,null,null,null,null,null,null,null,null,null,null,null,null,null,null,null,null,null,null,null,null,null,null,null,129,0,0,0,0,0,0,null,129,0,0,0,0,0,0,null,129,0,0,0,0,0,0]
[130,0,0,0,0,0,0,null,null,null,null,null,null,null,null,null,null,null,null,null,null,null,null,null,null,null,null,null,null,null,null,null,null,130,0,0,0,0,0,0,null,130,0,0,0,0,0,0,null,130,0,0,0,0,0,0]
[131,0,0,0,0,0,0,null,null,null,null,null,null,null,null,null,null,null,null,null,null,null,null,null,null,null,null,null,null,null,null,null,null,131,0,0,0,0,0,0,null,131,0,0,0,0,0,0,null,131,0,0,0,0,0,0]
[132,0,0,0,0,0,0,null,null,null,null,null,null,null,null,null,null,null,null,null,null,null,null,null,null,null,null,null,null,null,null,null,null,132,0,0,0,0,0,0,null,132,0,0,0,0,0,0,null,132,0,0,0,0,0,0]
[133,0,0,0,0,0,0,null,null,null,null,null,null,null,null,null,null,null,null,null,null,null,null,null,null,null,null,null,null,null,null,null,null,133,0,0,0,0,0,0,null,133,0,0,0,0,0,0,null,133,0,0,0,0,0,0]
[134,0,0,0,0,0,0,null,null,null,null,null,null,null,null,null,null,null,null,null,null,null,null,null,null,null,null,null,null,null,null,null,null,134,0,0,0,0,0,0,null,134,0,0,0,0,0,0,null,134,0,0,0,0,0,0]
[135,0,0,0,0,0,0,null,null,null,null,null,null,null,null,null,null,null,null,null,null,null,null,null,null,null,null,null,null,null,null,null,null,135,0,0,0,0,0,0,null,135,0,0,0,0,0,0,null,135,0,0,0,0,0,0]

{"sheet":"Foderdage","index":13,"n_rows":159,"n_cols":13,"rows_kept":159,"cut":false,"hidden":true,"merged":[]}
["Antal grise efter dato til beregning af foderdage"]
[null,"Antal grise"]
["Dato","Hold 1","Dato","Hold 2","Dato","Hold 3","Dato","Hold 4","Dato","Hold 5","Dato","Hold 6","Årsag til flytning"]
[{"$f":"'Vejehold 1'!$A$7","v":"00:00:00"},{"$f":"'Vejehold 1'!$C$7","v":0},{"$f":"'Vejehold 2'!$A$7","v":"00:00:00"},{"$f":"'Vejehold 2'!$C$7","v":0},{"$f":"'Vejehold 3'!$A$7","v":"00:00:00"},{"$f":"'Vejehold 3'!$C$7","v":0},{"$f":"'Vejehold 4'!$A$7","v":"00:00:00"},{"$f":"'Vejehold 4'!$C$7","v":0},{"$f":"'Vejehold 5'!$A$7","v":"00:00:00"},{"$f":"'Vejehold 5'!$C$7","v":0},{"$f":"'Vejehold 6'!$A$7","v":"00:00:00"},{"$f":"'Vejehold 6'!$C$7","v":0},"Udsorteret"]
[{"$f":"A4+1","v":"1900-01-01"},{"$f":"B4-SUMIF('Vejehold 1'!$U$7:$U$23,Foderdage!$A4,'Vejehold 1'!$V$7:$V$23)","v":0},{"$f":"C4+1","v":"1900-01-01"},{"$f":"D4-SUMIF('Vejehold 2'!$U$7:$U$23,Foderdage!C4,'Vejehold 2'!$V$7:$V$23)","v":0},{"$f":"E4+1","v":"1900-01-01"},{"$f":"F4-SUMIF('Vejehold 3'!$U$7:$U$23,Foderdage!E4,'Vejehold 3'!$V$7:$V$23)","v":0},{"$f":"G4+1","v":"1900-01-01"},{"$f":"H4-SUMIF('Vejehold 4'!$U$7:$U$23,Foderdage!G4,'Vejehold 4'!$V$7:$V$23)","v":0},{"$f":"I4+1","v":"1900-01-01"},{"$f":"J4-SUMIF('Vejehold 5'!$U$7:$U$23,Foderdage!I4,'Vejehold 5'!$V$7:$V$23)","v":0},{"$f":"K4+1","v":"1900-01-01"},{"$f":"L4-SUMIF('Vejehold 6'!$U$7:$U$23,Foderdage!K4,'Vejehold 6'!$V$7:$V$23)","v":0},"Sygesti"]
[{"$f":"A5+1","v":"1900-01-02"},{"$f":"B5-SUMIF('Vejehold 1'!$U$7:$U$23,Foderdage!$A5,'Vejehold 1'!$V$7:$V$23)","v":0},{"$f":"C5+1","v":"1900-01-02"},{"$f":"D5-SUMIF('Vejehold 2'!$U$7:$U$23,Foderdage!C5,'Vejehold 2'!$V$7:$V$23)","v":0},{"$f":"E5+1","v":"1900-01-02"},{"$f":"F5-SUMIF('Vejehold 3'!$U$7:$U$23,Foderdage!E5,'Vejehold 3'!$V$7:$V$23)","v":0},{"$f":"G5+1","v":"1900-01-02"},{"$f":"H5-SUMIF('Vejehold 4'!$U$7:$U$23,Foderdage!G5,'Vejehold 4'!$V$7:$V$23)","v":0},"1900-01-02",{"$f":"J5-SUMIF('Vejehold 5'!$U$7:$U$23,Foderdage!I5,'Vejehold 5'!$V$7:$V$23)","v":0},"1900-01-02",{"$f":"L5-SUMIF('Vejehold 6'!$U$7:$U$23,Foderdage!K5,'Vejehold 6'!$V$7:$V$23)","v":0},"Død"]
["1900-01-03",{"$f":"B6-SUMIF('Vejehold 1'!$U$7:$U$23,Foderdage!$A6,'Vejehold 1'!$V$7:$V$23)","v":0},"1900-01-03",{"$f":"D6-SUMIF('Vejehold 2'!$U$7:$U$23,Foderdage!C6,'Vejehold 2'!$V$7:$V$23)","v":0},"1900-01-03",{"$f":"F6-SUMIF('Vejehold 3'!$U$7:$U$23,Foderdage!E6,'Vejehold 3'!$V$7:$V$23)","v":0},"1900-01-03",{"$f":"H6-SUMIF('Vejehold 4'!$U$7:$U$23,Foderdage!G6,'Vejehold 4'!$V$7:$V$23)","v":0},"1900-01-03",{"$f":"J6-SUMIF('Vejehold 5'!$U$7:$U$23,Foderdage!I6,'Vejehold 5'!$V$7:$V$23)","v":0},"1900-01-03",{"$f":"L6-SUMIF('Vejehold 6'!$U$7:$U$23,Foderdage!K6,'Vejehold 6'!$V$7:$V$23)","v":0},"Andet"]
["1900-01-04",{"$f":"B7-SUMIF('Vejehold 1'!$U$7:$U$23,Foderdage!$A7,'Vejehold 1'!$V$7:$V$23)","v":0},"1900-01-04",{"$f":"D7-SUMIF('Vejehold 2'!$U$7:$U$23,Foderdage!C7,'Vejehold 2'!$V$7:$V$23)","v":0},"1900-01-04",{"$f":"F7-SUMIF('Vejehold 3'!$U$7:$U$23,Foderdage!E7,'Vejehold 3'!$V$7:$V$23)","v":0},"1900-01-04",{"$f":"H7-SUMIF('Vejehold 4'!$U$7:$U$23,Foderdage!G7,'Vejehold 4'!$V$7:$V$23)","v":0},"1900-01-04",{"$f":"J7-SUMIF('Vejehold 5'!$U$7:$U$23,Foderdage!I7,'Vejehold 5'!$V$7:$V$23)","v":0},"1900-01-04",{"$f":"L7-SUMIF('Vejehold 6'!$U$7:$U$23,Foderdage!K7,'Vejehold 6'!$V$7:$V$23)","v":0}]
["1900-01-05",{"$f":"B8-SUMIF('Vejehold 1'!$U$7:$U$23,Foderdage!$A8,'Vejehold 1'!$V$7:$V$23)","v":0},"1900-01-05",{"$f":"D8-SUMIF('Vejehold 2'!$U$7:$U$23,Foderdage!C8,'Vejehold 2'!$V$7:$V$23)","v":0},"1900-01-05",{"$f":"F8-SUMIF('Vejehold 3'!$U$7:$U$23,Foderdage!E8,'Vejehold 3'!$V$7:$V$23)","v":0},"1900-01-05",{"$f":"H8-SUMIF('Vejehold 4'!$U$7:$U$23,Foderdage!G8,'Vejehold 4'!$V$7:$V$23)","v":0},"1900-01-05",{"$f":"J8-SUMIF('Vejehold 5'!$U$7:$U$23,Foderdage!I8,'Vejehold 5'!$V$7:$V$23)","v":0},"1900-01-05",{"$f":"L8-SUMIF('Vejehold 6'!$U$7:$U$23,Foderdage!K8,'Vejehold 6'!$V$7:$V$23)","v":0}]
["1900-01-06",{"$f":"B9-SUMIF('Vejehold 1'!$U$7:$U$23,Foderdage!$A9,'Vejehold 1'!$V$7:$V$23)","v":0},"1900-01-06",{"$f":"D9-SUMIF('Vejehold 2'!$U$7:$U$23,Foderdage!C9,'Vejehold 2'!$V$7:$V$23)","v":0},"1900-01-06",{"$f":"F9-SUMIF('Vejehold 3'!$U$7:$U$23,Foderdage!E9,'Vejehold 3'!$V$7:$V$23)","v":0},"1900-01-06",{"$f":"H9-SUMIF('Vejehold 4'!$U$7:$U$23,Foderdage!G9,'Vejehold 4'!$V$7:$V$23)","v":0},"1900-01-06",{"$f":"J9-SUMIF('Vejehold 5'!$U$7:$U$23,Foderdage!I9,'Vejehold 5'!$V$7:$V$23)","v":0},"1900-01-06",{"$f":"L9-SUMIF('Vejehold 6'!$U$7:$U$23,Foderdage!K9,'Vejehold 6'!$V$7:$V$23)","v":0}]
["1900-01-07",{"$f":"B10-SUMIF('Vejehold 1'!$U$7:$U$23,Foderdage!$A10,'Vejehold 1'!$V$7:$V$23)","v":0},"1900-01-07",{"$f":"D10-SUMIF('Vejehold 2'!$U$7:$U$23,Foderdage!C10,'Vejehold 2'!$V$7:$V$23)","v":0},"1900-01-07",{"$f":"F10-SUMIF('Vejehold 3'!$U$7:$U$23,Foderdage!E10,'Vejehold 3'!$V$7:$V$23)","v":0},"1900-01-07",{"$f":"H10-SUMIF('Vejehold 4'!$U$7:$U$23,Foderdage!G10,'Vejehold 4'!$V$7:$V$23)","v":0},"1900-01-07",{"$f":"J10-SUMIF('Vejehold 5'!$U$7:$U$23,Foderdage!I10,'Vejehold 5'!$V$7:$V$23)","v":0},"1900-01-07",{"$f":"L10-SUMIF('Vejehold 6'!$U$7:$U$23,Foderdage!K10,'Vejehold 6'!$V$7:$V$23)","v":0}]
["1900-01-08",{"$f":"B11-SUMIF('Vejehold 1'!$U$7:$U$23,Foderdage!$A11,'Vejehold 1'!$V$7:$V$23)","v":0},"1900-01-08",{"$f":"D11-SUMIF('Vejehold 2'!$U$7:$U$23,Foderdage!C11,'Vejehold 2'!$V$7:$V$23)","v":0},"1900-01-08",{"$f":"F11-SUMIF('Vejehold 3'!$U$7:$U$23,Foderdage!E11,'Vejehold 3'!$V$7:$V$23)","v":0},"1900-01-08",{"$f":"H11-SUMIF('Vejehold 4'!$U$7:$U$23,Foderdage!G11,'Vejehold 4'!$V$7:$V$23)","v":0},"1900-01-08",{"$f":"J11-SUMIF('Vejehold 5'!$U$7:$U$23,Foderdage!I11,'Vejehold 5'!$V$7:$V$23)","v":0},"1900-01-08",{"$f":"L11-SUMIF('Vejehold 6'!$U$7:$U$23,Foderdage!K11,'Vejehold 6'!$V$7:$V$23)","v":0}]
["1900-01-09",{"$f":"B12-SUMIF('Vejehold 1'!$U$7:$U$23,Foderdage!$A12,'Vejehold 1'!$V$7:$V$23)","v":0},"1900-01-09",{"$f":"D12-SUMIF('Vejehold 2'!$U$7:$U$23,Foderdage!C12,'Vejehold 2'!$V$7:$V$23)","v":0},"1900-01-09",{"$f":"F12-SUMIF('Vejehold 3'!$U$7:$U$23,Foderdage!E12,'Vejehold 3'!$V$7:$V$23)","v":0},"1900-01-09",{"$f":"H12-SUMIF('Vejehold 4'!$U$7:$U$23,Foderdage!G12,'Vejehold 4'!$V$7:$V$23)","v":0},"1900-01-09",{"$f":"J12-SUMIF('Vejehold 5'!$U$7:$U$23,Foderdage!I12,'Vejehold 5'!$V$7:$V$23)","v":0},"1900-01-09",{"$f":"L12-SUMIF('Vejehold 6'!$U$7:$U$23,Foderdage!K12,'Vejehold 6'!$V$7:$V$23)","v":0}]
["1900-01-10",{"$f":"B13-SUMIF('Vejehold 1'!$U$7:$U$23,Foderdage!$A13,'Vejehold 1'!$V$7:$V$23)","v":0},"1900-01-10",{"$f":"D13-SUMIF('Vejehold 2'!$U$7:$U$23,Foderdage!C13,'Vejehold 2'!$V$7:$V$23)","v":0},"1900-01-10",{"$f":"F13-SUMIF('Vejehold 3'!$U$7:$U$23,Foderdage!E13,'Vejehold 3'!$V$7:$V$23)","v":0},"1900-01-10",{"$f":"H13-SUMIF('Vejehold 4'!$U$7:$U$23,Foderdage!G13,'Vejehold 4'!$V$7:$V$23)","v":0},"1900-01-10",{"$f":"J13-SUMIF('Vejehold 5'!$U$7:$U$23,Foderdage!I13,'Vejehold 5'!$V$7:$V$23)","v":0},"1900-01-10",{"$f":"L13-SUMIF('Vejehold 6'!$U$7:$U$23,Foderdage!K13,'Vejehold 6'!$V$7:$V$23)","v":0}]
["1900-01-11",{"$f":"B14-SUMIF('Vejehold 1'!$U$7:$U$23,Foderdage!$A14,'Vejehold 1'!$V$7:$V$23)","v":0},"1900-01-11",{"$f":"D14-SUMIF('Vejehold 2'!$U$7:$U$23,Foderdage!C14,'Vejehold 2'!$V$7:$V$23)","v":0},"1900-01-11",{"$f":"F14-SUMIF('Vejehold 3'!$U$7:$U$23,Foderdage!E14,'Vejehold 3'!$V$7:$V$23)","v":0},"1900-01-11",{"$f":"H14-SUMIF('Vejehold 4'!$U$7:$U$23,Foderdage!G14,'Vejehold 4'!$V$7:$V$23)","v":0},"1900-01-11",{"$f":"J14-SUMIF('Vejehold 5'!$U$7:$U$23,Foderdage!I14,'Vejehold 5'!$V$7:$V$23)","v":0},"1900-01-11",{"$f":"L14-SUMIF('Vejehold 6'!$U$7:$U$23,Foderdage!K14,'Vejehold 6'!$V$7:$V$23)","v":0}]
["1900-01-12",{"$f":"B15-SUMIF('Vejehold 1'!$U$7:$U$23,Foderdage!$A15,'Vejehold 1'!$V$7:$V$23)","v":0},"1900-01-12",{"$f":"D15-SUMIF('Vejehold 2'!$U$7:$U$23,Foderdage!C15,'Vejehold 2'!$V$7:$V$23)","v":0},"1900-01-12",{"$f":"F15-SUMIF('Vejehold 3'!$U$7:$U$23,Foderdage!E15,'Vejehold 3'!$V$7:$V$23)","v":0},"1900-01-12",{"$f":"H15-SUMIF('Vejehold 4'!$U$7:$U$23,Foderdage!G15,'Vejehold 4'!$V$7:$V$23)","v":0},"1900-01-12",{"$f":"J15-SUMIF('Vejehold 5'!$U$7:$U$23,Foderdage!I15,'Vejehold 5'!$V$7:$V$23)","v":0},"1900-01-12",{"$f":"L15-SUMIF('Vejehold 6'!$U$7:$U$23,Foderdage!K15,'Vejehold 6'!$V$7:$V$23)","v":0}]
["1900-01-13",{"$f":"B16-SUMIF('Vejehold 1'!$U$7:$U$23,Foderdage!$A16,'Vejehold 1'!$V$7:$V$23)","v":0},"1900-01-13",{"$f":"D16-SUMIF('Vejehold 2'!$U$7:$U$23,Foderdage!C16,'Vejehold 2'!$V$7:$V$23)","v":0},"1900-01-13",{"$f":"F16-SUMIF('Vejehold 3'!$U$7:$U$23,Foderdage!E16,'Vejehold 3'!$V$7:$V$23)","v":0},"1900-01-13",{"$f":"H16-SUMIF('Vejehold 4'!$U$7:$U$23,Foderdage!G16,'Vejehold 4'!$V$7:$V$23)","v":0},"1900-01-13",{"$f":"J16-SUMIF('Vejehold 5'!$U$7:$U$23,Foderdage!I16,'Vejehold 5'!$V$7:$V$23)","v":0},"1900-01-13",{"$f":"L16-SUMIF('Vejehold 6'!$U$7:$U$23,Foderdage!K16,'Vejehold 6'!$V$7:$V$23)","v":0}]
["1900-01-14",{"$f":"B17-SUMIF('Vejehold 1'!$U$7:$U$23,Foderdage!$A17,'Vejehold 1'!$V$7:$V$23)","v":0},"1900-01-14",{"$f":"D17-SUMIF('Vejehold 2'!$U$7:$U$23,Foderdage!C17,'Vejehold 2'!$V$7:$V$23)","v":0},"1900-01-14",{"$f":"F17-SUMIF('Vejehold 3'!$U$7:$U$23,Foderdage!E17,'Vejehold 3'!$V$7:$V$23)","v":0},"1900-01-14",{"$f":"H17-SUMIF('Vejehold 4'!$U$7:$U$23,Foderdage!G17,'Vejehold 4'!$V$7:$V$23)","v":0},"1900-01-14",{"$f":"J17-SUMIF('Vejehold 5'!$U$7:$U$23,Foderdage!I17,'Vejehold 5'!$V$7:$V$23)","v":0},"1900-01-14",{"$f":"L17-SUMIF('Vejehold 6'!$U$7:$U$23,Foderdage!K17,'Vejehold 6'!$V$7:$V$23)","v":0}]
["1900-01-15",{"$f":"B18-SUMIF('Vejehold 1'!$U$7:$U$23,Foderdage!$A18,'Vejehold 1'!$V$7:$V$23)","v":0},"1900-01-15",{"$f":"D18-SUMIF('Vejehold 2'!$U$7:$U$23,Foderdage!C18,'Vejehold 2'!$V$7:$V$23)","v":0},"1900-01-15",{"$f":"F18-SUMIF('Vejehold 3'!$U$7:$U$23,Foderdage!E18,'Vejehold 3'!$V$7:$V$23)","v":0},"1900-01-15",{"$f":"H18-SUMIF('Vejehold 4'!$U$7:$U$23,Foderdage!G18,'Vejehold 4'!$V$7:$V$23)","v":0},"1900-01-15",{"$f":"J18-SUMIF('Vejehold 5'!$U$7:$U$23,Foderdage!I18,'Vejehold 5'!$V$7:$V$23)","v":0},"1900-01-15",{"$f":"L18-SUMIF('Vejehold 6'!$U$7:$U$23,Foderdage!K18,'Vejehold 6'!$V$7:$V$23)","v":0}]
["1900-01-16",{"$f":"B19-SUMIF('Vejehold 1'!$U$7:$U$23,Foderdage!$A19,'Vejehold 1'!$V$7:$V$23)","v":0},"1900-01-16",{"$f":"D19-SUMIF('Vejehold 2'!$U$7:$U$23,Foderdage!C19,'Vejehold 2'!$V$7:$V$23)","v":0},"1900-01-16",{"$f":"F19-SUMIF('Vejehold 3'!$U$7:$U$23,Foderdage!E19,'Vejehold 3'!$V$7:$V$23)","v":0},"1900-01-16",{"$f":"H19-SUMIF('Vejehold 4'!$U$7:$U$23,Foderdage!G19,'Vejehold 4'!$V$7:$V$23)","v":0},"1900-01-16",{"$f":"J19-SUMIF('Vejehold 5'!$U$7:$U$23,Foderdage!I19,'Vejehold 5'!$V$7:$V$23)","v":0},"1900-01-16",{"$f":"L19-SUMIF('Vejehold 6'!$U$7:$U$23,Foderdage!K19,'Vejehold 6'!$V$7:$V$23)","v":0}]
["1900-01-17",{"$f":"B20-SUMIF('Vejehold 1'!$U$7:$U$23,Foderdage!$A20,'Vejehold 1'!$V$7:$V$23)","v":0},"1900-01-17",{"$f":"D20-SUMIF('Vejehold 2'!$U$7:$U$23,Foderdage!C20,'Vejehold 2'!$V$7:$V$23)","v":0},"1900-01-17",{"$f":"F20-SUMIF('Vejehold 3'!$U$7:$U$23,Foderdage!E20,'Vejehold 3'!$V$7:$V$23)","v":0},"1900-01-17",{"$f":"H20-SUMIF('Vejehold 4'!$U$7:$U$23,Foderdage!G20,'Vejehold 4'!$V$7:$V$23)","v":0},"1900-01-17",{"$f":"J20-SUMIF('Vejehold 5'!$U$7:$U$23,Foderdage!I20,'Vejehold 5'!$V$7:$V$23)","v":0},"1900-01-17",{"$f":"L20-SUMIF('Vejehold 6'!$U$7:$U$23,Foderdage!K20,'Vejehold 6'!$V$7:$V$23)","v":0}]
["1900-01-18",{"$f":"B21-SUMIF('Vejehold 1'!$U$7:$U$23,Foderdage!$A21,'Vejehold 1'!$V$7:$V$23)","v":0},"1900-01-18",{"$f":"D21-SUMIF('Vejehold 2'!$U$7:$U$23,Foderdage!C21,'Vejehold 2'!$V$7:$V$23)","v":0},"1900-01-18",{"$f":"F21-SUMIF('Vejehold 3'!$U$7:$U$23,Foderdage!E21,'Vejehold 3'!$V$7:$V$23)","v":0},"1900-01-18",{"$f":"H21-SUMIF('Vejehold 4'!$U$7:$U$23,Foderdage!G21,'Vejehold 4'!$V$7:$V$23)","v":0},"1900-01-18",{"$f":"J21-SUMIF('Vejehold 5'!$U$7:$U$23,Foderdage!I21,'Vejehold 5'!$V$7:$V$23)","v":0},"1900-01-18",{"$f":"L21-SUMIF('Vejehold 6'!$U$7:$U$23,Foderdage!K21,'Vejehold 6'!$V$7:$V$23)","v":0}]
["1900-01-19",{"$f":"B22-SUMIF('Vejehold 1'!$U$7:$U$23,Foderdage!$A22,'Vejehold 1'!$V$7:$V$23)","v":0},"1900-01-19",{"$f":"D22-SUMIF('Vejehold 2'!$U$7:$U$23,Foderdage!C22,'Vejehold 2'!$V$7:$V$23)","v":0},"1900-01-19",{"$f":"F22-SUMIF('Vejehold 3'!$U$7:$U$23,Foderdage!E22,'Vejehold 3'!$V$7:$V$23)","v":0},"1900-01-19",{"$f":"H22-SUMIF('Vejehold 4'!$U$7:$U$23,Foderdage!G22,'Vejehold 4'!$V$7:$V$23)","v":0},"1900-01-19",{"$f":"J22-SUMIF('Vejehold 5'!$U$7:$U$23,Foderdage!I22,'Vejehold 5'!$V$7:$V$23)","v":0},"1900-01-19",{"$f":"L22-SUMIF('Vejehold 6'!$U$7:$U$23,Foderdage!K22,'Vejehold 6'!$V$7:$V$23)","v":0}]
["1900-01-20",{"$f":"B23-SUMIF('Vejehold 1'!$U$7:$U$23,Foderdage!$A23,'Vejehold 1'!$V$7:$V$23)","v":0},"1900-01-20",{"$f":"D23-SUMIF('Vejehold 2'!$U$7:$U$23,Foderdage!C23,'Vejehold 2'!$V$7:$V$23)","v":0},"1900-01-20",{"$f":"F23-SUMIF('Vejehold 3'!$U$7:$U$23,Foderdage!E23,'Vejehold 3'!$V$7:$V$23)","v":0},"1900-01-20",{"$f":"H23-SUMIF('Vejehold 4'!$U$7:$U$23,Foderdage!G23,'Vejehold 4'!$V$7:$V$23)","v":0},"1900-01-20",{"$f":"J23-SUMIF('Vejehold 5'!$U$7:$U$23,Foderdage!I23,'Vejehold 5'!$V$7:$V$23)","v":0},"1900-01-20",{"$f":"L23-SUMIF('Vejehold 6'!$U$7:$U$23,Foderdage!K23,'Vejehold 6'!$V$7:$V$23)","v":0}]
["1900-01-21",{"$f":"B24-SUMIF('Vejehold 1'!$U$7:$U$23,Foderdage!$A24,'Vejehold 1'!$V$7:$V$23)","v":0},"1900-01-21",{"$f":"D24-SUMIF('Vejehold 2'!$U$7:$U$23,Foderdage!C24,'Vejehold 2'!$V$7:$V$23)","v":0},"1900-01-21",{"$f":"F24-SUMIF('Vejehold 3'!$U$7:$U$23,Foderdage!E24,'Vejehold 3'!$V$7:$V$23)","v":0},"1900-01-21",{"$f":"H24-SUMIF('Vejehold 4'!$U$7:$U$23,Foderdage!G24,'Vejehold 4'!$V$7:$V$23)","v":0},"1900-01-21",{"$f":"J24-SUMIF('Vejehold 5'!$U$7:$U$23,Foderdage!I24,'Vejehold 5'!$V$7:$V$23)","v":0},"1900-01-21",{"$f":"L24-SUMIF('Vejehold 6'!$U$7:$U$23,Foderdage!K24,'Vejehold 6'!$V$7:$V$23)","v":0}]
["1900-01-22",{"$f":"B25-SUMIF('Vejehold 1'!$U$7:$U$23,Foderdage!$A25,'Vejehold 1'!$V$7:$V$23)","v":0},"1900-01-22",{"$f":"D25-SUMIF('Vejehold 2'!$U$7:$U$23,Foderdage!C25,'Vejehold 2'!$V$7:$V$23)","v":0},"1900-01-22",{"$f":"F25-SUMIF('Vejehold 3'!$U$7:$U$23,Foderdage!E25,'Vejehold 3'!$V$7:$V$23)","v":0},"1900-01-22",{"$f":"H25-SUMIF('Vejehold 4'!$U$7:$U$23,Foderdage!G25,'Vejehold 4'!$V$7:$V$23)","v":0},"1900-01-22",{"$f":"J25-SUMIF('Vejehold 5'!$U$7:$U$23,Foderdage!I25,'Vejehold 5'!$V$7:$V$23)","v":0},"1900-01-22",{"$f":"L25-SUMIF('Vejehold 6'!$U$7:$U$23,Foderdage!K25,'Vejehold 6'!$V$7:$V$23)","v":0}]
["1900-01-23",{"$f":"B26-SUMIF('Vejehold 1'!$U$7:$U$23,Foderdage!$A26,'Vejehold 1'!$V$7:$V$23)","v":0},"1900-01-23",{"$f":"D26-SUMIF('Vejehold 2'!$U$7:$U$23,Foderdage!C26,'Vejehold 2'!$V$7:$V$23)","v":0},"1900-01-23",{"$f":"F26-SUMIF('Vejehold 3'!$U$7:$U$23,Foderdage!E26,'Vejehold 3'!$V$7:$V$23)","v":0},"1900-01-23",{"$f":"H26-SUMIF('Vejehold 4'!$U$7:$U$23,Foderdage!G26,'Vejehold 4'!$V$7:$V$23)","v":0},"1900-01-23",{"$f":"J26-SUMIF('Vejehold 5'!$U$7:$U$23,Foderdage!I26,'Vejehold 5'!$V$7:$V$23)","v":0},"1900-01-23",{"$f":"L26-SUMIF('Vejehold 6'!$U$7:$U$23,Foderdage!K26,'Vejehold 6'!$V$7:$V$23)","v":0}]
["1900-01-24",{"$f":"B27-SUMIF('Vejehold 1'!$U$7:$U$23,Foderdage!$A27,'Vejehold 1'!$V$7:$V$23)","v":0},"1900-01-24",{"$f":"D27-SUMIF('Vejehold 2'!$U$7:$U$23,Foderdage!C27,'Vejehold 2'!$V$7:$V$23)","v":0},"1900-01-24",{"$f":"F27-SUMIF('Vejehold 3'!$U$7:$U$23,Foderdage!E27,'Vejehold 3'!$V$7:$V$23)","v":0},"1900-01-24",{"$f":"H27-SUMIF('Vejehold 4'!$U$7:$U$23,Foderdage!G27,'Vejehold 4'!$V$7:$V$23)","v":0},"1900-01-24",{"$f":"J27-SUMIF('Vejehold 5'!$U$7:$U$23,Foderdage!I27,'Vejehold 5'!$V$7:$V$23)","v":0},"1900-01-24",{"$f":"L27-SUMIF('Vejehold 6'!$U$7:$U$23,Foderdage!K27,'Vejehold 6'!$V$7:$V$23)","v":0}]
["1900-01-25",{"$f":"B28-SUMIF('Vejehold 1'!$U$7:$U$23,Foderdage!$A28,'Vejehold 1'!$V$7:$V$23)","v":0},"1900-01-25",{"$f":"D28-SUMIF('Vejehold 2'!$U$7:$U$23,Foderdage!C28,'Vejehold 2'!$V$7:$V$23)","v":0},"1900-01-25",{"$f":"F28-SUMIF('Vejehold 3'!$U$7:$U$23,Foderdage!E28,'Vejehold 3'!$V$7:$V$23)","v":0},"1900-01-25",{"$f":"H28-SUMIF('Vejehold 4'!$U$7:$U$23,Foderdage!G28,'Vejehold 4'!$V$7:$V$23)","v":0},"1900-01-25",{"$f":"J28-SUMIF('Vejehold 5'!$U$7:$U$23,Foderdage!I28,'Vejehold 5'!$V$7:$V$23)","v":0},"1900-01-25",{"$f":"L28-SUMIF('Vejehold 6'!$U$7:$U$23,Foderdage!K28,'Vejehold 6'!$V$7:$V$23)","v":0}]
["1900-01-26",{"$f":"B29-SUMIF('Vejehold 1'!$U$7:$U$23,Foderdage!$A29,'Vejehold 1'!$V$7:$V$23)","v":0},"1900-01-26",{"$f":"D29-SUMIF('Vejehold 2'!$U$7:$U$23,Foderdage!C29,'Vejehold 2'!$V$7:$V$23)","v":0},"1900-01-26",{"$f":"F29-SUMIF('Vejehold 3'!$U$7:$U$23,Foderdage!E29,'Vejehold 3'!$V$7:$V$23)","v":0},"1900-01-26",{"$f":"H29-SUMIF('Vejehold 4'!$U$7:$U$23,Foderdage!G29,'Vejehold 4'!$V$7:$V$23)","v":0},"1900-01-26",{"$f":"J29-SUMIF('Vejehold 5'!$U$7:$U$23,Foderdage!I29,'Vejehold 5'!$V$7:$V$23)","v":0},"1900-01-26",{"$f":"L29-SUMIF('Vejehold 6'!$U$7:$U$23,Foderdage!K29,'Vejehold 6'!$V$7:$V$23)","v":0}]
["1900-01-27",{"$f":"B30-SUMIF('Vejehold 1'!$U$7:$U$23,Foderdage!$A30,'Vejehold 1'!$V$7:$V$23)","v":0},"1900-01-27",{"$f":"D30-SUMIF('Vejehold 2'!$U$7:$U$23,Foderdage!C30,'Vejehold 2'!$V$7:$V$23)","v":0},"1900-01-27",{"$f":"F30-SUMIF('Vejehold 3'!$U$7:$U$23,Foderdage!E30,'Vejehold 3'!$V$7:$V$23)","v":0},"1900-01-27",{"$f":"H30-SUMIF('Vejehold 4'!$U$7:$U$23,Foderdage!G30,'Vejehold 4'!$V$7:$V$23)","v":0},"1900-01-27",{"$f":"J30-SUMIF('Vejehold 5'!$U$7:$U$23,Foderdage!I30,'Vejehold 5'!$V$7:$V$23)","v":0},"1900-01-27",{"$f":"L30-SUMIF('Vejehold 6'!$U$7:$U$23,Foderdage!K30,'Vejehold 6'!$V$7:$V$23)","v":0}]
["1900-01-28",{"$f":"B31-SUMIF('Vejehold 1'!$U$7:$U$23,Foderdage!$A31,'Vejehold 1'!$V$7:$V$23)","v":0},"1900-01-28",{"$f":"D31-SUMIF('Vejehold 2'!$U$7:$U$23,Foderdage!C31,'Vejehold 2'!$V$7:$V$23)","v":0},"1900-01-28",{"$f":"F31-SUMIF('Vejehold 3'!$U$7:$U$23,Foderdage!E31,'Vejehold 3'!$V$7:$V$23)","v":0},"1900-01-28",{"$f":"H31-SUMIF('Vejehold 4'!$U$7:$U$23,Foderdage!G31,'Vejehold 4'!$V$7:$V$23)","v":0},"1900-01-28",{"$f":"J31-SUMIF('Vejehold 5'!$U$7:$U$23,Foderdage!I31,'Vejehold 5'!$V$7:$V$23)","v":0},"1900-01-28",{"$f":"L31-SUMIF('Vejehold 6'!$U$7:$U$23,Foderdage!K31,'Vejehold 6'!$V$7:$V$23)","v":0}]
["1900-01-29",{"$f":"B32-SUMIF('Vejehold 1'!$U$7:$U$23,Foderdage!$A32,'Vejehold 1'!$V$7:$V$23)","v":0},"1900-01-29",{"$f":"D32-SUMIF('Vejehold 2'!$U$7:$U$23,Foderdage!C32,'Vejehold 2'!$V$7:$V$23)","v":0},"1900-01-29",{"$f":"F32-SUMIF('Vejehold 3'!$U$7:$U$23,Foderdage!E32,'Vejehold 3'!$V$7:$V$23)","v":0},"1900-01-29",{"$f":"H32-SUMIF('Vejehold 4'!$U$7:$U$23,Foderdage!G32,'Vejehold 4'!$V$7:$V$23)","v":0},"1900-01-29",{"$f":"J32-SUMIF('Vejehold 5'!$U$7:$U$23,Foderdage!I32,'Vejehold 5'!$V$7:$V$23)","v":0},"1900-01-29",{"$f":"L32-SUMIF('Vejehold 6'!$U$7:$U$23,Foderdage!K32,'Vejehold 6'!$V$7:$V$23)","v":0}]
["1900-01-30",{"$f":"B33-SUMIF('Vejehold 1'!$U$7:$U$23,Foderdage!$A33,'Vejehold 1'!$V$7:$V$23)","v":0},"1900-01-30",{"$f":"D33-SUMIF('Vejehold 2'!$U$7:$U$23,Foderdage!C33,'Vejehold 2'!$V$7:$V$23)","v":0},"1900-01-30",{"$f":"F33-SUMIF('Vejehold 3'!$U$7:$U$23,Foderdage!E33,'Vejehold 3'!$V$7:$V$23)","v":0},"1900-01-30",{"$f":"H33-SUMIF('Vejehold 4'!$U$7:$U$23,Foderdage!G33,'Vejehold 4'!$V$7:$V$23)","v":0},"1900-01-30",{"$f":"J33-SUMIF('Vejehold 5'!$U$7:$U$23,Foderdage!I33,'Vejehold 5'!$V$7:$V$23)","v":0},"1900-01-30",{"$f":"L33-SUMIF('Vejehold 6'!$U$7:$U$23,Foderdage!K33,'Vejehold 6'!$V$7:$V$23)","v":0}]
["1900-01-31",{"$f":"B34-SUMIF('Vejehold 1'!$U$7:$U$23,Foderdage!$A34,'Vejehold 1'!$V$7:$V$23)","v":0},"1900-01-31",{"$f":"D34-SUMIF('Vejehold 2'!$U$7:$U$23,Foderdage!C34,'Vejehold 2'!$V$7:$V$23)","v":0},"1900-01-31",{"$f":"F34-SUMIF('Vejehold 3'!$U$7:$U$23,Foderdage!E34,'Vejehold 3'!$V$7:$V$23)","v":0},"1900-01-31",{"$f":"H34-SUMIF('Vejehold 4'!$U$7:$U$23,Foderdage!G34,'Vejehold 4'!$V$7:$V$23)","v":0},"1900-01-31",{"$f":"J34-SUMIF('Vejehold 5'!$U$7:$U$23,Foderdage!I34,'Vejehold 5'!$V$7:$V$23)","v":0},"1900-01-31",{"$f":"L34-SUMIF('Vejehold 6'!$U$7:$U$23,Foderdage!K34,'Vejehold 6'!$V$7:$V$23)","v":0}]
["1900-02-01",{"$f":"B35-SUMIF('Vejehold 1'!$U$7:$U$23,Foderdage!$A35,'Vejehold 1'!$V$7:$V$23)","v":0},"1900-02-01",{"$f":"D35-SUMIF('Vejehold 2'!$U$7:$U$23,Foderdage!C35,'Vejehold 2'!$V$7:$V$23)","v":0},"1900-02-01",{"$f":"F35-SUMIF('Vejehold 3'!$U$7:$U$23,Foderdage!E35,'Vejehold 3'!$V$7:$V$23)","v":0},"1900-02-01",{"$f":"H35-SUMIF('Vejehold 4'!$U$7:$U$23,Foderdage!G35,'Vejehold 4'!$V$7:$V$23)","v":0},"1900-02-01",{"$f":"J35-SUMIF('Vejehold 5'!$U$7:$U$23,Foderdage!I35,'Vejehold 5'!$V$7:$V$23)","v":0},"1900-02-01",{"$f":"L35-SUMIF('Vejehold 6'!$U$7:$U$23,Foderdage!K35,'Vejehold 6'!$V$7:$V$23)","v":0}]
["1900-02-02",{"$f":"B36-SUMIF('Vejehold 1'!$U$7:$U$23,Foderdage!$A36,'Vejehold 1'!$V$7:$V$23)","v":0},"1900-02-02",{"$f":"D36-SUMIF('Vejehold 2'!$U$7:$U$23,Foderdage!C36,'Vejehold 2'!$V$7:$V$23)","v":0},"1900-02-02",{"$f":"F36-SUMIF('Vejehold 3'!$U$7:$U$23,Foderdage!E36,'Vejehold 3'!$V$7:$V$23)","v":0},"1900-02-02",{"$f":"H36-SUMIF('Vejehold 4'!$U$7:$U$23,Foderdage!G36,'Vejehold 4'!$V$7:$V$23)","v":0},"1900-02-02",{"$f":"J36-SUMIF('Vejehold 5'!$U$7:$U$23,Foderdage!I36,'Vejehold 5'!$V$7:$V$23)","v":0},{"$f":"K36+1","v":"1900-02-02"},{"$f":"L36-SUMIF('Vejehold 6'!$U$7:$U$23,Foderdage!K36,'Vejehold 6'!$V$7:$V$23)","v":0}]
["1900-02-03",{"$f":"B37-SUMIF('Vejehold 1'!$U$7:$U$23,Foderdage!$A37,'Vejehold 1'!$V$7:$V$23)","v":0},"1900-02-03",{"$f":"D37-SUMIF('Vejehold 2'!$U$7:$U$23,Foderdage!C37,'Vejehold 2'!$V$7:$V$23)","v":0},"1900-02-03",{"$f":"F37-SUMIF('Vejehold 3'!$U$7:$U$23,Foderdage!E37,'Vejehold 3'!$V$7:$V$23)","v":0},"1900-02-03",{"$f":"H37-SUMIF('Vejehold 4'!$U$7:$U$23,Foderdage!G37,'Vejehold 4'!$V$7:$V$23)","v":0},"1900-02-03",{"$f":"J37-SUMIF('Vejehold 5'!$U$7:$U$23,Foderdage!I37,'Vejehold 5'!$V$7:$V$23)","v":0},"1900-02-03",{"$f":"L37-SUMIF('Vejehold 6'!$U$7:$U$23,Foderdage!K37,'Vejehold 6'!$V$7:$V$23)","v":0}]
["1900-02-04",{"$f":"B38-SUMIF('Vejehold 1'!$U$7:$U$23,Foderdage!$A38,'Vejehold 1'!$V$7:$V$23)","v":0},"1900-02-04",{"$f":"D38-SUMIF('Vejehold 2'!$U$7:$U$23,Foderdage!C38,'Vejehold 2'!$V$7:$V$23)","v":0},"1900-02-04",{"$f":"F38-SUMIF('Vejehold 3'!$U$7:$U$23,Foderdage!E38,'Vejehold 3'!$V$7:$V$23)","v":0},"1900-02-04",{"$f":"H38-SUMIF('Vejehold 4'!$U$7:$U$23,Foderdage!G38,'Vejehold 4'!$V$7:$V$23)","v":0},"1900-02-04",{"$f":"J38-SUMIF('Vejehold 5'!$U$7:$U$23,Foderdage!I38,'Vejehold 5'!$V$7:$V$23)","v":0},"1900-02-04",{"$f":"L38-SUMIF('Vejehold 6'!$U$7:$U$23,Foderdage!K38,'Vejehold 6'!$V$7:$V$23)","v":0}]
["1900-02-05",{"$f":"B39-SUMIF('Vejehold 1'!$U$7:$U$23,Foderdage!$A39,'Vejehold 1'!$V$7:$V$23)","v":0},"1900-02-05",{"$f":"D39-SUMIF('Vejehold 2'!$U$7:$U$23,Foderdage!C39,'Vejehold 2'!$V$7:$V$23)","v":0},"1900-02-05",{"$f":"F39-SUMIF('Vejehold 3'!$U$7:$U$23,Foderdage!E39,'Vejehold 3'!$V$7:$V$23)","v":0},"1900-02-05",{"$f":"H39-SUMIF('Vejehold 4'!$U$7:$U$23,Foderdage!G39,'Vejehold 4'!$V$7:$V$23)","v":0},"1900-02-05",{"$f":"J39-SUMIF('Vejehold 5'!$U$7:$U$23,Foderdage!I39,'Vejehold 5'!$V$7:$V$23)","v":0},"1900-02-05",{"$f":"L39-SUMIF('Vejehold 6'!$U$7:$U$23,Foderdage!K39,'Vejehold 6'!$V$7:$V$23)","v":0}]
["1900-02-06",{"$f":"B40-SUMIF('Vejehold 1'!$U$7:$U$23,Foderdage!$A40,'Vejehold 1'!$V$7:$V$23)","v":0},"1900-02-06",{"$f":"D40-SUMIF('Vejehold 2'!$U$7:$U$23,Foderdage!C40,'Vejehold 2'!$V$7:$V$23)","v":0},"1900-02-06",{"$f":"F40-SUMIF('Vejehold 3'!$U$7:$U$23,Foderdage!E40,'Vejehold 3'!$V$7:$V$23)","v":0},"1900-02-06",{"$f":"H40-SUMIF('Vejehold 4'!$U$7:$U$23,Foderdage!G40,'Vejehold 4'!$V$7:$V$23)","v":0},"1900-02-06",{"$f":"J40-SUMIF('Vejehold 5'!$U$7:$U$23,Foderdage!I40,'Vejehold 5'!$V$7:$V$23)","v":0},"1900-02-06",{"$f":"L40-SUMIF('Vejehold 6'!$U$7:$U$23,Foderdage!K40,'Vejehold 6'!$V$7:$V$23)","v":0}]
["1900-02-07",{"$f":"B41-SUMIF('Vejehold 1'!$U$7:$U$23,Foderdage!$A41,'Vejehold 1'!$V$7:$V$23)","v":0},"1900-02-07",{"$f":"D41-SUMIF('Vejehold 2'!$U$7:$U$23,Foderdage!C41,'Vejehold 2'!$V$7:$V$23)","v":0},"1900-02-07",{"$f":"F41-SUMIF('Vejehold 3'!$U$7:$U$23,Foderdage!E41,'Vejehold 3'!$V$7:$V$23)","v":0},"1900-02-07",{"$f":"H41-SUMIF('Vejehold 4'!$U$7:$U$23,Foderdage!G41,'Vejehold 4'!$V$7:$V$23)","v":0},"1900-02-07",{"$f":"J41-SUMIF('Vejehold 5'!$U$7:$U$23,Foderdage!I41,'Vejehold 5'!$V$7:$V$23)","v":0},"1900-02-07",{"$f":"L41-SUMIF('Vejehold 6'!$U$7:$U$23,Foderdage!K41,'Vejehold 6'!$V$7:$V$23)","v":0}]
["1900-02-08",{"$f":"B42-SUMIF('Vejehold 1'!$U$7:$U$23,Foderdage!$A42,'Vejehold 1'!$V$7:$V$23)","v":0},"1900-02-08",{"$f":"D42-SUMIF('Vejehold 2'!$U$7:$U$23,Foderdage!C42,'Vejehold 2'!$V$7:$V$23)","v":0},"1900-02-08",{"$f":"F42-SUMIF('Vejehold 3'!$U$7:$U$23,Foderdage!E42,'Vejehold 3'!$V$7:$V$23)","v":0},"1900-02-08",{"$f":"H42-SUMIF('Vejehold 4'!$U$7:$U$23,Foderdage!G42,'Vejehold 4'!$V$7:$V$23)","v":0},"1900-02-08",{"$f":"J42-SUMIF('Vejehold 5'!$U$7:$U$23,Foderdage!I42,'Vejehold 5'!$V$7:$V$23)","v":0},"1900-02-08",{"$f":"L42-SUMIF('Vejehold 6'!$U$7:$U$23,Foderdage!K42,'Vejehold 6'!$V$7:$V$23)","v":0}]
["1900-02-09",{"$f":"B43-SUMIF('Vejehold 1'!$U$7:$U$23,Foderdage!$A43,'Vejehold 1'!$V$7:$V$23)","v":0},"1900-02-09",{"$f":"D43-SUMIF('Vejehold 2'!$U$7:$U$23,Foderdage!C43,'Vejehold 2'!$V$7:$V$23)","v":0},"1900-02-09",{"$f":"F43-SUMIF('Vejehold 3'!$U$7:$U$23,Foderdage!E43,'Vejehold 3'!$V$7:$V$23)","v":0},"1900-02-09",{"$f":"H43-SUMIF('Vejehold 4'!$U$7:$U$23,Foderdage!G43,'Vejehold 4'!$V$7:$V$23)","v":0},"1900-02-09",{"$f":"J43-SUMIF('Vejehold 5'!$U$7:$U$23,Foderdage!I43,'Vejehold 5'!$V$7:$V$23)","v":0},"1900-02-09",{"$f":"L43-SUMIF('Vejehold 6'!$U$7:$U$23,Foderdage!K43,'Vejehold 6'!$V$7:$V$23)","v":0}]
["1900-02-10",{"$f":"B44-SUMIF('Vejehold 1'!$U$7:$U$23,Foderdage!$A44,'Vejehold 1'!$V$7:$V$23)","v":0},"1900-02-10",{"$f":"D44-SUMIF('Vejehold 2'!$U$7:$U$23,Foderdage!C44,'Vejehold 2'!$V$7:$V$23)","v":0},"1900-02-10",{"$f":"F44-SUMIF('Vejehold 3'!$U$7:$U$23,Foderdage!E44,'Vejehold 3'!$V$7:$V$23)","v":0},"1900-02-10",{"$f":"H44-SUMIF('Vejehold 4'!$U$7:$U$23,Foderdage!G44,'Vejehold 4'!$V$7:$V$23)","v":0},"1900-02-10",{"$f":"J44-SUMIF('Vejehold 5'!$U$7:$U$23,Foderdage!I44,'Vejehold 5'!$V$7:$V$23)","v":0},"1900-02-10",{"$f":"L44-SUMIF('Vejehold 6'!$U$7:$U$23,Foderdage!K44,'Vejehold 6'!$V$7:$V$23)","v":0}]
["1900-02-11",{"$f":"B45-SUMIF('Vejehold 1'!$U$7:$U$23,Foderdage!$A45,'Vejehold 1'!$V$7:$V$23)","v":0},"1900-02-11",{"$f":"D45-SUMIF('Vejehold 2'!$U$7:$U$23,Foderdage!C45,'Vejehold 2'!$V$7:$V$23)","v":0},"1900-02-11",{"$f":"F45-SUMIF('Vejehold 3'!$U$7:$U$23,Foderdage!E45,'Vejehold 3'!$V$7:$V$23)","v":0},"1900-02-11",{"$f":"H45-SUMIF('Vejehold 4'!$U$7:$U$23,Foderdage!G45,'Vejehold 4'!$V$7:$V$23)","v":0},"1900-02-11",{"$f":"J45-SUMIF('Vejehold 5'!$U$7:$U$23,Foderdage!I45,'Vejehold 5'!$V$7:$V$23)","v":0},"1900-02-11",{"$f":"L45-SUMIF('Vejehold 6'!$U$7:$U$23,Foderdage!K45,'Vejehold 6'!$V$7:$V$23)","v":0}]
["1900-02-12",{"$f":"B46-SUMIF('Vejehold 1'!$U$7:$U$23,Foderdage!$A46,'Vejehold 1'!$V$7:$V$23)","v":0},"1900-02-12",{"$f":"D46-SUMIF('Vejehold 2'!$U$7:$U$23,Foderdage!C46,'Vejehold 2'!$V$7:$V$23)","v":0},"1900-02-12",{"$f":"F46-SUMIF('Vejehold 3'!$U$7:$U$23,Foderdage!E46,'Vejehold 3'!$V$7:$V$23)","v":0},"1900-02-12",{"$f":"H46-SUMIF('Vejehold 4'!$U$7:$U$23,Foderdage!G46,'Vejehold 4'!$V$7:$V$23)","v":0},"1900-02-12",{"$f":"J46-SUMIF('Vejehold 5'!$U$7:$U$23,Foderdage!I46,'Vejehold 5'!$V$7:$V$23)","v":0},"1900-02-12",{"$f":"L46-SUMIF('Vejehold 6'!$U$7:$U$23,Foderdage!K46,'Vejehold 6'!$V$7:$V$23)","v":0}]
["1900-02-13",{"$f":"B47-SUMIF('Vejehold 1'!$U$7:$U$23,Foderdage!$A47,'Vejehold 1'!$V$7:$V$23)","v":0},"1900-02-13",{"$f":"D47-SUMIF('Vejehold 2'!$U$7:$U$23,Foderdage!C47,'Vejehold 2'!$V$7:$V$23)","v":0},"1900-02-13",{"$f":"F47-SUMIF('Vejehold 3'!$U$7:$U$23,Foderdage!E47,'Vejehold 3'!$V$7:$V$23)","v":0},"1900-02-13",{"$f":"H47-SUMIF('Vejehold 4'!$U$7:$U$23,Foderdage!G47,'Vejehold 4'!$V$7:$V$23)","v":0},"1900-02-13",{"$f":"J47-SUMIF('Vejehold 5'!$U$7:$U$23,Foderdage!I47,'Vejehold 5'!$V$7:$V$23)","v":0},"1900-02-13",{"$f":"L47-SUMIF('Vejehold 6'!$U$7:$U$23,Foderdage!K47,'Vejehold 6'!$V$7:$V$23)","v":0}]
["1900-02-14",{"$f":"B48-SUMIF('Vejehold 1'!$U$7:$U$23,Foderdage!$A48,'Vejehold 1'!$V$7:$V$23)","v":0},"1900-02-14",{"$f":"D48-SUMIF('Vejehold 2'!$U$7:$U$23,Foderdage!C48,'Vejehold 2'!$V$7:$V$23)","v":0},"1900-02-14",{"$f":"F48-SUMIF('Vejehold 3'!$U$7:$U$23,Foderdage!E48,'Vejehold 3'!$V$7:$V$23)","v":0},"1900-02-14",{"$f":"H48-SUMIF('Vejehold 4'!$U$7:$U$23,Foderdage!G48,'Vejehold 4'!$V$7:$V$23)","v":0},"1900-02-14",{"$f":"J48-SUMIF('Vejehold 5'!$U$7:$U$23,Foderdage!I48,'Vejehold 5'!$V$7:$V$23)","v":0},"1900-02-14",{"$f":"L48-SUMIF('Vejehold 6'!$U$7:$U$23,Foderdage!K48,'Vejehold 6'!$V$7:$V$23)","v":0}]
["1900-02-15",{"$f":"B49-SUMIF('Vejehold 1'!$U$7:$U$23,Foderdage!$A49,'Vejehold 1'!$V$7:$V$23)","v":0},"1900-02-15",{"$f":"D49-SUMIF('Vejehold 2'!$U$7:$U$23,Foderdage!C49,'Vejehold 2'!$V$7:$V$23)","v":0},"1900-02-15",{"$f":"F49-SUMIF('Vejehold 3'!$U$7:$U$23,Foderdage!E49,'Vejehold 3'!$V$7:$V$23)","v":0},"1900-02-15",{"$f":"H49-SUMIF('Vejehold 4'!$U$7:$U$23,Foderdage!G49,'Vejehold 4'!$V$7:$V$23)","v":0},"1900-02-15",{"$f":"J49-SUMIF('Vejehold 5'!$U$7:$U$23,Foderdage!I49,'Vejehold 5'!$V$7:$V$23)","v":0},"1900-02-15",{"$f":"L49-SUMIF('Vejehold 6'!$U$7:$U$23,Foderdage!K49,'Vejehold 6'!$V$7:$V$23)","v":0}]
["1900-02-16",{"$f":"B50-SUMIF('Vejehold 1'!$U$7:$U$23,Foderdage!$A50,'Vejehold 1'!$V$7:$V$23)","v":0},"1900-02-16",{"$f":"D50-SUMIF('Vejehold 2'!$U$7:$U$23,Foderdage!C50,'Vejehold 2'!$V$7:$V$23)","v":0},"1900-02-16",{"$f":"F50-SUMIF('Vejehold 3'!$U$7:$U$23,Foderdage!E50,'Vejehold 3'!$V$7:$V$23)","v":0},"1900-02-16",{"$f":"H50-SUMIF('Vejehold 4'!$U$7:$U$23,Foderdage!G50,'Vejehold 4'!$V$7:$V$23)","v":0},"1900-02-16",{"$f":"J50-SUMIF('Vejehold 5'!$U$7:$U$23,Foderdage!I50,'Vejehold 5'!$V$7:$V$23)","v":0},"1900-02-16",{"$f":"L50-SUMIF('Vejehold 6'!$U$7:$U$23,Foderdage!K50,'Vejehold 6'!$V$7:$V$23)","v":0}]
["1900-02-17",{"$f":"B51-SUMIF('Vejehold 1'!$U$7:$U$23,Foderdage!$A51,'Vejehold 1'!$V$7:$V$23)","v":0},"1900-02-17",{"$f":"D51-SUMIF('Vejehold 2'!$U$7:$U$23,Foderdage!C51,'Vejehold 2'!$V$7:$V$23)","v":0},"1900-02-17",{"$f":"F51-SUMIF('Vejehold 3'!$U$7:$U$23,Foderdage!E51,'Vejehold 3'!$V$7:$V$23)","v":0},"1900-02-17",{"$f":"H51-SUMIF('Vejehold 4'!$U$7:$U$23,Foderdage!G51,'Vejehold 4'!$V$7:$V$23)","v":0},"1900-02-17",{"$f":"J51-SUMIF('Vejehold 5'!$U$7:$U$23,Foderdage!I51,'Vejehold 5'!$V$7:$V$23)","v":0},"1900-02-17",{"$f":"L51-SUMIF('Vejehold 6'!$U$7:$U$23,Foderdage!K51,'Vejehold 6'!$V$7:$V$23)","v":0}]
["1900-02-18",{"$f":"B52-SUMIF('Vejehold 1'!$U$7:$U$23,Foderdage!$A52,'Vejehold 1'!$V$7:$V$23)","v":0},"1900-02-18",{"$f":"D52-SUMIF('Vejehold 2'!$U$7:$U$23,Foderdage!C52,'Vejehold 2'!$V$7:$V$23)","v":0},"1900-02-18",{"$f":"F52-SUMIF('Vejehold 3'!$U$7:$U$23,Foderdage!E52,'Vejehold 3'!$V$7:$V$23)","v":0},"1900-02-18",{"$f":"H52-SUMIF('Vejehold 4'!$U$7:$U$23,Foderdage!G52,'Vejehold 4'!$V$7:$V$23)","v":0},"1900-02-18",{"$f":"J52-SUMIF('Vejehold 5'!$U$7:$U$23,Foderdage!I52,'Vejehold 5'!$V$7:$V$23)","v":0},"1900-02-18",{"$f":"L52-SUMIF('Vejehold 6'!$U$7:$U$23,Foderdage!K52,'Vejehold 6'!$V$7:$V$23)","v":0}]
["1900-02-19",{"$f":"B53-SUMIF('Vejehold 1'!$U$7:$U$23,Foderdage!$A53,'Vejehold 1'!$V$7:$V$23)","v":0},"1900-02-19",{"$f":"D53-SUMIF('Vejehold 2'!$U$7:$U$23,Foderdage!C53,'Vejehold 2'!$V$7:$V$23)","v":0},"1900-02-19",{"$f":"F53-SUMIF('Vejehold 3'!$U$7:$U$23,Foderdage!E53,'Vejehold 3'!$V$7:$V$23)","v":0},"1900-02-19",{"$f":"H53-SUMIF('Vejehold 4'!$U$7:$U$23,Foderdage!G53,'Vejehold 4'!$V$7:$V$23)","v":0},"1900-02-19",{"$f":"J53-SUMIF('Vejehold 5'!$U$7:$U$23,Foderdage!I53,'Vejehold 5'!$V$7:$V$23)","v":0},"1900-02-19",{"$f":"L53-SUMIF('Vejehold 6'!$U$7:$U$23,Foderdage!K53,'Vejehold 6'!$V$7:$V$23)","v":0}]
["1900-02-20",{"$f":"B54-SUMIF('Vejehold 1'!$U$7:$U$23,Foderdage!$A54,'Vejehold 1'!$V$7:$V$23)","v":0},"1900-02-20",{"$f":"D54-SUMIF('Vejehold 2'!$U$7:$U$23,Foderdage!C54,'Vejehold 2'!$V$7:$V$23)","v":0},"1900-02-20",{"$f":"F54-SUMIF('Vejehold 3'!$U$7:$U$23,Foderdage!E54,'Vejehold 3'!$V$7:$V$23)","v":0},"1900-02-20",{"$f":"H54-SUMIF('Vejehold 4'!$U$7:$U$23,Foderdage!G54,'Vejehold 4'!$V$7:$V$23)","v":0},"1900-02-20",{"$f":"J54-SUMIF('Vejehold 5'!$U$7:$U$23,Foderdage!I54,'Vejehold 5'!$V$7:$V$23)","v":0},"1900-02-20",{"$f":"L54-SUMIF('Vejehold 6'!$U$7:$U$23,Foderdage!K54,'Vejehold 6'!$V$7:$V$23)","v":0}]
["1900-02-21",{"$f":"B55-SUMIF('Vejehold 1'!$U$7:$U$23,Foderdage!$A55,'Vejehold 1'!$V$7:$V$23)","v":0},"1900-02-21",{"$f":"D55-SUMIF('Vejehold 2'!$U$7:$U$23,Foderdage!C55,'Vejehold 2'!$V$7:$V$23)","v":0},"1900-02-21",{"$f":"F55-SUMIF('Vejehold 3'!$U$7:$U$23,Foderdage!E55,'Vejehold 3'!$V$7:$V$23)","v":0},"1900-02-21",{"$f":"H55-SUMIF('Vejehold 4'!$U$7:$U$23,Foderdage!G55,'Vejehold 4'!$V$7:$V$23)","v":0},"1900-02-21",{"$f":"J55-SUMIF('Vejehold 5'!$U$7:$U$23,Foderdage!I55,'Vejehold 5'!$V$7:$V$23)","v":0},"1900-02-21",{"$f":"L55-SUMIF('Vejehold 6'!$U$7:$U$23,Foderdage!K55,'Vejehold 6'!$V$7:$V$23)","v":0}]
["1900-02-22",{"$f":"B56-SUMIF('Vejehold 1'!$U$7:$U$23,Foderdage!$A56,'Vejehold 1'!$V$7:$V$23)","v":0},"1900-02-22",{"$f":"D56-SUMIF('Vejehold 2'!$U$7:$U$23,Foderdage!C56,'Vejehold 2'!$V$7:$V$23)","v":0},"1900-02-22",{"$f":"F56-SUMIF('Vejehold 3'!$U$7:$U$23,Foderdage!E56,'Vejehold 3'!$V$7:$V$23)","v":0},"1900-02-22",{"$f":"H56-SUMIF('Vejehold 4'!$U$7:$U$23,Foderdage!G56,'Vejehold 4'!$V$7:$V$23)","v":0},"1900-02-22",{"$f":"J56-SUMIF('Vejehold 5'!$U$7:$U$23,Foderdage!I56,'Vejehold 5'!$V$7:$V$23)","v":0},"1900-02-22",{"$f":"L56-SUMIF('Vejehold 6'!$U$7:$U$23,Foderdage!K56,'Vejehold 6'!$V$7:$V$23)","v":0}]
["1900-02-23",{"$f":"B57-SUMIF('Vejehold 1'!$U$7:$U$23,Foderdage!$A57,'Vejehold 1'!$V$7:$V$23)","v":0},"1900-02-23",{"$f":"D57-SUMIF('Vejehold 2'!$U$7:$U$23,Foderdage!C57,'Vejehold 2'!$V$7:$V$23)","v":0},"1900-02-23",{"$f":"F57-SUMIF('Vejehold 3'!$U$7:$U$23,Foderdage!E57,'Vejehold 3'!$V$7:$V$23)","v":0},"1900-02-23",{"$f":"H57-SUMIF('Vejehold 4'!$U$7:$U$23,Foderdage!G57,'Vejehold 4'!$V$7:$V$23)","v":0},"1900-02-23",{"$f":"J57-SUMIF('Vejehold 5'!$U$7:$U$23,Foderdage!I57,'Vejehold 5'!$V$7:$V$23)","v":0},"1900-02-23",{"$f":"L57-SUMIF('Vejehold 6'!$U$7:$U$23,Foderdage!K57,'Vejehold 6'!$V$7:$V$23)","v":0}]
["1900-02-24",{"$f":"B58-SUMIF('Vejehold 1'!$U$7:$U$23,Foderdage!$A58,'Vejehold 1'!$V$7:$V$23)","v":0},"1900-02-24",{"$f":"D58-SUMIF('Vejehold 2'!$U$7:$U$23,Foderdage!C58,'Vejehold 2'!$V$7:$V$23)","v":0},"1900-02-24",{"$f":"F58-SUMIF('Vejehold 3'!$U$7:$U$23,Foderdage!E58,'Vejehold 3'!$V$7:$V$23)","v":0},"1900-02-24",{"$f":"H58-SUMIF('Vejehold 4'!$U$7:$U$23,Foderdage!G58,'Vejehold 4'!$V$7:$V$23)","v":0},"1900-02-24",{"$f":"J58-SUMIF('Vejehold 5'!$U$7:$U$23,Foderdage!I58,'Vejehold 5'!$V$7:$V$23)","v":0},"1900-02-24",{"$f":"L58-SUMIF('Vejehold 6'!$U$7:$U$23,Foderdage!K58,'Vejehold 6'!$V$7:$V$23)","v":0}]
["1900-02-25",{"$f":"B59-SUMIF('Vejehold 1'!$U$7:$U$23,Foderdage!$A59,'Vejehold 1'!$V$7:$V$23)","v":0},"1900-02-25",{"$f":"D59-SUMIF('Vejehold 2'!$U$7:$U$23,Foderdage!C59,'Vejehold 2'!$V$7:$V$23)","v":0},"1900-02-25",{"$f":"F59-SUMIF('Vejehold 3'!$U$7:$U$23,Foderdage!E59,'Vejehold 3'!$V$7:$V$23)","v":0},"1900-02-25",{"$f":"H59-SUMIF('Vejehold 4'!$U$7:$U$23,Foderdage!G59,'Vejehold 4'!$V$7:$V$23)","v":0},"1900-02-25",{"$f":"J59-SUMIF('Vejehold 5'!$U$7:$U$23,Foderdage!I59,'Vejehold 5'!$V$7:$V$23)","v":0},"1900-02-25",{"$f":"L59-SUMIF('Vejehold 6'!$U$7:$U$23,Foderdage!K59,'Vejehold 6'!$V$7:$V$23)","v":0}]
["1900-02-26",{"$f":"B60-SUMIF('Vejehold 1'!$U$7:$U$23,Foderdage!$A60,'Vejehold 1'!$V$7:$V$23)","v":0},"1900-02-26",{"$f":"D60-SUMIF('Vejehold 2'!$U$7:$U$23,Foderdage!C60,'Vejehold 2'!$V$7:$V$23)","v":0},"1900-02-26",{"$f":"F60-SUMIF('Vejehold 3'!$U$7:$U$23,Foderdage!E60,'Vejehold 3'!$V$7:$V$23)","v":0},"1900-02-26",{"$f":"H60-SUMIF('Vejehold 4'!$U$7:$U$23,Foderdage!G60,'Vejehold 4'!$V$7:$V$23)","v":0},"1900-02-26",{"$f":"J60-SUMIF('Vejehold 5'!$U$7:$U$23,Foderdage!I60,'Vejehold 5'!$V$7:$V$23)","v":0},"1900-02-26",{"$f":"L60-SUMIF('Vejehold 6'!$U$7:$U$23,Foderdage!K60,'Vejehold 6'!$V$7:$V$23)","v":0}]
["1900-02-27",{"$f":"B61-SUMIF('Vejehold 1'!$U$7:$U$23,Foderdage!$A61,'Vejehold 1'!$V$7:$V$23)","v":0},"1900-02-27",{"$f":"D61-SUMIF('Vejehold 2'!$U$7:$U$23,Foderdage!C61,'Vejehold 2'!$V$7:$V$23)","v":0},"1900-02-27",{"$f":"F61-SUMIF('Vejehold 3'!$U$7:$U$23,Foderdage!E61,'Vejehold 3'!$V$7:$V$23)","v":0},"1900-02-27",{"$f":"H61-SUMIF('Vejehold 4'!$U$7:$U$23,Foderdage!G61,'Vejehold 4'!$V$7:$V$23)","v":0},"1900-02-27",{"$f":"J61-SUMIF('Vejehold 5'!$U$7:$U$23,Foderdage!I61,'Vejehold 5'!$V$7:$V$23)","v":0},"1900-02-27",{"$f":"L61-SUMIF('Vejehold 6'!$U$7:$U$23,Foderdage!K61,'Vejehold 6'!$V$7:$V$23)","v":0}]
["1900-02-28",{"$f":"B62-SUMIF('Vejehold 1'!$U$7:$U$23,Foderdage!$A62,'Vejehold 1'!$V$7:$V$23)","v":0},"1900-02-28",{"$f":"D62-SUMIF('Vejehold 2'!$U$7:$U$23,Foderdage!C62,'Vejehold 2'!$V$7:$V$23)","v":0},"1900-02-28",{"$f":"F62-SUMIF('Vejehold 3'!$U$7:$U$23,Foderdage!E62,'Vejehold 3'!$V$7:$V$23)","v":0},"1900-02-28",{"$f":"H62-SUMIF('Vejehold 4'!$U$7:$U$23,Foderdage!G62,'Vejehold 4'!$V$7:$V$23)","v":0},"1900-02-28",{"$f":"J62-SUMIF('Vejehold 5'!$U$7:$U$23,Foderdage!I62,'Vejehold 5'!$V$7:$V$23)","v":0},"1900-02-28",{"$f":"L62-SUMIF('Vejehold 6'!$U$7:$U$23,Foderdage!K62,'Vejehold 6'!$V$7:$V$23)","v":0}]
[60,{"$f":"B63-SUMIF('Vejehold 1'!$U$7:$U$23,Foderdage!$A63,'Vejehold 1'!$V$7:$V$23)","v":0},60,{"$f":"D63-SUMIF('Vejehold 2'!$U$7:$U$23,Foderdage!C63,'Vejehold 2'!$V$7:$V$23)","v":0},60,{"$f":"F63-SUMIF('Vejehold 3'!$U$7:$U$23,Foderdage!E63,'Vejehold 3'!$V$7:$V$23)","v":0},60,{"$f":"H63-SUMIF('Vejehold 4'!$U$7:$U$23,Foderdage!G63,'Vejehold 4'!$V$7:$V$23)","v":0},60,{"$f":"J63-SUMIF('Vejehold 5'!$U$7:$U$23,Foderdage!I63,'Vejehold 5'!$V$7:$V$23)","v":0},60,{"$f":"L63-SUMIF('Vejehold 6'!$U$7:$U$23,Foderdage!K63,'Vejehold 6'!$V$7:$V$23)","v":0}]
["1900-03-01",{"$f":"B64-SUMIF('Vejehold 1'!$U$7:$U$23,Foderdage!$A64,'Vejehold 1'!$V$7:$V$23)","v":0},"1900-03-01",{"$f":"D64-SUMIF('Vejehold 2'!$U$7:$U$23,Foderdage!C64,'Vejehold 2'!$V$7:$V$23)","v":0},"1900-03-01",{"$f":"F64-SUMIF('Vejehold 3'!$U$7:$U$23,Foderdage!E64,'Vejehold 3'!$V$7:$V$23)","v":0},"1900-03-01",{"$f":"H64-SUMIF('Vejehold 4'!$U$7:$U$23,Foderdage!G64,'Vejehold 4'!$V$7:$V$23)","v":0},"1900-03-01",{"$f":"J64-SUMIF('Vejehold 5'!$U$7:$U$23,Foderdage!I64,'Vejehold 5'!$V$7:$V$23)","v":0},"1900-03-01",{"$f":"L64-SUMIF('Vejehold 6'!$U$7:$U$23,Foderdage!K64,'Vejehold 6'!$V$7:$V$23)","v":0}]
["1900-03-02",{"$f":"B65-SUMIF('Vejehold 1'!$U$7:$U$23,Foderdage!$A65,'Vejehold 1'!$V$7:$V$23)","v":0},"1900-03-02",{"$f":"D65-SUMIF('Vejehold 2'!$U$7:$U$23,Foderdage!C65,'Vejehold 2'!$V$7:$V$23)","v":0},"1900-03-02",{"$f":"F65-SUMIF('Vejehold 3'!$U$7:$U$23,Foderdage!E65,'Vejehold 3'!$V$7:$V$23)","v":0},"1900-03-02",{"$f":"H65-SUMIF('Vejehold 4'!$U$7:$U$23,Foderdage!G65,'Vejehold 4'!$V$7:$V$23)","v":0},"1900-03-02",{"$f":"J65-SUMIF('Vejehold 5'!$U$7:$U$23,Foderdage!I65,'Vejehold 5'!$V$7:$V$23)","v":0},"1900-03-02",{"$f":"L65-SUMIF('Vejehold 6'!$U$7:$U$23,Foderdage!K65,'Vejehold 6'!$V$7:$V$23)","v":0}]
["1900-03-03",{"$f":"B66-SUMIF('Vejehold 1'!$U$7:$U$23,Foderdage!$A66,'Vejehold 1'!$V$7:$V$23)","v":0},"1900-03-03",{"$f":"D66-SUMIF('Vejehold 2'!$U$7:$U$23,Foderdage!C66,'Vejehold 2'!$V$7:$V$23)","v":0},"1900-03-03",{"$f":"F66-SUMIF('Vejehold 3'!$U$7:$U$23,Foderdage!E66,'Vejehold 3'!$V$7:$V$23)","v":0},"1900-03-03",{"$f":"H66-SUMIF('Vejehold 4'!$U$7:$U$23,Foderdage!G66,'Vejehold 4'!$V$7:$V$23)","v":0},"1900-03-03",{"$f":"J66-SUMIF('Vejehold 5'!$U$7:$U$23,Foderdage!I66,'Vejehold 5'!$V$7:$V$23)","v":0},"1900-03-03",{"$f":"L66-SUMIF('Vejehold 6'!$U$7:$U$23,Foderdage!K66,'Vejehold 6'!$V$7:$V$23)","v":0}]
["1900-03-04",{"$f":"B67-SUMIF('Vejehold 1'!$U$7:$U$23,Foderdage!$A67,'Vejehold 1'!$V$7:$V$23)","v":0},"1900-03-04",{"$f":"D67-SUMIF('Vejehold 2'!$U$7:$U$23,Foderdage!C67,'Vejehold 2'!$V$7:$V$23)","v":0},"1900-03-04",{"$f":"F67-SUMIF('Vejehold 3'!$U$7:$U$23,Foderdage!E67,'Vejehold 3'!$V$7:$V$23)","v":0},"1900-03-04",{"$f":"H67-SUMIF('Vejehold 4'!$U$7:$U$23,Foderdage!G67,'Vejehold 4'!$V$7:$V$23)","v":0},"1900-03-04",{"$f":"J67-SUMIF('Vejehold 5'!$U$7:$U$23,Foderdage!I67,'Vejehold 5'!$V$7:$V$23)","v":0},"1900-03-04",{"$f":"L67-SUMIF('Vejehold 6'!$U$7:$U$23,Foderdage!K67,'Vejehold 6'!$V$7:$V$23)","v":0}]
["1900-03-05",{"$f":"B68-SUMIF('Vejehold 1'!$U$7:$U$23,Foderdage!$A68,'Vejehold 1'!$V$7:$V$23)","v":0},"1900-03-05",{"$f":"D68-SUMIF('Vejehold 2'!$U$7:$U$23,Foderdage!C68,'Vejehold 2'!$V$7:$V$23)","v":0},"1900-03-05",{"$f":"F68-SUMIF('Vejehold 3'!$U$7:$U$23,Foderdage!E68,'Vejehold 3'!$V$7:$V$23)","v":0},"1900-03-05",{"$f":"H68-SUMIF('Vejehold 4'!$U$7:$U$23,Foderdage!G68,'Vejehold 4'!$V$7:$V$23)","v":0},"1900-03-05",{"$f":"J68-SUMIF('Vejehold 5'!$U$7:$U$23,Foderdage!I68,'Vejehold 5'!$V$7:$V$23)","v":0},{"$f":"K68+1","v":"1900-03-05"},{"$f":"L68-SUMIF('Vejehold 6'!$U$7:$U$23,Foderdage!K68,'Vejehold 6'!$V$7:$V$23)","v":0}]
[{"$f":"A69+1","v":"1900-03-06"},{"$f":"B69-SUMIF('Vejehold 1'!$U$7:$U$23,Foderdage!$A69,'Vejehold 1'!$V$7:$V$23)","v":0},{"$f":"C69+1","v":"1900-03-06"},{"$f":"D69-SUMIF('Vejehold 2'!$U$7:$U$23,Foderdage!C69,'Vejehold 2'!$V$7:$V$23)","v":0},{"$f":"E69+1","v":"1900-03-06"},{"$f":"F69-SUMIF('Vejehold 3'!$U$7:$U$23,Foderdage!E69,'Vejehold 3'!$V$7:$V$23)","v":0},{"$f":"G69+1","v":"1900-03-06"},{"$f":"H69-SUMIF('Vejehold 4'!$U$7:$U$23,Foderdage!G69,'Vejehold 4'!$V$7:$V$23)","v":0},"1900-03-06",{"$f":"J69-SUMIF('Vejehold 5'!$U$7:$U$23,Foderdage!I69,'Vejehold 5'!$V$7:$V$23)","v":0},"1900-03-06",{"$f":"L69-SUMIF('Vejehold 6'!$U$7:$U$23,Foderdage!K69,'Vejehold 6'!$V$7:$V$23)","v":0}]
["1900-03-07",{"$f":"B70-SUMIF('Vejehold 1'!$U$7:$U$23,Foderdage!$A70,'Vejehold 1'!$V$7:$V$23)","v":0},"1900-03-07",{"$f":"D70-SUMIF('Vejehold 2'!$U$7:$U$23,Foderdage!C70,'Vejehold 2'!$V$7:$V$23)","v":0},"1900-03-07",{"$f":"F70-SUMIF('Vejehold 3'!$U$7:$U$23,Foderdage!E70,'Vejehold 3'!$V$7:$V$23)","v":0},"1900-03-07",{"$f":"H70-SUMIF('Vejehold 4'!$U$7:$U$23,Foderdage!G70,'Vejehold 4'!$V$7:$V$23)","v":0},"1900-03-07",{"$f":"J70-SUMIF('Vejehold 5'!$U$7:$U$23,Foderdage!I70,'Vejehold 5'!$V$7:$V$23)","v":0},"1900-03-07",{"$f":"L70-SUMIF('Vejehold 6'!$U$7:$U$23,Foderdage!K70,'Vejehold 6'!$V$7:$V$23)","v":0}]
["1900-03-08",{"$f":"B71-SUMIF('Vejehold 1'!$U$7:$U$23,Foderdage!$A71,'Vejehold 1'!$V$7:$V$23)","v":0},"1900-03-08",{"$f":"D71-SUMIF('Vejehold 2'!$U$7:$U$23,Foderdage!C71,'Vejehold 2'!$V$7:$V$23)","v":0},"1900-03-08",{"$f":"F71-SUMIF('Vejehold 3'!$U$7:$U$23,Foderdage!E71,'Vejehold 3'!$V$7:$V$23)","v":0},"1900-03-08",{"$f":"H71-SUMIF('Vejehold 4'!$U$7:$U$23,Foderdage!G71,'Vejehold 4'!$V$7:$V$23)","v":0},"1900-03-08",{"$f":"J71-SUMIF('Vejehold 5'!$U$7:$U$23,Foderdage!I71,'Vejehold 5'!$V$7:$V$23)","v":0},"1900-03-08",{"$f":"L71-SUMIF('Vejehold 6'!$U$7:$U$23,Foderdage!K71,'Vejehold 6'!$V$7:$V$23)","v":0}]
["1900-03-09",{"$f":"B72-SUMIF('Vejehold 1'!$U$7:$U$23,Foderdage!$A72,'Vejehold 1'!$V$7:$V$23)","v":0},"1900-03-09",{"$f":"D72-SUMIF('Vejehold 2'!$U$7:$U$23,Foderdage!C72,'Vejehold 2'!$V$7:$V$23)","v":0},"1900-03-09",{"$f":"F72-SUMIF('Vejehold 3'!$U$7:$U$23,Foderdage!E72,'Vejehold 3'!$V$7:$V$23)","v":0},"1900-03-09",{"$f":"H72-SUMIF('Vejehold 4'!$U$7:$U$23,Foderdage!G72,'Vejehold 4'!$V$7:$V$23)","v":0},"1900-03-09",{"$f":"J72-SUMIF('Vejehold 5'!$U$7:$U$23,Foderdage!I72,'Vejehold 5'!$V$7:$V$23)","v":0},"1900-03-09",{"$f":"L72-SUMIF('Vejehold 6'!$U$7:$U$23,Foderdage!K72,'Vejehold 6'!$V$7:$V$23)","v":0}]
["1900-03-10",{"$f":"B73-SUMIF('Vejehold 1'!$U$7:$U$23,Foderdage!$A73,'Vejehold 1'!$V$7:$V$23)","v":0},"1900-03-10",{"$f":"D73-SUMIF('Vejehold 2'!$U$7:$U$23,Foderdage!C73,'Vejehold 2'!$V$7:$V$23)","v":0},"1900-03-10",{"$f":"F73-SUMIF('Vejehold 3'!$U$7:$U$23,Foderdage!E73,'Vejehold 3'!$V$7:$V$23)","v":0},"1900-03-10",{"$f":"H73-SUMIF('Vejehold 4'!$U$7:$U$23,Foderdage!G73,'Vejehold 4'!$V$7:$V$23)","v":0},"1900-03-10",{"$f":"J73-SUMIF('Vejehold 5'!$U$7:$U$23,Foderdage!I73,'Vejehold 5'!$V$7:$V$23)","v":0},"1900-03-10",{"$f":"L73-SUMIF('Vejehold 6'!$U$7:$U$23,Foderdage!K73,'Vejehold 6'!$V$7:$V$23)","v":0}]
["1900-03-11",{"$f":"B74-SUMIF('Vejehold 1'!$U$7:$U$23,Foderdage!$A74,'Vejehold 1'!$V$7:$V$23)","v":0},"1900-03-11",{"$f":"D74-SUMIF('Vejehold 2'!$U$7:$U$23,Foderdage!C74,'Vejehold 2'!$V$7:$V$23)","v":0},"1900-03-11",{"$f":"F74-SUMIF('Vejehold 3'!$U$7:$U$23,Foderdage!E74,'Vejehold 3'!$V$7:$V$23)","v":0},"1900-03-11",{"$f":"H74-SUMIF('Vejehold 4'!$U$7:$U$23,Foderdage!G74,'Vejehold 4'!$V$7:$V$23)","v":0},"1900-03-11",{"$f":"J74-SUMIF('Vejehold 5'!$U$7:$U$23,Foderdage!I74,'Vejehold 5'!$V$7:$V$23)","v":0},"1900-03-11",{"$f":"L74-SUMIF('Vejehold 6'!$U$7:$U$23,Foderdage!K74,'Vejehold 6'!$V$7:$V$23)","v":0}]
["1900-03-12",{"$f":"B75-SUMIF('Vejehold 1'!$U$7:$U$23,Foderdage!$A75,'Vejehold 1'!$V$7:$V$23)","v":0},"1900-03-12",{"$f":"D75-SUMIF('Vejehold 2'!$U$7:$U$23,Foderdage!C75,'Vejehold 2'!$V$7:$V$23)","v":0},"1900-03-12",{"$f":"F75-SUMIF('Vejehold 3'!$U$7:$U$23,Foderdage!E75,'Vejehold 3'!$V$7:$V$23)","v":0},"1900-03-12",{"$f":"H75-SUMIF('Vejehold 4'!$U$7:$U$23,Foderdage!G75,'Vejehold 4'!$V$7:$V$23)","v":0},"1900-03-12",{"$f":"J75-SUMIF('Vejehold 5'!$U$7:$U$23,Foderdage!I75,'Vejehold 5'!$V$7:$V$23)","v":0},"1900-03-12",{"$f":"L75-SUMIF('Vejehold 6'!$U$7:$U$23,Foderdage!K75,'Vejehold 6'!$V$7:$V$23)","v":0}]
["1900-03-13",{"$f":"B76-SUMIF('Vejehold 1'!$U$7:$U$23,Foderdage!$A76,'Vejehold 1'!$V$7:$V$23)","v":0},"1900-03-13",{"$f":"D76-SUMIF('Vejehold 2'!$U$7:$U$23,Foderdage!C76,'Vejehold 2'!$V$7:$V$23)","v":0},"1900-03-13",{"$f":"F76-SUMIF('Vejehold 3'!$U$7:$U$23,Foderdage!E76,'Vejehold 3'!$V$7:$V$23)","v":0},"1900-03-13",{"$f":"H76-SUMIF('Vejehold 4'!$U$7:$U$23,Foderdage!G76,'Vejehold 4'!$V$7:$V$23)","v":0},"1900-03-13",{"$f":"J76-SUMIF('Vejehold 5'!$U$7:$U$23,Foderdage!I76,'Vejehold 5'!$V$7:$V$23)","v":0},"1900-03-13",{"$f":"L76-SUMIF('Vejehold 6'!$U$7:$U$23,Foderdage!K76,'Vejehold 6'!$V$7:$V$23)","v":0}]
["1900-03-14",{"$f":"B77-SUMIF('Vejehold 1'!$U$7:$U$23,Foderdage!$A77,'Vejehold 1'!$V$7:$V$23)","v":0},"1900-03-14",{"$f":"D77-SUMIF('Vejehold 2'!$U$7:$U$23,Foderdage!C77,'Vejehold 2'!$V$7:$V$23)","v":0},"1900-03-14",{"$f":"F77-SUMIF('Vejehold 3'!$U$7:$U$23,Foderdage!E77,'Vejehold 3'!$V$7:$V$23)","v":0},"1900-03-14",{"$f":"H77-SUMIF('Vejehold 4'!$U$7:$U$23,Foderdage!G77,'Vejehold 4'!$V$7:$V$23)","v":0},"1900-03-14",{"$f":"J77-SUMIF('Vejehold 5'!$U$7:$U$23,Foderdage!I77,'Vejehold 5'!$V$7:$V$23)","v":0},"1900-03-14",{"$f":"L77-SUMIF('Vejehold 6'!$U$7:$U$23,Foderdage!K77,'Vejehold 6'!$V$7:$V$23)","v":0}]
["1900-03-15",{"$f":"B78-SUMIF('Vejehold 1'!$U$7:$U$23,Foderdage!$A78,'Vejehold 1'!$V$7:$V$23)","v":0},"1900-03-15",{"$f":"D78-SUMIF('Vejehold 2'!$U$7:$U$23,Foderdage!C78,'Vejehold 2'!$V$7:$V$23)","v":0},"1900-03-15",{"$f":"F78-SUMIF('Vejehold 3'!$U$7:$U$23,Foderdage!E78,'Vejehold 3'!$V$7:$V$23)","v":0},"1900-03-15",{"$f":"H78-SUMIF('Vejehold 4'!$U$7:$U$23,Foderdage!G78,'Vejehold 4'!$V$7:$V$23)","v":0},"1900-03-15",{"$f":"J78-SUMIF('Vejehold 5'!$U$7:$U$23,Foderdage!I78,'Vejehold 5'!$V$7:$V$23)","v":0},"1900-03-15",{"$f":"L78-SUMIF('Vejehold 6'!$U$7:$U$23,Foderdage!K78,'Vejehold 6'!$V$7:$V$23)","v":0}]
["1900-03-16",{"$f":"B79-SUMIF('Vejehold 1'!$U$7:$U$23,Foderdage!$A79,'Vejehold 1'!$V$7:$V$23)","v":0},"1900-03-16",{"$f":"D79-SUMIF('Vejehold 2'!$U$7:$U$23,Foderdage!C79,'Vejehold 2'!$V$7:$V$23)","v":0},"1900-03-16",{"$f":"F79-SUMIF('Vejehold 3'!$U$7:$U$23,Foderdage!E79,'Vejehold 3'!$V$7:$V$23)","v":0},"1900-03-16",{"$f":"H79-SUMIF('Vejehold 4'!$U$7:$U$23,Foderdage!G79,'Vejehold 4'!$V$7:$V$23)","v":0},"1900-03-16",{"$f":"J79-SUMIF('Vejehold 5'!$U$7:$U$23,Foderdage!I79,'Vejehold 5'!$V$7:$V$23)","v":0},"1900-03-16",{"$f":"L79-SUMIF('Vejehold 6'!$U$7:$U$23,Foderdage!K79,'Vejehold 6'!$V$7:$V$23)","v":0}]
["1900-03-17",{"$f":"B80-SUMIF('Vejehold 1'!$U$7:$U$23,Foderdage!$A80,'Vejehold 1'!$V$7:$V$23)","v":0},"1900-03-17",{"$f":"D80-SUMIF('Vejehold 2'!$U$7:$U$23,Foderdage!C80,'Vejehold 2'!$V$7:$V$23)","v":0},"1900-03-17",{"$f":"F80-SUMIF('Vejehold 3'!$U$7:$U$23,Foderdage!E80,'Vejehold 3'!$V$7:$V$23)","v":0},"1900-03-17",{"$f":"H80-SUMIF('Vejehold 4'!$U$7:$U$23,Foderdage!G80,'Vejehold 4'!$V$7:$V$23)","v":0},"1900-03-17",{"$f":"J80-SUMIF('Vejehold 5'!$U$7:$U$23,Foderdage!I80,'Vejehold 5'!$V$7:$V$23)","v":0},"1900-03-17",{"$f":"L80-SUMIF('Vejehold 6'!$U$7:$U$23,Foderdage!K80,'Vejehold 6'!$V$7:$V$23)","v":0}]
["1900-03-18",{"$f":"B81-SUMIF('Vejehold 1'!$U$7:$U$23,Foderdage!$A81,'Vejehold 1'!$V$7:$V$23)","v":0},"1900-03-18",{"$f":"D81-SUMIF('Vejehold 2'!$U$7:$U$23,Foderdage!C81,'Vejehold 2'!$V$7:$V$23)","v":0},"1900-03-18",{"$f":"F81-SUMIF('Vejehold 3'!$U$7:$U$23,Foderdage!E81,'Vejehold 3'!$V$7:$V$23)","v":0},"1900-03-18",{"$f":"H81-SUMIF('Vejehold 4'!$U$7:$U$23,Foderdage!G81,'Vejehold 4'!$V$7:$V$23)","v":0},"1900-03-18",{"$f":"J81-SUMIF('Vejehold 5'!$U$7:$U$23,Foderdage!I81,'Vejehold 5'!$V$7:$V$23)","v":0},"1900-03-18",{"$f":"L81-SUMIF('Vejehold 6'!$U$7:$U$23,Foderdage!K81,'Vejehold 6'!$V$7:$V$23)","v":0}]
["1900-03-19",{"$f":"B82-SUMIF('Vejehold 1'!$U$7:$U$23,Foderdage!$A82,'Vejehold 1'!$V$7:$V$23)","v":0},"1900-03-19",{"$f":"D82-SUMIF('Vejehold 2'!$U$7:$U$23,Foderdage!C82,'Vejehold 2'!$V$7:$V$23)","v":0},"1900-03-19",{"$f":"F82-SUMIF('Vejehold 3'!$U$7:$U$23,Foderdage!E82,'Vejehold 3'!$V$7:$V$23)","v":0},"1900-03-19",{"$f":"H82-SUMIF('Vejehold 4'!$U$7:$U$23,Foderdage!G82,'Vejehold 4'!$V$7:$V$23)","v":0},"1900-03-19",{"$f":"J82-SUMIF('Vejehold 5'!$U$7:$U$23,Foderdage!I82,'Vejehold 5'!$V$7:$V$23)","v":0},"1900-03-19",{"$f":"L82-SUMIF('Vejehold 6'!$U$7:$U$23,Foderdage!K82,'Vejehold 6'!$V$7:$V$23)","v":0}]
["1900-03-20",{"$f":"B83-SUMIF('Vejehold 1'!$U$7:$U$23,Foderdage!$A83,'Vejehold 1'!$V$7:$V$23)","v":0},"1900-03-20",{"$f":"D83-SUMIF('Vejehold 2'!$U$7:$U$23,Foderdage!C83,'Vejehold 2'!$V$7:$V$23)","v":0},"1900-03-20",{"$f":"F83-SUMIF('Vejehold 3'!$U$7:$U$23,Foderdage!E83,'Vejehold 3'!$V$7:$V$23)","v":0},"1900-03-20",{"$f":"H83-SUMIF('Vejehold 4'!$U$7:$U$23,Foderdage!G83,'Vejehold 4'!$V$7:$V$23)","v":0},"1900-03-20",{"$f":"J83-SUMIF('Vejehold 5'!$U$7:$U$23,Foderdage!I83,'Vejehold 5'!$V$7:$V$23)","v":0},"1900-03-20",{"$f":"L83-SUMIF('Vejehold 6'!$U$7:$U$23,Foderdage!K83,'Vejehold 6'!$V$7:$V$23)","v":0}]
["1900-03-21",{"$f":"B84-SUMIF('Vejehold 1'!$U$7:$U$23,Foderdage!$A84,'Vejehold 1'!$V$7:$V$23)","v":0},"1900-03-21",{"$f":"D84-SUMIF('Vejehold 2'!$U$7:$U$23,Foderdage!C84,'Vejehold 2'!$V$7:$V$23)","v":0},"1900-03-21",{"$f":"F84-SUMIF('Vejehold 3'!$U$7:$U$23,Foderdage!E84,'Vejehold 3'!$V$7:$V$23)","v":0},"1900-03-21",{"$f":"H84-SUMIF('Vejehold 4'!$U$7:$U$23,Foderdage!G84,'Vejehold 4'!$V$7:$V$23)","v":0},"1900-03-21",{"$f":"J84-SUMIF('Vejehold 5'!$U$7:$U$23,Foderdage!I84,'Vejehold 5'!$V$7:$V$23)","v":0},"1900-03-21",{"$f":"L84-SUMIF('Vejehold 6'!$U$7:$U$23,Foderdage!K84,'Vejehold 6'!$V$7:$V$23)","v":0}]
["1900-03-22",{"$f":"B85-SUMIF('Vejehold 1'!$U$7:$U$23,Foderdage!$A85,'Vejehold 1'!$V$7:$V$23)","v":0},"1900-03-22",{"$f":"D85-SUMIF('Vejehold 2'!$U$7:$U$23,Foderdage!C85,'Vejehold 2'!$V$7:$V$23)","v":0},"1900-03-22",{"$f":"F85-SUMIF('Vejehold 3'!$U$7:$U$23,Foderdage!E85,'Vejehold 3'!$V$7:$V$23)","v":0},"1900-03-22",{"$f":"H85-SUMIF('Vejehold 4'!$U$7:$U$23,Foderdage!G85,'Vejehold 4'!$V$7:$V$23)","v":0},"1900-03-22",{"$f":"J85-SUMIF('Vejehold 5'!$U$7:$U$23,Foderdage!I85,'Vejehold 5'!$V$7:$V$23)","v":0},"1900-03-22",{"$f":"L85-SUMIF('Vejehold 6'!$U$7:$U$23,Foderdage!K85,'Vejehold 6'!$V$7:$V$23)","v":0}]
["1900-03-23",{"$f":"B86-SUMIF('Vejehold 1'!$U$7:$U$23,Foderdage!$A86,'Vejehold 1'!$V$7:$V$23)","v":0},"1900-03-23",{"$f":"D86-SUMIF('Vejehold 2'!$U$7:$U$23,Foderdage!C86,'Vejehold 2'!$V$7:$V$23)","v":0},"1900-03-23",{"$f":"F86-SUMIF('Vejehold 3'!$U$7:$U$23,Foderdage!E86,'Vejehold 3'!$V$7:$V$23)","v":0},"1900-03-23",{"$f":"H86-SUMIF('Vejehold 4'!$U$7:$U$23,Foderdage!G86,'Vejehold 4'!$V$7:$V$23)","v":0},"1900-03-23",{"$f":"J86-SUMIF('Vejehold 5'!$U$7:$U$23,Foderdage!I86,'Vejehold 5'!$V$7:$V$23)","v":0},"1900-03-23",{"$f":"L86-SUMIF('Vejehold 6'!$U$7:$U$23,Foderdage!K86,'Vejehold 6'!$V$7:$V$23)","v":0}]
["1900-03-24",{"$f":"B87-SUMIF('Vejehold 1'!$U$7:$U$23,Foderdage!$A87,'Vejehold 1'!$V$7:$V$23)","v":0},"1900-03-24",{"$f":"D87-SUMIF('Vejehold 2'!$U$7:$U$23,Foderdage!C87,'Vejehold 2'!$V$7:$V$23)","v":0},"1900-03-24",{"$f":"F87-SUMIF('Vejehold 3'!$U$7:$U$23,Foderdage!E87,'Vejehold 3'!$V$7:$V$23)","v":0},"1900-03-24",{"$f":"H87-SUMIF('Vejehold 4'!$U$7:$U$23,Foderdage!G87,'Vejehold 4'!$V$7:$V$23)","v":0},"1900-03-24",{"$f":"J87-SUMIF('Vejehold 5'!$U$7:$U$23,Foderdage!I87,'Vejehold 5'!$V$7:$V$23)","v":0},"1900-03-24",{"$f":"L87-SUMIF('Vejehold 6'!$U$7:$U$23,Foderdage!K87,'Vejehold 6'!$V$7:$V$23)","v":0}]
["1900-03-25",{"$f":"B88-SUMIF('Vejehold 1'!$U$7:$U$23,Foderdage!$A88,'Vejehold 1'!$V$7:$V$23)","v":0},"1900-03-25",{"$f":"D88-SUMIF('Vejehold 2'!$U$7:$U$23,Foderdage!C88,'Vejehold 2'!$V$7:$V$23)","v":0},"1900-03-25",{"$f":"F88-SUMIF('Vejehold 3'!$U$7:$U$23,Foderdage!E88,'Vejehold 3'!$V$7:$V$23)","v":0},"1900-03-25",{"$f":"H88-SUMIF('Vejehold 4'!$U$7:$U$23,Foderdage!G88,'Vejehold 4'!$V$7:$V$23)","v":0},"1900-03-25",{"$f":"J88-SUMIF('Vejehold 5'!$U$7:$U$23,Foderdage!I88,'Vejehold 5'!$V$7:$V$23)","v":0},"1900-03-25",{"$f":"L88-SUMIF('Vejehold 6'!$U$7:$U$23,Foderdage!K88,'Vejehold 6'!$V$7:$V$23)","v":0}]
["1900-03-26",{"$f":"B89-SUMIF('Vejehold 1'!$U$7:$U$23,Foderdage!$A89,'Vejehold 1'!$V$7:$V$23)","v":0},"1900-03-26",{"$f":"D89-SUMIF('Vejehold 2'!$U$7:$U$23,Foderdage!C89,'Vejehold 2'!$V$7:$V$23)","v":0},"1900-03-26",{"$f":"F89-SUMIF('Vejehold 3'!$U$7:$U$23,Foderdage!E89,'Vejehold 3'!$V$7:$V$23)","v":0},"1900-03-26",{"$f":"H89-SUMIF('Vejehold 4'!$U$7:$U$23,Foderdage!G89,'Vejehold 4'!$V$7:$V$23)","v":0},"1900-03-26",{"$f":"J89-SUMIF('Vejehold 5'!$U$7:$U$23,Foderdage!I89,'Vejehold 5'!$V$7:$V$23)","v":0},"1900-03-26",{"$f":"L89-SUMIF('Vejehold 6'!$U$7:$U$23,Foderdage!K89,'Vejehold 6'!$V$7:$V$23)","v":0}]
["1900-03-27",{"$f":"B90-SUMIF('Vejehold 1'!$U$7:$U$23,Foderdage!$A90,'Vejehold 1'!$V$7:$V$23)","v":0},"1900-03-27",{"$f":"D90-SUMIF('Vejehold 2'!$U$7:$U$23,Foderdage!C90,'Vejehold 2'!$V$7:$V$23)","v":0},"1900-03-27",{"$f":"F90-SUMIF('Vejehold 3'!$U$7:$U$23,Foderdage!E90,'Vejehold 3'!$V$7:$V$23)","v":0},"1900-03-27",{"$f":"H90-SUMIF('Vejehold 4'!$U$7:$U$23,Foderdage!G90,'Vejehold 4'!$V$7:$V$23)","v":0},"1900-03-27",{"$f":"J90-SUMIF('Vejehold 5'!$U$7:$U$23,Foderdage!I90,'Vejehold 5'!$V$7:$V$23)","v":0},"1900-03-27",{"$f":"L90-SUMIF('Vejehold 6'!$U$7:$U$23,Foderdage!K90,'Vejehold 6'!$V$7:$V$23)","v":0}]
["1900-03-28",{"$f":"B91-SUMIF('Vejehold 1'!$U$7:$U$23,Foderdage!$A91,'Vejehold 1'!$V$7:$V$23)","v":0},"1900-03-28",{"$f":"D91-SUMIF('Vejehold 2'!$U$7:$U$23,Foderdage!C91,'Vejehold 2'!$V$7:$V$23)","v":0},"1900-03-28",{"$f":"F91-SUMIF('Vejehold 3'!$U$7:$U$23,Foderdage!E91,'Vejehold 3'!$V$7:$V$23)","v":0},"1900-03-28",{"$f":"H91-SUMIF('Vejehold 4'!$U$7:$U$23,Foderdage!G91,'Vejehold 4'!$V$7:$V$23)","v":0},"1900-03-28",{"$f":"J91-SUMIF('Vejehold 5'!$U$7:$U$23,Foderdage!I91,'Vejehold 5'!$V$7:$V$23)","v":0},"1900-03-28",{"$f":"L91-SUMIF('Vejehold 6'!$U$7:$U$23,Foderdage!K91,'Vejehold 6'!$V$7:$V$23)","v":0}]
["1900-03-29",{"$f":"B92-SUMIF('Vejehold 1'!$U$7:$U$23,Foderdage!$A92,'Vejehold 1'!$V$7:$V$23)","v":0},"1900-03-29",{"$f":"D92-SUMIF('Vejehold 2'!$U$7:$U$23,Foderdage!C92,'Vejehold 2'!$V$7:$V$23)","v":0},"1900-03-29",{"$f":"F92-SUMIF('Vejehold 3'!$U$7:$U$23,Foderdage!E92,'Vejehold 3'!$V$7:$V$23)","v":0},"1900-03-29",{"$f":"H92-SUMIF('Vejehold 4'!$U$7:$U$23,Foderdage!G92,'Vejehold 4'!$V$7:$V$23)","v":0},"1900-03-29",{"$f":"J92-SUMIF('Vejehold 5'!$U$7:$U$23,Foderdage!I92,'Vejehold 5'!$V$7:$V$23)","v":0},"1900-03-29",{"$f":"L92-SUMIF('Vejehold 6'!$U$7:$U$23,Foderdage!K92,'Vejehold 6'!$V$7:$V$23)","v":0}]
["1900-03-30",{"$f":"B93-SUMIF('Vejehold 1'!$U$7:$U$23,Foderdage!$A93,'Vejehold 1'!$V$7:$V$23)","v":0},"1900-03-30",{"$f":"D93-SUMIF('Vejehold 2'!$U$7:$U$23,Foderdage!C93,'Vejehold 2'!$V$7:$V$23)","v":0},"1900-03-30",{"$f":"F93-SUMIF('Vejehold 3'!$U$7:$U$23,Foderdage!E93,'Vejehold 3'!$V$7:$V$23)","v":0},"1900-03-30",{"$f":"H93-SUMIF('Vejehold 4'!$U$7:$U$23,Foderdage!G93,'Vejehold 4'!$V$7:$V$23)","v":0},"1900-03-30",{"$f":"J93-SUMIF('Vejehold 5'!$U$7:$U$23,Foderdage!I93,'Vejehold 5'!$V$7:$V$23)","v":0},"1900-03-30",{"$f":"L93-SUMIF('Vejehold 6'!$U$7:$U$23,Foderdage!K93,'Vejehold 6'!$V$7:$V$23)","v":0}]
["1900-03-31",{"$f":"B94-SUMIF('Vejehold 1'!$U$7:$U$23,Foderdage!$A94,'Vejehold 1'!$V$7:$V$23)","v":0},"1900-03-31",{"$f":"D94-SUMIF('Vejehold 2'!$U$7:$U$23,Foderdage!C94,'Vejehold 2'!$V$7:$V$23)","v":0},"1900-03-31",{"$f":"F94-SUMIF('Vejehold 3'!$U$7:$U$23,Foderdage!E94,'Vejehold 3'!$V$7:$V$23)","v":0},"1900-03-31",{"$f":"H94-SUMIF('Vejehold 4'!$U$7:$U$23,Foderdage!G94,'Vejehold 4'!$V$7:$V$23)","v":0},"1900-03-31",{"$f":"J94-SUMIF('Vejehold 5'!$U$7:$U$23,Foderdage!I94,'Vejehold 5'!$V$7:$V$23)","v":0},"1900-03-31",{"$f":"L94-SUMIF('Vejehold 6'!$U$7:$U$23,Foderdage!K94,'Vejehold 6'!$V$7:$V$23)","v":0}]
["1900-04-01",{"$f":"B95-SUMIF('Vejehold 1'!$U$7:$U$23,Foderdage!$A95,'Vejehold 1'!$V$7:$V$23)","v":0},"1900-04-01",{"$f":"D95-SUMIF('Vejehold 2'!$U$7:$U$23,Foderdage!C95,'Vejehold 2'!$V$7:$V$23)","v":0},"1900-04-01",{"$f":"F95-SUMIF('Vejehold 3'!$U$7:$U$23,Foderdage!E95,'Vejehold 3'!$V$7:$V$23)","v":0},"1900-04-01",{"$f":"H95-SUMIF('Vejehold 4'!$U$7:$U$23,Foderdage!G95,'Vejehold 4'!$V$7:$V$23)","v":0},"1900-04-01",{"$f":"J95-SUMIF('Vejehold 5'!$U$7:$U$23,Foderdage!I95,'Vejehold 5'!$V$7:$V$23)","v":0},"1900-04-01",{"$f":"L95-SUMIF('Vejehold 6'!$U$7:$U$23,Foderdage!K95,'Vejehold 6'!$V$7:$V$23)","v":0}]
["1900-04-02",{"$f":"B96-SUMIF('Vejehold 1'!$U$7:$U$23,Foderdage!$A96,'Vejehold 1'!$V$7:$V$23)","v":0},"1900-04-02",{"$f":"D96-SUMIF('Vejehold 2'!$U$7:$U$23,Foderdage!C96,'Vejehold 2'!$V$7:$V$23)","v":0},"1900-04-02",{"$f":"F96-SUMIF('Vejehold 3'!$U$7:$U$23,Foderdage!E96,'Vejehold 3'!$V$7:$V$23)","v":0},"1900-04-02",{"$f":"H96-SUMIF('Vejehold 4'!$U$7:$U$23,Foderdage!G96,'Vejehold 4'!$V$7:$V$23)","v":0},"1900-04-02",{"$f":"J96-SUMIF('Vejehold 5'!$U$7:$U$23,Foderdage!I96,'Vejehold 5'!$V$7:$V$23)","v":0},"1900-04-02",{"$f":"L96-SUMIF('Vejehold 6'!$U$7:$U$23,Foderdage!K96,'Vejehold 6'!$V$7:$V$23)","v":0}]
["1900-04-03",{"$f":"B97-SUMIF('Vejehold 1'!$U$7:$U$23,Foderdage!$A97,'Vejehold 1'!$V$7:$V$23)","v":0},"1900-04-03",{"$f":"D97-SUMIF('Vejehold 2'!$U$7:$U$23,Foderdage!C97,'Vejehold 2'!$V$7:$V$23)","v":0},"1900-04-03",{"$f":"F97-SUMIF('Vejehold 3'!$U$7:$U$23,Foderdage!E97,'Vejehold 3'!$V$7:$V$23)","v":0},"1900-04-03",{"$f":"H97-SUMIF('Vejehold 4'!$U$7:$U$23,Foderdage!G97,'Vejehold 4'!$V$7:$V$23)","v":0},"1900-04-03",{"$f":"J97-SUMIF('Vejehold 5'!$U$7:$U$23,Foderdage!I97,'Vejehold 5'!$V$7:$V$23)","v":0},"1900-04-03",{"$f":"L97-SUMIF('Vejehold 6'!$U$7:$U$23,Foderdage!K97,'Vejehold 6'!$V$7:$V$23)","v":0}]
["1900-04-04",{"$f":"B98-SUMIF('Vejehold 1'!$U$7:$U$23,Foderdage!$A98,'Vejehold 1'!$V$7:$V$23)","v":0},"1900-04-04",{"$f":"D98-SUMIF('Vejehold 2'!$U$7:$U$23,Foderdage!C98,'Vejehold 2'!$V$7:$V$23)","v":0},"1900-04-04",{"$f":"F98-SUMIF('Vejehold 3'!$U$7:$U$23,Foderdage!E98,'Vejehold 3'!$V$7:$V$23)","v":0},"1900-04-04",{"$f":"H98-SUMIF('Vejehold 4'!$U$7:$U$23,Foderdage!G98,'Vejehold 4'!$V$7:$V$23)","v":0},"1900-04-04",{"$f":"J98-SUMIF('Vejehold 5'!$U$7:$U$23,Foderdage!I98,'Vejehold 5'!$V$7:$V$23)","v":0},"1900-04-04",{"$f":"L98-SUMIF('Vejehold 6'!$U$7:$U$23,Foderdage!K98,'Vejehold 6'!$V$7:$V$23)","v":0}]
["1900-04-05",{"$f":"B99-SUMIF('Vejehold 1'!$U$7:$U$23,Foderdage!$A99,'Vejehold 1'!$V$7:$V$23)","v":0},"1900-04-05",{"$f":"D99-SUMIF('Vejehold 2'!$U$7:$U$23,Foderdage!C99,'Vejehold 2'!$V$7:$V$23)","v":0},"1900-04-05",{"$f":"F99-SUMIF('Vejehold 3'!$U$7:$U$23,Foderdage!E99,'Vejehold 3'!$V$7:$V$23)","v":0},"1900-04-05",{"$f":"H99-SUMIF('Vejehold 4'!$U$7:$U$23,Foderdage!G99,'Vejehold 4'!$V$7:$V$23)","v":0},"1900-04-05",{"$f":"J99-SUMIF('Vejehold 5'!$U$7:$U$23,Foderdage!I99,'Vejehold 5'!$V$7:$V$23)","v":0},"1900-04-05",{"$f":"L99-SUMIF('Vejehold 6'!$U$7:$U$23,Foderdage!K99,'Vejehold 6'!$V$7:$V$23)","v":0}]
["1900-04-06",{"$f":"B100-SUMIF('Vejehold 1'!$U$7:$U$23,Foderdage!$A100,'Vejehold 1'!$V$7:$V$23)","v":0},"1900-04-06",{"$f":"D100-SUMIF('Vejehold 2'!$U$7:$U$23,Foderdage!C100,'Vejehold 2'!$V$7:$V$23)","v":0},"1900-04-06",{"$f":"F100-SUMIF('Vejehold 3'!$U$7:$U$23,Foderdage!E100,'Vejehold 3'!$V$7:$V$23)","v":0},"1900-04-06",{"$f":"H100-SUMIF('Vejehold 4'!$U$7:$U$23,Foderdage!G100,'Vejehold 4'!$V$7:$V$23)","v":0},"1900-04-06",{"$f":"J100-SUMIF('Vejehold 5'!$U$7:$U$23,Foderdage!I100,'Vejehold 5'!$V$7:$V$23)","v":0},{"$f":"K100+1","v":"1900-04-06"},{"$f":"L100-SUMIF('Vejehold 6'!$U$7:$U$23,Foderdage!K100,'Vejehold 6'!$V$7:$V$23)","v":0}]
["1900-04-07",{"$f":"B101-SUMIF('Vejehold 1'!$U$7:$U$23,Foderdage!$A101,'Vejehold 1'!$V$7:$V$23)","v":0},"1900-04-07",{"$f":"D101-SUMIF('Vejehold 2'!$U$7:$U$23,Foderdage!C101,'Vejehold 2'!$V$7:$V$23)","v":0},"1900-04-07",{"$f":"F101-SUMIF('Vejehold 3'!$U$7:$U$23,Foderdage!E101,'Vejehold 3'!$V$7:$V$23)","v":0},"1900-04-07",{"$f":"H101-SUMIF('Vejehold 4'!$U$7:$U$23,Foderdage!G101,'Vejehold 4'!$V$7:$V$23)","v":0},"1900-04-07",{"$f":"J101-SUMIF('Vejehold 5'!$U$7:$U$23,Foderdage!I101,'Vejehold 5'!$V$7:$V$23)","v":0},"1900-04-07",{"$f":"L101-SUMIF('Vejehold 6'!$U$7:$U$23,Foderdage!K101,'Vejehold 6'!$V$7:$V$23)","v":0}]
["1900-04-08",{"$f":"B102-SUMIF('Vejehold 1'!$U$7:$U$23,Foderdage!$A102,'Vejehold 1'!$V$7:$V$23)","v":0},"1900-04-08",{"$f":"D102-SUMIF('Vejehold 2'!$U$7:$U$23,Foderdage!C102,'Vejehold 2'!$V$7:$V$23)","v":0},"1900-04-08",{"$f":"F102-SUMIF('Vejehold 3'!$U$7:$U$23,Foderdage!E102,'Vejehold 3'!$V$7:$V$23)","v":0},"1900-04-08",{"$f":"H102-SUMIF('Vejehold 4'!$U$7:$U$23,Foderdage!G102,'Vejehold 4'!$V$7:$V$23)","v":0},"1900-04-08",{"$f":"J102-SUMIF('Vejehold 5'!$U$7:$U$23,Foderdage!I102,'Vejehold 5'!$V$7:$V$23)","v":0},"1900-04-08",{"$f":"L102-SUMIF('Vejehold 6'!$U$7:$U$23,Foderdage!K102,'Vejehold 6'!$V$7:$V$23)","v":0}]
["1900-04-09",{"$f":"B103-SUMIF('Vejehold 1'!$U$7:$U$23,Foderdage!$A103,'Vejehold 1'!$V$7:$V$23)","v":0},"1900-04-09",{"$f":"D103-SUMIF('Vejehold 2'!$U$7:$U$23,Foderdage!C103,'Vejehold 2'!$V$7:$V$23)","v":0},"1900-04-09",{"$f":"F103-SUMIF('Vejehold 3'!$U$7:$U$23,Foderdage!E103,'Vejehold 3'!$V$7:$V$23)","v":0},"1900-04-09",{"$f":"H103-SUMIF('Vejehold 4'!$U$7:$U$23,Foderdage!G103,'Vejehold 4'!$V$7:$V$23)","v":0},"1900-04-09",{"$f":"J103-SUMIF('Vejehold 5'!$U$7:$U$23,Foderdage!I103,'Vejehold 5'!$V$7:$V$23)","v":0},"1900-04-09",{"$f":"L103-SUMIF('Vejehold 6'!$U$7:$U$23,Foderdage!K103,'Vejehold 6'!$V$7:$V$23)","v":0}]
["1900-04-10",{"$f":"B104-SUMIF('Vejehold 1'!$U$7:$U$23,Foderdage!$A104,'Vejehold 1'!$V$7:$V$23)","v":0},"1900-04-10",{"$f":"D104-SUMIF('Vejehold 2'!$U$7:$U$23,Foderdage!C104,'Vejehold 2'!$V$7:$V$23)","v":0},"1900-04-10",{"$f":"F104-SUMIF('Vejehold 3'!$U$7:$U$23,Foderdage!E104,'Vejehold 3'!$V$7:$V$23)","v":0},"1900-04-10",{"$f":"H104-SUMIF('Vejehold 4'!$U$7:$U$23,Foderdage!G104,'Vejehold 4'!$V$7:$V$23)","v":0},"1900-04-10",{"$f":"J104-SUMIF('Vejehold 5'!$U$7:$U$23,Foderdage!I104,'Vejehold 5'!$V$7:$V$23)","v":0},"1900-04-10",{"$f":"L104-SUMIF('Vejehold 6'!$U$7:$U$23,Foderdage!K104,'Vejehold 6'!$V$7:$V$23)","v":0}]
["1900-04-11",{"$f":"B105-SUMIF('Vejehold 1'!$U$7:$U$23,Foderdage!$A105,'Vejehold 1'!$V$7:$V$23)","v":0},"1900-04-11",{"$f":"D105-SUMIF('Vejehold 2'!$U$7:$U$23,Foderdage!C105,'Vejehold 2'!$V$7:$V$23)","v":0},"1900-04-11",{"$f":"F105-SUMIF('Vejehold 3'!$U$7:$U$23,Foderdage!E105,'Vejehold 3'!$V$7:$V$23)","v":0},"1900-04-11",{"$f":"H105-SUMIF('Vejehold 4'!$U$7:$U$23,Foderdage!G105,'Vejehold 4'!$V$7:$V$23)","v":0},"1900-04-11",{"$f":"J105-SUMIF('Vejehold 5'!$U$7:$U$23,Foderdage!I105,'Vejehold 5'!$V$7:$V$23)","v":0},"1900-04-11",{"$f":"L105-SUMIF('Vejehold 6'!$U$7:$U$23,Foderdage!K105,'Vejehold 6'!$V$7:$V$23)","v":0}]
["1900-04-12",{"$f":"B106-SUMIF('Vejehold 1'!$U$7:$U$23,Foderdage!$A106,'Vejehold 1'!$V$7:$V$23)","v":0},"1900-04-12",{"$f":"D106-SUMIF('Vejehold 2'!$U$7:$U$23,Foderdage!C106,'Vejehold 2'!$V$7:$V$23)","v":0},"1900-04-12",{"$f":"F106-SUMIF('Vejehold 3'!$U$7:$U$23,Foderdage!E106,'Vejehold 3'!$V$7:$V$23)","v":0},"1900-04-12",{"$f":"H106-SUMIF('Vejehold 4'!$U$7:$U$23,Foderdage!G106,'Vejehold 4'!$V$7:$V$23)","v":0},"1900-04-12",{"$f":"J106-SUMIF('Vejehold 5'!$U$7:$U$23,Foderdage!I106,'Vejehold 5'!$V$7:$V$23)","v":0},"1900-04-12",{"$f":"L106-SUMIF('Vejehold 6'!$U$7:$U$23,Foderdage!K106,'Vejehold 6'!$V$7:$V$23)","v":0}]
["1900-04-13",{"$f":"B107-SUMIF('Vejehold 1'!$U$7:$U$23,Foderdage!$A107,'Vejehold 1'!$V$7:$V$23)","v":0},"1900-04-13",{"$f":"D107-SUMIF('Vejehold 2'!$U$7:$U$23,Foderdage!C107,'Vejehold 2'!$V$7:$V$23)","v":0},"1900-04-13",{"$f":"F107-SUMIF('Vejehold 3'!$U$7:$U$23,Foderdage!E107,'Vejehold 3'!$V$7:$V$23)","v":0},"1900-04-13",{"$f":"H107-SUMIF('Vejehold 4'!$U$7:$U$23,Foderdage!G107,'Vejehold 4'!$V$7:$V$23)","v":0},"1900-04-13",{"$f":"J107-SUMIF('Vejehold 5'!$U$7:$U$23,Foderdage!I107,'Vejehold 5'!$V$7:$V$23)","v":0},"1900-04-13",{"$f":"L107-SUMIF('Vejehold 6'!$U$7:$U$23,Foderdage!K107,'Vejehold 6'!$V$7:$V$23)","v":0}]
["1900-04-14",{"$f":"B108-SUMIF('Vejehold 1'!$U$7:$U$23,Foderdage!$A108,'Vejehold 1'!$V$7:$V$23)","v":0},"1900-04-14",{"$f":"D108-SUMIF('Vejehold 2'!$U$7:$U$23,Foderdage!C108,'Vejehold 2'!$V$7:$V$23)","v":0},"1900-04-14",{"$f":"F108-SUMIF('Vejehold 3'!$U$7:$U$23,Foderdage!E108,'Vejehold 3'!$V$7:$V$23)","v":0},"1900-04-14",{"$f":"H108-SUMIF('Vejehold 4'!$U$7:$U$23,Foderdage!G108,'Vejehold 4'!$V$7:$V$23)","v":0},"1900-04-14",{"$f":"J108-SUMIF('Vejehold 5'!$U$7:$U$23,Foderdage!I108,'Vejehold 5'!$V$7:$V$23)","v":0},"1900-04-14",{"$f":"L108-SUMIF('Vejehold 6'!$U$7:$U$23,Foderdage!K108,'Vejehold 6'!$V$7:$V$23)","v":0}]
["1900-04-15",{"$f":"B109-SUMIF('Vejehold 1'!$U$7:$U$23,Foderdage!$A109,'Vejehold 1'!$V$7:$V$23)","v":0},"1900-04-15",{"$f":"D109-SUMIF('Vejehold 2'!$U$7:$U$23,Foderdage!C109,'Vejehold 2'!$V$7:$V$23)","v":0},"1900-04-15",{"$f":"F109-SUMIF('Vejehold 3'!$U$7:$U$23,Foderdage!E109,'Vejehold 3'!$V$7:$V$23)","v":0},"1900-04-15",{"$f":"H109-SUMIF('Vejehold 4'!$U$7:$U$23,Foderdage!G109,'Vejehold 4'!$V$7:$V$23)","v":0},"1900-04-15",{"$f":"J109-SUMIF('Vejehold 5'!$U$7:$U$23,Foderdage!I109,'Vejehold 5'!$V$7:$V$23)","v":0},"1900-04-15",{"$f":"L109-SUMIF('Vejehold 6'!$U$7:$U$23,Foderdage!K109,'Vejehold 6'!$V$7:$V$23)","v":0}]
["1900-04-16",{"$f":"B110-SUMIF('Vejehold 1'!$U$7:$U$23,Foderdage!$A110,'Vejehold 1'!$V$7:$V$23)","v":0},"1900-04-16",{"$f":"D110-SUMIF('Vejehold 2'!$U$7:$U$23,Foderdage!C110,'Vejehold 2'!$V$7:$V$23)","v":0},"1900-04-16",{"$f":"F110-SUMIF('Vejehold 3'!$U$7:$U$23,Foderdage!E110,'Vejehold 3'!$V$7:$V$23)","v":0},"1900-04-16",{"$f":"H110-SUMIF('Vejehold 4'!$U$7:$U$23,Foderdage!G110,'Vejehold 4'!$V$7:$V$23)","v":0},"1900-04-16",{"$f":"J110-SUMIF('Vejehold 5'!$U$7:$U$23,Foderdage!I110,'Vejehold 5'!$V$7:$V$23)","v":0},"1900-04-16",{"$f":"L110-SUMIF('Vejehold 6'!$U$7:$U$23,Foderdage!K110,'Vejehold 6'!$V$7:$V$23)","v":0}]
["1900-04-17",{"$f":"B111-SUMIF('Vejehold 1'!$U$7:$U$23,Foderdage!$A111,'Vejehold 1'!$V$7:$V$23)","v":0},"1900-04-17",{"$f":"D111-SUMIF('Vejehold 2'!$U$7:$U$23,Foderdage!C111,'Vejehold 2'!$V$7:$V$23)","v":0},"1900-04-17",{"$f":"F111-SUMIF('Vejehold 3'!$U$7:$U$23,Foderdage!E111,'Vejehold 3'!$V$7:$V$23)","v":0},"1900-04-17",{"$f":"H111-SUMIF('Vejehold 4'!$U$7:$U$23,Foderdage!G111,'Vejehold 4'!$V$7:$V$23)","v":0},"1900-04-17",{"$f":"J111-SUMIF('Vejehold 5'!$U$7:$U$23,Foderdage!I111,'Vejehold 5'!$V$7:$V$23)","v":0},"1900-04-17",{"$f":"L111-SUMIF('Vejehold 6'!$U$7:$U$23,Foderdage!K111,'Vejehold 6'!$V$7:$V$23)","v":0}]
["1900-04-18",{"$f":"B112-SUMIF('Vejehold 1'!$U$7:$U$23,Foderdage!$A112,'Vejehold 1'!$V$7:$V$23)","v":0},"1900-04-18",{"$f":"D112-SUMIF('Vejehold 2'!$U$7:$U$23,Foderdage!C112,'Vejehold 2'!$V$7:$V$23)","v":0},"1900-04-18",{"$f":"F112-SUMIF('Vejehold 3'!$U$7:$U$23,Foderdage!E112,'Vejehold 3'!$V$7:$V$23)","v":0},"1900-04-18",{"$f":"H112-SUMIF('Vejehold 4'!$U$7:$U$23,Foderdage!G112,'Vejehold 4'!$V$7:$V$23)","v":0},"1900-04-18",{"$f":"J112-SUMIF('Vejehold 5'!$U$7:$U$23,Foderdage!I112,'Vejehold 5'!$V$7:$V$23)","v":0},"1900-04-18",{"$f":"L112-SUMIF('Vejehold 6'!$U$7:$U$23,Foderdage!K112,'Vejehold 6'!$V$7:$V$23)","v":0}]
["1900-04-19",{"$f":"B113-SUMIF('Vejehold 1'!$U$7:$U$23,Foderdage!$A113,'Vejehold 1'!$V$7:$V$23)","v":0},"1900-04-19",{"$f":"D113-SUMIF('Vejehold 2'!$U$7:$U$23,Foderdage!C113,'Vejehold 2'!$V$7:$V$23)","v":0},"1900-04-19",{"$f":"F113-SUMIF('Vejehold 3'!$U$7:$U$23,Foderdage!E113,'Vejehold 3'!$V$7:$V$23)","v":0},"1900-04-19",{"$f":"H113-SUMIF('Vejehold 4'!$U$7:$U$23,Foderdage!G113,'Vejehold 4'!$V$7:$V$23)","v":0},"1900-04-19",{"$f":"J113-SUMIF('Vejehold 5'!$U$7:$U$23,Foderdage!I113,'Vejehold 5'!$V$7:$V$23)","v":0},"1900-04-19",{"$f":"L113-SUMIF('Vejehold 6'!$U$7:$U$23,Foderdage!K113,'Vejehold 6'!$V$7:$V$23)","v":0}]
["1900-04-20",{"$f":"B114-SUMIF('Vejehold 1'!$U$7:$U$23,Foderdage!$A114,'Vejehold 1'!$V$7:$V$23)","v":0},"1900-04-20",{"$f":"D114-SUMIF('Vejehold 2'!$U$7:$U$23,Foderdage!C114,'Vejehold 2'!$V$7:$V$23)","v":0},"1900-04-20",{"$f":"F114-SUMIF('Vejehold 3'!$U$7:$U$23,Foderdage!E114,'Vejehold 3'!$V$7:$V$23)","v":0},"1900-04-20",{"$f":"H114-SUMIF('Vejehold 4'!$U$7:$U$23,Foderdage!G114,'Vejehold 4'!$V$7:$V$23)","v":0},"1900-04-20",{"$f":"J114-SUMIF('Vejehold 5'!$U$7:$U$23,Foderdage!I114,'Vejehold 5'!$V$7:$V$23)","v":0},"1900-04-20",{"$f":"L114-SUMIF('Vejehold 6'!$U$7:$U$23,Foderdage!K114,'Vejehold 6'!$V$7:$V$23)","v":0}]
["1900-04-21",{"$f":"B115-SUMIF('Vejehold 1'!$U$7:$U$23,Foderdage!$A115,'Vejehold 1'!$V$7:$V$23)","v":0},"1900-04-21",{"$f":"D115-SUMIF('Vejehold 2'!$U$7:$U$23,Foderdage!C115,'Vejehold 2'!$V$7:$V$23)","v":0},"1900-04-21",{"$f":"F115-SUMIF('Vejehold 3'!$U$7:$U$23,Foderdage!E115,'Vejehold 3'!$V$7:$V$23)","v":0},"1900-04-21",{"$f":"H115-SUMIF('Vejehold 4'!$U$7:$U$23,Foderdage!G115,'Vejehold 4'!$V$7:$V$23)","v":0},"1900-04-21",{"$f":"J115-SUMIF('Vejehold 5'!$U$7:$U$23,Foderdage!I115,'Vejehold 5'!$V$7:$V$23)","v":0},"1900-04-21",{"$f":"L115-SUMIF('Vejehold 6'!$U$7:$U$23,Foderdage!K115,'Vejehold 6'!$V$7:$V$23)","v":0}]
["1900-04-22",{"$f":"B116-SUMIF('Vejehold 1'!$U$7:$U$23,Foderdage!$A116,'Vejehold 1'!$V$7:$V$23)","v":0},"1900-04-22",{"$f":"D116-SUMIF('Vejehold 2'!$U$7:$U$23,Foderdage!C116,'Vejehold 2'!$V$7:$V$23)","v":0},"1900-04-22",{"$f":"F116-SUMIF('Vejehold 3'!$U$7:$U$23,Foderdage!E116,'Vejehold 3'!$V$7:$V$23)","v":0},"1900-04-22",{"$f":"H116-SUMIF('Vejehold 4'!$U$7:$U$23,Foderdage!G116,'Vejehold 4'!$V$7:$V$23)","v":0},"1900-04-22",{"$f":"J116-SUMIF('Vejehold 5'!$U$7:$U$23,Foderdage!I116,'Vejehold 5'!$V$7:$V$23)","v":0},"1900-04-22",{"$f":"L116-SUMIF('Vejehold 6'!$U$7:$U$23,Foderdage!K116,'Vejehold 6'!$V$7:$V$23)","v":0}]
["1900-04-23",{"$f":"B117-SUMIF('Vejehold 1'!$U$7:$U$23,Foderdage!$A117,'Vejehold 1'!$V$7:$V$23)","v":0},"1900-04-23",{"$f":"D117-SUMIF('Vejehold 2'!$U$7:$U$23,Foderdage!C117,'Vejehold 2'!$V$7:$V$23)","v":0},"1900-04-23",{"$f":"F117-SUMIF('Vejehold 3'!$U$7:$U$23,Foderdage!E117,'Vejehold 3'!$V$7:$V$23)","v":0},"1900-04-23",{"$f":"H117-SUMIF('Vejehold 4'!$U$7:$U$23,Foderdage!G117,'Vejehold 4'!$V$7:$V$23)","v":0},"1900-04-23",{"$f":"J117-SUMIF('Vejehold 5'!$U$7:$U$23,Foderdage!I117,'Vejehold 5'!$V$7:$V$23)","v":0},"1900-04-23",{"$f":"L117-SUMIF('Vejehold 6'!$U$7:$U$23,Foderdage!K117,'Vejehold 6'!$V$7:$V$23)","v":0}]
["1900-04-24",{"$f":"B118-SUMIF('Vejehold 1'!$U$7:$U$23,Foderdage!$A118,'Vejehold 1'!$V$7:$V$23)","v":0},"1900-04-24",{"$f":"D118-SUMIF('Vejehold 2'!$U$7:$U$23,Foderdage!C118,'Vejehold 2'!$V$7:$V$23)","v":0},"1900-04-24",{"$f":"F118-SUMIF('Vejehold 3'!$U$7:$U$23,Foderdage!E118,'Vejehold 3'!$V$7:$V$23)","v":0},"1900-04-24",{"$f":"H118-SUMIF('Vejehold 4'!$U$7:$U$23,Foderdage!G118,'Vejehold 4'!$V$7:$V$23)","v":0},"1900-04-24",{"$f":"J118-SUMIF('Vejehold 5'!$U$7:$U$23,Foderdage!I118,'Vejehold 5'!$V$7:$V$23)","v":0},"1900-04-24",{"$f":"L118-SUMIF('Vejehold 6'!$U$7:$U$23,Foderdage!K118,'Vejehold 6'!$V$7:$V$23)","v":0}]
["1900-04-25",{"$f":"B119-SUMIF('Vejehold 1'!$U$7:$U$23,Foderdage!$A119,'Vejehold 1'!$V$7:$V$23)","v":0},"1900-04-25",{"$f":"D119-SUMIF('Vejehold 2'!$U$7:$U$23,Foderdage!C119,'Vejehold 2'!$V$7:$V$23)","v":0},"1900-04-25",{"$f":"F119-SUMIF('Vejehold 3'!$U$7:$U$23,Foderdage!E119,'Vejehold 3'!$V$7:$V$23)","v":0},"1900-04-25",{"$f":"H119-SUMIF('Vejehold 4'!$U$7:$U$23,Foderdage!G119,'Vejehold 4'!$V$7:$V$23)","v":0},"1900-04-25",{"$f":"J119-SUMIF('Vejehold 5'!$U$7:$U$23,Foderdage!I119,'Vejehold 5'!$V$7:$V$23)","v":0},"1900-04-25",{"$f":"L119-SUMIF('Vejehold 6'!$U$7:$U$23,Foderdage!K119,'Vejehold 6'!$V$7:$V$23)","v":0}]
["1900-04-26",{"$f":"B120-SUMIF('Vejehold 1'!$U$7:$U$23,Foderdage!$A120,'Vejehold 1'!$V$7:$V$23)","v":0},"1900-04-26",{"$f":"D120-SUMIF('Vejehold 2'!$U$7:$U$23,Foderdage!C120,'Vejehold 2'!$V$7:$V$23)","v":0},"1900-04-26",{"$f":"F120-SUMIF('Vejehold 3'!$U$7:$U$23,Foderdage!E120,'Vejehold 3'!$V$7:$V$23)","v":0},"1900-04-26",{"$f":"H120-SUMIF('Vejehold 4'!$U$7:$U$23,Foderdage!G120,'Vejehold 4'!$V$7:$V$23)","v":0},"1900-04-26",{"$f":"J120-SUMIF('Vejehold 5'!$U$7:$U$23,Foderdage!I120,'Vejehold 5'!$V$7:$V$23)","v":0},"1900-04-26",{"$f":"L120-SUMIF('Vejehold 6'!$U$7:$U$23,Foderdage!K120,'Vejehold 6'!$V$7:$V$23)","v":0}]
["1900-04-27",{"$f":"B121-SUMIF('Vejehold 1'!$U$7:$U$23,Foderdage!$A121,'Vejehold 1'!$V$7:$V$23)","v":0},"1900-04-27",{"$f":"D121-SUMIF('Vejehold 2'!$U$7:$U$23,Foderdage!C121,'Vejehold 2'!$V$7:$V$23)","v":0},"1900-04-27",{"$f":"F121-SUMIF('Vejehold 3'!$U$7:$U$23,Foderdage!E121,'Vejehold 3'!$V$7:$V$23)","v":0},"1900-04-27",{"$f":"H121-SUMIF('Vejehold 4'!$U$7:$U$23,Foderdage!G121,'Vejehold 4'!$V$7:$V$23)","v":0},"1900-04-27",{"$f":"J121-SUMIF('Vejehold 5'!$U$7:$U$23,Foderdage!I121,'Vejehold 5'!$V$7:$V$23)","v":0},"1900-04-27",{"$f":"L121-SUMIF('Vejehold 6'!$U$7:$U$23,Foderdage!K121,'Vejehold 6'!$V$7:$V$23)","v":0}]
["1900-04-28",{"$f":"B122-SUMIF('Vejehold 1'!$U$7:$U$23,Foderdage!$A122,'Vejehold 1'!$V$7:$V$23)","v":0},"1900-04-28",{"$f":"D122-SUMIF('Vejehold 2'!$U$7:$U$23,Foderdage!C122,'Vejehold 2'!$V$7:$V$23)","v":0},"1900-04-28",{"$f":"F122-SUMIF('Vejehold 3'!$U$7:$U$23,Foderdage!E122,'Vejehold 3'!$V$7:$V$23)","v":0},"1900-04-28",{"$f":"H122-SUMIF('Vejehold 4'!$U$7:$U$23,Foderdage!G122,'Vejehold 4'!$V$7:$V$23)","v":0},"1900-04-28",{"$f":"J122-SUMIF('Vejehold 5'!$U$7:$U$23,Foderdage!I122,'Vejehold 5'!$V$7:$V$23)","v":0},"1900-04-28",{"$f":"L122-SUMIF('Vejehold 6'!$U$7:$U$23,Foderdage!K122,'Vejehold 6'!$V$7:$V$23)","v":0}]
["1900-04-29",{"$f":"B123-SUMIF('Vejehold 1'!$U$7:$U$23,Foderdage!$A123,'Vejehold 1'!$V$7:$V$23)","v":0},"1900-04-29",{"$f":"D123-SUMIF('Vejehold 2'!$U$7:$U$23,Foderdage!C123,'Vejehold 2'!$V$7:$V$23)","v":0},"1900-04-29",{"$f":"F123-SUMIF('Vejehold 3'!$U$7:$U$23,Foderdage!E123,'Vejehold 3'!$V$7:$V$23)","v":0},"1900-04-29",{"$f":"H123-SUMIF('Vejehold 4'!$U$7:$U$23,Foderdage!G123,'Vejehold 4'!$V$7:$V$23)","v":0},"1900-04-29",{"$f":"J123-SUMIF('Vejehold 5'!$U$7:$U$23,Foderdage!I123,'Vejehold 5'!$V$7:$V$23)","v":0},"1900-04-29",{"$f":"L123-SUMIF('Vejehold 6'!$U$7:$U$23,Foderdage!K123,'Vejehold 6'!$V$7:$V$23)","v":0}]
["1900-04-30",{"$f":"B124-SUMIF('Vejehold 1'!$U$7:$U$23,Foderdage!$A124,'Vejehold 1'!$V$7:$V$23)","v":0},"1900-04-30",{"$f":"D124-SUMIF('Vejehold 2'!$U$7:$U$23,Foderdage!C124,'Vejehold 2'!$V$7:$V$23)","v":0},"1900-04-30",{"$f":"F124-SUMIF('Vejehold 3'!$U$7:$U$23,Foderdage!E124,'Vejehold 3'!$V$7:$V$23)","v":0},"1900-04-30",{"$f":"H124-SUMIF('Vejehold 4'!$U$7:$U$23,Foderdage!G124,'Vejehold 4'!$V$7:$V$23)","v":0},"1900-04-30",{"$f":"J124-SUMIF('Vejehold 5'!$U$7:$U$23,Foderdage!I124,'Vejehold 5'!$V$7:$V$23)","v":0},"1900-04-30",{"$f":"L124-SUMIF('Vejehold 6'!$U$7:$U$23,Foderdage!K124,'Vejehold 6'!$V$7:$V$23)","v":0}]
["1900-05-01",{"$f":"B125-SUMIF('Vejehold 1'!$U$7:$U$23,Foderdage!$A125,'Vejehold 1'!$V$7:$V$23)","v":0},"1900-05-01",{"$f":"D125-SUMIF('Vejehold 2'!$U$7:$U$23,Foderdage!C125,'Vejehold 2'!$V$7:$V$23)","v":0},"1900-05-01",{"$f":"F125-SUMIF('Vejehold 3'!$U$7:$U$23,Foderdage!E125,'Vejehold 3'!$V$7:$V$23)","v":0},"1900-05-01",{"$f":"H125-SUMIF('Vejehold 4'!$U$7:$U$23,Foderdage!G125,'Vejehold 4'!$V$7:$V$23)","v":0},"1900-05-01",{"$f":"J125-SUMIF('Vejehold 5'!$U$7:$U$23,Foderdage!I125,'Vejehold 5'!$V$7:$V$23)","v":0},"1900-05-01",{"$f":"L125-SUMIF('Vejehold 6'!$U$7:$U$23,Foderdage!K125,'Vejehold 6'!$V$7:$V$23)","v":0}]
["1900-05-02",{"$f":"B126-SUMIF('Vejehold 1'!$U$7:$U$23,Foderdage!$A126,'Vejehold 1'!$V$7:$V$23)","v":0},"1900-05-02",{"$f":"D126-SUMIF('Vejehold 2'!$U$7:$U$23,Foderdage!C126,'Vejehold 2'!$V$7:$V$23)","v":0},"1900-05-02",{"$f":"F126-SUMIF('Vejehold 3'!$U$7:$U$23,Foderdage!E126,'Vejehold 3'!$V$7:$V$23)","v":0},"1900-05-02",{"$f":"H126-SUMIF('Vejehold 4'!$U$7:$U$23,Foderdage!G126,'Vejehold 4'!$V$7:$V$23)","v":0},"1900-05-02",{"$f":"J126-SUMIF('Vejehold 5'!$U$7:$U$23,Foderdage!I126,'Vejehold 5'!$V$7:$V$23)","v":0},"1900-05-02",{"$f":"L126-SUMIF('Vejehold 6'!$U$7:$U$23,Foderdage!K126,'Vejehold 6'!$V$7:$V$23)","v":0}]
["1900-05-03",{"$f":"B127-SUMIF('Vejehold 1'!$U$7:$U$23,Foderdage!$A127,'Vejehold 1'!$V$7:$V$23)","v":0},"1900-05-03",{"$f":"D127-SUMIF('Vejehold 2'!$U$7:$U$23,Foderdage!C127,'Vejehold 2'!$V$7:$V$23)","v":0},"1900-05-03",{"$f":"F127-SUMIF('Vejehold 3'!$U$7:$U$23,Foderdage!E127,'Vejehold 3'!$V$7:$V$23)","v":0},"1900-05-03",{"$f":"H127-SUMIF('Vejehold 4'!$U$7:$U$23,Foderdage!G127,'Vejehold 4'!$V$7:$V$23)","v":0},"1900-05-03",{"$f":"J127-SUMIF('Vejehold 5'!$U$7:$U$23,Foderdage!I127,'Vejehold 5'!$V$7:$V$23)","v":0},"1900-05-03",{"$f":"L127-SUMIF('Vejehold 6'!$U$7:$U$23,Foderdage!K127,'Vejehold 6'!$V$7:$V$23)","v":0}]
["1900-05-04",{"$f":"B128-SUMIF('Vejehold 1'!$U$7:$U$23,Foderdage!$A128,'Vejehold 1'!$V$7:$V$23)","v":0},"1900-05-04",{"$f":"D128-SUMIF('Vejehold 2'!$U$7:$U$23,Foderdage!C128,'Vejehold 2'!$V$7:$V$23)","v":0},"1900-05-04",{"$f":"F128-SUMIF('Vejehold 3'!$U$7:$U$23,Foderdage!E128,'Vejehold 3'!$V$7:$V$23)","v":0},"1900-05-04",{"$f":"H128-SUMIF('Vejehold 4'!$U$7:$U$23,Foderdage!G128,'Vejehold 4'!$V$7:$V$23)","v":0},"1900-05-04",{"$f":"J128-SUMIF('Vejehold 5'!$U$7:$U$23,Foderdage!I128,'Vejehold 5'!$V$7:$V$23)","v":0},"1900-05-04",{"$f":"L128-SUMIF('Vejehold 6'!$U$7:$U$23,Foderdage!K128,'Vejehold 6'!$V$7:$V$23)","v":0}]
["1900-05-05",{"$f":"B129-SUMIF('Vejehold 1'!$U$7:$U$23,Foderdage!$A129,'Vejehold 1'!$V$7:$V$23)","v":0},"1900-05-05",{"$f":"D129-SUMIF('Vejehold 2'!$U$7:$U$23,Foderdage!C129,'Vejehold 2'!$V$7:$V$23)","v":0},"1900-05-05",{"$f":"F129-SUMIF('Vejehold 3'!$U$7:$U$23,Foderdage!E129,'Vejehold 3'!$V$7:$V$23)","v":0},"1900-05-05",{"$f":"H129-SUMIF('Vejehold 4'!$U$7:$U$23,Foderdage!G129,'Vejehold 4'!$V$7:$V$23)","v":0},"1900-05-05",{"$f":"J129-SUMIF('Vejehold 5'!$U$7:$U$23,Foderdage!I129,'Vejehold 5'!$V$7:$V$23)","v":0},"1900-05-05",{"$f":"L129-SUMIF('Vejehold 6'!$U$7:$U$23,Foderdage!K129,'Vejehold 6'!$V$7:$V$23)","v":0}]
["1900-05-06",{"$f":"B130-SUMIF('Vejehold 1'!$U$7:$U$23,Foderdage!$A130,'Vejehold 1'!$V$7:$V$23)","v":0},"1900-05-06",{"$f":"D130-SUMIF('Vejehold 2'!$U$7:$U$23,Foderdage!C130,'Vejehold 2'!$V$7:$V$23)","v":0},"1900-05-06",{"$f":"F130-SUMIF('Vejehold 3'!$U$7:$U$23,Foderdage!E130,'Vejehold 3'!$V$7:$V$23)","v":0},"1900-05-06",{"$f":"H130-SUMIF('Vejehold 4'!$U$7:$U$23,Foderdage!G130,'Vejehold 4'!$V$7:$V$23)","v":0},"1900-05-06",{"$f":"J130-SUMIF('Vejehold 5'!$U$7:$U$23,Foderdage!I130,'Vejehold 5'!$V$7:$V$23)","v":0},"1900-05-06",{"$f":"L130-SUMIF('Vejehold 6'!$U$7:$U$23,Foderdage!K130,'Vejehold 6'!$V$7:$V$23)","v":0}]
["1900-05-07",{"$f":"B131-SUMIF('Vejehold 1'!$U$7:$U$23,Foderdage!$A131,'Vejehold 1'!$V$7:$V$23)","v":0},"1900-05-07",{"$f":"D131-SUMIF('Vejehold 2'!$U$7:$U$23,Foderdage!C131,'Vejehold 2'!$V$7:$V$23)","v":0},"1900-05-07",{"$f":"F131-SUMIF('Vejehold 3'!$U$7:$U$23,Foderdage!E131,'Vejehold 3'!$V$7:$V$23)","v":0},"1900-05-07",{"$f":"H131-SUMIF('Vejehold 4'!$U$7:$U$23,Foderdage!G131,'Vejehold 4'!$V$7:$V$23)","v":0},"1900-05-07",{"$f":"J131-SUMIF('Vejehold 5'!$U$7:$U$23,Foderdage!I131,'Vejehold 5'!$V$7:$V$23)","v":0},"1900-05-07",{"$f":"L131-SUMIF('Vejehold 6'!$U$7:$U$23,Foderdage!K131,'Vejehold 6'!$V$7:$V$23)","v":0}]
["1900-05-08",{"$f":"B132-SUMIF('Vejehold 1'!$U$7:$U$23,Foderdage!$A132,'Vejehold 1'!$V$7:$V$23)","v":0},"1900-05-08",{"$f":"D132-SUMIF('Vejehold 2'!$U$7:$U$23,Foderdage!C132,'Vejehold 2'!$V$7:$V$23)","v":0},"1900-05-08",{"$f":"F132-SUMIF('Vejehold 3'!$U$7:$U$23,Foderdage!E132,'Vejehold 3'!$V$7:$V$23)","v":0},"1900-05-08",{"$f":"H132-SUMIF('Vejehold 4'!$U$7:$U$23,Foderdage!G132,'Vejehold 4'!$V$7:$V$23)","v":0},"1900-05-08",{"$f":"J132-SUMIF('Vejehold 5'!$U$7:$U$23,Foderdage!I132,'Vejehold 5'!$V$7:$V$23)","v":0},{"$f":"K132+1","v":"1900-05-08"},{"$f":"L132-SUMIF('Vejehold 6'!$U$7:$U$23,Foderdage!K132,'Vejehold 6'!$V$7:$V$23)","v":0}]
[{"$f":"A133+1","v":"1900-05-09"},{"$f":"B133-SUMIF('Vejehold 1'!$U$7:$U$23,Foderdage!$A133,'Vejehold 1'!$V$7:$V$23)","v":0},{"$f":"C133+1","v":"1900-05-09"},{"$f":"D133-SUMIF('Vejehold 2'!$U$7:$U$23,Foderdage!C133,'Vejehold 2'!$V$7:$V$23)","v":0},{"$f":"E133+1","v":"1900-05-09"},{"$f":"F133-SUMIF('Vejehold 3'!$U$7:$U$23,Foderdage!E133,'Vejehold 3'!$V$7:$V$23)","v":0},{"$f":"G133+1","v":"1900-05-09"},{"$f":"H133-SUMIF('Vejehold 4'!$U$7:$U$23,Foderdage!G133,'Vejehold 4'!$V$7:$V$23)","v":0},"1900-05-09",{"$f":"J133-SUMIF('Vejehold 5'!$U$7:$U$23,Foderdage!I133,'Vejehold 5'!$V$7:$V$23)","v":0},"1900-05-09",{"$f":"L133-SUMIF('Vejehold 6'!$U$7:$U$23,Foderdage!K133,'Vejehold 6'!$V$7:$V$23)","v":0}]
["1900-05-10",{"$f":"B134-SUMIF('Vejehold 1'!$U$7:$U$23,Foderdage!$A134,'Vejehold 1'!$V$7:$V$23)","v":0},"1900-05-10",{"$f":"D134-SUMIF('Vejehold 2'!$U$7:$U$23,Foderdage!C134,'Vejehold 2'!$V$7:$V$23)","v":0},"1900-05-10",{"$f":"F134-SUMIF('Vejehold 3'!$U$7:$U$23,Foderdage!E134,'Vejehold 3'!$V$7:$V$23)","v":0},"1900-05-10",{"$f":"H134-SUMIF('Vejehold 4'!$U$7:$U$23,Foderdage!G134,'Vejehold 4'!$V$7:$V$23)","v":0},"1900-05-10",{"$f":"J134-SUMIF('Vejehold 5'!$U$7:$U$23,Foderdage!I134,'Vejehold 5'!$V$7:$V$23)","v":0},"1900-05-10",{"$f":"L134-SUMIF('Vejehold 6'!$U$7:$U$23,Foderdage!K134,'Vejehold 6'!$V$7:$V$23)","v":0}]
["1900-05-11",{"$f":"B135-SUMIF('Vejehold 1'!$U$7:$U$23,Foderdage!$A135,'Vejehold 1'!$V$7:$V$23)","v":0},"1900-05-11",{"$f":"D135-SUMIF('Vejehold 2'!$U$7:$U$23,Foderdage!C135,'Vejehold 2'!$V$7:$V$23)","v":0},"1900-05-11",{"$f":"F135-SUMIF('Vejehold 3'!$U$7:$U$23,Foderdage!E135,'Vejehold 3'!$V$7:$V$23)","v":0},"1900-05-11",{"$f":"H135-SUMIF('Vejehold 4'!$U$7:$U$23,Foderdage!G135,'Vejehold 4'!$V$7:$V$23)","v":0},"1900-05-11",{"$f":"J135-SUMIF('Vejehold 5'!$U$7:$U$23,Foderdage!I135,'Vejehold 5'!$V$7:$V$23)","v":0},"1900-05-11",{"$f":"L135-SUMIF('Vejehold 6'!$U$7:$U$23,Foderdage!K135,'Vejehold 6'!$V$7:$V$23)","v":0}]
["1900-05-12",{"$f":"B136-SUMIF('Vejehold 1'!$U$7:$U$23,Foderdage!$A136,'Vejehold 1'!$V$7:$V$23)","v":0},"1900-05-12",{"$f":"D136-SUMIF('Vejehold 2'!$U$7:$U$23,Foderdage!C136,'Vejehold 2'!$V$7:$V$23)","v":0},"1900-05-12",{"$f":"F136-SUMIF('Vejehold 3'!$U$7:$U$23,Foderdage!E136,'Vejehold 3'!$V$7:$V$23)","v":0},"1900-05-12",{"$f":"H136-SUMIF('Vejehold 4'!$U$7:$U$23,Foderdage!G136,'Vejehold 4'!$V$7:$V$23)","v":0},"1900-05-12",{"$f":"J136-SUMIF('Vejehold 5'!$U$7:$U$23,Foderdage!I136,'Vejehold 5'!$V$7:$V$23)","v":0},"1900-05-12",{"$f":"L136-SUMIF('Vejehold 6'!$U$7:$U$23,Foderdage!K136,'Vejehold 6'!$V$7:$V$23)","v":0}]
["1900-05-13",{"$f":"B137-SUMIF('Vejehold 1'!$U$7:$U$23,Foderdage!$A137,'Vejehold 1'!$V$7:$V$23)","v":0},"1900-05-13",{"$f":"D137-SUMIF('Vejehold 2'!$U$7:$U$23,Foderdage!C137,'Vejehold 2'!$V$7:$V$23)","v":0},"1900-05-13",{"$f":"F137-SUMIF('Vejehold 3'!$U$7:$U$23,Foderdage!E137,'Vejehold 3'!$V$7:$V$23)","v":0},"1900-05-13",{"$f":"H137-SUMIF('Vejehold 4'!$U$7:$U$23,Foderdage!G137,'Vejehold 4'!$V$7:$V$23)","v":0},"1900-05-13",{"$f":"J137-SUMIF('Vejehold 5'!$U$7:$U$23,Foderdage!I137,'Vejehold 5'!$V$7:$V$23)","v":0},"1900-05-13",{"$f":"L137-SUMIF('Vejehold 6'!$U$7:$U$23,Foderdage!K137,'Vejehold 6'!$V$7:$V$23)","v":0}]
["1900-05-14",{"$f":"B138-SUMIF('Vejehold 1'!$U$7:$U$23,Foderdage!$A138,'Vejehold 1'!$V$7:$V$23)","v":0},"1900-05-14",{"$f":"D138-SUMIF('Vejehold 2'!$U$7:$U$23,Foderdage!C138,'Vejehold 2'!$V$7:$V$23)","v":0},"1900-05-14",{"$f":"F138-SUMIF('Vejehold 3'!$U$7:$U$23,Foderdage!E138,'Vejehold 3'!$V$7:$V$23)","v":0},"1900-05-14",{"$f":"H138-SUMIF('Vejehold 4'!$U$7:$U$23,Foderdage!G138,'Vejehold 4'!$V$7:$V$23)","v":0},"1900-05-14",{"$f":"J138-SUMIF('Vejehold 5'!$U$7:$U$23,Foderdage!I138,'Vejehold 5'!$V$7:$V$23)","v":0},"1900-05-14",{"$f":"L138-SUMIF('Vejehold 6'!$U$7:$U$23,Foderdage!K138,'Vejehold 6'!$V$7:$V$23)","v":0}]
["1900-05-15",{"$f":"B139-SUMIF('Vejehold 1'!$U$7:$U$23,Foderdage!$A139,'Vejehold 1'!$V$7:$V$23)","v":0},"1900-05-15",{"$f":"D139-SUMIF('Vejehold 2'!$U$7:$U$23,Foderdage!C139,'Vejehold 2'!$V$7:$V$23)","v":0},"1900-05-15",{"$f":"F139-SUMIF('Vejehold 3'!$U$7:$U$23,Foderdage!E139,'Vejehold 3'!$V$7:$V$23)","v":0},"1900-05-15",{"$f":"H139-SUMIF('Vejehold 4'!$U$7:$U$23,Foderdage!G139,'Vejehold 4'!$V$7:$V$23)","v":0},"1900-05-15",{"$f":"J139-SUMIF('Vejehold 5'!$U$7:$U$23,Foderdage!I139,'Vejehold 5'!$V$7:$V$23)","v":0},"1900-05-15",{"$f":"L139-SUMIF('Vejehold 6'!$U$7:$U$23,Foderdage!K139,'Vejehold 6'!$V$7:$V$23)","v":0}]
["1900-05-16",{"$f":"B140-SUMIF('Vejehold 1'!$U$7:$U$23,Foderdage!$A140,'Vejehold 1'!$V$7:$V$23)","v":0},"1900-05-16",{"$f":"D140-SUMIF('Vejehold 2'!$U$7:$U$23,Foderdage!C140,'Vejehold 2'!$V$7:$V$23)","v":0},"1900-05-16",{"$f":"F140-SUMIF('Vejehold 3'!$U$7:$U$23,Foderdage!E140,'Vejehold 3'!$V$7:$V$23)","v":0},"1900-05-16",{"$f":"H140-SUMIF('Vejehold 4'!$U$7:$U$23,Foderdage!G140,'Vejehold 4'!$V$7:$V$23)","v":0},"1900-05-16",{"$f":"J140-SUMIF('Vejehold 5'!$U$7:$U$23,Foderdage!I140,'Vejehold 5'!$V$7:$V$23)","v":0},"1900-05-16",{"$f":"L140-SUMIF('Vejehold 6'!$U$7:$U$23,Foderdage!K140,'Vejehold 6'!$V$7:$V$23)","v":0}]
["1900-05-17",{"$f":"B141-SUMIF('Vejehold 1'!$U$7:$U$23,Foderdage!$A141,'Vejehold 1'!$V$7:$V$23)","v":0},"1900-05-17",{"$f":"D141-SUMIF('Vejehold 2'!$U$7:$U$23,Foderdage!C141,'Vejehold 2'!$V$7:$V$23)","v":0},"1900-05-17",{"$f":"F141-SUMIF('Vejehold 3'!$U$7:$U$23,Foderdage!E141,'Vejehold 3'!$V$7:$V$23)","v":0},"1900-05-17",{"$f":"H141-SUMIF('Vejehold 4'!$U$7:$U$23,Foderdage!G141,'Vejehold 4'!$V$7:$V$23)","v":0},"1900-05-17",{"$f":"J141-SUMIF('Vejehold 5'!$U$7:$U$23,Foderdage!I141,'Vejehold 5'!$V$7:$V$23)","v":0},"1900-05-17",{"$f":"L141-SUMIF('Vejehold 6'!$U$7:$U$23,Foderdage!K141,'Vejehold 6'!$V$7:$V$23)","v":0}]
["1900-05-18",{"$f":"B142-SUMIF('Vejehold 1'!$U$7:$U$23,Foderdage!$A142,'Vejehold 1'!$V$7:$V$23)","v":0},"1900-05-18",{"$f":"D142-SUMIF('Vejehold 2'!$U$7:$U$23,Foderdage!C142,'Vejehold 2'!$V$7:$V$23)","v":0},"1900-05-18",{"$f":"F142-SUMIF('Vejehold 3'!$U$7:$U$23,Foderdage!E142,'Vejehold 3'!$V$7:$V$23)","v":0},"1900-05-18",{"$f":"H142-SUMIF('Vejehold 4'!$U$7:$U$23,Foderdage!G142,'Vejehold 4'!$V$7:$V$23)","v":0},"1900-05-18",{"$f":"J142-SUMIF('Vejehold 5'!$U$7:$U$23,Foderdage!I142,'Vejehold 5'!$V$7:$V$23)","v":0},"1900-05-18",{"$f":"L142-SUMIF('Vejehold 6'!$U$7:$U$23,Foderdage!K142,'Vejehold 6'!$V$7:$V$23)","v":0}]
["1900-05-19",{"$f":"B143-SUMIF('Vejehold 1'!$U$7:$U$23,Foderdage!$A143,'Vejehold 1'!$V$7:$V$23)","v":0},"1900-05-19",{"$f":"D143-SUMIF('Vejehold 2'!$U$7:$U$23,Foderdage!C143,'Vejehold 2'!$V$7:$V$23)","v":0},"1900-05-19",{"$f":"F143-SUMIF('Vejehold 3'!$U$7:$U$23,Foderdage!E143,'Vejehold 3'!$V$7:$V$23)","v":0},"1900-05-19",{"$f":"H143-SUMIF('Vejehold 4'!$U$7:$U$23,Foderdage!G143,'Vejehold 4'!$V$7:$V$23)","v":0},"1900-05-19",{"$f":"J143-SUMIF('Vejehold 5'!$U$7:$U$23,Foderdage!I143,'Vejehold 5'!$V$7:$V$23)","v":0},"1900-05-19",{"$f":"L143-SUMIF('Vejehold 6'!$U$7:$U$23,Foderdage!K143,'Vejehold 6'!$V$7:$V$23)","v":0}]
[{"$f":"A144+1","v":"1900-05-20"},{"$f":"B144-SUMIF('Vejehold 1'!$U$7:$U$23,Foderdage!$A144,'Vejehold 1'!$V$7:$V$23)","v":0},"1900-05-20",{"$f":"D144-SUMIF('Vejehold 2'!$U$7:$U$23,Foderdage!C144,'Vejehold 2'!$V$7:$V$23)","v":0},"1900-05-20",{"$f":"F144-SUMIF('Vejehold 3'!$U$7:$U$23,Foderdage!E144,'Vejehold 3'!$V$7:$V$23)","v":0},"1900-05-20",{"$f":"H144-SUMIF('Vejehold 4'!$U$7:$U$23,Foderdage!G144,'Vejehold 4'!$V$7:$V$23)","v":0},"1900-05-20",{"$f":"J144-SUMIF('Vejehold 5'!$U$7:$U$23,Foderdage!I144,'Vejehold 5'!$V$7:$V$23)","v":0},"1900-05-20",{"$f":"L144-SUMIF('Vejehold 6'!$U$7:$U$23,Foderdage!K144,'Vejehold 6'!$V$7:$V$23)","v":0}]
["1900-05-21",{"$f":"B145-SUMIF('Vejehold 1'!$U$7:$U$23,Foderdage!$A145,'Vejehold 1'!$V$7:$V$23)","v":0},"1900-05-21",{"$f":"D145-SUMIF('Vejehold 2'!$U$7:$U$23,Foderdage!C145,'Vejehold 2'!$V$7:$V$23)","v":0},"1900-05-21",{"$f":"F145-SUMIF('Vejehold 3'!$U$7:$U$23,Foderdage!E145,'Vejehold 3'!$V$7:$V$23)","v":0},"1900-05-21",{"$f":"H145-SUMIF('Vejehold 4'!$U$7:$U$23,Foderdage!G145,'Vejehold 4'!$V$7:$V$23)","v":0},"1900-05-21",{"$f":"J145-SUMIF('Vejehold 5'!$U$7:$U$23,Foderdage!I145,'Vejehold 5'!$V$7:$V$23)","v":0},"1900-05-21",{"$f":"L145-SUMIF('Vejehold 6'!$U$7:$U$23,Foderdage!K145,'Vejehold 6'!$V$7:$V$23)","v":0}]
["1900-05-22",{"$f":"B146-SUMIF('Vejehold 1'!$U$7:$U$23,Foderdage!$A146,'Vejehold 1'!$V$7:$V$23)","v":0},"1900-05-22",{"$f":"D146-SUMIF('Vejehold 2'!$U$7:$U$23,Foderdage!C146,'Vejehold 2'!$V$7:$V$23)","v":0},"1900-05-22",{"$f":"F146-SUMIF('Vejehold 3'!$U$7:$U$23,Foderdage!E146,'Vejehold 3'!$V$7:$V$23)","v":0},"1900-05-22",{"$f":"H146-SUMIF('Vejehold 4'!$U$7:$U$23,Foderdage!G146,'Vejehold 4'!$V$7:$V$23)","v":0},"1900-05-22",{"$f":"J146-SUMIF('Vejehold 5'!$U$7:$U$23,Foderdage!I146,'Vejehold 5'!$V$7:$V$23)","v":0},"1900-05-22",{"$f":"L146-SUMIF('Vejehold 6'!$U$7:$U$23,Foderdage!K146,'Vejehold 6'!$V$7:$V$23)","v":0}]
["1900-05-23",{"$f":"B147-SUMIF('Vejehold 1'!$U$7:$U$23,Foderdage!$A147,'Vejehold 1'!$V$7:$V$23)","v":0},"1900-05-23",{"$f":"D147-SUMIF('Vejehold 2'!$U$7:$U$23,Foderdage!C147,'Vejehold 2'!$V$7:$V$23)","v":0},"1900-05-23",{"$f":"F147-SUMIF('Vejehold 3'!$U$7:$U$23,Foderdage!E147,'Vejehold 3'!$V$7:$V$23)","v":0},"1900-05-23",{"$f":"H147-SUMIF('Vejehold 4'!$U$7:$U$23,Foderdage!G147,'Vejehold 4'!$V$7:$V$23)","v":0},"1900-05-23",{"$f":"J147-SUMIF('Vejehold 5'!$U$7:$U$23,Foderdage!I147,'Vejehold 5'!$V$7:$V$23)","v":0},"1900-05-23",{"$f":"L147-SUMIF('Vejehold 6'!$U$7:$U$23,Foderdage!K147,'Vejehold 6'!$V$7:$V$23)","v":0}]
["1900-05-24",{"$f":"B148-SUMIF('Vejehold 1'!$U$7:$U$23,Foderdage!$A148,'Vejehold 1'!$V$7:$V$23)","v":0},"1900-05-24",{"$f":"D148-SUMIF('Vejehold 2'!$U$7:$U$23,Foderdage!C148,'Vejehold 2'!$V$7:$V$23)","v":0},"1900-05-24",{"$f":"F148-SUMIF('Vejehold 3'!$U$7:$U$23,Foderdage!E148,'Vejehold 3'!$V$7:$V$23)","v":0},"1900-05-24",{"$f":"H148-SUMIF('Vejehold 4'!$U$7:$U$23,Foderdage!G148,'Vejehold 4'!$V$7:$V$23)","v":0},"1900-05-24",{"$f":"J148-SUMIF('Vejehold 5'!$U$7:$U$23,Foderdage!I148,'Vejehold 5'!$V$7:$V$23)","v":0},"1900-05-24",{"$f":"L148-SUMIF('Vejehold 6'!$U$7:$U$23,Foderdage!K148,'Vejehold 6'!$V$7:$V$23)","v":0}]
["1900-05-25",{"$f":"B149-SUMIF('Vejehold 1'!$U$7:$U$23,Foderdage!$A149,'Vejehold 1'!$V$7:$V$23)","v":0},"1900-05-25",{"$f":"D149-SUMIF('Vejehold 2'!$U$7:$U$23,Foderdage!C149,'Vejehold 2'!$V$7:$V$23)","v":0},"1900-05-25",{"$f":"F149-SUMIF('Vejehold 3'!$U$7:$U$23,Foderdage!E149,'Vejehold 3'!$V$7:$V$23)","v":0},"1900-05-25",{"$f":"H149-SUMIF('Vejehold 4'!$U$7:$U$23,Foderdage!G149,'Vejehold 4'!$V$7:$V$23)","v":0},"1900-05-25",{"$f":"J149-SUMIF('Vejehold 5'!$U$7:$U$23,Foderdage!I149,'Vejehold 5'!$V$7:$V$23)","v":0},"1900-05-25",{"$f":"L149-SUMIF('Vejehold 6'!$U$7:$U$23,Foderdage!K149,'Vejehold 6'!$V$7:$V$23)","v":0}]
["1900-05-26",{"$f":"B150-SUMIF('Vejehold 1'!$U$7:$U$23,Foderdage!$A150,'Vejehold 1'!$V$7:$V$23)","v":0},"1900-05-26",{"$f":"D150-SUMIF('Vejehold 2'!$U$7:$U$23,Foderdage!C150,'Vejehold 2'!$V$7:$V$23)","v":0},"1900-05-26",{"$f":"F150-SUMIF('Vejehold 3'!$U$7:$U$23,Foderdage!E150,'Vejehold 3'!$V$7:$V$23)","v":0},"1900-05-26",{"$f":"H150-SUMIF('Vejehold 4'!$U$7:$U$23,Foderdage!G150,'Vejehold 4'!$V$7:$V$23)","v":0},"1900-05-26",{"$f":"J150-SUMIF('Vejehold 5'!$U$7:$U$23,Foderdage!I150,'Vejehold 5'!$V$7:$V$23)","v":0},"1900-05-26",{"$f":"L150-SUMIF('Vejehold 6'!$U$7:$U$23,Foderdage!K150,'Vejehold 6'!$V$7:$V$23)","v":0}]
["1900-05-27",{"$f":"B151-SUMIF('Vejehold 1'!$U$7:$U$23,Foderdage!$A151,'Vejehold 1'!$V$7:$V$23)","v":0},"1900-05-27",{"$f":"D151-SUMIF('Vejehold 2'!$U$7:$U$23,Foderdage!C151,'Vejehold 2'!$V$7:$V$23)","v":0},"1900-05-27",{"$f":"F151-SUMIF('Vejehold 3'!$U$7:$U$23,Foderdage!E151,'Vejehold 3'!$V$7:$V$23)","v":0},"1900-05-27",{"$f":"H151-SUMIF('Vejehold 4'!$U$7:$U$23,Foderdage!G151,'Vejehold 4'!$V$7:$V$23)","v":0},"1900-05-27",{"$f":"J151-SUMIF('Vejehold 5'!$U$7:$U$23,Foderdage!I151,'Vejehold 5'!$V$7:$V$23)","v":0},"1900-05-27",{"$f":"L151-SUMIF('Vejehold 6'!$U$7:$U$23,Foderdage!K151,'Vejehold 6'!$V$7:$V$23)","v":0}]
["1900-05-28",{"$f":"B152-SUMIF('Vejehold 1'!$U$7:$U$23,Foderdage!$A152,'Vejehold 1'!$V$7:$V$23)","v":0},"1900-05-28",{"$f":"D152-SUMIF('Vejehold 2'!$U$7:$U$23,Foderdage!C152,'Vejehold 2'!$V$7:$V$23)","v":0},"1900-05-28",{"$f":"F152-SUMIF('Vejehold 3'!$U$7:$U$23,Foderdage!E152,'Vejehold 3'!$V$7:$V$23)","v":0},"1900-05-28",{"$f":"H152-SUMIF('Vejehold 4'!$U$7:$U$23,Foderdage!G152,'Vejehold 4'!$V$7:$V$23)","v":0},"1900-05-28",{"$f":"J152-SUMIF('Vejehold 5'!$U$7:$U$23,Foderdage!I152,'Vejehold 5'!$V$7:$V$23)","v":0},"1900-05-28",{"$f":"L152-SUMIF('Vejehold 6'!$U$7:$U$23,Foderdage!K152,'Vejehold 6'!$V$7:$V$23)","v":0}]
["1900-05-29",{"$f":"B153-SUMIF('Vejehold 1'!$U$7:$U$23,Foderdage!$A153,'Vejehold 1'!$V$7:$V$23)","v":0},"1900-05-29",{"$f":"D153-SUMIF('Vejehold 2'!$U$7:$U$23,Foderdage!C153,'Vejehold 2'!$V$7:$V$23)","v":0},"1900-05-29",{"$f":"F153-SUMIF('Vejehold 3'!$U$7:$U$23,Foderdage!E153,'Vejehold 3'!$V$7:$V$23)","v":0},"1900-05-29",{"$f":"H153-SUMIF('Vejehold 4'!$U$7:$U$23,Foderdage!G153,'Vejehold 4'!$V$7:$V$23)","v":0},"1900-05-29",{"$f":"J153-SUMIF('Vejehold 5'!$U$7:$U$23,Foderdage!I153,'Vejehold 5'!$V$7:$V$23)","v":0},"1900-05-29",{"$f":"L153-SUMIF('Vejehold 6'!$U$7:$U$23,Foderdage!K153,'Vejehold 6'!$V$7:$V$23)","v":0}]
["1900-05-30",{"$f":"B154-SUMIF('Vejehold 1'!$U$7:$U$23,Foderdage!$A154,'Vejehold 1'!$V$7:$V$23)","v":0},"1900-05-30",{"$f":"D154-SUMIF('Vejehold 2'!$U$7:$U$23,Foderdage!C154,'Vejehold 2'!$V$7:$V$23)","v":0},"1900-05-30",{"$f":"F154-SUMIF('Vejehold 3'!$U$7:$U$23,Foderdage!E154,'Vejehold 3'!$V$7:$V$23)","v":0},"1900-05-30",{"$f":"H154-SUMIF('Vejehold 4'!$U$7:$U$23,Foderdage!G154,'Vejehold 4'!$V$7:$V$23)","v":0},"1900-05-30",{"$f":"J154-SUMIF('Vejehold 5'!$U$7:$U$23,Foderdage!I154,'Vejehold 5'!$V$7:$V$23)","v":0},"1900-05-30",{"$f":"L154-SUMIF('Vejehold 6'!$U$7:$U$23,Foderdage!K154,'Vejehold 6'!$V$7:$V$23)","v":0}]
["1900-05-31",{"$f":"B155-SUMIF('Vejehold 1'!$U$7:$U$23,Foderdage!$A155,'Vejehold 1'!$V$7:$V$23)","v":0},"1900-05-31",{"$f":"D155-SUMIF('Vejehold 2'!$U$7:$U$23,Foderdage!C155,'Vejehold 2'!$V$7:$V$23)","v":0},"1900-05-31",{"$f":"F155-SUMIF('Vejehold 3'!$U$7:$U$23,Foderdage!E155,'Vejehold 3'!$V$7:$V$23)","v":0},"1900-05-31",{"$f":"H155-SUMIF('Vejehold 4'!$U$7:$U$23,Foderdage!G155,'Vejehold 4'!$V$7:$V$23)","v":0},"1900-05-31",{"$f":"J155-SUMIF('Vejehold 5'!$U$7:$U$23,Foderdage!I155,'Vejehold 5'!$V$7:$V$23)","v":0},"1900-05-31",{"$f":"L155-SUMIF('Vejehold 6'!$U$7:$U$23,Foderdage!K155,'Vejehold 6'!$V$7:$V$23)","v":0}]
["1900-06-01",{"$f":"B156-SUMIF('Vejehold 1'!$U$7:$U$23,Foderdage!$A156,'Vejehold 1'!$V$7:$V$23)","v":0},"1900-06-01",{"$f":"D156-SUMIF('Vejehold 2'!$U$7:$U$23,Foderdage!C156,'Vejehold 2'!$V$7:$V$23)","v":0},"1900-06-01",{"$f":"F156-SUMIF('Vejehold 3'!$U$7:$U$23,Foderdage!E156,'Vejehold 3'!$V$7:$V$23)","v":0},"1900-06-01",{"$f":"H156-SUMIF('Vejehold 4'!$U$7:$U$23,Foderdage!G156,'Vejehold 4'!$V$7:$V$23)","v":0},"1900-06-01",{"$f":"J156-SUMIF('Vejehold 5'!$U$7:$U$23,Foderdage!I156,'Vejehold 5'!$V$7:$V$23)","v":0},"1900-06-01",{"$f":"L156-SUMIF('Vejehold 6'!$U$7:$U$23,Foderdage!K156,'Vejehold 6'!$V$7:$V$23)","v":0}]
["1900-06-02",{"$f":"B157-SUMIF('Vejehold 1'!$U$7:$U$23,Foderdage!$A157,'Vejehold 1'!$V$7:$V$23)","v":0},"1900-06-02",{"$f":"D157-SUMIF('Vejehold 2'!$U$7:$U$23,Foderdage!C157,'Vejehold 2'!$V$7:$V$23)","v":0},"1900-06-02",{"$f":"F157-SUMIF('Vejehold 3'!$U$7:$U$23,Foderdage!E157,'Vejehold 3'!$V$7:$V$23)","v":0},"1900-06-02",{"$f":"H157-SUMIF('Vejehold 4'!$U$7:$U$23,Foderdage!G157,'Vejehold 4'!$V$7:$V$23)","v":0},"1900-06-02",{"$f":"J157-SUMIF('Vejehold 5'!$U$7:$U$23,Foderdage!I157,'Vejehold 5'!$V$7:$V$23)","v":0},"1900-06-02",{"$f":"L157-SUMIF('Vejehold 6'!$U$7:$U$23,Foderdage!K157,'Vejehold 6'!$V$7:$V$23)","v":0}]
["1900-06-03",{"$f":"B158-SUMIF('Vejehold 1'!$U$7:$U$23,Foderdage!$A158,'Vejehold 1'!$V$7:$V$23)","v":0},"1900-06-03",{"$f":"D158-SUMIF('Vejehold 2'!$U$7:$U$23,Foderdage!C158,'Vejehold 2'!$V$7:$V$23)","v":0},"1900-06-03",{"$f":"F158-SUMIF('Vejehold 3'!$U$7:$U$23,Foderdage!E158,'Vejehold 3'!$V$7:$V$23)","v":0},"1900-06-03",{"$f":"H158-SUMIF('Vejehold 4'!$U$7:$U$23,Foderdage!G158,'Vejehold 4'!$V$7:$V$23)","v":0},"1900-06-03",{"$f":"J158-SUMIF('Vejehold 5'!$U$7:$U$23,Foderdage!I158,'Vejehold 5'!$V$7:$V$23)","v":0},"1900-06-03",{"$f":"L158-SUMIF('Vejehold 6'!$U$7:$U$23,Foderdage!K158,'Vejehold 6'!$V$7:$V$23)","v":0}]

{"sheet":"Gompertz Pattegrise","index":14,"n_rows":56,"n_cols":17,"rows_kept":56,"cut":false,"hidden":false,"merged":[[10,1,10,6]]}
["Vægtudvikling i farestald afhængig af kuldstørrelse og fodring"]
[]
["Vejehold","Hold 1","Hold 2","Hold 3","Hold 4","Hold 5","Hold 6",null,null,"Indtastet"]
["Grise pr kuld efter kuldudjævning",{"$f":"'Vejehold 1'!$O$4","v":13.5},{"$f":"'Vejehold 2'!$O$4","v":13.5},{"$f":"'Vejehold 3'!$O$4","v":13.5},{"$f":"'Vejehold 4'!$O$4","v":13.5},{"$f":"'Vejehold 5'!$O$4","v":13.5},{"$f":"'Vejehold 6'!$O$4","v":13.5},null,"FEso dag 0",3]
["Fødselsvægt",1.35,1.35,1.35,1.35,1.35,1.35,null,"FEso dag 7",6]
["Heraf procent døde pattegrise",10,10,10,10,10,10,null,"FEso dag 14",8.5]
["Procent ammedage i farestald",10,10,10,10,10,10]
["FEsv pr 10 grise dag 28",0.4,0.4,0.4,0.4,0.4,0.4,null,"FEso dag 21",10]
[null,null,null,null,null,null,null,null,"FEso dag 28",10]
[]
["Dag fra faring","Pattegrise",null,null,null,null,null,null,null,null,null,"Diegivnings-","FEso","FEso","FEsv","FEsv","Soens"]
[null,"Vægt","Vægt","Vægt","Vægt","Vægt","Vægt",null,null,null,null,"dage","pr dag","i alt","pr kuld","i alt","vægt-"]
[null,null,null,null,null,null,null,null,null,null,null,null,null,null,"pr dag",null,"ændring"]
[{"$f":"'Gompertz pattegrise model'!A11","v":0},{"$f":"'Gompertz pattegrise model'!$O11","v":1.35},{"$f":"'Gompertz pattegrise model'!$AL11","v":1.35},{"$f":"'Gompertz pattegrise model'!$BI11","v":1.35},{"$f":"'Gompertz pattegrise model'!$CF11","v":1.35},{"$f":"'Gompertz pattegrise model'!$DC11","v":1.35},{"$f":"'Gompertz pattegrise model'!$DZ11","v":1.35},null,null,null,null,null,{"$f":"'Gompertz pattegrise model'!H11","v":3},{"$f":"'Gompertz pattegrise model'!Q11","v":3},{"$f":"'Gompertz pattegrise model'!J11*'Gompertz pattegrise model'!I11","v":0},{"$f":"'Gompertz pattegrise model'!P11","v":0},0]
[{"$f":"'Gompertz pattegrise model'!A12","v":1},{"$f":"'Gompertz pattegrise model'!$O12","v":1.4654414449906981},{"$f":"'Gompertz pattegrise model'!$AL12","v":1.4654414449906981},{"$f":"'Gompertz pattegrise model'!$BI12","v":1.4654414449906981},{"$f":"'Gompertz pattegrise model'!$CF12","v":1.4654414449906981},{"$f":"'Gompertz pattegrise model'!$DC12","v":1.4654414449906981},{"$f":"'Gompertz pattegrise model'!$DZ12","v":1.4654414449906981},null,null,null,null,null,{"$f":"'Gompertz pattegrise model'!H12","v":3.42},{"$f":"'Gompertz pattegrise model'!Q12","v":6.42},{"$f":"'Gompertz pattegrise model'!J12*'Gompertz pattegrise model'!I12","v":0},{"$f":"'Gompertz pattegrise model'!P12","v":0},{"$f":"'Gompertz pattegrise model'!S11","v":-0.74292539635615373}]
[{"$f":"'Gompertz pattegrise model'!A13","v":2},{"$f":"'Gompertz pattegrise model'!$O13","v":1.5886722454524891},{"$f":"'Gompertz pattegrise model'!$AL13","v":1.5886722454524891},{"$f":"'Gompertz pattegrise model'!$BI13","v":1.5886722454524891},{"$f":"'Gompertz pattegrise model'!$CF13","v":1.5886722454524891},{"$f":"'Gompertz pattegrise model'!$DC13","v":1.5886722454524891},{"$f":"'Gompertz pattegrise model'!$DZ13","v":1.5886722454524891},null,null,null,null,null,{"$f":"'Gompertz pattegrise model'!H13","v":3.84},{"$f":"'Gompertz pattegrise model'!Q13","v":10.26},{"$f":"'Gompertz pattegrise model'!J13*'Gompertz pattegrise model'!I13","v":0},{"$f":"'Gompertz pattegrise model'!P13","v":0},{"$f":"'Gompertz pattegrise model'!S12","v":-1.3802528504431666}]
[{"$f":"'Gompertz pattegrise model'!A14","v":3},{"$f":"'Gompertz pattegrise model'!$O14","v":1.7200472017631743},{"$f":"'Gompertz pattegrise model'!$AL14","v":1.7200472017631743},{"$f":"'Gompertz pattegrise model'!$BI14","v":1.7200472017631743},{"$f":"'Gompertz pattegrise model'!$CF14","v":1.7200472017631743},{"$f":"'Gompertz pattegrise model'!$DC14","v":1.7200472017631743},{"$f":"'Gompertz pattegrise model'!$DZ14","v":1.7200472017631743},null,null,null,null,null,{"$f":"'Gompertz pattegrise model'!H14","v":4.26},{"$f":"'Gompertz pattegrise model'!Q14","v":14.52},{"$f":"'Gompertz pattegrise model'!J14*'Gompertz pattegrise model'!I14","v":0},{"$f":"'Gompertz pattegrise model'!P14","v":0},{"$f":"'Gompertz pattegrise model'!S13","v":-1.934809818201142}]
[{"$f":"'Gompertz pattegrise model'!A15","v":4},{"$f":"'Gompertz pattegrise model'!$O15","v":1.8599256173419561},{"$f":"'Gompertz pattegrise model'!$AL15","v":1.8599256173419561},{"$f":"'Gompertz pattegrise model'!$BI15","v":1.8599256173419561},{"$f":"'Gompertz pattegrise model'!$CF15","v":1.8599256173419561},{"$f":"'Gompertz pattegrise model'!$DC15","v":1.8599256173419561},{"$f":"'Gompertz pattegrise model'!$DZ15","v":1.8599256173419561},null,null,null,null,null,{"$f":"'Gompertz pattegrise model'!H15","v":4.68},{"$f":"'Gompertz pattegrise model'!Q15","v":19.2},{"$f":"'Gompertz pattegrise model'!J15*'Gompertz pattegrise model'!I15","v":0},{"$f":"'Gompertz pattegrise model'!P15","v":0},{"$f":"'Gompertz pattegrise model'!S14","v":-2.4170017964825448}]
[{"$f":"'Gompertz pattegrise model'!A16","v":5},{"$f":"'Gompertz pattegrise model'!$O16","v":2.0086706563364682},{"$f":"'Gompertz pattegrise model'!$AL16","v":2.0086706563364682},{"$f":"'Gompertz pattegrise model'!$BI16","v":2.0086706563364682},{"$f":"'Gompertz pattegrise model'!$CF16","v":2.0086706563364682},{"$f":"'Gompertz pattegrise model'!$DC16","v":2.0086706563364682},{"$f":"'Gompertz pattegrise model'!$DZ16","v":2.0086706563364682},null,null,null,null,null,{"$f":"'Gompertz pattegrise model'!H16","v":5.13},{"$f":"'Gompertz pattegrise model'!Q16","v":24.33},{"$f":"'Gompertz pattegrise model'!J16*'Gompertz pattegrise model'!I16","v":0},{"$f":"'Gompertz pattegrise model'!P16","v":0},{"$f":"'Gompertz pattegrise model'!S15","v":-2.8361631542293493}]
[{"$f":"'Gompertz pattegrise model'!A17","v":6},{"$f":"'Gompertz pattegrise model'!$O17","v":2.1666486743593536},{"$f":"'Gompertz pattegrise model'!$AL17","v":2.1666486743593536},{"$f":"'Gompertz pattegrise model'!$BI17","v":2.1666486743593536},{"$f":"'Gompertz pattegrise model'!$CF17","v":2.1666486743593536},{"$f":"'Gompertz pattegrise model'!$DC17","v":2.1666486743593536},{"$f":"'Gompertz pattegrise model'!$DZ17","v":2.1666486743593536},null,null,null,null,null,{"$f":"'Gompertz pattegrise model'!H17","v":5.58},{"$f":"'Gompertz pattegrise model'!Q17","v":29.909999999999997},{"$f":"'Gompertz pattegrise model'!J17*'Gompertz pattegrise model'!I17","v":0},{"$f":"'Gompertz pattegrise model'!P17","v":0},{"$f":"'Gompertz pattegrise model'!S16","v":-3.1855335574162194}]
[{"$f":"'Gompertz pattegrise model'!A18","v":7},{"$f":"'Gompertz pattegrise model'!$O18","v":2.3342285246274406},{"$f":"'Gompertz pattegrise model'!$AL18","v":2.3342285246274406},{"$f":"'Gompertz pattegrise model'!$BI18","v":2.3342285246274406},{"$f":"'Gompertz pattegrise model'!$CF18","v":2.3342285246274406},{"$f":"'Gompertz pattegrise model'!$DC18","v":2.3342285246274406},{"$f":"'Gompertz pattegrise model'!$DZ18","v":2.3342285246274406},null,null,null,null,null,{"$f":"'Gompertz pattegrise model'!H18","v":6},{"$f":"'Gompertz pattegrise model'!Q18","v":35.909999999999997},{"$f":"'Gompertz pattegrise model'!J18*'Gompertz pattegrise model'!I18","v":0},{"$f":"'Gompertz pattegrise model'!P18","v":0},{"$f":"'Gompertz pattegrise model'!S17","v":-3.4684022701713797}]
[{"$f":"'Gompertz pattegrise model'!A19","v":8},{"$f":"'Gompertz pattegrise model'!$O19","v":2.5117808419878278},{"$f":"'Gompertz pattegrise model'!$AL19","v":2.5117808419878278},{"$f":"'Gompertz pattegrise model'!$BI19","v":2.5117808419878278},{"$f":"'Gompertz pattegrise model'!$CF19","v":2.5117808419878278},{"$f":"'Gompertz pattegrise model'!$DC19","v":2.5117808419878278},{"$f":"'Gompertz pattegrise model'!$DZ19","v":2.5117808419878278},null,null,null,null,null,{"$f":"'Gompertz pattegrise model'!H19","v":6.35},{"$f":"'Gompertz pattegrise model'!Q19","v":42.26},{"$f":"'Gompertz pattegrise model'!J19*'Gompertz pattegrise model'!I19","v":0},{"$f":"'Gompertz pattegrise model'!P19","v":0},{"$f":"'Gompertz pattegrise model'!S18","v":-3.6947442686954939}]
[{"$f":"'Gompertz pattegrise model'!A20","v":9},{"$f":"'Gompertz pattegrise model'!$O20","v":2.6996773074303939},{"$f":"'Gompertz pattegrise model'!$AL20","v":2.6996773074303939},{"$f":"'Gompertz pattegrise model'!$BI20","v":2.6996773074303939},{"$f":"'Gompertz pattegrise model'!$CF20","v":2.6996773074303939},{"$f":"'Gompertz pattegrise model'!$DC20","v":2.6996773074303939},{"$f":"'Gompertz pattegrise model'!$DZ20","v":2.6996773074303939},null,null,null,null,null,{"$f":"'Gompertz pattegrise model'!H20","v":6.7},{"$f":"'Gompertz pattegrise model'!Q20","v":48.96},{"$f":"'Gompertz pattegrise model'!J20*'Gompertz pattegrise model'!I20","v":0},{"$f":"'Gompertz pattegrise model'!P20","v":0},{"$f":"'Gompertz pattegrise model'!S19","v":-3.8962130701037951}]
[{"$f":"'Gompertz pattegrise model'!A21","v":10},{"$f":"'Gompertz pattegrise model'!$O21","v":2.8982898957848429},{"$f":"'Gompertz pattegrise model'!$AL21","v":2.8982898957848429},{"$f":"'Gompertz pattegrise model'!$BI21","v":2.8982898957848429},{"$f":"'Gompertz pattegrise model'!$CF21","v":2.8982898957848429},{"$f":"'Gompertz pattegrise model'!$DC21","v":2.8982898957848429},{"$f":"'Gompertz pattegrise model'!$DZ21","v":2.8982898957848429},null,null,null,null,null,{"$f":"'Gompertz pattegrise model'!H21","v":7.05},{"$f":"'Gompertz pattegrise model'!Q21","v":56.01},{"$f":"'Gompertz pattegrise model'!J21*'Gompertz pattegrise model'!I21","v":0},{"$f":"'Gompertz pattegrise model'!P21","v":0},{"$f":"'Gompertz pattegrise model'!S20","v":-4.076437070271024}]
[{"$f":"'Gompertz pattegrise model'!A22","v":11},{"$f":"'Gompertz pattegrise model'!$O22","v":3.1079901093819555},{"$f":"'Gompertz pattegrise model'!$AL22","v":3.1079901093819555},{"$f":"'Gompertz pattegrise model'!$BI22","v":3.1079901093819555},{"$f":"'Gompertz pattegrise model'!$CF22","v":3.1079901093819555},{"$f":"'Gompertz pattegrise model'!$DC22","v":3.1079901093819555},{"$f":"'Gompertz pattegrise model'!$DZ22","v":3.1079901093819555},null,null,null,null,null,{"$f":"'Gompertz pattegrise model'!H22","v":7.4},{"$f":"'Gompertz pattegrise model'!Q22","v":63.41},{"$f":"'Gompertz pattegrise model'!J22*'Gompertz pattegrise model'!I22","v":0},{"$f":"'Gompertz pattegrise model'!P22","v":0},{"$f":"'Gompertz pattegrise model'!S21","v":-4.2390972862474676}]
[{"$f":"'Gompertz pattegrise model'!A23","v":12},{"$f":"'Gompertz pattegrise model'!$O23","v":3.3291482005230337},{"$f":"'Gompertz pattegrise model'!$AL23","v":3.3291482005230337},{"$f":"'Gompertz pattegrise model'!$BI23","v":3.3291482005230337},{"$f":"'Gompertz pattegrise model'!$CF23","v":3.3291482005230337},{"$f":"'Gompertz pattegrise model'!$DC23","v":3.3291482005230337},{"$f":"'Gompertz pattegrise model'!$DZ23","v":3.3291482005230337},null,null,null,null,null,{"$f":"'Gompertz pattegrise model'!H23","v":7.75},{"$f":"'Gompertz pattegrise model'!Q23","v":71.16},{"$f":"'Gompertz pattegrise model'!J23*'Gompertz pattegrise model'!I23","v":0},{"$f":"'Gompertz pattegrise model'!P23","v":0},{"$f":"'Gompertz pattegrise model'!S22","v":-4.3879251140261202}]
[{"$f":"'Gompertz pattegrise model'!A24","v":13},{"$f":"'Gompertz pattegrise model'!$O24","v":3.5621323856483853},{"$f":"'Gompertz pattegrise model'!$AL24","v":3.5621323856483853},{"$f":"'Gompertz pattegrise model'!$BI24","v":3.5621323856483853},{"$f":"'Gompertz pattegrise model'!$CF24","v":3.5621323856483853},{"$f":"'Gompertz pattegrise model'!$DC24","v":3.5621323856483853},{"$f":"'Gompertz pattegrise model'!$DZ24","v":3.5621323856483853},null,null,null,null,null,{"$f":"'Gompertz pattegrise model'!H24","v":8.1},{"$f":"'Gompertz pattegrise model'!Q24","v":79.259999999999991},{"$f":"'Gompertz pattegrise model'!J24*'Gompertz pattegrise model'!I24","v":0},{"$f":"'Gompertz pattegrise model'!P24","v":0},{"$f":"'Gompertz pattegrise model'!S23","v":-4.5267000647414566}]
[{"$f":"'Gompertz pattegrise model'!A25","v":14},{"$f":"'Gompertz pattegrise model'!$O25","v":3.8038067227347376},{"$f":"'Gompertz pattegrise model'!$AL25","v":3.8038067227347376},{"$f":"'Gompertz pattegrise model'!$BI25","v":3.8038067227347376},{"$f":"'Gompertz pattegrise model'!$CF25","v":3.8038067227347376},{"$f":"'Gompertz pattegrise model'!$DC25","v":3.8038067227347376},{"$f":"'Gompertz pattegrise model'!$DZ25","v":3.8038067227347376},null,null,null,null,null,{"$f":"'Gompertz pattegrise model'!H25","v":8.5},{"$f":"'Gompertz pattegrise model'!Q25","v":87.759999999999991},{"$f":"'Gompertz pattegrise model'!J25*'Gompertz pattegrise model'!I25","v":3.94848E-2},{"$f":"'Gompertz pattegrise model'!P25","v":3.94848E-2},{"$f":"'Gompertz pattegrise model'!S24","v":-4.6283167314081233}]
[{"$f":"'Gompertz pattegrise model'!A26","v":15},{"$f":"'Gompertz pattegrise model'!$O26","v":4.0505128425327994},{"$f":"'Gompertz pattegrise model'!$AL26","v":4.0505128425327994},{"$f":"'Gompertz pattegrise model'!$BI26","v":4.0505128425327994},{"$f":"'Gompertz pattegrise model'!$CF26","v":4.0505128425327994},{"$f":"'Gompertz pattegrise model'!$DC26","v":4.0505128425327994},{"$f":"'Gompertz pattegrise model'!$DZ26","v":4.0505128425327994},null,null,null,null,null,{"$f":"'Gompertz pattegrise model'!H26","v":8.7100000000000009},{"$f":"'Gompertz pattegrise model'!Q26","v":96.47},{"$f":"'Gompertz pattegrise model'!J26*'Gompertz pattegrise model'!I26","v":7.3872000000000007E-2},{"$f":"'Gompertz pattegrise model'!P26","v":0.11335680000000001},{"$f":"'Gompertz pattegrise model'!S25","v":-4.6245750647414567}]
[{"$f":"'Gompertz pattegrise model'!A27","v":16},{"$f":"'Gompertz pattegrise model'!$O27","v":4.3002969444431622},{"$f":"'Gompertz pattegrise model'!$AL27","v":4.3002969444431622},{"$f":"'Gompertz pattegrise model'!$BI27","v":4.3002969444431622},{"$f":"'Gompertz pattegrise model'!$CF27","v":4.3002969444431622},{"$f":"'Gompertz pattegrise model'!$DC27","v":4.3002969444431622},{"$f":"'Gompertz pattegrise model'!$DZ27","v":4.3002969444431622},null,null,null,null,null,{"$f":"'Gompertz pattegrise model'!H27","v":8.92},{"$f":"'Gompertz pattegrise model'!Q27","v":105.39},{"$f":"'Gompertz pattegrise model'!J27*'Gompertz pattegrise model'!I27","v":9.8280000000000006E-2},{"$f":"'Gompertz pattegrise model'!P27","v":0.21163680000000001},{"$f":"'Gompertz pattegrise model'!S26","v":-4.564558398074789}]
[{"$f":"'Gompertz pattegrise model'!A28","v":17},{"$f":"'Gompertz pattegrise model'!$O28","v":4.5525424847205374},{"$f":"'Gompertz pattegrise model'!$AL28","v":4.5525424847205374},{"$f":"'Gompertz pattegrise model'!$BI28","v":4.5525424847205374},{"$f":"'Gompertz pattegrise model'!$CF28","v":4.5525424847205374},{"$f":"'Gompertz pattegrise model'!$DC28","v":4.5525424847205374},{"$f":"'Gompertz pattegrise model'!$DZ28","v":4.5525424847205374},null,null,null,null,null,{"$f":"'Gompertz pattegrise model'!H28","v":9.1300000000000008},{"$f":"'Gompertz pattegrise model'!Q28","v":114.52},{"$f":"'Gompertz pattegrise model'!J28*'Gompertz pattegrise model'!I28","v":0.11767680000000003},{"$f":"'Gompertz pattegrise model'!P28","v":0.32931360000000004},{"$f":"'Gompertz pattegrise model'!S27","v":-4.4482667314081228}]
[{"$f":"'Gompertz pattegrise model'!A29","v":18},{"$f":"'Gompertz pattegrise model'!$O29","v":4.8069132357449424},{"$f":"'Gompertz pattegrise model'!$AL29","v":4.8069132357449424},{"$f":"'Gompertz pattegrise model'!$BI29","v":4.8069132357449424},{"$f":"'Gompertz pattegrise model'!$CF29","v":4.8069132357449424},{"$f":"'Gompertz pattegrise model'!$DC29","v":4.8069132357449424},{"$f":"'Gompertz pattegrise model'!$DZ29","v":4.8069132357449424},null,null,null,null,null,{"$f":"'Gompertz pattegrise model'!H29","v":9.34},{"$f":"'Gompertz pattegrise model'!Q29","v":123.86},{"$f":"'Gompertz pattegrise model'!J29*'Gompertz pattegrise model'!I29","v":0.13224060000000001},{"$f":"'Gompertz pattegrise model'!P29","v":0.46155420000000003},{"$f":"'Gompertz pattegrise model'!S28","v":-4.2757000647414554}]
[{"$f":"'Gompertz pattegrise model'!A30","v":19},{"$f":"'Gompertz pattegrise model'!$O30","v":5.062913877182396},{"$f":"'Gompertz pattegrise model'!$AL30","v":5.062913877182396},{"$f":"'Gompertz pattegrise model'!$BI30","v":5.062913877182396},{"$f":"'Gompertz pattegrise model'!$CF30","v":5.062913877182396},{"$f":"'Gompertz pattegrise model'!$DC30","v":5.062913877182396},{"$f":"'Gompertz pattegrise model'!$DZ30","v":5.062913877182396},null,null,null,null,null,{"$f":"'Gompertz pattegrise model'!H30","v":9.5500000000000007},{"$f":"'Gompertz pattegrise model'!Q30","v":133.41},{"$f":"'Gompertz pattegrise model'!J30*'Gompertz pattegrise model'!I30","v":0.15042186000000002},{"$f":"'Gompertz pattegrise model'!P30","v":0.61197606000000004},{"$f":"'Gompertz pattegrise model'!S29","v":-4.0478708980747893}]
[{"$f":"'Gompertz pattegrise model'!A31","v":20},{"$f":"'Gompertz pattegrise model'!$O31","v":5.3208570407857216},{"$f":"'Gompertz pattegrise model'!$AL31","v":5.3208570407857216},{"$f":"'Gompertz pattegrise model'!$BI31","v":5.3208570407857216},{"$f":"'Gompertz pattegrise model'!$CF31","v":5.3208570407857216},{"$f":"'Gompertz pattegrise model'!$DC31","v":5.3208570407857216},{"$f":"'Gompertz pattegrise model'!$DZ31","v":5.3208570407857216},null,null,null,null,null,{"$f":"'Gompertz pattegrise model'!H31","v":9.76},{"$f":"'Gompertz pattegrise model'!Q31","v":143.16999999999999},{"$f":"'Gompertz pattegrise model'!J31*'Gompertz pattegrise model'!I31","v":0.17110195704},{"$f":"'Gompertz pattegrise model'!P31","v":0.78307801704000002},{"$f":"'Gompertz pattegrise model'!S30","v":-3.7637667314081225}]
[{"$f":"'Gompertz pattegrise model'!A32","v":21},{"$f":"'Gompertz pattegrise model'!$O32","v":5.5808238268189481},{"$f":"'Gompertz pattegrise model'!$AL32","v":5.5808238268189481},{"$f":"'Gompertz pattegrise model'!$BI32","v":5.5808238268189481},{"$f":"'Gompertz pattegrise model'!$CF32","v":5.5808238268189481},{"$f":"'Gompertz pattegrise model'!$DC32","v":5.5808238268189481},{"$f":"'Gompertz pattegrise model'!$DZ32","v":5.5808238268189481},null,null,null,null,{"$f":"A35*(100+$B$7)/100","v":23.1},{"$f":"'Gompertz pattegrise model'!H32","v":10},{"$f":"'Gompertz pattegrise model'!Q32","v":153.16999999999999},{"$f":"'Gompertz pattegrise model'!J32*'Gompertz pattegrise model'!I32","v":0.19462421279520004},{"$f":"'Gompertz pattegrise model'!P32","v":0.97770222983520005},{"$f":"'Gompertz pattegrise model'!S31","v":-3.4233875647414558}]
[{"$f":"'Gompertz pattegrise model'!A33","v":22},{"$f":"'Gompertz pattegrise model'!$O33","v":5.8431619440842857},{"$f":"'Gompertz pattegrise model'!$AL33","v":5.8431619440842857},{"$f":"'Gompertz pattegrise model'!$BI33","v":5.8431619440842857},{"$f":"'Gompertz pattegrise model'!$CF33","v":5.8431619440842857},{"$f":"'Gompertz pattegrise model'!$DC33","v":5.8431619440842857},{"$f":"'Gompertz pattegrise model'!$DZ33","v":5.8431619440842857},null,null,null,null,24.2,{"$f":"'Gompertz pattegrise model'!H33","v":10},{"$f":"'Gompertz pattegrise model'!Q33","v":163.16999999999999},{"$f":"'Gompertz pattegrise model'!J33*'Gompertz pattegrise model'!I33","v":0.22162535219520002},{"$f":"'Gompertz pattegrise model'!P33","v":1.1993275820304001},{"$f":"'Gompertz pattegrise model'!S32","v":-3.0189833980747887}]
[{"$f":"'Gompertz pattegrise model'!A34","v":23},{"$f":"'Gompertz pattegrise model'!$O34","v":6.1058246098933182},{"$f":"'Gompertz pattegrise model'!$AL34","v":6.1058246098933182},{"$f":"'Gompertz pattegrise model'!$BI34","v":6.1058246098933182},{"$f":"'Gompertz pattegrise model'!$CF34","v":6.1058246098933182},{"$f":"'Gompertz pattegrise model'!$DC34","v":6.1058246098933182},{"$f":"'Gompertz pattegrise model'!$DZ34","v":6.1058246098933182},null,null,null,null,25.3,{"$f":"'Gompertz pattegrise model'!H34","v":10},{"$f":"'Gompertz pattegrise model'!Q34","v":173.17},{"$f":"'Gompertz pattegrise model'!J34*'Gompertz pattegrise model'!I34","v":0.25265290150252806},{"$f":"'Gompertz pattegrise model'!P34","v":1.4519804835329282},{"$f":"'Gompertz pattegrise model'!S33","v":-2.6135667314081217}]
[{"$f":"'Gompertz pattegrise model'!A35","v":24},{"$f":"'Gompertz pattegrise model'!$O35","v":6.3687957101607751},{"$f":"'Gompertz pattegrise model'!$AL35","v":6.3687957101607751},{"$f":"'Gompertz pattegrise model'!$BI35","v":6.3687957101607751},{"$f":"'Gompertz pattegrise model'!$CF35","v":6.3687957101607751},{"$f":"'Gompertz pattegrise model'!$DC35","v":6.3687957101607751},{"$f":"'Gompertz pattegrise model'!$DZ35","v":6.3687957101607751},null,null,null,null,26.4,{"$f":"'Gompertz pattegrise model'!H35","v":10},{"$f":"'Gompertz pattegrise model'!Q35","v":183.17},{"$f":"'Gompertz pattegrise model'!J35*'Gompertz pattegrise model'!I35","v":0.28802430771288196},{"$f":"'Gompertz pattegrise model'!P35","v":1.7400047912458101},{"$f":"'Gompertz pattegrise model'!S34","v":-2.2081500647414547}]
[{"$f":"'Gompertz pattegrise model'!A36","v":25},{"$f":"'Gompertz pattegrise model'!$O36","v":6.6322514088819648},{"$f":"'Gompertz pattegrise model'!$AL36","v":6.6322514088819648},{"$f":"'Gompertz pattegrise model'!$BI36","v":6.6322514088819648},{"$f":"'Gompertz pattegrise model'!$CF36","v":6.6322514088819648},{"$f":"'Gompertz pattegrise model'!$DC36","v":6.6322514088819648},{"$f":"'Gompertz pattegrise model'!$DZ36","v":6.6322514088819648},null,null,null,null,27.5,{"$f":"'Gompertz pattegrise model'!H36","v":10},{"$f":"'Gompertz pattegrise model'!Q36","v":193.17},{"$f":"'Gompertz pattegrise model'!J36*'Gompertz pattegrise model'!I36","v":0.32834771079268543},{"$f":"'Gompertz pattegrise model'!P36","v":2.0683525020384956},{"$f":"'Gompertz pattegrise model'!S35","v":-1.8027333980747879}]
[{"$f":"'Gompertz pattegrise model'!A37","v":26},{"$f":"'Gompertz pattegrise model'!$O37","v":6.8963966968093127},{"$f":"'Gompertz pattegrise model'!$AL37","v":6.8963966968093127},{"$f":"'Gompertz pattegrise model'!$BI37","v":6.8963966968093127},{"$f":"'Gompertz pattegrise model'!$CF37","v":6.8963966968093127},{"$f":"'Gompertz pattegrise model'!$DC37","v":6.8963966968093127},{"$f":"'Gompertz pattegrise model'!$DZ37","v":6.8963966968093127},null,null,null,null,28.6,{"$f":"'Gompertz pattegrise model'!H37","v":10},{"$f":"'Gompertz pattegrise model'!Q37","v":203.17},{"$f":"'Gompertz pattegrise model'!J37*'Gompertz pattegrise model'!I37","v":0.37431639030366137},{"$f":"'Gompertz pattegrise model'!P37","v":2.4426688923421569},{"$f":"'Gompertz pattegrise model'!S36","v":-1.3973167314081212}]
[{"$f":"'Gompertz pattegrise model'!A38","v":27},{"$f":"'Gompertz pattegrise model'!$O38","v":7.1614691171440601},{"$f":"'Gompertz pattegrise model'!$AL38","v":7.1614691171440601},{"$f":"'Gompertz pattegrise model'!$BI38","v":7.1614691171440601},{"$f":"'Gompertz pattegrise model'!$CF38","v":7.1614691171440601},{"$f":"'Gompertz pattegrise model'!$DC38","v":7.1614691171440601},{"$f":"'Gompertz pattegrise model'!$DZ38","v":7.1614691171440601},null,null,null,null,29.7,{"$f":"'Gompertz pattegrise model'!H38","v":10},{"$f":"'Gompertz pattegrise model'!Q38","v":213.17},{"$f":"'Gompertz pattegrise model'!J38*'Gompertz pattegrise model'!I38","v":0.42672068494617399},{"$f":"'Gompertz pattegrise model'!P38","v":2.8693895772883309},{"$f":"'Gompertz pattegrise model'!S37","v":-0.99190006474145442}]
[{"$f":"'Gompertz pattegrise model'!A39","v":28},{"$f":"'Gompertz pattegrise model'!$O39","v":7.427742948720609},{"$f":"'Gompertz pattegrise model'!$AL39","v":7.427742948720609},{"$f":"'Gompertz pattegrise model'!$BI39","v":7.427742948720609},{"$f":"'Gompertz pattegrise model'!$CF39","v":7.427742948720609},{"$f":"'Gompertz pattegrise model'!$DC39","v":7.427742948720609},{"$f":"'Gompertz pattegrise model'!$DZ39","v":7.427742948720609},null,null,null,null,30.8,{"$f":"'Gompertz pattegrise model'!H39","v":10},{"$f":"'Gompertz pattegrise model'!Q39","v":223.17},{"$f":"'Gompertz pattegrise model'!J39*'Gompertz pattegrise model'!I39","v":0.48646158083863833},{"$f":"'Gompertz pattegrise model'!P39","v":3.3558511581269692},{"$f":"'Gompertz pattegrise model'!S38","v":-0.58648339807478767}]
[{"$f":"'Gompertz pattegrise model'!A40","v":29},{"$f":"'Gompertz pattegrise model'!$O40","v":7.6955339040662718},{"$f":"'Gompertz pattegrise model'!$AL40","v":7.6955339040662718},{"$f":"'Gompertz pattegrise model'!$BI40","v":7.6955339040662718},{"$f":"'Gompertz pattegrise model'!$CF40","v":7.6955339040662718},{"$f":"'Gompertz pattegrise model'!$DC40","v":7.6955339040662718},{"$f":"'Gompertz pattegrise model'!$DZ40","v":7.6955339040662718},null,null,null,null,31.9,{"$f":"'Gompertz pattegrise model'!H40","v":10},{"$f":"'Gompertz pattegrise model'!Q40","v":233.17},{"$f":"'Gompertz pattegrise model'!J40*'Gompertz pattegrise model'!I40","v":0.55456620215604779},{"$f":"'Gompertz pattegrise model'!P40","v":3.910417360283017},{"$f":"'Gompertz pattegrise model'!S39","v":-0.18106673140812085}]
[{"$f":"'Gompertz pattegrise model'!A41","v":30},{"$f":"'Gompertz pattegrise model'!$O41","v":7.9652044070676924},{"$f":"'Gompertz pattegrise model'!$AL41","v":7.9652044070676924},{"$f":"'Gompertz pattegrise model'!$BI41","v":7.9652044070676924},{"$f":"'Gompertz pattegrise model'!$CF41","v":7.9652044070676924},{"$f":"'Gompertz pattegrise model'!$DC41","v":7.9652044070676924},{"$f":"'Gompertz pattegrise model'!$DZ41","v":7.9652044070676924},null,null,null,null,33,{"$f":"'Gompertz pattegrise model'!H41","v":10},{"$f":"'Gompertz pattegrise model'!Q41","v":243.17},{"$f":"'Gompertz pattegrise model'!J41*'Gompertz pattegrise model'!I41","v":0.63220547045789444},{"$f":"'Gompertz pattegrise model'!P41","v":4.5426228307409113},{"$f":"'Gompertz pattegrise model'!S40","v":0.22434993525854596}]
[{"$f":"'Gompertz pattegrise model'!A42","v":31},{"$f":"'Gompertz pattegrise model'!$O42","v":8.2371695232619846},{"$f":"'Gompertz pattegrise model'!$AL42","v":8.2371695232619846},{"$f":"'Gompertz pattegrise model'!$BI42","v":8.2371695232619846},{"$f":"'Gompertz pattegrise model'!$CF42","v":8.2371695232619846},{"$f":"'Gompertz pattegrise model'!$DC42","v":8.2371695232619846},{"$f":"'Gompertz pattegrise model'!$DZ42","v":8.2371695232619846},null,null,null,null,34.1,{"$f":"'Gompertz pattegrise model'!H42","v":10},{"$f":"'Gompertz pattegrise model'!Q42","v":253.17},{"$f":"'Gompertz pattegrise model'!J42*'Gompertz pattegrise model'!I42","v":0.72071423632199971},{"$f":"'Gompertz pattegrise model'!P42","v":5.2633370670629107},{"$f":"'Gompertz pattegrise model'!S41","v":0.62976660192521283}]
[{"$f":"'Gompertz pattegrise model'!A43","v":32},{"$f":"'Gompertz pattegrise model'!$O43","v":8.5119036251148987},{"$f":"'Gompertz pattegrise model'!$AL43","v":8.5119036251148987},{"$f":"'Gompertz pattegrise model'!$BI43","v":8.5119036251148987},{"$f":"'Gompertz pattegrise model'!$CF43","v":8.5119036251148987},{"$f":"'Gompertz pattegrise model'!$DC43","v":8.5119036251148987},{"$f":"'Gompertz pattegrise model'!$DZ43","v":8.5119036251148987},null,null,null,null,35.200000000000003,{"$f":"'Gompertz pattegrise model'!H43","v":10},{"$f":"'Gompertz pattegrise model'!Q43","v":263.16999999999996},{"$f":"'Gompertz pattegrise model'!J43*'Gompertz pattegrise model'!I43","v":0.82161422940707962},{"$f":"'Gompertz pattegrise model'!P43","v":6.0849512964699901},{"$f":"'Gompertz pattegrise model'!S42","v":1.0351832685918796}]
[{"$f":"'Gompertz pattegrise model'!A44","v":33},{"$f":"'Gompertz pattegrise model'!$O44","v":8.789947885184743},{"$f":"'Gompertz pattegrise model'!$AL44","v":8.789947885184743},{"$f":"'Gompertz pattegrise model'!$BI44","v":8.789947885184743},{"$f":"'Gompertz pattegrise model'!$CF44","v":8.789947885184743},{"$f":"'Gompertz pattegrise model'!$DC44","v":8.789947885184743},{"$f":"'Gompertz pattegrise model'!$DZ44","v":8.789947885184743},null,null,null,null,36.299999999999997,{"$f":"'Gompertz pattegrise model'!H44","v":10},{"$f":"'Gompertz pattegrise model'!Q44","v":273.16999999999996},{"$f":"'Gompertz pattegrise model'!J44*'Gompertz pattegrise model'!I44","v":0.93664022152407078},{"$f":"'Gompertz pattegrise model'!P44","v":7.0215915179940609},{"$f":"'Gompertz pattegrise model'!S43","v":1.4405999352585463}]
[{"$f":"'Gompertz pattegrise model'!A45","v":34},{"$f":"'Gompertz pattegrise model'!$O45","v":9.0719187019513363},{"$f":"'Gompertz pattegrise model'!$AL45","v":9.0719187019513363},{"$f":"'Gompertz pattegrise model'!$BI45","v":9.0719187019513363},{"$f":"'Gompertz pattegrise model'!$CF45","v":9.0719187019513363},{"$f":"'Gompertz pattegrise model'!$DC45","v":9.0719187019513363},{"$f":"'Gompertz pattegrise model'!$DZ45","v":9.0719187019513363},null,null,null,null,37.4,{"$f":"'Gompertz pattegrise model'!H45","v":10},{"$f":"'Gompertz pattegrise model'!Q45","v":283.16999999999996},{"$f":"'Gompertz pattegrise model'!J45*'Gompertz pattegrise model'!I45","v":1.0677698525374406},{"$f":"'Gompertz pattegrise model'!P45","v":8.0893613705315008},{"$f":"'Gompertz pattegrise model'!S44","v":1.8460166019252131}]
[{"$f":"'Gompertz pattegrise model'!A46","v":35},{"$f":"'Gompertz pattegrise model'!$O46","v":9.3585171764857016},{"$f":"'Gompertz pattegrise model'!$AL46","v":9.3585171764857016},{"$f":"'Gompertz pattegrise model'!$BI46","v":9.3585171764857016},{"$f":"'Gompertz pattegrise model'!$CF46","v":9.3585171764857016},{"$f":"'Gompertz pattegrise model'!$DC46","v":9.3585171764857016},{"$f":"'Gompertz pattegrise model'!$DZ46","v":9.3585171764857016},null,null,null,null,38.5,{"$f":"'Gompertz pattegrise model'!H46","v":10},{"$f":"'Gompertz pattegrise model'!Q46","v":293.16999999999996},{"$f":"'Gompertz pattegrise model'!J46*'Gompertz pattegrise model'!I46","v":1.2172576318926824},{"$f":"'Gompertz pattegrise model'!P46","v":9.3066190024241831},{"$f":"'Gompertz pattegrise model'!S45","v":2.2514332685918799}]
[{"$f":"'Gompertz pattegrise model'!A47","v":36},{"$f":"'Gompertz pattegrise model'!$O47","v":9.650539773242512},{"$f":"'Gompertz pattegrise model'!$AL47","v":9.650539773242512},{"$f":"'Gompertz pattegrise model'!$BI47","v":9.650539773242512},{"$f":"'Gompertz pattegrise model'!$CF47","v":9.650539773242512},{"$f":"'Gompertz pattegrise model'!$DC47","v":9.650539773242512},{"$f":"'Gompertz pattegrise model'!$DZ47","v":9.650539773242512},null,null,null,null,39.6,{"$f":"'Gompertz pattegrise model'!H47","v":10},{"$f":"'Gompertz pattegrise model'!Q47","v":303.16999999999996},{"$f":"'Gompertz pattegrise model'!J47*'Gompertz pattegrise model'!I47","v":1.387673700357658},{"$f":"'Gompertz pattegrise model'!P47","v":10.694292702781841},{"$f":"'Gompertz pattegrise model'!S46","v":2.6568499352585468}]
[{"$f":"'Gompertz pattegrise model'!A48","v":37},{"$f":"'Gompertz pattegrise model'!$O48","v":9.9488903152927168},{"$f":"'Gompertz pattegrise model'!$AL48","v":9.9488903152927168},{"$f":"'Gompertz pattegrise model'!$BI48","v":9.9488903152927168},{"$f":"'Gompertz pattegrise model'!$CF48","v":9.9488903152927168},{"$f":"'Gompertz pattegrise model'!$DC48","v":9.9488903152927168},{"$f":"'Gompertz pattegrise model'!$DZ48","v":9.9488903152927168},null,null,null,null,40.700000000000003,{"$f":"'Gompertz pattegrise model'!H48","v":10},{"$f":"'Gompertz pattegrise model'!Q48","v":313.16999999999996},{"$f":"'Gompertz pattegrise model'!J48*'Gompertz pattegrise model'!I48","v":1.5819480184077304},{"$f":"'Gompertz pattegrise model'!P48","v":12.276240721189572},{"$f":"'Gompertz pattegrise model'!S47","v":3.0622666019252138}]
[{"$f":"'Gompertz pattegrise model'!A49","v":38},{"$f":"'Gompertz pattegrise model'!$O49","v":10.254593483526053},{"$f":"'Gompertz pattegrise model'!$AL49","v":10.254593483526053},{"$f":"'Gompertz pattegrise model'!$BI49","v":10.254593483526053},{"$f":"'Gompertz pattegrise model'!$CF49","v":10.254593483526053},{"$f":"'Gompertz pattegrise model'!$DC49","v":10.254593483526053},{"$f":"'Gompertz pattegrise model'!$DZ49","v":10.254593483526053},null,null,null,null,41.8,{"$f":"'Gompertz pattegrise model'!H49","v":10},{"$f":"'Gompertz pattegrise model'!Q49","v":323.16999999999996},{"$f":"'Gompertz pattegrise model'!J49*'Gompertz pattegrise model'!I49","v":1.8034207409848126},{"$f":"'Gompertz pattegrise model'!P49","v":14.079661462174384},{"$f":"'Gompertz pattegrise model'!S48","v":3.4676832685918808}]
[{"$f":"'Gompertz pattegrise model'!A50","v":39},{"$f":"'Gompertz pattegrise model'!$O50","v":10.568810011022359},{"$f":"'Gompertz pattegrise model'!$AL50","v":10.568810011022359},{"$f":"'Gompertz pattegrise model'!$BI50","v":10.568810011022359},{"$f":"'Gompertz pattegrise model'!$CF50","v":10.568810011022359},{"$f":"'Gompertz pattegrise model'!$DC50","v":10.568810011022359},{"$f":"'Gompertz pattegrise model'!$DZ50","v":10.568810011022359},null,null,null,null,42.9,{"$f":"'Gompertz pattegrise model'!H50","v":10},{"$f":"'Gompertz pattegrise model'!Q50","v":333.16999999999996},{"$f":"'Gompertz pattegrise model'!J50*'Gompertz pattegrise model'!I50","v":2.055899644722686},{"$f":"'Gompertz pattegrise model'!P50","v":16.135561106897072},{"$f":"'Gompertz pattegrise model'!S49","v":3.8730999352585478}]
[{"$f":"'Gompertz pattegrise model'!A51","v":40},{"$f":"'Gompertz pattegrise model'!$O51","v":10.892853788233303},{"$f":"'Gompertz pattegrise model'!$AL51","v":10.892853788233303},{"$f":"'Gompertz pattegrise model'!$BI51","v":10.892853788233303},{"$f":"'Gompertz pattegrise model'!$CF51","v":10.892853788233303},{"$f":"'Gompertz pattegrise model'!$DC51","v":10.892853788233303},{"$f":"'Gompertz pattegrise model'!$DZ51","v":10.892853788233303},null,null,null,null,44,{"$f":"'Gompertz pattegrise model'!H51","v":10},{"$f":"'Gompertz pattegrise model'!Q51","v":343.16999999999996},{"$f":"'Gompertz pattegrise model'!J51*'Gompertz pattegrise model'!I51","v":2.3437255949838622},{"$f":"'Gompertz pattegrise model'!P51","v":18.479286701880934},{"$f":"'Gompertz pattegrise model'!S50","v":4.2785166019252143}]
[{"$f":"'Gompertz pattegrise model'!A52","v":41},{"$f":"'Gompertz pattegrise model'!$O52","v":11.228211122190256},{"$f":"'Gompertz pattegrise model'!$AL52","v":11.228211122190256},{"$f":"'Gompertz pattegrise model'!$BI52","v":11.228211122190256},{"$f":"'Gompertz pattegrise model'!$CF52","v":11.228211122190256},{"$f":"'Gompertz pattegrise model'!$DC52","v":11.228211122190256},{"$f":"'Gompertz pattegrise model'!$DZ52","v":11.228211122190256},null,null,null,null,45.1,{"$f":"'Gompertz pattegrise model'!H52","v":10},{"$f":"'Gompertz pattegrise model'!Q52","v":353.16999999999996},{"$f":"'Gompertz pattegrise model'!J52*'Gompertz pattegrise model'!I52","v":2.6718471782816033},{"$f":"'Gompertz pattegrise model'!P52","v":21.151133880162536},{"$f":"'Gompertz pattegrise model'!S51","v":4.6839332685918809}]
[{"$f":"'Gompertz pattegrise model'!A53","v":42},{"$f":"'Gompertz pattegrise model'!$O53","v":11.57656242406426},{"$f":"'Gompertz pattegrise model'!$AL53","v":11.57656242406426},{"$f":"'Gompertz pattegrise model'!$BI53","v":11.57656242406426},{"$f":"'Gompertz pattegrise model'!$CF53","v":11.57656242406426},{"$f":"'Gompertz pattegrise model'!$DC53","v":11.57656242406426},{"$f":"'Gompertz pattegrise model'!$DZ53","v":11.57656242406426},null,null,null,null,46.2,{"$f":"'Gompertz pattegrise model'!H53","v":10},{"$f":"'Gompertz pattegrise model'!Q53","v":363.16999999999996},{"$f":"'Gompertz pattegrise model'!J53*'Gompertz pattegrise model'!I53","v":3.0459057832410279},{"$f":"'Gompertz pattegrise model'!P53","v":24.197039663403565},{"$f":"'Gompertz pattegrise model'!S52","v":5.0893499352585474}]

{"sheet":"Foderskift","index":15,"n_rows":11,"n_cols":3,"rows_kept":11,"cut":false,"hidden":false,"merged":[]}
[]
[]
[null,"Kg. udfodret periode","FE pr. kg"]
[]
[]
[]
[]
[]
[]
[]
[null,"FE i alt perioden",{"$f":"SUMPRODUCT(B4:B9,C4:C9)","v":0}]

{"sheet":"Foder","index":16,"n_rows":5,"n_cols":8,"rows_kept":5,"cut":false,"hidden":true,"merged":[]}
["Fodersammensætning","Std.ford. råprotein","FEsv","Proteinkilde","Std.ford lysin","Tilsat zink","Syre","Evt navn på blanding (færdig-/tilskudsbl)"]
["Opstartsblanding (evt)"]
["9-15 kg"]
["15-30 kg"]
["10-30 kg"]

{"sheet":"Gompertz Slagtesvin Vejeskema","index":17,"n_rows":168,"n_cols":12,"rows_kept":168,"cut":false,"hidden":true,"merged":[]}
["Regneark til beregning af tilvækst og foderforbrug. Der inddateres  "]
["Indsættelsesvægt, daglig tilvækst 30-100 kg og FEsv/kg tilvækst 30-100 kg"]
["Specialligning 0-14 dage, derefter Gompertz vækstfunktion"]
[null,null,null,null,null,null,null,null,null,"Opstartsfunktion"]
["Indsættelsesvægt =",null,{"$f":"'Vejeskema, staldgang'!R5","v":30},null,"FEsv/kg 30-100 kg",null,2.8,null,null,"foder dag 1",null,65]
["Dgl tilv 30-100 kg =",null,{"$f":"'Vejeskema, staldgang'!R6","v":900},null,"Vægtkorrektionsfaktor",null,{"$f":" 0.018+(G5-2.73)*0.0165","v":1.9154999999999995E-2},null,null,"foder dag 2",null,85]
["Vækstrate =",null,{"$f":"0.00115+C6/87000","v":1.1494827586206896E-2},null,null,null,null,null,null,"foder dag 3",null,93]
[]
["Dag","vægt","dgl tilv","FEs/kg","FEs/dag"]
[1,{"$f":"C5","v":30}]
[2,{"$f":"EXP(5.44-(5.44-LN(B10))*EXP(-$C$7*L5/100*(A11-A10)))","v":30.458765243099823},{"$f":"(B11-B10)/(A11-A10)*1000","v":458.76524309982256},{"$f":"1.7+(B11-8)*$G$6","v":2.1301976482315768},{"$f":"C11*D11/1000","v":0.97726064194162965}]
[3,{"$f":"EXP(5.44-(5.44-LN(B11))*EXP(-$C$7*L6/100*(A12-A11)))","v":31.063999616359471},{"$f":"(B12-B11)/(A12-A11)*1000","v":605.23437325964835},2.1417909126513655,1.2962854806717594]
[4,{"$f":"EXP(5.44-(5.44-LN(B12))*EXP(-$C$7*L7/100*(A13-A12)))","v":31.733029902498092},669.03028613862148,2.1546061877823508,1.4414967943280705]
[5,{"$f":"EXP(5.44-(5.44-LN(B13))*EXP(-$C$7*(A14-A13)))","v":32.460297729675723},727.26782717763069,2.1685370030119384,1.5771071943347836]
[6,33.195635283550715,735.3375538749915,2.1826223938564135,1.6049642121311534]
[7,33.938940689716077,743.30540616536211,2.1968604089115114,1.6329382185345744]
[8,34.690109055416841,751.16836570076373,2.2112490389565096,1.6610203267503456]
[9,35.449032562461831,758.92350704499017,2.2257862187339561,1.6892014830539814]
[10,36.215600561461322,766.56799899949135,2.2404698287547915,1.7174724734472937]
[11,36.989699667249383,774.09910578806057,2.2552976971261618,1.7458239306312342]
[12,37.771213855351569,781.51418810218593,2.2702676013992589,1.7742463412822387]
[13,38.560024559360848,788.81070400927911,2.285377270434557,1.8027300536182875]
[14,39.35601076908663,795.9862097257826,2.3006243862818541,1.8312652852391977]
[15,40.159049129344865,803.03836025823466,2.3160065860726009,1.8598421312270135]
[16,40.969014039259406,809.96490991454095,2.3315214639220136,1.8884505724894125]
[17,41.785777751947641,816.7637126882355,2.3471665728385567,1.9170804843293412]
[18,42.609210474466714,823.43272251907251,2.3629394266384098,1.9457216452245221]
[19,43.439180467899256,829.96999343254174,2.37883750186261,1.9743637457979943]
[20,44.275554147461023,836.37367956176695,2.3948582396946154,2.0029963979622014]
[21,45.118196182516186,842.64203505516377,2.4109990478760972,2.0316091442183768]
[22,45.966969596389085,848.77341387289812,2.4272573026188327,2.0601914670917085]
[23,46.821735865864937,854.76626947585282,2.4436303505106425,2.0887327986839521]
[24,47.682355020275686,860.61915441074893,2.4601155104133805,2.1172225303247316]
[25,48.548685740070162,866.33071979447607,2.4767100753510438,2.1456500223011008]
[26,49.420585454772194,871.89971470203182,2.4934113143861611,2.1740046136481119]
[27,50.297910440233139,877.32498546094462,2.5102164744826654,2.2022756319793277]
[28,51.180515915089842,882.60547485670315,2.5271227823535458,2.2304524033403439]
[29,52.068256136341795,887.74022125195279,2.5441274462916268,2.2585242620640944]
[30,52.960984493966116,892.72835762432123,2.5612276579819206,2.286480560612187]
[31,53.858553604491725,897.56911052560895,2.5784205942940388,2.3143106793814123]
[32,54.760815403458487,902.26179896676229,2.5957034190532471,2.3420040364591581]
[33,55.66762123669055,906.80583323206315,2.6130732847888072,2.3695500973093586]
[34,56.578821950316652,911.20071362610133,2.6305273344583151,2.3969383843713827]
[35,57.494267979474621,915.44602915796963,2.6480627031468362,2.4241584865570904]
[36,58.413809435639862,919.54145616524124,2.665676519739681,2.4512000686269189]
[37,59.337296192522075,923.48675688221249,2.6833659085677599,2.478052880431532]
[38,60.264577970477966,927.28177795589068,2.7011279910245052,2.5047067660036264]
[39,61.195504419390602,930.92644891263626,2.7189598871534266,2.5311516724836416]
[40,62.129925199970543,934.42078057994138,2.7368587172054353,2.5573776588681199]
[41,63.067690063436601,937.76486346605736,2.7548216031651278,2.5833749045654915]
[42,64.008648929537316,940.95886610071489,2.7728456702452871,2.6091337177462819]
[43,64.952651962878477,944.00303334116131,2.7909280483489369,2.6346445434783234]
[44,65.899549647524623,946.89768464614588,2.8090658734983336,2.6598979716340754]
[45,66.849192859844976,949.64321232035331,2.8272562892303301,2.6848847445576127]
[46,67.801432939579001,952.24007973402536,2.8454964479576352,2.7095957644860644]
[47,68.756121759098463,954.68881951946116,2.8637835122955306,2.7340221007127168]
[48,69.713111790846156,956.99003174769359,2.8821146563536577,2.7581549964843797]
[49,70.672256172934667,959.14438208851038,2.9004870669925631,2.7819858756262978]
[50,71.633408772890803,961.15259995613656,2.9188979450447228,2.8055063488863592]
[51,72.596424249534721,963.01547664391762,2.9373445064998371,2.8287082199943336]
[52,73.561158112984572,964.73386344985101,2.9558239836542191,2.8515834914284643]
[53,74.527466782780564,966.30866979599261,2.9743336262241611,2.8741243698861605]
[54,75.49520764412496,967.74086134439585,2.9928707024232133,2.8963232714554472]
[55,76.464239102235908,969.0314581109476,3.0114325000033286,2.9181728264809217]
[56,77.434420634816902,970.1815325809946,3.0300163272599177,2.9396658841264633]
[57,78.405612842643919,971.19220782701632,3.0486195140008441,2.9607955166270052]
[58,79.377677498276114,972.06465563219524,3.0672394124794788,2.9815550232333616]
[59,80.350477592896894,972.80009462077999,3.0858733982919393,3.0019379338461465]
[60,81.323877381294423,973.39978839752916,3.1045188712386942,3.0219380123398811]
[61,82.297742424992563,973.8650436981402,3.1231732561507322,3.0415492595780957]
[62,83.271939633544875,974.19720855231162,3.1418340036805517,3.0607659161203262]
[63,84.246337304006133,974.3976704612578,3.1604985910582371,3.0795824646232335]
[64,85.220805158596818,974.46785459068508,3.1791645228129215,3.097993631936327]
[65,86.195214380578577,974.40922198175883,3.1978293314599822,3.1159943908983689]
[66,87.169437648359036,974.22326778045942,{"$f":"1.7+(B75-8)*$G$6","v":3.2164905781543167},{"$f":"C75*D75/1000","v":3.1335799618345579}]
[67,88.143349167846267,{"$f":"(B76-B75)/(A76-A75)*1000","v":973.9115194872312},3.2351458533100947,3.1507458137600497]
[68,89.116824703074471,973.47553522820363,3.2537927771873911,3.1674876652941588]
[69,{"$f":"EXP(5.44-(5.44-LN(B77))*EXP(-$C$7*(A78-A77)))","v":90.089741605123209},972.9169020487376,3.2724290004461345,3.1838014852885004]
[70,91.061978839353884,972.23723423067554,3.2910522046678232,3.1996834931750118]
[71,92.033417010988472,971.43817163458834,3.3096601028454837,3.2151301590401604]
[72,93.003938389055804,970.52137806733185,3.3282504398423631,3.2301382034290138]
[73,93.973426928732223,969.48853967641924,3.3468209928198656,3.2447045968873147]
[74,94.941768292104072,968.34136337184873,3.3653695716352532,3.2588265592474155]
[75,95.908849867379445,967.08157527537253,3.3838940192096527,3.2725015586621824]
[76,96.874560786579195,965.71091919975061,3.4023922118669239,3.2857273104000795]
[77,97.838791941735408,964.23115515621305,3.420862059643941,3.2985017754005392]
[78,98.801435999627685,962.64405789227681,3.4393015065728676,3.310823158602326]
[79,99.762387415088554,960.95141546086893,3.4577085309360207,3.322689907054091]
[80,100.72154244290722,959.15502781866735,3.4760811454938874,3.3341007078061349]
[81,101.6787991483645,957.25670545728292,3.4944173976869215,3.3450544856023945]
[82,102.63405741642977,955.25826806526482,3.512715369811712,3.3555504003725725]
[83,103.58721895965147,953.16154322169666,3.5309731791721233,3.3655878445341214]
[84,104.53818732477433,950.96836512286131,3.5491889782060517,3.3751664401166876]
[85,105.48686789811448,948.68057334015532,3.5673609545883824,3.3842860357101903]
[86,106.43316790972521,946.30001161073096,3.585487331310786,3.3929467032495255]
[87,107.37699643638626,943.82852666105066,3.6035663667389786,3.4011487346445657]
[88,108.31826440344837,941.26796706210314,3.621596354648053,3.4088926382590961]
[89,109.25688458556607,938.62018211770248,3.6395756242365174,3.416179135252031]
[90,110.19277160635123,935.88702078515951,3.6575025401196575,3.4230091557867395]
[91,111.12584193697923,933.0703306279986,3.6753755023028365,3.4293838351157544]
[92,112.05601389378073,930.17195680150166,3.6931929461353694,3.4353045095522394]
[93,112.98320763485042,927.19374106968644,3.710953342245559,3.4407727123317162]
[94,113.90734515570487,924.13752085445822,3.7286551964575265,3.4457901693753517]
[95,114.82835028402187,921.00512831699177,3.7462970496904386,3.4503587949637105]
[96,115.74614867349152,917.79838946965242,3.7638774778407296,3.4544806873233189]
[97,116.66066779681134,914.51912331982044,3.7813950916479202,3.4581581241397279]
[98,117.57183693785551,911.16914104416935,3.7988485365446216,3.4613935580002626]
[99,118.47958718304942,907.75024519390968,3.8162364924913108,3.4641896117769333]
[100,119.3838514119798,904.26422893038705,3.8335576737964727,3.4665490739557359]
[101,120.28456428726943,900.71287528962785,3.8508108289226453,3.4684748939153511]
[102,121.18166224374679,897.09795647735291,3.8679947402789692,3.4699701771694125]
[103,122.07508347693992,893.42123319313771,3.8851082240007839,3.4710381805755817]
[104,122.96476793092245,889.68445398252527,3.9021501297168193,3.4716823075149486]
[105,123.85065728554031,885.88935461785923,3.9191193403045244,3.4719061030527456]
[106,124.73269494304711,882.03765750679963,3.936014771634067,3.471713249084273]
[107,125.6108260141758,878.13107112869204,3.9528353723015366,3.4711075594745306]
[108,126.48499730367269,874.17128949688561,3.9695801233518493,3.4700929751916925]
[109,127.35515729532109,870.15999164840707,3.9862480379918752,3.4686735594474896]
[110,128.22125613647998,866.09884115888747,4.0028381612942736,3.4668534928435424]
[111,129.08324562216325,861.98948568326728,4.0193495698925368,3.4646370685329293]
[112,129.94107917868456,857.83355652131377,4.035781371667702,3.4620286874001707]
[113,130.79471184689228,853.6326682077231,4.0521327054272209,3.4590328532656183]
[114,131.64410026501804,849.38841812575561,4.0684027405764196,3.4556541681166939]
[115,132.48920265116243,845.10238614439004,4.0845906767830158,3.4518973273724556]
[116,133.32997878544123,840.77613427879783,4.1006957436351259,3.4477671151870615]
[117,134.16638999181353,836.41120637230415,4.1167172002931878,3.4432683997908398]
[118,134.99839911961411,832.00912780057479,4.1326543351362073,3.4384061288779404]
[119,135.82597052481208,827.5714051979719,4.1485064654027743,3.4331853250462454]
[120,136.64907005101404,823.09952620195759,4.1642729368271736,3.4276110812780813]
[121,137.46766501023552,818.5949592214854,4.1799531232710603,3.4216885564917945]
[122,138.28172416345726,814.05915322173428,4.1955464263510232,3.415422971137787]
[123,139.09121770098687,809.49353752961883,4.2110522750624027,3.408819602862414]
[124,139.89611722264499,804.89952165811474,4.2264701253997643,3.4018837822365828]
[125,140.69639571779231,800.27849514732452,4.2417994599743114,3.3946208885449756]
[126,141.4920275452171,795.63182742478489,4.2570397876286332,3.3870363456509875]
[127,142.28298841289887,790.96086768177543,4.2721906430490773,3.3791356179280601]
[128,143.06925535766501,786.26694476614034,4.2872515863760725,3.370924206263703]
[129,143.85080672475672,781.55136709170847,4.3022222028127146,3.3624076441405788]
[130,144.62762214731976,776.8154225630326,{"$f":"1.7+(B139-8)*$G$6","v":4.3171021022319094},{"$f":"C139*D139/1000","v":3.3535914937930369}]
[131,145.39968252583472,{"$f":"(B140-B139)/(A140-A139)*1000","v":772.0603785149649},4.3318909187823635,3.3444813424406505]
[132,146.16697000750159,767.28748166686955,4.3465883104936918,3.3350827986013578]
[133,{"$f":"EXP(5.44-(5.44-LN(B141))*EXP(-$C$7*(A142-A141)))","v":146.92946796559261},762.49795809101784,4.3611939588809259,3.3254014884855883]
[134,147.6871609787872,757.69301319459714,4.3757075685486679,3.3154430524720446]
[135,148.44003481050149,752.87383171428246,4.3901288667951555,3.3052131416635495]
[136,149.18807638822614,748.04157772464919,4.4044576032164713,3.2947174145313762]
[137,149.9312737828833,743.19739465715884,4.4186935493111283,3.2839615336364245]
[138,150.66961618821503,738.34240533173556,4.4328364980852584,3.2729511624385772]
[139,151.40309390021554,733.47771200050715,4.4468862636586275,3.2616919621948139]
[140,152.13169829661567,728.60439640012942,4.4608426808716723,3.2501895889324399]
[141,152.8554218164324,723.72351981672978,4.4747056048937619,3.2384496905173625]
[142,153.574257939592,718.83612315960477,4.4884749108328839,3.2264779038022628]
[143,154.28820116663684,713.9432270448367,4.5021504933469281,3.2142798518616096]
[144,154.99724699852479,709.04583188794845,4.5157322662567418,3.2018611413112623]
[145,155.70139191653044,704.14491800565315,4.5292201621611401,3.1892273597145073]
[146,156.40063336225609,699.24144572564728,4.5426141320540143,3.1763840730712056]
[147,157.09496971776053,694.33635550444706,4.5559141449437019,3.1633368233913695]
[148,157.78440028581332,689.43056805278502,4.5691201874747529,3.1500911263521667]
[149,158.46892527028183,684.52498446850996,4.5822322635522479,3.1366524690392077]
[150,159.14854575665828,679.62048637645012,4.5952503939687883,3.1230263077706417]
[151,159.82326369273247,674.71793607418817,4.6081746160342894,3.1092180660001203]
[152,160.49308186941701,669.81817668454369,4.6210049832086817,3.0952331323030293]
[153,161.15800390173123,664.92203231422309,4.6337415647376607,3.0810768584442534]
[154,161.81803420994851,660.03030821727293,4.646384445291563,3.0667545575217332]
[155,162.47317800091292,655.14379096441644,4.6589337246074862,3.0522715021913172]
[156,163.12344124952963,650.26324861671014,4.671389517134739,3.0376329229660803]
[157,163.76883068043423,645.38943090460066,4.6837519516837167,3.0228440065954665]
[158,164.40935374984491,640.52306941067627,4.6960211710782787,3.0079098945165774]
[159,165.04501862760159,635.66487775668179,4.7081973318117081,2.9928356813804249]

{"sheet":"Gompertz Smågrise Vejeskema","index":18,"n_rows":146,"n_cols":14,"rows_kept":146,"cut":false,"hidden":true,"merged":[]}
["Regneark til beregning af tilvækst og foderforbrug. Der inddateres  "]
["Indsættelsesvægt, daglig tilvækst 30-100 kg og FEsv/kg tilvækst 30-100 kg",null,null,null,null,null,null,null,null,"Desuden kan rettes i vækst i 14 dage fra indsættelse"]
["Specialligning 0-14 dage, derefter Gompertz vækstfunktion",null,null,null,null,null,null,null,null,"Vækst i procent af Gomperts efter fravænning"]
[null,null,null,null,null,null,null,null,"Dag 1",-20,"Dag 5",48,"Dag 9",80]
["Indsættelsesvægt =",null,{"$f":"'Vejeskema, staldgang'!R5","v":30},null,"FEsv/kg 30-100 kg",null,2.75,null,"Dag 2",-5,"dag 6",57,"Dag10",86]
["Dgl tilv 7-30 kg =",null,{"$f":"'Vejeskema, staldgang'!R6","v":900},null,"Vægtkorrektionsfaktor",null,{"$f":" (G5-G7)/46.5","v":1.8279569892473119E-2},null,"Dag 3",20,"dag 7",65,"Dag 11",91]
["Vækstrate =",null,{"$f":"-0.0015+C6/33600","v":2.5285714285714283E-2},null,"Fesv/kg 7-30 kg",null,1.9,null,"Dag 4",35,"Dag 8",72,"Dag 12",95]
[null,null,null,null,null,null,null,null,null,null,null,null,"Dag 13",98]
["Dag","vægt","dgl tilv","FEs/kg","FEs/dag",null,null,null,null,null,null,null,"Dag 14",100]
[1,{"$f":"C5","v":30},{"$f":"(B11-B10)/(A11-A10)*1000","v":-308.50174815104128},{"$f":"(E10/C10*1000)","v":-0.75315108603632908},{"$f":"C10/1000*0.9+B10*0.017","v":0.2323484266640628}]
[2,{"$f":"EXP(5.44-(5.44-LN(B10))*EXP(-$C$7*J4/100*(A11-A10)))","v":29.691498251848959},{"$f":"(B12-B11)/(A12-A11)*1000","v":-76.870655351644501},{"$f":"(E11/C11*1000)","v":-5.6662959158137838},{"$f":"C11/1000*0.9+B11*0.017","v":0.43557188046495227}]
[3,{"$f":"EXP(5.44-(5.44-LN(B11))*EXP(-$C$7*J5/100*(A12-A11)))","v":29.614627596497314},308.09433219130608,{"$f":"(E12/C12*1000)","v":2.5340731280569164},{"$f":"C12/1000*0.9+B12*0.017","v":0.78073356811262984}]
[4,{"$f":"EXP(5.44-(5.44-LN(B12))*EXP(-$C$7*J6/100*(A13-A12)))","v":29.92272192868862},543.07506689006857,{"$f":"(E13/C13*1000)","v":1.8366776414551857},{"$f":"C13/1000*0.9+B13*0.017","v":0.99745383298876833}]
[5,{"$f":"EXP(5.44-(5.44-LN(B13))*EXP(-$C$7*J7/100*(A14-A13)))","v":30.465796995578689},752.81485294314268,{"$f":"(E14/C14*1000)","v":1.5879759968869187},{"$f":"C14/1000*0.9+B14*0.017","v":1.1954519165736661}]
[6,{"$f":"EXP(5.44-(5.44-LN(B14))*EXP(-$C$7*L4/100*(A15-A14)))","v":31.218611848521832},905.88602003910523,{"$f":"$G$7+(B15-18.5)*$G$6","v":2.1324907542202913},{"$f":"C15*D15/1000","v":1.9317935621108095}]
[7,{"$f":"EXP(5.44-(5.44-LN(B15))*EXP(-$C$7*L5/100*(A16-A15)))","v":32.124497868560937},1048.5870861594933,{"$f":"$G$7+(B16-18.5)*$G$6","v":2.1490499610382106},{"$f":"C16*D16/1000","v":2.2534660366562296}]
[8,{"$f":"EXP(5.44-(5.44-LN(B16))*EXP(-$C$7*L6/100*(A17-A16)))","v":33.17308495472043},1180.5215395969099,2.1682176819680077,{"$f":"C17*D17/1000","v":2.5596276760981156}]
[9,{"$f":"EXP(5.44-(5.44-LN(B17))*EXP(-$C$7*L7/100*(A18-A17)))","v":34.35360649431734},1334.629389553271,2.1897971079606395,{"$f":"C18*D18/1000","v":2.9225675774430266}]
[10,{"$f":"EXP(5.44-(5.44-LN(B18))*EXP(-$C$7*N4/100*(A19-A18)))","v":35.688235883870611},1460.9900520904516,2.2141935591675272,{"$f":"C19*D19/1000","v":3.2349147633465081}]
[11,37.149225935961063,1574.7148959186177,2.2408998289369224,3.5287783408884539]
[12,38.723940831879681,1674.4833479738688,2.2696849399375854,3.8005496370725571]
[13,40.398424179853549,1758.8706759240936,2.300293775330656,4.0459192674398157]
[14,42.157294855777643,1826.4175522896337,2.3324451747830319,4.2600188069769924]
[15,43.983712408067277,{"$f":"(B27-B24)/(A27-A24)*1000","v":1856.9756851650682},2.3658313020829502,4.3932912031704516]
[]
[15,{"$f":"B24","v":43.983712408067277},1856.9756851650682,2.3658313020829502,{"$f":"E24","v":4.3932912031704516}]
[16,{"$f":"EXP(5.44-(5.44-LN(B26))*EXP(-$C$7*(A27-A26)))","v":45.840688093232345},1886.0720562802342,2.3997760189085482,{"$f":"C27*D27/1000","v":4.5261504905948398}]
[17,47.726760149512579,1913.6724228319295,2.4342526048835631,4.6583620801724637]
[18,49.640432572344508,1939.7476014952276,2.469233713688018,4.7896901736574868]
[19,51.580180173839736,1964.2733883734352,2.5046914655433068,4.9198987918527761]
[20,53.544453562213171,1987.2304572708331,2.540597538234004,5.0487528076459132]
[21,55.531684019484004,2008.604238335728,2.5769232562701374,5.1760189744101037]
[22,57.540288257819732,2028.3847791194844,2.6136396778311131,5.3014669406153825]
[23,59.568673036939217,2046.5665900790739,2.6507176791698566,5.4248702419209707]
[24,61.61523962701829,2063.1484765123105,2.6881280361928073,5.5460072625412193]
[25,63.678388103530601,2078.1333588645266,2.7258415029677634,5.6646621582947274]
[26,65.756521462395128,2091.528083280778,2.7638288869470076,5.7806257344323209]
[27,67.848049545675906,2103.3432242008985,2.8020611207274091,5.8936962720787713]
[28,69.951392769876804,2113.5928807130285,2.8405093302020492,6.0036802979139852]
[29,72.064985650589833,2122.2944682865264,2.8791448989892765,6.1103932925203104]
[{"$f":"A40+1","v":30},74.187280118876359,2129.468507410209,2.917939529054729,6.2136603336494218]
[{"$f":"A41+1","v":31},76.316748626286568,2135.1384105603443,2.9568652974697542,6.3133166714806102]
[32,78.451887036846912,2139.3302688170052,2.9958947092756962,6.4092082337422189]
[33,80.591217305663918,2142.0726393459117,3.0350007464476199,6.5011920593598651]
[34,82.73328994500983,2143.3963348532502,3.0741569129732982,6.589136660030749]
[35,84.87668627986308,2143.3342160203492,3.1133372760835183,6.6729223098413977]
[36,87.020020495883429,2141.9209878195315,3.1525165036881919,6.7524412636971887]
[37,89.161941483702961,2139.1930005137565,3.1916698980891938,6.8275979059428584]
[38,91.301134484216718,2135.1880560445125,3.230773426055574,6.8983088310998708]
[39,93.43632254026123,2129.9452204210211,3.2698037453596136,6.9645028591434617]
[40,95.566267760682251,2123.504642631332,3.3087382278834392,7.0261209881622486]
[41,97.689772403313583,2115.9073805148691,3.3475549794154098,7.0831162876243665]
[42,99.805679783828452,2107.1952339530071,3.3862328562635309,7.1354537357735905]
[43,101.91287501778146,2097.4105856623455,3.4247514788196609,7.1831100049391292]
[44,104.0102856034438,2086.5962498020281,3.4630912422134887,7.2260731987249125]
[45,106.09688185324583,2074.7953285453491,3.5012333241991174,7.2643425451956327]
[46,108.17167718179118,2062.0510767037385,3.5391596904198388,7.297928050256699]
[47,110.23372825849492,2048.406774437879,3.5768530971982941,7.3268501154700951]
[48,112.2821350329328,2033.9056080422465,3.6142970919998465,7.3511391245492712]
[49,114.31604064097505,2018.5905587413231,3.6514760117167482,7.3708350027218481]
[50,116.33463119971637,2002.5042994010676,3.6883749789195468,7.3859867530897141]
[51,118.33713549911744,1985.6890990183019,3.7249798962204261,7.3966519739872254]
[52,120.32282459813574,1968.1867348242718,3.7612774388906534,7.402896361218394]
[53,122.29101133296001,1950.0384118093593,3.7972550458713119,7.4047931988859688]
[54,124.24104974476937,1931.2846894511467,3.8329009093129884,7.4024228423395524]
[55,126.17233443422052,1911.965415413988,3.8682039627760738,7.3958721965951906]
[56,128.0842998496345,1892.1196659654811,3.9031538682191251,7.3852341933466468]
[57,129.97641951559999,1871.785692847709,3.9377410018980643,7.3706072694926004]
[58,131.84820520844769,1851.0008763267365,3.9719564392942051,7.3520948498651979]
[59,133.69920608477443,1829.8016841407332,4.0057919391840482,7.3298048366363444]
[60,135.52900776891516,1808.2236360577895,4.0392399269586647,7.3038491076349965]
[61,137.33723140497295,1786.3012737550719,4.0722934772952044,7.2743430255968944]
[62,139.12353267872803,1764.0681357280812,4.1049462962778236,7.2414049601387118]
[63,140.88760081445611,1741.5567369411917,4.1371927030599505,7.2051558240379965]
[64,142.6291575513973,{"$f":"(B76-B75)/(A76-A75)*1000","v":1718.798552930906},4.1690276111545739,7.1657186251814737]
[65,144.3479561043282,1695.8240080818712,4.2004465094339558,7.1232180353617958]
[66,146.04378011241008,1672.6624677938275,4.2314454429150228,7.0777799768811871]
[67,147.7164425802039,1649.3422342712165,4.2620209934015767,7.0295312277677855]
[68,149.36578481447512,1625.8905456696482,4.292170260049545,6.9785990462189904]
[69,150.99167536014477,1602.3335783417849,{"$f":"$G$7+(B80-18.5)*$G$6","v":4.3218908399166249},6.9251108147261879]
[70,152.59400893848655,1578.6964519362527,4.3511808085529804,6.8691937041957054]
[71,154.17270539042281,1555.0032371084228,4.380038700685148,6.8109743582255753]
[72,155.72770862753123,1531.2769656162288,4.4084634910408935,{"$f":"C83*D83/1000","v":6.7505785975910264}]
[73,157.25898559314746,1507.539642577683,4.43645457535861,6.6881311448482457]
[74,158.76652523572514,1483.8122606826118,4.4640117516207827,6.6237553688861803]
[75,160.25033749640775,1460.1148161572439,4.4911352015472383,6.557573049144473]
[76,161.710452312565,1436.4663262924182,4.5178254723802205,6.4897041591403237]
[77,163.14691863885741,1412.8848483545937,4.5440834589898671,6.4202666688655166]
[78,164.55980348721201,1389.3874997102671,4.5699103863253807,6.3493763655566013]
[79,165.94919098692228,1365.9904790050348,4.5953077922340633,6.2771466922893771]
[80,{"$f":"EXP(5.44-(5.44-LN(B90))*EXP(-$C$7*(A91-A90)))","v":167.31518146592731},1342.7090882429411,4.6202775106674885,6.2036886037777093]
[81,168.65789055417025,1319.5577556313935,4.6448216552912847,6.1291104387642621]
[82,169.97744830980164,1296.5500590520662,4.6689426035125035,6.0535178082948438]
[83,171.27399836885371,1273.6987500436499,4.6926429809360357,5.9770134992193356]
[84,172.54769711889736,1251.0157781757982,4.7159256462594143,5.899697392174426]
[85,173.79871289707316,1228.5123157110149,4.7387936766131649,5.8216663933327535]
[86,175.02722521278417,1206.1987824579887,4.7612503533519686,5.7430143791908135]
[87,176.23342399524216,1184.0848707246892,4.7832991483001255,5.6638321536524696]
[88,177.41750886596685,1162.1795702901068,4.8049437104531574,5.5842074166826015]
[89,178.57968843625696,1140.4911933178425,4.8261878531358793,5.5042247437990151]
[90,179.7201796295748,1119.0273991446702,4.8470355416158828,5.4239655756961991]
[91,180.83920702871947,1097.7952188798099,4.8674908811701414,5.3435082172896546]
[92,181.93700224759928,1076.8010797604575,4.8875581056012773,5.2629278455034321]
[93,183.01380332735974,1056.0508292114434,4.9072415661990494,5.1822965251253681]
[94,184.06985415657118,1035.5497585654803,4.9265457211416237,5.1016832320900081]
[{"$f":"A105+1","v":95},185.10540391513666,1015.3026264016773,4.9454751253304554,5.0211538835521763]
[96,186.12070654153834,995.31368146892873,4.9640344206517764,4.9407713741574009]
[97,187.11602022300727,975.58668516262514,4.9822283266571219,4.8605956179267542]
[98,188.09160690816989,956.12493352714978,5.0000616316547184,4.7806835951975195]
[99,189.04773184169704,936.9312787618469,5.0175391842030646,4.701089404093052]
[100,189.98466312045889,918.00815021144899,5.0346658849976356,4.6218643160193666]
[101,190.90267127067034,899.35757482447798,5.0514466791412858,4.5430568347076692]
[102,191.80202884549482,880.98119706617695,5.0678865487886151,4.4647127583473702]
[103,192.68301004256099,862.88029827642276,5.0839905061543407,4.3868752443849592]
[104,193.54589034083742,845.05581546676467,5.0997635868755227,4.3095848765948075]
[105,194.39094615630418,827.50835954715285,5.1152108437173887,4.2328797340223838]
[106,195.21845451585133,810.23823298488651,5.1303373406123356,4.15679546147412]
[107,196.02869274883622,793.24544689009713,5.1451481470217377,4.0813653412000139]
[108,196.82193819572632,776.52973753274068,5.1596483326100504,4.0066203654829255]
[109,197.59846793325906,760.09058228976301,5.1738429622208644,3.9325893098302491]
[110,198.35855851554882,743.92721503065218,5.1877370911444407,3.8592988065263003]
[111,199.10248573057947,728.0386409427706,5.201335760666506,3.7867734182826749]
[112,199.83052437152224,712.42365080613013,5.2146439938880409,3.715035711779977]
[113,200.54294802232837,697.08083472374938,5.2276667918060031,3.6441063308897537]
[114,201.24002885705212,682.00859531634705,5.2404091296450392,3.5740040693921742]
[115,201.92203745236847,667.20516039171684,5.2528759534303919,3.5047459430263173]
[116,202.58924261276019,652.66859509631558,5.2650721767923905,3.4363472607077896]
[117,203.2419112078565,638.39681356424194,5.2770026779930763,3.3688216948007512]
[118,203.88030802142075,624.38759007000044,5.2886722971657552,3.3021813502972992]
[119,204.50469561149075,610.6385697005976,5.3000858337584331,3.2364368328166488]
[120,205.11533418119134,597.14727855572391,5.3112480441723147,3.1715973153119088]
[121,205.71248145974707,583.911133491398,5.3221636395867744,3.1076706034178176]
[122,206.29639259323847,570.92745141841306,5.332837283962423,3.0446631993617581]
[123,206.86732004465688,558.19345816698274,5.3432735922141585,2.9825803643703375]
[124,207.42551350282386,545.70629693159844,5.3534771285462428,2.9214261795269771]
[125,207.97121979975546,533.46303631101932,5.363452404941766,2.861203605049873]
[126,208.50468283606648,521.46067795115414,5.373203879799064,2.8019145379297914]
[127,209.02614351401763,509.69616380842808,5.3827359567078492,2.7435598679276798]
[128,209.53583967782606,{"$f":"(B140-B139)/(A140-A139)*1000","v":498.16638304517369},5.392052983358111,2.6861395319074481]
[129,210.03400606087123,486.8681785677893,5.4011592505750654,2.629652566482048]
[130,210.52087423943902,475.79835322190434,5.4100589914736164,2.5740971589765032]
[131,210.99667259266093,464.95367565813694,5.4187563807260606,2.5194706967145648]
[132,211.46162626831907,454.33088587699899,5.4272555339370152,2.4657698146144496]
[133,211.91595715419606,443.92670046892135,{"$f":"$G$7+(B144-18.5)*$G$6","v":5.4355605071197131},2.4129904411248311]
[134,212.35988385466499,433.7378175578408,{"$f":"$G$7+(B145-18.5)*$G$6","v":5.4436752962680695},2.3611278424968449]
[135,212.79362167222283]

{"sheet":"Vejledning afgang","index":19,"n_rows":0,"n_cols":0,"rows_kept":0,"cut":false,"hidden":false,"merged":[]}

{"sheet":"Gompertz pattegrise model","index":20,"n_rows":55,"n_cols":137,"rows_kept":55,"cut":false,"hidden":true,"merged":[]}
["Regneark til farestaldsmanaual - selve regnedel. Indtastes i faneblad Farestald"]
[null,null,null,null,null,null,null,null,null,null,null,null,"Feso dag 0",null,{"$f":"'Gompertz Pattegrise'!$J$4","v":3},null,null,null,null,null,null,null,null,null,null,null,null,null,null,null,null,null,null,null,null,"Feso dag 0",null,{"$f":"'Gompertz Pattegrise'!$J$4","v":3},null,null,null,null,null,null,null,null,null,null,null,null,null,null,null,null,null,null,null,null,"Feso dag 0",null,{"$f":"'Gompertz Pattegrise'!$J$4","v":3},null,null,null,null,null,null,null,null,null,null,null,null,null,null,null,null,null,null,null,null,"Feso dag 0",null,{"$f":"'Gompertz Pattegrise'!$J$4","v":3},null,null,null,null,null,null,null,null,null,null,null,null,null,null,null,null,null,null,null,null,"Feso dag 0",null,{"$f":"'Gompertz Pattegrise'!$J$4","v":3},null,null,null,null,null,null,null,null,null,null,null,null,null,null,null,null,null,null,null,null,"Feso dag 0",null,{"$f":"'Gompertz Pattegrise'!$J$4","v":3}]
[null,null,null,null,null,null,null,null,"Lgk",{"$f":"'Gompertz Pattegrise'!$B$4","v":13.5},null,null,"Feso dag 7",null,{"$f":"'Gompertz Pattegrise'!$J$5","v":6},null,null,null,null,null,null,null,null,null,null,null,null,null,null,null,null,"Lgk",{"$f":"'Gompertz Pattegrise'!$C$4","v":13.5},null,null,"Feso dag 7",null,{"$f":"'Gompertz Pattegrise'!$J$5","v":6},null,null,null,null,null,null,null,null,null,null,null,null,null,null,null,null,"Lgk",{"$f":"'Gompertz Pattegrise'!$D$4","v":13.5},null,null,"Feso dag 7",null,{"$f":"'Gompertz Pattegrise'!$J$5","v":6},null,null,null,null,null,null,null,null,null,null,null,null,null,null,null,null,"Lgk",{"$f":"'Gompertz Pattegrise'!$E$4","v":13.5},null,null,"Feso dag 7",null,{"$f":"'Gompertz Pattegrise'!$J$5","v":6},null,null,null,null,null,null,null,null,null,null,null,null,null,null,null,null,"Lgk",{"$f":"'Gompertz Pattegrise'!$F$4","v":13.5},null,null,"Feso dag 7",null,{"$f":"'Gompertz Pattegrise'!$J$5","v":6},null,null,null,null,null,null,null,null,null,null,null,null,null,null,null,null,"Lgk",{"$f":"'Gompertz Pattegrise'!$G$4","v":13.5},null,null,"Feso dag 7",null,{"$f":"'Gompertz Pattegrise'!$J$5","v":6}]
["Fødselsvægt",null,{"$f":"'Gompertz Pattegrise'!$B$5","v":1.35},null,"FEsv/kg 30-100 kg",null,2.75,null,"frav pr kuld",{"$f":"'Gompertz Pattegrise'!$B$4-'Gompertz Pattegrise'!$B$4*'Gompertz Pattegrise'!$B$6/100","v":12.15},null,null,"Feso dag 14",null,{"$f":"'Gompertz Pattegrise'!$J$6","v":8.5},null,null,null,null," ",null,null,null,"Fødselsvægt",null,{"$f":"'Gompertz Pattegrise'!$C$5","v":1.35},null,"FEsv/kg 30-100 kg",null,2.75,null,"frav pr kuld",{"$f":"'Gompertz Pattegrise'!$C$4-'Gompertz Pattegrise'!$C$4*'Gompertz Pattegrise'!$C$6/100","v":12.15},null,null,"Feso dag 14",null,{"$f":"'Gompertz Pattegrise'!$J$6","v":8.5},null,null,null,null," ",null,null,null,"Fødselsvægt",null,{"$f":"'Gompertz Pattegrise'!$D$5","v":1.35},null,"FEsv/kg 30-100 kg",null,2.75,null,"frav pr kuld",{"$f":"'Gompertz Pattegrise'!$D$4-'Gompertz Pattegrise'!$D$4*'Gompertz Pattegrise'!$D$6/100","v":12.15},null,null,"Feso dag 14",null,{"$f":"'Gompertz Pattegrise'!$J$6","v":8.5},null,null,null,null," ",null,null,null,"Fødselsvægt",null,{"$f":"'Gompertz Pattegrise'!$E$5","v":1.35},null,"FEsv/kg 30-100 kg",null,2.75,null,"frav pr kuld",{"$f":"'Gompertz Pattegrise'!$E$4-'Gompertz Pattegrise'!$E$4*'Gompertz Pattegrise'!$E$6/100","v":12.15},null,null,"Feso dag 14",null,{"$f":"'Gompertz Pattegrise'!$J$6","v":8.5},null,null,null,null," ",null,null,null,"Fødselsvægt",null,{"$f":"'Gompertz Pattegrise'!$F$5","v":1.35},null,"FEsv/kg 30-100 kg",null,2.75,null,"frav pr kuld",{"$f":"'Gompertz Pattegrise'!$F$4-'Gompertz Pattegrise'!$F$4*'Gompertz Pattegrise'!$F$6/100","v":12.15},null,null,"Feso dag 14",null,{"$f":"'Gompertz Pattegrise'!$J$6","v":8.5},null,null,null,null," ",null,null,null,"Fødselsvægt",null,{"$f":"'Gompertz Pattegrise'!$G$5","v":1.35},null,"FEsv/kg 30-100 kg",null,2.75,null,"frav pr kuld",{"$f":"'Gompertz Pattegrise'!$G$4-'Gompertz Pattegrise'!$G$4*'Gompertz Pattegrise'!$G$6/100","v":12.15},null,null,"Feso dag 14",null,{"$f":"'Gompertz Pattegrise'!$J$6","v":8.5},null,null,null,null," "]
["Dgl tilv 30-100 kg =",null,1300,null,"Vægtkorr.faktor",null,{"$f":" (G4-G6)/46.5","v":2.1505376344086023E-2},null,"FE/dag start",{"$f":"'Gompertz Pattegrise'!$J$4","v":3},null,null,"Feso dag 21",null,{"$f":"'Gompertz Pattegrise'!$J$8","v":10},{"$f":"'Gompertz Pattegrise'!$B$8","v":0.4},"Fesv pr 10 smågrise, dag 28",null,null,null,null,null,null,"Dgl tilv 30-100 kg =",null,1300,null,"Vægtkorr.faktor",null,{"$f":" (AD4-AD6)/46.5","v":2.1505376344086023E-2},null,"FE/dag start",{"$f":"'Gompertz Pattegrise'!$J$4","v":3},null,null,"Feso dag 21",null,{"$f":"'Gompertz Pattegrise'!$J$8","v":10},{"$f":"'Gompertz Pattegrise'!$C$8","v":0.4},"Fesv pr 10 smågrise, dag 28",null,null,null,null,null,null,"Dgl tilv 30-100 kg =",null,1300,null,"Vægtkorr.faktor",null,{"$f":" (BA4-BA6)/46.5","v":2.1505376344086023E-2},null,"FE/dag start",{"$f":"'Gompertz Pattegrise'!$J$4","v":3},null,null,"Feso dag 21",null,{"$f":"'Gompertz Pattegrise'!$J$8","v":10},{"$f":"'Gompertz Pattegrise'!$D$8","v":0.4},"Fesv pr 10 smågrise, dag 28",null,null,null,null,null,null,"Dgl tilv 30-100 kg =",null,1300,null,"Vægtkorr.faktor",null,{"$f":" (BX4-BX6)/46.5","v":2.1505376344086023E-2},null,"FE/dag start",{"$f":"'Gompertz Pattegrise'!$J$4","v":3},null,null,"Feso dag 21",null,{"$f":"'Gompertz Pattegrise'!$J$8","v":10},{"$f":"'Gompertz Pattegrise'!$E$8","v":0.4},"Fesv pr 10 smågrise, dag 28",null,null,null,null,null,null,"Dgl tilv 30-100 kg =",null,1300,null,"Vægtkorr.faktor",null,{"$f":" (CU4-CU6)/46.5","v":2.1505376344086023E-2},null,"FE/dag start",{"$f":"'Gompertz Pattegrise'!$J$4","v":3},null,null,"Feso dag 21",null,{"$f":"'Gompertz Pattegrise'!$J$8","v":10},{"$f":"'Gompertz Pattegrise'!$F$8","v":0.4},"Fesv pr 10 smågrise, dag 28",null,null,null,null,null,null,"Dgl tilv 30-100 kg =",null,1300,null,"Vægtkorr.faktor",null,{"$f":" (DR4-DR6)/46.5","v":2.1505376344086023E-2},null,"FE/dag start",{"$f":"'Gompertz Pattegrise'!$J$4","v":3},null,null,"Feso dag 21",null,{"$f":"'Gompertz Pattegrise'!$J$8","v":10},{"$f":"'Gompertz Pattegrise'!$G$8","v":0.4},"Fesv pr 10 smågrise, dag 28"]
["Vækstrate =",null,{"$f":"0.00115+C5/87000","v":1.6092528735632182E-2},null,"Fesv/kg 7-30 kg",null,1.75,null,"FF/dag, slut",12,"max accepteret",null,"Feso dag 28",null,{"$f":"'Gompertz Pattegrise'!$J$9","v":10},null,null,null,null,null,null,"teoretisk",null,"Vækstrate =",null,{"$f":"0.00115+Z5/87000","v":1.6092528735632182E-2},null,"Fesv/kg 7-30 kg",null,1.75,null,"FF/dag, slut",12,"max accepteret",null,"Feso dag 28",null,{"$f":"'Gompertz Pattegrise'!$J$9","v":10},null,null,null,null,null,null,"teoretisk",null,"Vækstrate =",null,{"$f":"0.00115+AW5/87000","v":1.6092528735632182E-2},null,"Fesv/kg 7-30 kg",null,1.75,null,"FF/dag, slut",12,"max accepteret",null,"Feso dag 28",null,{"$f":"'Gompertz Pattegrise'!$J$9","v":10},null,null,null,null,null,null,"teoretisk",null,"Vækstrate =",null,{"$f":"0.00115+BT5/87000","v":1.6092528735632182E-2},null,"Fesv/kg 7-30 kg",null,1.75,null,"FF/dag, slut",12,"max accepteret",null,"Feso dag 28",null,{"$f":"'Gompertz Pattegrise'!$J$9","v":10},null,null,null,null,null,null,"teoretisk",null,"Vækstrate =",null,{"$f":"0.00115+CQ5/87000","v":1.6092528735632182E-2},null,"Fesv/kg 7-30 kg",null,1.75,null,"FF/dag, slut",12,"max accepteret",null,"Feso dag 28",null,{"$f":"'Gompertz Pattegrise'!$J$9","v":10},null,null,null,null,null,null,"teoretisk",null,"Vækstrate =",null,{"$f":"0.00115+DN5/87000","v":1.6092528735632182E-2},null,"Fesv/kg 7-30 kg",null,1.75,null,"FF/dag, slut",12,"max accepteret",null,"Feso dag 28",null,{"$f":"'Gompertz Pattegrise'!$J$9","v":10},null,null,null,null,null,null,"teoretisk"]
[]
["Potentiale ved ubegrænset mælk",null,null,null,null,null,"Aktuel begrænsende faktorer",null,null,null,"Fradrag","Opnået resultat",null,null,null,"tørfoder","Sofoder","soens vægt","vægt-",null,null,"foderbehov",null,"Potentiale ved ubegrænset mælk",null,null,null,null,null,"Aktuel begrænsende faktorer",null,null,null,"Fradrag","Opnået resultat",null,null,null,"tørfoder","Sofoder","soens vægt","vægt-",null,null,"foderbehov",null,"Potentiale ved ubegrænset mælk",null,null,null,null,null,"Aktuel begrænsende faktorer",null,null,null,"Fradrag","Opnået resultat",null,null,null,"tørfoder","Sofoder","soens vægt","vægt-",null,null,"foderbehov",null,"Potentiale ved ubegrænset mælk",null,null,null,null,null,"Aktuel begrænsende faktorer",null,null,null,"Fradrag","Opnået resultat",null,null,null,"tørfoder","Sofoder","soens vægt","vægt-",null,null,"foderbehov",null,"Potentiale ved ubegrænset mælk",null,null,null,null,null,"Aktuel begrænsende faktorer",null,null,null,"Fradrag","Opnået resultat",null,null,null,"tørfoder","Sofoder","soens vægt","vægt-",null,null,"foderbehov",null,"Potentiale ved ubegrænset mælk",null,null,null,null,null,"Aktuel begrænsende faktorer",null,null,null,"Fradrag","Opnået resultat",null,null,null,"tørfoder","Sofoder","soens vægt","vægt-",null,null,"foderbehov"]
["Dag efter",null,null,null,"behov",null,"FEso","Feso","grise pr","tørfoder","over 8 FE","Max","Feialt","daglig","vægt","i alt","i alt","ændring","ændring","Aktuelt FE",null,"tørfoder",null,"Dag efter",null,null,null,"behov",null,"FEso","Feso","grise pr","tørfoder","over 8 FE","Max","Feialt","daglig","vægt","i alt","i alt","ændring","ændring","Aktuelt FE",null,"tørfoder",null,"Dag efter",null,null,null,"behov",null,"FEso","Feso","grise pr","tørfoder","over 8 FE","Max","Feialt","daglig","vægt","i alt","i alt","ændring","ændring","Aktuelt FE",null,"tørfoder",null,"Dag efter",null,null,null,"behov",null,"FEso","Feso","grise pr","tørfoder","over 8 FE","Max","Feialt","daglig","vægt","i alt","i alt","ændring","ændring","Aktuelt FE",null,"tørfoder",null,"Dag efter",null,null,null,"behov",null,"FEso","Feso","grise pr","tørfoder","over 8 FE","Max","Feialt","daglig","vægt","i alt","i alt","ændring","ændring","Aktuelt FE",null,"tørfoder",null,"Dag efter",null,null,null,"behov",null,"FEso","Feso","grise pr","tørfoder","over 8 FE","Max","Feialt","daglig","vægt","i alt","i alt","ændring","ændring","Aktuelt FE",null,"tørfoder"]
["faring","vægt","dgl tilv","FE/kg","FE/dag",null,"pr dag","Med max","kuld","FE/gris",null,"Femælk","pr gris","tilvækst","opnået","pr kuld",null,"pr dag","i alt","i mælk",null,"pr dag",null,"faring","vægt","dgl tilv","FE/kg","FE/dag",null,"pr dag","Med max","kuld","FE/gris",null,"Femælk","pr gris","tilvækst","opnået","pr kuld",null,"pr dag","i alt","i mælk",null,"pr dag",null,"faring","vægt","dgl tilv","FE/kg","FE/dag",null,"pr dag","Med max","kuld","FE/gris",null,"Femælk","pr gris","tilvækst","opnået","pr kuld",null,"pr dag","i alt","i mælk",null,"pr dag",null,"faring","vægt","dgl tilv","FE/kg","FE/dag",null,"pr dag","Med max","kuld","FE/gris",null,"Femælk","pr gris","tilvækst","opnået","pr kuld",null,"pr dag","i alt","i mælk",null,"pr dag",null,"faring","vægt","dgl tilv","FE/kg","FE/dag",null,"pr dag","Med max","kuld","FE/gris",null,"Femælk","pr gris","tilvækst","opnået","pr kuld",null,"pr dag","i alt","i mælk",null,"pr dag",null,"faring","vægt","dgl tilv","FE/kg","FE/dag",null,"pr dag","Med max","kuld","FE/gris",null,"Femælk","pr gris","tilvækst","opnået","pr kuld",null,"pr dag","i alt","i mælk",null,"pr dag"]
[0,{"$f":"C4","v":1.35},{"$f":"(B12-B11)/(A12-A11)*1000","v":115.44144499069797},{"$f":"$G$6+(B11-18.5)*$G$5","v":1.3811827956989247},{"$f":"C11*D11/1000","v":0.15944573773177584},null,{"$f":"O2","v":3},{"$f":"IF(G11>$J$6,$J$6,G11)","v":3},{"$f":"J3","v":13.5},null,{"$f":"IF(H11<8.01,0,(8-H11)*0.15)","v":0},{"$f":"(I11*0.15+0.3*H11+K11)/I11","v":0.21666666666666665},{"$f":"J11+L11","v":0.21666666666666665},{"$f":"IF(E11<M11,C11,M11/D11*1000)","v":115.44144499069797},{"$f":"B11","v":1.35},null,{"$f":"H11","v":3},{"$f":"(H11-2-T11*I11*1.5)/3","v":-0.74292539635615373},{"$f":"R11","v":-0.74292539635615373},{"$f":"IF(E11<L11,E11,L11)","v":0.15944573773177584},null,{"$f":"(E11-L11)*I11","v":-0.77248254062102595},null,0,{"$f":"Z4","v":1.35},{"$f":"(Y12-Y11)/(X12-X11)*1000","v":115.44144499069797},{"$f":"$G$6+(Y11-18.5)*$G$5","v":1.3811827956989247},{"$f":"Z11*AA11/1000","v":0.15944573773177584},null,{"$f":"AL2","v":3},{"$f":"IF(AD11>$J$6,$J$6,AD11)","v":3},{"$f":"AG3","v":13.5},null,{"$f":"IF(AE11<8.01,0,(8-AE11)*0.15)","v":0},{"$f":"(AF11*0.15+0.3*AE11+AH11)/AF11","v":0.21666666666666665},{"$f":"AG11+AI11","v":0.21666666666666665},{"$f":"IF(AB11<AJ11,Z11,AJ11/AA11*1000)","v":115.44144499069797},{"$f":"Y11","v":1.35},null,{"$f":"AE11","v":3},{"$f":"(AE11-2-AQ11*AF11*1.5)/3","v":-0.74292539635615373},{"$f":"AO11","v":-0.74292539635615373},{"$f":"IF(AB11<AI11,AB11,AI11)","v":0.15944573773177584},null,{"$f":"(AB11-AI11)*AF11","v":-0.77248254062102595},null,0,{"$f":"AW4","v":1.35},{"$f":"(AV12-AV11)/(AU12-AU11)*1000","v":115.44144499069797},{"$f":"$G$6+(AV11-18.5)*$G$5","v":1.3811827956989247},{"$f":"AW11*AX11/1000","v":0.15944573773177584},null,{"$f":"BI2","v":3},{"$f":"IF(BA11>$J$6,$J$6,BA11)","v":3},{"$f":"BD3","v":13.5},null,{"$f":"IF(BB11<8.01,0,(8-BB11)*0.15)","v":0},{"$f":"(BC11*0.15+0.3*BB11+BE11)/BC11","v":0.21666666666666665},{"$f":"BD11+BF11","v":0.21666666666666665},{"$f":"IF(AY11<BG11,AW11,BG11/AX11*1000)","v":115.44144499069797},{"$f":"AV11","v":1.35},null,{"$f":"BB11","v":3},{"$f":"(BB11-2-BN11*BC11*1.5)/3","v":-0.74292539635615373},{"$f":"BL11","v":-0.74292539635615373},{"$f":"IF(AY11<BF11,AY11,BF11)","v":0.15944573773177584},null,{"$f":"(AY11-BF11)*BC11","v":-0.77248254062102595},null,0,{"$f":"BT4","v":1.35},{"$f":"(BS12-BS11)/(BR12-BR11)*1000","v":115.44144499069797},{"$f":"$G$6+(BS11-18.5)*$G$5","v":1.3811827956989247},{"$f":"BT11*BU11/1000","v":0.15944573773177584},null,{"$f":"CF2","v":3},{"$f":"IF(BX11>$J$6,$J$6,BX11)","v":3},{"$f":"CA3","v":13.5},null,{"$f":"IF(BY11<8.01,0,(8-BY11)*0.15)","v":0},{"$f":"(BZ11*0.15+0.3*BY11+CB11)/BZ11","v":0.21666666666666665},{"$f":"CA11+CC11","v":0.21666666666666665},{"$f":"IF(BV11<CD11,BT11,CD11/BU11*1000)","v":115.44144499069797},{"$f":"BS11","v":1.35},null,{"$f":"BY11","v":3},{"$f":"(BY11-2-CK11*BZ11*1.5)/3","v":-0.74292539635615373},{"$f":"CI11","v":-0.74292539635615373},{"$f":"IF(BV11<CC11,BV11,CC11)","v":0.15944573773177584},null,{"$f":"(BV11-CC11)*BZ11","v":-0.77248254062102595},null,0,{"$f":"CQ4","v":1.35},{"$f":"(CP12-CP11)/(CO12-CO11)*1000","v":115.44144499069797},{"$f":"$G$6+(CP11-18.5)*$G$5","v":1.3811827956989247},{"$f":"CQ11*CR11/1000","v":0.15944573773177584},null,{"$f":"DC2","v":3},{"$f":"IF(CU11>$J$6,$J$6,CU11)","v":3},{"$f":"CX3","v":13.5},null,{"$f":"IF(CV11<8.01,0,(8-CV11)*0.15)","v":0},{"$f":"(CW11*0.15+0.3*CV11+CY11)/CW11","v":0.21666666666666665},{"$f":"CX11+CZ11","v":0.21666666666666665},{"$f":"IF(CS11<DA11,CQ11,DA11/CR11*1000)","v":115.44144499069797},{"$f":"CP11","v":1.35},null,{"$f":"CV11","v":3},{"$f":"(CV11-2-DH11*CW11*1.5)/3","v":-0.74292539635615373},{"$f":"DF11","v":-0.74292539635615373},{"$f":"IF(CS11<CZ11,CS11,CZ11)","v":0.15944573773177584},null,{"$f":"(CS11-CZ11)*CW11","v":-0.77248254062102595},null,0,{"$f":"DN4","v":1.35},{"$f":"(DM12-DM11)/(DL12-DL11)*1000","v":115.44144499069797},{"$f":"$G$6+(DM11-18.5)*$G$5","v":1.3811827956989247},{"$f":"DN11*DO11/1000","v":0.15944573773177584},null,{"$f":"DZ2","v":3},{"$f":"IF(DR11>$J$6,$J$6,DR11)","v":3},{"$f":"DU3","v":13.5},null,{"$f":"IF(DS11<8.01,0,(8-DS11)*0.15)","v":0},{"$f":"(DT11*0.15+0.3*DS11+DV11)/DT11","v":0.21666666666666665},{"$f":"DU11+DW11","v":0.21666666666666665},{"$f":"IF(DP11<DX11,DN11,DX11/DO11*1000)","v":115.44144499069797},{"$f":"DM11","v":1.35},null,{"$f":"DS11","v":3},{"$f":"(DS11-2-EE11*DT11*1.5)/3","v":-0.74292539635615373},{"$f":"EC11","v":-0.74292539635615373},{"$f":"IF(DP11<DW11,DP11,DW11)","v":0.15944573773177584},null,{"$f":"(DP11-DW11)*DT11","v":-0.77248254062102595}]
[{"$f":"A11+1","v":1},{"$f":"EXP(5.44-(5.44-LN(B11))*EXP(-$C$6*(A12-A11)))","v":1.4654414449906981},{"$f":"(B13-B12)/(A13-A12)*1000","v":123.23080046179102},1.3836654074191548,0.17051019572755263,null,{"$f":"O2+(O3-O2)*0.14","v":3.42},{"$f":"IF(G12>$J$6,$J$6,G12)","v":3.42},{"$f":"J3-0.35*(J3-J4)","v":13.0275},null,{"$f":"IF(H12<8.01,0,(8-H12)*0.15)","v":0},{"$f":"(I12*0.15+0.3*H12+K12)/I12","v":0.22875647668393784},{"$f":"J12+L12","v":0.22875647668393784},{"$f":"IF(E12<M12,C12,M12/D12*1000)","v":123.23080046179102},{"$f":"O11+N11/1000","v":1.4654414449906981},null,{"$f":"H12+Q11","v":6.42},{"$f":"(H12-2-T12*I12*1.5)/3","v":-0.63732745408701275},{"$f":"S11+R12","v":-1.3802528504431666},{"$f":"IF(E12<L12,E12,L12)","v":0.17051019572755263},null,{"$f":"(E12-L12)*I12","v":-0.75880342515930821},null,{"$f":"X11+1","v":1},{"$f":"EXP(5.44-(5.44-LN(Y11))*EXP(-$C$6*(X12-X11)))","v":1.4654414449906981},{"$f":"(Y13-Y12)/(X13-X12)*1000","v":123.23080046179102},1.3836654074191548,0.17051019572755263,null,{"$f":"AL2+(AL3-AL2)*0.14","v":3.42},{"$f":"IF(AD12>$J$6,$J$6,AD12)","v":3.42},{"$f":"AG3-0.35*(AG3-AG4)","v":13.0275},null,{"$f":"IF(AE12<8.01,0,(8-AE12)*0.15)","v":0},{"$f":"(AF12*0.15+0.3*AE12+AH12)/AF12","v":0.22875647668393784},{"$f":"AG12+AI12","v":0.22875647668393784},{"$f":"IF(AB12<AJ12,Z12,AJ12/AA12*1000)","v":123.23080046179102},{"$f":"AL11+AK11/1000","v":1.4654414449906981},null,{"$f":"AE12+AN11","v":6.42},{"$f":"(AE12-2-AQ12*AF12*1.5)/3","v":-0.63732745408701275},{"$f":"AP11+AO12","v":-1.3802528504431666},{"$f":"IF(AB12<AI12,AB12,AI12)","v":0.17051019572755263},null,{"$f":"(AB12-AI12)*AF12","v":-0.75880342515930821},null,{"$f":"AU11+1","v":1},{"$f":"EXP(5.44-(5.44-LN(AV11))*EXP(-$C$6*(AU12-AU11)))","v":1.4654414449906981},{"$f":"(AV13-AV12)/(AU13-AU12)*1000","v":123.23080046179102},1.3836654074191548,0.17051019572755263,null,{"$f":"BI2+(BI3-BI2)*0.14","v":3.42},{"$f":"IF(BA12>$J$6,$J$6,BA12)","v":3.42},{"$f":"BD3-0.35*(BD3-BD4)","v":13.0275},null,{"$f":"IF(BB12<8.01,0,(8-BB12)*0.15)","v":0},{"$f":"(BC12*0.15+0.3*BB12+BE12)/BC12","v":0.22875647668393784},{"$f":"BD12+BF12","v":0.22875647668393784},{"$f":"IF(AY12<BG12,AW12,BG12/AX12*1000)","v":123.23080046179102},{"$f":"BI11+BH11/1000","v":1.4654414449906981},null,{"$f":"BB12+BK11","v":6.42},{"$f":"(BB12-2-BN12*BC12*1.5)/3","v":-0.63732745408701275},{"$f":"BM11+BL12","v":-1.3802528504431666},{"$f":"IF(AY12<BF12,AY12,BF12)","v":0.17051019572755263},null,{"$f":"(AY12-BF12)*BC12","v":-0.75880342515930821},null,{"$f":"BR11+1","v":1},{"$f":"EXP(5.44-(5.44-LN(BS11))*EXP(-$C$6*(BR12-BR11)))","v":1.4654414449906981},{"$f":"(BS13-BS12)/(BR13-BR12)*1000","v":123.23080046179102},1.3836654074191548,0.17051019572755263,null,{"$f":"CF2+(CF3-CF2)*0.14","v":3.42},{"$f":"IF(BX12>$J$6,$J$6,BX12)","v":3.42},{"$f":"CA3-0.35*(CA3-CA4)","v":13.0275},null,{"$f":"IF(BY12<8.01,0,(8-BY12)*0.15)","v":0},{"$f":"(BZ12*0.15+0.3*BY12+CB12)/BZ12","v":0.22875647668393784},{"$f":"CA12+CC12","v":0.22875647668393784},{"$f":"IF(BV12<CD12,BT12,CD12/BU12*1000)","v":123.23080046179102},{"$f":"CF11+CE11/1000","v":1.4654414449906981},null,{"$f":"BY12+CH11","v":6.42},{"$f":"(BY12-2-CK12*BZ12*1.5)/3","v":-0.63732745408701275},{"$f":"CJ11+CI12","v":-1.3802528504431666},{"$f":"IF(BV12<CC12,BV12,CC12)","v":0.17051019572755263},null,{"$f":"(BV12-CC12)*BZ12","v":-0.75880342515930821},null,{"$f":"CO11+1","v":1},{"$f":"EXP(5.44-(5.44-LN(CP11))*EXP(-$C$6*(CO12-CO11)))","v":1.4654414449906981},{"$f":"(CP13-CP12)/(CO13-CO12)*1000","v":123.23080046179102},1.3836654074191548,0.17051019572755263,null,{"$f":"DC2+(DC3-DC2)*0.14","v":3.42},{"$f":"IF(CU12>$J$6,$J$6,CU12)","v":3.42},{"$f":"CX3-0.35*(CX3-CX4)","v":13.0275},null,{"$f":"IF(CV12<8.01,0,(8-CV12)*0.15)","v":0},{"$f":"(CW12*0.15+0.3*CV12+CY12)/CW12","v":0.22875647668393784},{"$f":"CX12+CZ12","v":0.22875647668393784},{"$f":"IF(CS12<DA12,CQ12,DA12/CR12*1000)","v":123.23080046179102},{"$f":"DC11+DB11/1000","v":1.4654414449906981},null,{"$f":"CV12+DE11","v":6.42},{"$f":"(CV12-2-DH12*CW12*1.5)/3","v":-0.63732745408701275},{"$f":"DG11+DF12","v":-1.3802528504431666},{"$f":"IF(CS12<CZ12,CS12,CZ12)","v":0.17051019572755263},null,{"$f":"(CS12-CZ12)*CW12","v":-0.75880342515930821},null,{"$f":"DL11+1","v":1},{"$f":"EXP(5.44-(5.44-LN(DM11))*EXP(-$C$6*(DL12-DL11)))","v":1.4654414449906981},{"$f":"(DM13-DM12)/(DL13-DL12)*1000","v":123.23080046179102},1.3836654074191548,0.17051019572755263,null,{"$f":"DZ2+(DZ3-DZ2)*0.14","v":3.42},{"$f":"IF(DR12>$J$6,$J$6,DR12)","v":3.42},{"$f":"DU3-0.35*(DU3-DU4)","v":13.0275},null,{"$f":"IF(DS12<8.01,0,(8-DS12)*0.15)","v":0},{"$f":"(DT12*0.15+0.3*DS12+DV12)/DT12","v":0.22875647668393784},{"$f":"DU12+DW12","v":0.22875647668393784},{"$f":"IF(DP12<DX12,DN12,DX12/DO12*1000)","v":123.23080046179102},{"$f":"DZ11+DY11/1000","v":1.4654414449906981},null,{"$f":"DS12+EB11","v":6.42},{"$f":"(DS12-2-EE12*DT12*1.5)/3","v":-0.63732745408701275},{"$f":"ED11+EC12","v":-1.3802528504431666},{"$f":"IF(DP12<DW12,DP12,DW12)","v":0.17051019572755263},null,{"$f":"(DP12-DW12)*DT12","v":-0.75880342515930821}]
[{"$f":"A12+1","v":2},1.5886722454524891,131.37495631068518,1.3863155321602685,0.18212714247037953,null,{"$f":"O2+(O3-O2)*0.28","v":3.84},3.84,{"$f":"J3-0.5*(J3-J4)","v":12.824999999999999},null,0,0.23982456140350877,0.23982456140350877,131.37495631068518,{"$f":"O12+N12/1000","v":1.5886722454524891},null,{"$f":"H13+Q12","v":10.26},-0.55455696775797536,{"$f":"S12+R13","v":-1.934809818201142},0.18212714247037953,null,-0.73996939781738247,null,{"$f":"X12+1","v":2},1.5886722454524891,131.37495631068518,1.3863155321602685,0.18212714247037953,null,{"$f":"AL2+(AL3-AL2)*0.28","v":3.84},3.84,{"$f":"AG3-0.5*(AG3-AG4)","v":12.824999999999999},null,0,0.23982456140350877,0.23982456140350877,131.37495631068518,{"$f":"AL12+AK12/1000","v":1.5886722454524891},null,{"$f":"AE13+AN12","v":10.26},-0.55455696775797536,{"$f":"AP12+AO13","v":-1.934809818201142},0.18212714247037953,null,-0.73996939781738247,null,{"$f":"AU12+1","v":2},1.5886722454524891,131.37495631068518,1.3863155321602685,0.18212714247037953,null,{"$f":"BI2+(BI3-BI2)*0.28","v":3.84},3.84,{"$f":"BD3-0.5*(BD3-BD4)","v":12.824999999999999},null,0,0.23982456140350877,0.23982456140350877,131.37495631068518,{"$f":"BI12+BH12/1000","v":1.5886722454524891},null,{"$f":"BB13+BK12","v":10.26},-0.55455696775797536,{"$f":"BM12+BL13","v":-1.934809818201142},0.18212714247037953,null,-0.73996939781738247,null,{"$f":"BR12+1","v":2},1.5886722454524891,131.37495631068518,1.3863155321602685,0.18212714247037953,null,{"$f":"CF2+(CF3-CF2)*0.28","v":3.84},3.84,{"$f":"CA3-0.5*(CA3-CA4)","v":12.824999999999999},null,0,0.23982456140350877,0.23982456140350877,131.37495631068518,{"$f":"CF12+CE12/1000","v":1.5886722454524891},null,{"$f":"BY13+CH12","v":10.26},-0.55455696775797536,{"$f":"CJ12+CI13","v":-1.934809818201142},0.18212714247037953,null,-0.73996939781738247,null,{"$f":"CO12+1","v":2},1.5886722454524891,131.37495631068518,1.3863155321602685,0.18212714247037953,null,{"$f":"DC2+(DC3-DC2)*0.28","v":3.84},3.84,{"$f":"CX3-0.5*(CX3-CX4)","v":12.824999999999999},null,0,0.23982456140350877,0.23982456140350877,131.37495631068518,{"$f":"DC12+DB12/1000","v":1.5886722454524891},null,{"$f":"CV13+DE12","v":10.26},-0.55455696775797536,{"$f":"DG12+DF13","v":-1.934809818201142},0.18212714247037953,null,-0.73996939781738247,null,{"$f":"DL12+1","v":2},1.5886722454524891,131.37495631068518,1.3863155321602685,0.18212714247037953,null,{"$f":"DZ2+(DZ3-DZ2)*0.28","v":3.84},3.84,{"$f":"DU3-0.5*(DU3-DU4)","v":12.824999999999999},null,0,0.23982456140350877,0.23982456140350877,131.37495631068518,{"$f":"DZ12+DY12/1000","v":1.5886722454524891},null,{"$f":"DS13+EB12","v":10.26},-0.55455696775797536,{"$f":"ED12+EC13","v":-1.934809818201142},0.18212714247037953,null,-0.73996939781738247]
[3,1.7200472017631743,139.87841557878178,1.3891408000379177,0.19431081412514528,null,{"$f":"O2+(O3-O2)*0.42","v":4.26},4.26,{"$f":"$J$3-0.58*($J$3-$J$4)","v":12.717000000000001},null,0,0.2504953998584572,0.2504953998584572,139.87841557878178,1.7200472017631743,null,14.52,-0.48219197828140298,-2.4170017964825448,0.19431081412514528,null,-0.71449937677052777,null,3,1.7200472017631743,139.87841557878178,1.3891408000379177,0.19431081412514528,null,{"$f":"AL2+(AL3-AL2)*0.42","v":4.26},4.26,{"$f":"AG3-0.58*(AG3-AG4)","v":12.717000000000001},null,0,0.2504953998584572,0.2504953998584572,139.87841557878178,1.7200472017631743,null,14.52,-0.48219197828140298,-2.4170017964825448,0.19431081412514528,null,-0.71449937677052777,null,3,1.7200472017631743,139.87841557878178,1.3891408000379177,0.19431081412514528,null,{"$f":"BI2+(BI3-BI2)*0.42","v":4.26},4.26,{"$f":"BD3-0.58*(BD3-BD4)","v":12.717000000000001},null,0,0.2504953998584572,0.2504953998584572,139.87841557878178,1.7200472017631743,null,14.52,-0.48219197828140298,-2.4170017964825448,0.19431081412514528,null,-0.71449937677052777,null,3,1.7200472017631743,139.87841557878178,1.3891408000379177,0.19431081412514528,null,{"$f":"CF2+(CF3-CF2)*0.42","v":4.26},4.26,{"$f":"CA3-0.58*(CA3-CA4)","v":12.717000000000001},null,0,0.2504953998584572,0.2504953998584572,139.87841557878178,1.7200472017631743,null,14.52,-0.48219197828140298,-2.4170017964825448,0.19431081412514528,null,-0.71449937677052777,null,3,1.7200472017631743,139.87841557878178,1.3891408000379177,0.19431081412514528,null,{"$f":"DC2+(DC3-DC2)*0.42","v":4.26},4.26,{"$f":"CX3-0.58*(CX3-CX4)","v":12.717000000000001},null,0,0.2504953998584572,0.2504953998584572,139.87841557878178,1.7200472017631743,null,14.52,-0.48219197828140298,-2.4170017964825448,0.19431081412514528,null,-0.71449937677052777,null,3,1.7200472017631743,139.87841557878178,1.3891408000379177,0.19431081412514528,null,{"$f":"DZ2+(DZ3-DZ2)*0.42","v":4.26},4.26,{"$f":"DU3-0.58*(DU3-DU4)","v":12.717000000000001},null,0,0.2504953998584572,0.2504953998584572,139.87841557878178,1.7200472017631743,null,14.52,-0.48219197828140298,-2.4170017964825448,0.19431081412514528,null,-0.71449937677052777]
[4,1.8599256173419561,148.74503899451219,1.392148938007354,0.2070752480700726,null,{"$f":"O2+(O3-O2)*0.56","v":4.68},4.68,{"$f":"$J$3-0.61*($J$3-$J$4)","v":12.676500000000001},null,0,0.26075612353567623,0.26075612353567623,148.74503899451219,1.8599256173419561,null,19.2,-0.41916135774680452,-2.8361631542293493,0.2070752480700726,null,-0.68048561783972439,null,4,1.8599256173419561,148.74503899451219,1.392148938007354,0.2070752480700726,null,{"$f":"AL2+(AL3-AL2)*0.56","v":4.68},4.68,{"$f":"AG3-0.61*(AG3-AG4)","v":12.676500000000001},null,0,0.26075612353567623,0.26075612353567623,148.74503899451219,1.8599256173419561,null,19.2,-0.41916135774680452,-2.8361631542293493,0.2070752480700726,null,-0.68048561783972439,null,4,1.8599256173419561,148.74503899451219,1.392148938007354,0.2070752480700726,null,{"$f":"BI2+(BI3-BI2)*0.56","v":4.68},4.68,{"$f":"BD3-0.61*(BD3-BD4)","v":12.676500000000001},null,0,0.26075612353567623,0.26075612353567623,148.74503899451219,1.8599256173419561,null,19.2,-0.41916135774680452,-2.8361631542293493,0.2070752480700726,null,-0.68048561783972439,null,4,1.8599256173419561,148.74503899451219,1.392148938007354,0.2070752480700726,null,{"$f":"CF2+(CF3-CF2)*0.56","v":4.68},4.68,{"$f":"CA3-0.61*(CA3-CA4)","v":12.676500000000001},null,0,0.26075612353567623,0.26075612353567623,148.74503899451219,1.8599256173419561,null,19.2,-0.41916135774680452,-2.8361631542293493,0.2070752480700726,null,-0.68048561783972439,null,4,1.8599256173419561,148.74503899451219,1.392148938007354,0.2070752480700726,null,{"$f":"DC2+(DC3-DC2)*0.56","v":4.68},4.68,{"$f":"CX3-0.61*(CX3-CX4)","v":12.676500000000001},null,0,0.26075612353567623,0.26075612353567623,148.74503899451219,1.8599256173419561,null,19.2,-0.41916135774680452,-2.8361631542293493,0.2070752480700726,null,-0.68048561783972439,null,4,1.8599256173419561,148.74503899451219,1.392148938007354,0.2070752480700726,null,{"$f":"DZ2+(DZ3-DZ2)*0.56","v":4.68},4.68,{"$f":"DU3-0.61*(DU3-DU4)","v":12.676500000000001},null,0,0.26075612353567623,0.26075612353567623,148.74503899451219,1.8599256173419561,null,19.2,-0.41916135774680452,-2.8361631542293493,0.2070752480700726,null,-0.68048561783972439]
[5,2.0086706563364682,157.97801802288535,1.3953477560502465,0.22043427295349846,null,{"$f":"O2+(O3-O2)*0.71","v":5.13},5.13,{"$f":"$J$3-0.64*($J$3-$J$4)","v":12.636000000000001},null,0,0.27179487179487177,0.27179487179487177,157.97801802288535,2.0086706563364682,null,24.33,-0.34937040318687007,-3.1855335574162194,0.22043427295349846,null,-0.6489925269595932,null,5,2.0086706563364682,157.97801802288535,1.3953477560502465,0.22043427295349846,null,{"$f":"AL2+(AL3-AL2)*0.71","v":5.13},5.13,{"$f":"AG3-0.64*(AG3-AG4)","v":12.636000000000001},null,0,0.27179487179487177,0.27179487179487177,157.97801802288535,2.0086706563364682,null,24.33,-0.34937040318687007,-3.1855335574162194,0.22043427295349846,null,-0.6489925269595932,null,5,2.0086706563364682,157.97801802288535,1.3953477560502465,0.22043427295349846,null,{"$f":"BI2+(BI3-BI2)*0.71","v":5.13},5.13,{"$f":"BD3-0.64*(BD3-BD4)","v":12.636000000000001},null,0,0.27179487179487177,0.27179487179487177,157.97801802288535,2.0086706563364682,null,24.33,-0.34937040318687007,-3.1855335574162194,0.22043427295349846,null,-0.6489925269595932,null,5,2.0086706563364682,157.97801802288535,1.3953477560502465,0.22043427295349846,null,{"$f":"CF2+(CF3-CF2)*0.71","v":5.13},5.13,{"$f":"CA3-0.64*(CA3-CA4)","v":12.636000000000001},null,0,0.27179487179487177,0.27179487179487177,157.97801802288535,2.0086706563364682,null,24.33,-0.34937040318687007,-3.1855335574162194,0.22043427295349846,null,-0.6489925269595932,null,5,2.0086706563364682,157.97801802288535,1.3953477560502465,0.22043427295349846,null,{"$f":"DC2+(DC3-DC2)*0.71","v":5.13},5.13,{"$f":"CX3-0.64*(CX3-CX4)","v":12.636000000000001},null,0,0.27179487179487177,0.27179487179487177,157.97801802288535,2.0086706563364682,null,24.33,-0.34937040318687007,-3.1855335574162194,0.22043427295349846,null,-0.6489925269595932,null,5,2.0086706563364682,157.97801802288535,1.3953477560502465,0.22043427295349846,null,{"$f":"DZ2+(DZ3-DZ2)*0.71","v":5.13},5.13,{"$f":"DU3-0.64*(DU3-DU4)","v":12.636000000000001},null,0,0.27179487179487177,0.27179487179487177,157.97801802288535,2.0086706563364682,null,24.33,-0.34937040318687007,-3.1855335574162194,0.22043427295349846,null,-0.6489925269595932]
[6,2.1666486743593536,167.57985026808697,1.3987451327819216,0.23440149991480985,null,{"$f":"O2+(O3-O2)*0.86","v":5.58},5.58,{"$f":"$J$3-0.67*($J$3-$J$4)","v":12.595499999999999},null,0,0.28290460878885315,0.28290460878885315,167.57985026808697,2.1666486743593536,null,29.909999999999997,-0.28286871275516035,-3.4684022701713797,0.23440149991480985,null,-0.61092090782301234,null,6,2.1666486743593536,167.57985026808697,1.3987451327819216,0.23440149991480985,null,{"$f":"AL2+(AL3-AL2)*0.86","v":5.58},5.58,{"$f":"AG3-0.67*(AG3-AG4)","v":12.595499999999999},null,0,0.28290460878885315,0.28290460878885315,167.57985026808697,2.1666486743593536,null,29.909999999999997,-0.28286871275516035,-3.4684022701713797,0.23440149991480985,null,-0.61092090782301234,null,6,2.1666486743593536,167.57985026808697,1.3987451327819216,0.23440149991480985,null,{"$f":"BI2+(BI3-BI2)*0.86","v":5.58},5.58,{"$f":"BD3-0.67*(BD3-BD4)","v":12.595499999999999},null,0,0.28290460878885315,0.28290460878885315,167.57985026808697,2.1666486743593536,null,29.909999999999997,-0.28286871275516035,-3.4684022701713797,0.23440149991480985,null,-0.61092090782301234,null,6,2.1666486743593536,167.57985026808697,1.3987451327819216,0.23440149991480985,null,{"$f":"CF2+(CF3-CF2)*0.86","v":5.58},5.58,{"$f":"CA3-0.67*(CA3-CA4)","v":12.595499999999999},null,0,0.28290460878885315,0.28290460878885315,167.57985026808697,2.1666486743593536,null,29.909999999999997,-0.28286871275516035,-3.4684022701713797,0.23440149991480985,null,-0.61092090782301234,null,6,2.1666486743593536,167.57985026808697,1.3987451327819216,0.23440149991480985,null,{"$f":"DC2+(DC3-DC2)*0.86","v":5.58},5.58,{"$f":"CX3-0.67*(CX3-CX4)","v":12.595499999999999},null,0,0.28290460878885315,0.28290460878885315,167.57985026808697,2.1666486743593536,null,29.909999999999997,-0.28286871275516035,-3.4684022701713797,0.23440149991480985,null,-0.61092090782301234,null,6,2.1666486743593536,167.57985026808697,1.3987451327819216,0.23440149991480985,null,{"$f":"DZ2+(DZ3-DZ2)*0.86","v":5.58},5.58,{"$f":"DU3-0.67*(DU3-DU4)","v":12.595499999999999},null,0,0.28290460878885315,0.28290460878885315,167.57985026808697,2.1666486743593536,null,29.909999999999997,-0.28286871275516035,-3.4684022701713797,0.23440149991480985,null,-0.61092090782301234]
[7,2.3342285246274406,177.55231736038724,1.4023490005296224,0.24899031479205738,null,{"$f":"O3","v":6},6,{"$f":"$J$3-0.72*($J$3-$J$4)","v":12.528},null,0,0.29367816091954019,0.29367816091954019,177.55231736038724,2.3342285246274406,null,35.909999999999997,-0.22634199852411405,-3.6947442686954939,0.24899031479205738,null,-0.55984933628510458,null,7,2.3342285246274406,177.55231736038724,1.4023490005296224,0.24899031479205738,null,{"$f":"AL3","v":6},6,{"$f":"AG3-0.72*(AG3-AG4)","v":12.528},null,0,0.29367816091954019,0.29367816091954019,177.55231736038724,2.3342285246274406,null,35.909999999999997,-0.22634199852411405,-3.6947442686954939,0.24899031479205738,null,-0.55984933628510458,null,7,2.3342285246274406,177.55231736038724,1.4023490005296224,0.24899031479205738,null,{"$f":"BI3","v":6},6,{"$f":"BD3-0.72*(BD3-BD4)","v":12.528},null,0,0.29367816091954019,0.29367816091954019,177.55231736038724,2.3342285246274406,null,35.909999999999997,-0.22634199852411405,-3.6947442686954939,0.24899031479205738,null,-0.55984933628510458,null,7,2.3342285246274406,177.55231736038724,1.4023490005296224,0.24899031479205738,null,{"$f":"CF3","v":6},6,{"$f":"CA3-0.72*(CA3-CA4)","v":12.528},null,0,0.29367816091954019,0.29367816091954019,177.55231736038724,2.3342285246274406,null,35.909999999999997,-0.22634199852411405,-3.6947442686954939,0.24899031479205738,null,-0.55984933628510458,null,7,2.3342285246274406,177.55231736038724,1.4023490005296224,0.24899031479205738,null,{"$f":"DC3","v":6},6,{"$f":"CX3-0.72*(CX3-CX4)","v":12.528},null,0,0.29367816091954019,0.29367816091954019,177.55231736038724,2.3342285246274406,null,35.909999999999997,-0.22634199852411405,-3.6947442686954939,0.24899031479205738,null,-0.55984933628510458,null,7,2.3342285246274406,177.55231736038724,1.4023490005296224,0.24899031479205738,null,{"$f":"DZ3","v":6},6,{"$f":"DU3-0.72*(DU3-DU4)","v":12.528},null,0,0.29367816091954019,0.29367816091954019,177.55231736038724,2.3342285246274406,null,35.909999999999997,-0.22634199852411405,-3.6947442686954939,0.24899031479205738,null,-0.55984933628510458]
[8,2.5117808419878278,187.8964654425661,1.4061673299352222,0.26421387111563893,null,{"$f":"$O$3+($O$4-$O$3)*0.14*A12","v":6.35},6.35,{"$f":"$J$3-0.74*($J$3-$J$4)","v":12.500999999999999},null,0,0.302387808975282,0.302387808975282,187.8964654425661,2.5117808419878278,null,42.26,-0.20146880140830112,-3.8962130701037951,0.26421387111563893,null,-0.47721239718339797,null,8,2.5117808419878278,187.8964654425661,1.4061673299352222,0.26421387111563893,null,{"$f":"$O$3+($O$4-$O$3)*0.14*X12","v":6.35},6.35,{"$f":"AG3-0.74*(AG3-AG4)","v":12.500999999999999},null,0,0.302387808975282,0.302387808975282,187.8964654425661,2.5117808419878278,null,42.26,-0.20146880140830112,-3.8962130701037951,0.26421387111563893,null,-0.47721239718339797,null,8,2.5117808419878278,187.8964654425661,1.4061673299352222,0.26421387111563893,null,{"$f":"$O$3+($O$4-$O$3)*0.14*AU12","v":6.35},6.35,{"$f":"BD3-0.74*(BD3-BD4)","v":12.500999999999999},null,0,0.302387808975282,0.302387808975282,187.8964654425661,2.5117808419878278,null,42.26,-0.20146880140830112,-3.8962130701037951,0.26421387111563893,null,-0.47721239718339797,null,8,2.5117808419878278,187.8964654425661,1.4061673299352222,0.26421387111563893,null,{"$f":"$O$3+($O$4-$O$3)*0.14*BR12","v":6.35},6.35,{"$f":"CA3-0.74*(CA3-CA4)","v":12.500999999999999},null,0,0.302387808975282,0.302387808975282,187.8964654425661,2.5117808419878278,null,42.26,-0.20146880140830112,-3.8962130701037951,0.26421387111563893,null,-0.47721239718339797,null,8,2.5117808419878278,187.8964654425661,1.4061673299352222,0.26421387111563893,null,{"$f":"$O$3+($O$4-$O$3)*0.14*CO12","v":6.35},6.35,{"$f":"CX3-0.74*(CX3-CX4)","v":12.500999999999999},null,0,0.302387808975282,0.302387808975282,187.8964654425661,2.5117808419878278,null,42.26,-0.20146880140830112,-3.8962130701037951,0.26421387111563893,null,-0.47721239718339797,null,8,2.5117808419878278,187.8964654425661,1.4061673299352222,0.26421387111563893,null,{"$f":"$O$3+($O$4-$O$3)*0.14*DL12","v":6.35},6.35,{"$f":"DU3-0.74*(DU3-DU4)","v":12.500999999999999},null,0,0.302387808975282,0.302387808975282,187.8964654425661,2.5117808419878278,null,42.26,-0.20146880140830112,-3.8962130701037951,0.26421387111563893,null,-0.47721239718339797]
[9,2.6996773074303939,198.61258835444895,1.4102081141382881,0.28008508366745155,null,6.7,6.7,{"$f":"$J$3-0.76*($J$3-$J$4)","v":12.474},null,0,0.31113516113516115,0.31113516113516115,198.61258835444895,2.6996773074303939,null,48.96,-0.18022400016722853,-4.076437070271024,0.28008508366745155,null,-0.38731866633220957,null,9,2.6996773074303939,198.61258835444895,1.4102081141382881,0.28008508366745155,null,6.7,6.7,{"$f":"AG3-0.76*(AG3-AG4)","v":12.474},null,0,0.31113516113516115,0.31113516113516115,198.61258835444895,2.6996773074303939,null,48.96,-0.18022400016722853,-4.076437070271024,0.28008508366745155,null,-0.38731866633220957,null,9,2.6996773074303939,198.61258835444895,1.4102081141382881,0.28008508366745155,null,6.7,6.7,{"$f":"BD3-0.76*(BD3-BD4)","v":12.474},null,0,0.31113516113516115,0.31113516113516115,198.61258835444895,2.6996773074303939,null,48.96,-0.18022400016722853,-4.076437070271024,0.28008508366745155,null,-0.38731866633220957,null,9,2.6996773074303939,198.61258835444895,1.4102081141382881,0.28008508366745155,null,6.7,6.7,{"$f":"CA3-0.76*(CA3-CA4)","v":12.474},null,0,0.31113516113516115,0.31113516113516115,198.61258835444895,2.6996773074303939,null,48.96,-0.18022400016722853,-4.076437070271024,0.28008508366745155,null,-0.38731866633220957,null,9,2.6996773074303939,198.61258835444895,1.4102081141382881,0.28008508366745155,null,6.7,6.7,{"$f":"CX3-0.76*(CX3-CX4)","v":12.474},null,0,0.31113516113516115,0.31113516113516115,198.61258835444895,2.6996773074303939,null,48.96,-0.18022400016722853,-4.076437070271024,0.28008508366745155,null,-0.38731866633220957,null,9,2.6996773074303939,198.61258835444895,1.4102081141382881,0.28008508366745155,null,6.7,6.7,{"$f":"DU3-0.76*(DU3-DU4)","v":12.474},null,0,0.31113516113516115,0.31113516113516115,198.61258835444895,2.6996773074303939,null,48.96,-0.18022400016722853,-4.076437070271024,0.28008508366745155,null,-0.38731866633220957]
[10,2.8982898957848429,209.70021359711265,1.4144793525975234,0.2966166223684063,null,7.05,7.05,{"$f":"$J$3-0.78*($J$3-$J$4)","v":12.447000000000001},null,0,0.31992046276211134,0.31992046276211134,209.70021359711265,2.8982898957848429,null,56.01,-0.16266021597644365,-4.2390972862474676,0.2966166223684063,null,-0.29006290138044655,null,10,2.8982898957848429,209.70021359711265,1.4144793525975234,0.2966166223684063,null,7.05,7.05,{"$f":"AG3-0.78*(AG3-AG4)","v":12.447000000000001},null,0,0.31992046276211134,0.31992046276211134,209.70021359711265,2.8982898957848429,null,56.01,-0.16266021597644365,-4.2390972862474676,0.2966166223684063,null,-0.29006290138044655,null,10,2.8982898957848429,209.70021359711265,1.4144793525975234,0.2966166223684063,null,7.05,7.05,{"$f":"BD3-0.78*(BD3-BD4)","v":12.447000000000001},null,0,0.31992046276211134,0.31992046276211134,209.70021359711265,2.8982898957848429,null,56.01,-0.16266021597644365,-4.2390972862474676,0.2966166223684063,null,-0.29006290138044655,null,10,2.8982898957848429,209.70021359711265,1.4144793525975234,0.2966166223684063,null,7.05,7.05,{"$f":"CA3-0.78*(CA3-CA4)","v":12.447000000000001},null,0,0.31992046276211134,0.31992046276211134,209.70021359711265,2.8982898957848429,null,56.01,-0.16266021597644365,-4.2390972862474676,0.2966166223684063,null,-0.29006290138044655,null,10,2.8982898957848429,209.70021359711265,1.4144793525975234,0.2966166223684063,null,7.05,7.05,{"$f":"CX3-0.78*(CX3-CX4)","v":12.447000000000001},null,0,0.31992046276211134,0.31992046276211134,209.70021359711265,2.8982898957848429,null,56.01,-0.16266021597644365,-4.2390972862474676,0.2966166223684063,null,-0.29006290138044655,null,10,2.8982898957848429,209.70021359711265,1.4144793525975234,0.2966166223684063,null,7.05,7.05,{"$f":"DU3-0.78*(DU3-DU4)","v":12.447000000000001},null,0,0.31992046276211134,0.31992046276211134,209.70021359711265,2.8982898957848429,null,56.01,-0.16266021597644365,-4.2390972862474676,0.2966166223684063,null,-0.29006290138044655]
[11,3.1079901093819555,221.15809114107822,1.4189890346103646,0.31382090624454961,null,7.4,7.4,{"$f":"$J$3-0.8*($J$3-$J$4)","v":12.42},null,0,0.32874396135265704,0.32874396135265704,221.15809114107822,3.1079901093819555,null,63.41,-0.14882782777865286,-4.3879251140261202,0.31382090624454961,null,-0.18534434444269429,null,11,3.1079901093819555,221.15809114107822,1.4189890346103646,0.31382090624454961,null,7.4,7.4,{"$f":"AG3-0.8*(AG3-AG4)","v":12.42},null,0,0.32874396135265704,0.32874396135265704,221.15809114107822,3.1079901093819555,null,63.41,-0.14882782777865286,-4.3879251140261202,0.31382090624454961,null,-0.18534434444269429,null,11,3.1079901093819555,221.15809114107822,1.4189890346103646,0.31382090624454961,null,7.4,7.4,{"$f":"BD3-0.8*(BD3-BD4)","v":12.42},null,0,0.32874396135265704,0.32874396135265704,221.15809114107822,3.1079901093819555,null,63.41,-0.14882782777865286,-4.3879251140261202,0.31382090624454961,null,-0.18534434444269429,null,11,3.1079901093819555,221.15809114107822,1.4189890346103646,0.31382090624454961,null,7.4,7.4,{"$f":"CA3-0.8*(CA3-CA4)","v":12.42},null,0,0.32874396135265704,0.32874396135265704,221.15809114107822,3.1079901093819555,null,63.41,-0.14882782777865286,-4.3879251140261202,0.31382090624454961,null,-0.18534434444269429,null,11,3.1079901093819555,221.15809114107822,1.4189890346103646,0.31382090624454961,null,7.4,7.4,{"$f":"CX3-0.8*(CX3-CX4)","v":12.42},null,0,0.32874396135265704,0.32874396135265704,221.15809114107822,3.1079901093819555,null,63.41,-0.14882782777865286,-4.3879251140261202,0.31382090624454961,null,-0.18534434444269429,null,11,3.1079901093819555,221.15809114107822,1.4189890346103646,0.31382090624454961,null,7.4,7.4,{"$f":"DU3-0.8*(DU3-DU4)","v":12.42},null,0,0.32874396135265704,0.32874396135265704,221.15809114107822,3.1079901093819555,null,63.41,-0.14882782777865286,-4.3879251140261202,0.31382090624454961,null,-0.18534434444269429]
[12,3.3291482005230337,232.98418512535159,1.4237451225918931,0.331710097213266,null,7.75,7.75,{"$f":"$J$3-0.82*($J$3-$J$4)","v":12.393000000000001},null,0,0.33760590656015488,0.33760590656015488,232.98418512535159,3.3291482005230337,null,71.16,-0.1387749507153361,-4.5267000647414566,0.331710097213266,null,-7.3066765235993897E-2,null,12,3.3291482005230337,232.98418512535159,1.4237451225918931,0.331710097213266,null,7.75,7.75,{"$f":"AG3-0.82*(AG3-AG4)","v":12.393000000000001},null,0,0.33760590656015488,0.33760590656015488,232.98418512535159,3.3291482005230337,null,71.16,-0.1387749507153361,-4.5267000647414566,0.331710097213266,null,-7.3066765235993897E-2,null,12,3.3291482005230337,232.98418512535159,1.4237451225918931,0.331710097213266,null,7.75,7.75,{"$f":"BD3-0.82*(BD3-BD4)","v":12.393000000000001},null,0,0.33760590656015488,0.33760590656015488,232.98418512535159,3.3291482005230337,null,71.16,-0.1387749507153361,-4.5267000647414566,0.331710097213266,null,-7.3066765235993897E-2,null,12,3.3291482005230337,232.98418512535159,1.4237451225918931,0.331710097213266,null,7.75,7.75,{"$f":"CA3-0.82*(CA3-CA4)","v":12.393000000000001},null,0,0.33760590656015488,0.33760590656015488,232.98418512535159,3.3291482005230337,null,71.16,-0.1387749507153361,-4.5267000647414566,0.331710097213266,null,-7.3066765235993897E-2,null,12,3.3291482005230337,232.98418512535159,1.4237451225918931,0.331710097213266,null,7.75,7.75,{"$f":"CX3-0.82*(CX3-CX4)","v":12.393000000000001},null,0,0.33760590656015488,0.33760590656015488,232.98418512535159,3.3291482005230337,null,71.16,-0.1387749507153361,-4.5267000647414566,0.331710097213266,null,-7.3066765235993897E-2,null,12,3.3291482005230337,232.98418512535159,1.4237451225918931,0.331710097213266,null,7.75,7.75,{"$f":"DU3-0.82*(DU3-DU4)","v":12.393000000000001},null,0,0.33760590656015488,0.33760590656015488,232.98418512535159,3.3291482005230337,null,71.16,-0.1387749507153361,-4.5267000647414566,0.331710097213266,null,-7.3066765235993897E-2]
[13,3.5621323856483853,245.17566847682158,1.4287555351752341,0.35029609342654699,null,8.1,8.1,{"$f":"$J$3-0.84*($J$3-$J$4)","v":12.366},null,-1.4999999999999946E-2,0.34529354682193109,0.34529354682193109,241.67433708635221,3.5621323856483853,null,79.259999999999991,-0.10161666666666669,-4.6283167314081233,0.34529354682193109,null,6.1861491312680338E-2,null,13,3.5621323856483853,245.17566847682158,1.4287555351752341,0.35029609342654699,null,8.1,8.1,{"$f":"AG3-0.84*(AG3-AG4)","v":12.366},null,-1.4999999999999946E-2,0.34529354682193109,0.34529354682193109,241.67433708635221,3.5621323856483853,null,79.259999999999991,-0.10161666666666669,-4.6283167314081233,0.34529354682193109,null,6.1861491312680338E-2,null,13,3.5621323856483853,245.17566847682158,1.4287555351752341,0.35029609342654699,null,8.1,8.1,{"$f":"BD3-0.84*(BD3-BD4)","v":12.366},null,-1.4999999999999946E-2,0.34529354682193109,0.34529354682193109,241.67433708635221,3.5621323856483853,null,79.259999999999991,-0.10161666666666669,-4.6283167314081233,0.34529354682193109,null,6.1861491312680338E-2,null,13,3.5621323856483853,245.17566847682158,1.4287555351752341,0.35029609342654699,null,8.1,8.1,{"$f":"CA3-0.84*(CA3-CA4)","v":12.366},null,-1.4999999999999946E-2,0.34529354682193109,0.34529354682193109,241.67433708635221,3.5621323856483853,null,79.259999999999991,-0.10161666666666669,-4.6283167314081233,0.34529354682193109,null,6.1861491312680338E-2,null,13,3.5621323856483853,245.17566847682158,1.4287555351752341,0.35029609342654699,null,8.1,8.1,{"$f":"CX3-0.84*(CX3-CX4)","v":12.366},null,-1.4999999999999946E-2,0.34529354682193109,0.34529354682193109,241.67433708635221,3.5621323856483853,null,79.259999999999991,-0.10161666666666669,-4.6283167314081233,0.34529354682193109,null,6.1861491312680338E-2,null,13,3.5621323856483853,245.17566847682158,1.4287555351752341,0.35029609342654699,null,8.1,8.1,{"$f":"DU3-0.84*(DU3-DU4)","v":12.366},null,-1.4999999999999946E-2,0.34529354682193109,0.34529354682193109,241.67433708635221,3.5621323856483853,null,79.259999999999991,-0.10161666666666669,-4.6283167314081233,0.34529354682193109,null,6.1861491312680338E-2]
[14,3.8073080541252069,257.72892046233989,1.434028130196241,0.36959052190810499,null,{"$f":"O4","v":8.5},8.5,{"$f":"$J$3-0.86*($J$3-$J$4)","v":12.339},{"$f":"0.008*$P$5","v":3.2000000000000002E-3},-7.4999999999999997E-2,0.35058351568198393,0.35378351568198391,246.70611979806145,3.8038067227347376,{"$f":"J25*I25","v":3.94848E-2},87.759999999999991,3.7416666666665321E-3,-4.6245750647414567,0.35058351568198393,null,0.23452744982410775,null,14,3.8073080541252069,257.72892046233989,1.434028130196241,0.36959052190810499,null,{"$f":"AL4","v":8.5},8.5,{"$f":"AG3-0.86*(AG3-AG4)","v":12.339},{"$f":"0.008*$P$5","v":3.2000000000000002E-3},-7.4999999999999997E-2,0.35058351568198393,0.35378351568198391,246.70611979806145,3.8038067227347376,{"$f":"AG25*AF25","v":3.94848E-2},87.759999999999991,3.7416666666665321E-3,-4.6245750647414567,0.35058351568198393,null,0.23452744982410775,null,14,3.8073080541252069,257.72892046233989,1.434028130196241,0.36959052190810499,null,{"$f":"BI4","v":8.5},8.5,{"$f":"BD3-0.86*(BD3-BD4)","v":12.339},{"$f":"0.008*$P$5","v":3.2000000000000002E-3},-7.4999999999999997E-2,0.35058351568198393,0.35378351568198391,246.70611979806145,3.8038067227347376,{"$f":"BD25*BC25","v":3.94848E-2},87.759999999999991,3.7416666666665321E-3,-4.6245750647414567,0.35058351568198393,null,0.23452744982410775,null,14,3.8073080541252069,257.72892046233989,1.434028130196241,0.36959052190810499,null,{"$f":"CF4","v":8.5},8.5,{"$f":"CA3-0.86*(CA3-CA4)","v":12.339},{"$f":"0.008*$P$5","v":3.2000000000000002E-3},-7.4999999999999997E-2,0.35058351568198393,0.35378351568198391,246.70611979806145,3.8038067227347376,{"$f":"CA25*BZ25","v":3.94848E-2},87.759999999999991,3.7416666666665321E-3,-4.6245750647414567,0.35058351568198393,null,0.23452744982410775,null,14,3.8073080541252069,257.72892046233989,1.434028130196241,0.36959052190810499,null,{"$f":"DC4","v":8.5},8.5,{"$f":"CX3-0.86*(CX3-CX4)","v":12.339},{"$f":"0.008*$P$5","v":3.2000000000000002E-3},-7.4999999999999997E-2,0.35058351568198393,0.35378351568198391,246.70611979806145,3.8038067227347376,{"$f":"CX25*CW25","v":3.94848E-2},87.759999999999991,3.7416666666665321E-3,-4.6245750647414567,0.35058351568198393,null,0.23452744982410775,null,14,3.8073080541252069,257.72892046233989,1.434028130196241,0.36959052190810499,null,{"$f":"DZ4","v":8.5},8.5,{"$f":"DU3-0.86*(DU3-DU4)","v":12.339},{"$f":"0.008*$P$5","v":3.2000000000000002E-3},-7.4999999999999997E-2,0.35058351568198393,0.35378351568198391,246.70611979806145,3.8038067227347376,{"$f":"DU25*DT25","v":3.94848E-2},87.759999999999991,3.7416666666665321E-3,-4.6245750647414567,0.35058351568198393,null,0.23452744982410775]
[15,4.0650369745875468,270.63952716884467,1.4395706876255385,0.38960473022510433,null,{"$f":"$O$4+($O$5-$O$4)*0.14*A12","v":8.7100000000000009},8.7100000000000009,{"$f":"$J$3-0.88*($J$3-$J$4)","v":12.312000000000001},{"$f":"0.015*$P$5","v":6.0000000000000001E-3},-0.10650000000000012,0.35358187134502911,0.35958187134502911,249.78410191036318,{"$f":"O25+N25/1000","v":4.0505128425327994},{"$f":"J26*I26+P25","v":0.11335680000000001},{"$f":"H26+Q25","v":96.47},6.0016666666667419E-2,{"$f":"S25+R26","v":-4.564558398074789},0.35358187134502911,null,0.44351343853148623,null,15,4.0650369745875468,270.63952716884467,1.4395706876255385,0.38960473022510433,null,{"$f":"$O$4+($O$5-$O$4)*0.14*X12","v":8.7100000000000009},8.7100000000000009,{"$f":"AG3-0.88*(AG3-AG4)","v":12.312000000000001},{"$f":"0.015*$P$5","v":6.0000000000000001E-3},-0.10650000000000012,0.35358187134502911,0.35958187134502911,249.78410191036318,{"$f":"AL25+AK25/1000","v":4.0505128425327994},{"$f":"AG26*AF26+AM25","v":0.11335680000000001},{"$f":"AE26+AN25","v":96.47},6.0016666666667419E-2,{"$f":"AP25+AO26","v":-4.564558398074789},0.35358187134502911,null,0.44351343853148623,null,15,4.0650369745875468,270.63952716884467,1.4395706876255385,0.38960473022510433,null,{"$f":"$O$4+($O$5-$O$4)*0.14*AU12","v":8.7100000000000009},8.7100000000000009,{"$f":"BD3-0.88*(BD3-BD4)","v":12.312000000000001},{"$f":"0.015*$P$5","v":6.0000000000000001E-3},-0.10650000000000012,0.35358187134502911,0.35958187134502911,249.78410191036318,{"$f":"BI25+BH25/1000","v":4.0505128425327994},{"$f":"BD26*BC26+BJ25","v":0.11335680000000001},{"$f":"BB26+BK25","v":96.47},6.0016666666667419E-2,{"$f":"BM25+BL26","v":-4.564558398074789},0.35358187134502911,null,0.44351343853148623,null,15,4.0650369745875468,270.63952716884467,1.4395706876255385,0.38960473022510433,null,{"$f":"$O$4+($O$5-$O$4)*0.14*BR12","v":8.7100000000000009},8.7100000000000009,{"$f":"CA3-0.88*(CA3-CA4)","v":12.312000000000001},{"$f":"0.015*$P$5","v":6.0000000000000001E-3},-0.10650000000000012,0.35358187134502911,0.35958187134502911,249.78410191036318,{"$f":"CF25+CE25/1000","v":4.0505128425327994},{"$f":"CA26*BZ26+CG25","v":0.11335680000000001},{"$f":"BY26+CH25","v":96.47},6.0016666666667419E-2,{"$f":"CJ25+CI26","v":-4.564558398074789},0.35358187134502911,null,0.44351343853148623,null,15,4.0650369745875468,270.63952716884467,1.4395706876255385,0.38960473022510433,null,{"$f":"$O$4+($O$5-$O$4)*0.14*CO12","v":8.7100000000000009},8.7100000000000009,{"$f":"CX3-0.88*(CX3-CX4)","v":12.312000000000001},{"$f":"0.015*$P$5","v":6.0000000000000001E-3},-0.10650000000000012,0.35358187134502911,0.35958187134502911,249.78410191036318,{"$f":"DC25+DB25/1000","v":4.0505128425327994},{"$f":"CX26*CW26+DD25","v":0.11335680000000001},{"$f":"CV26+DE25","v":96.47},6.0016666666667419E-2,{"$f":"DG25+DF26","v":-4.564558398074789},0.35358187134502911,null,0.44351343853148623,null,15,4.0650369745875468,270.63952716884467,1.4395706876255385,0.38960473022510433,null,{"$f":"$O$4+($O$5-$O$4)*0.14*DL12","v":8.7100000000000009},8.7100000000000009,{"$f":"DU3-0.88*(DU3-DU4)","v":12.312000000000001},{"$f":"0.015*$P$5","v":6.0000000000000001E-3},-0.10650000000000012,0.35358187134502911,0.35958187134502911,249.78410191036318,{"$f":"DZ25+DY25/1000","v":4.0505128425327994},{"$f":"DU26*DT26+EA25","v":0.11335680000000001},{"$f":"DS26+EB25","v":96.47},6.0016666666667419E-2,{"$f":"ED25+EC26","v":-4.564558398074789},0.35358187134502911,null,0.44351343853148623]
[16,4.3356765017563914,283.90228489052214,1.4453908925108903,0.41034977694379282,null,8.92,8.92,{"$f":"$J$3-0.9*($J$3-$J$4)","v":12.285},{"$f":"0.02*$P$5","v":8.0000000000000002E-3},-0.13799999999999998,0.3565934065934066,0.36459340659340661,252.24554027737489,4.3002969444431622,0.21163680000000001,105.39,0.11629166666666653,-4.4482667314081228,0.3565934065934066,null,0.66039700975449467,null,16,4.3356765017563914,283.90228489052214,1.4453908925108903,0.41034977694379282,null,8.92,8.92,{"$f":"AG3-0.9*(AG3-AG4)","v":12.285},{"$f":"0.02*$P$5","v":8.0000000000000002E-3},-0.13799999999999998,0.3565934065934066,0.36459340659340661,252.24554027737489,{"$f":"AL26+AK26/1000","v":4.3002969444431622},0.21163680000000001,{"$f":"AE27+AN26","v":105.39},0.11629166666666653,{"$f":"AP26+AO27","v":-4.4482667314081228},0.3565934065934066,null,0.66039700975449467,null,16,4.3356765017563914,283.90228489052214,1.4453908925108903,0.41034977694379282,null,8.92,8.92,{"$f":"BD3-0.9*(BD3-BD4)","v":12.285},{"$f":"0.02*$P$5","v":8.0000000000000002E-3},-0.13799999999999998,0.3565934065934066,0.36459340659340661,252.24554027737489,{"$f":"BI26+BH26/1000","v":4.3002969444431622},0.21163680000000001,{"$f":"BB27+BK26","v":105.39},0.11629166666666653,{"$f":"BM26+BL27","v":-4.4482667314081228},0.3565934065934066,null,0.66039700975449467,null,16,4.3356765017563914,283.90228489052214,1.4453908925108903,0.41034977694379282,null,8.92,8.92,{"$f":"CA3-0.9*(CA3-CA4)","v":12.285},{"$f":"0.02*$P$5","v":8.0000000000000002E-3},-0.13799999999999998,0.3565934065934066,0.36459340659340661,252.24554027737489,{"$f":"CF26+CE26/1000","v":4.3002969444431622},0.21163680000000001,{"$f":"BY27+CH26","v":105.39},0.11629166666666653,{"$f":"CJ26+CI27","v":-4.4482667314081228},0.3565934065934066,null,0.66039700975449467,null,16,4.3356765017563914,283.90228489052214,1.4453908925108903,0.41034977694379282,null,8.92,8.92,{"$f":"CX3-0.9*(CX3-CX4)","v":12.285},{"$f":"0.02*$P$5","v":8.0000000000000002E-3},-0.13799999999999998,0.3565934065934066,0.36459340659340661,252.24554027737489,{"$f":"DC26+DB26/1000","v":4.3002969444431622},0.21163680000000001,{"$f":"CV27+DE26","v":105.39},0.11629166666666653,{"$f":"DG26+DF27","v":-4.4482667314081228},0.3565934065934066,null,0.66039700975449467,null,16,4.3356765017563914,283.90228489052214,1.4453908925108903,0.41034977694379282,null,8.92,8.92,{"$f":"DU3-0.9*(DU3-DU4)","v":12.285},{"$f":"0.02*$P$5","v":8.0000000000000002E-3},-0.13799999999999998,0.3565934065934066,0.36459340659340661,252.24554027737489,{"$f":"DZ26+DY26/1000","v":4.3002969444431622},0.21163680000000001,{"$f":"DS27+EB26","v":105.39},0.11629166666666653,{"$f":"ED26+EC27","v":-4.4482667314081228},0.3565934065934066,null,0.66039700975449467]
[17,4.6195787866469136,297.51120638589424,1.4514963179924067,0.43183642063060451,null,9.1300000000000008,9.1300000000000008,{"$f":"$J$3-0.92*($J$3-$J$4)","v":12.258000000000001},{"$f":"0.024*$P$5","v":9.6000000000000009E-3},-0.16950000000000012,0.35961820851688692,0.36921820851688691,254.37075102440488,4.5525424847205374,0.32931360000000004,114.52,0.17256666666666712,-4.2757000647414554,0.35961820851688692,null,0.88525084408995036,null,17,4.6195787866469136,297.51120638589424,1.4514963179924067,0.43183642063060451,null,9.1300000000000008,9.1300000000000008,{"$f":"AG3-0.92*(AG3-AG4)","v":12.258000000000001},{"$f":"0.024*$P$5","v":9.6000000000000009E-3},-0.16950000000000012,0.35961820851688692,0.36921820851688691,254.37075102440488,4.5525424847205374,0.32931360000000004,114.52,0.17256666666666712,-4.2757000647414554,0.35961820851688692,null,0.88525084408995036,null,17,4.6195787866469136,297.51120638589424,1.4514963179924067,0.43183642063060451,null,9.1300000000000008,9.1300000000000008,{"$f":"BD3-0.92*(BD3-BD4)","v":12.258000000000001},{"$f":"0.024*$P$5","v":9.6000000000000009E-3},-0.16950000000000012,0.35961820851688692,0.36921820851688691,254.37075102440488,4.5525424847205374,0.32931360000000004,114.52,0.17256666666666712,-4.2757000647414554,0.35961820851688692,null,0.88525084408995036,null,17,4.6195787866469136,297.51120638589424,1.4514963179924067,0.43183642063060451,null,9.1300000000000008,9.1300000000000008,{"$f":"CA3-0.92*(CA3-CA4)","v":12.258000000000001},{"$f":"0.024*$P$5","v":9.6000000000000009E-3},-0.16950000000000012,0.35961820851688692,0.36921820851688691,254.37075102440488,4.5525424847205374,0.32931360000000004,114.52,0.17256666666666712,-4.2757000647414554,0.35961820851688692,null,0.88525084408995036,null,17,4.6195787866469136,297.51120638589424,1.4514963179924067,0.43183642063060451,null,9.1300000000000008,9.1300000000000008,{"$f":"CX3-0.92*(CX3-CX4)","v":12.258000000000001},{"$f":"0.024*$P$5","v":9.6000000000000009E-3},-0.16950000000000012,0.35961820851688692,0.36921820851688691,254.37075102440488,4.5525424847205374,0.32931360000000004,114.52,0.17256666666666712,-4.2757000647414554,0.35961820851688692,null,0.88525084408995036,null,17,4.6195787866469136,297.51120638589424,1.4514963179924067,0.43183642063060451,null,9.1300000000000008,9.1300000000000008,{"$f":"DU3-0.92*(DU3-DU4)","v":12.258000000000001},{"$f":"0.024*$P$5","v":9.6000000000000009E-3},-0.16950000000000012,0.35961820851688692,0.36921820851688691,254.37075102440488,4.5525424847205374,0.32931360000000004,114.52,0.17256666666666712,-4.2757000647414554,0.35961820851688692,null,0.88525084408995036]
[18,4.9170899930328078,311.45952995260728,1.4578944084523184,0.4540751071770936,null,9.34,9.34,{"$f":"$J$3-0.93*($J$3-$J$4)","v":12.2445},{"$f":"0.027*$P$5","v":1.0800000000000001E-2},-0.20099999999999998,0.36242190371187066,0.37322190371187064,256.00064143745374,4.8069132357449424,0.46155420000000003,123.86,0.22782916666666639,-4.0478708980747893,0.36242190371187066,null,1.1222476498299223,null,18,4.9170899930328078,311.45952995260728,1.4578944084523184,0.4540751071770936,null,9.34,9.34,{"$f":"AG3-0.93*(AG3-AG4)","v":12.2445},{"$f":"0.027*$P$5","v":1.0800000000000001E-2},-0.20099999999999998,0.36242190371187066,0.37322190371187064,256.00064143745374,4.8069132357449424,0.46155420000000003,123.86,0.22782916666666639,-4.0478708980747893,0.36242190371187066,null,1.1222476498299223,null,18,4.9170899930328078,311.45952995260728,1.4578944084523184,0.4540751071770936,null,9.34,9.34,{"$f":"BD3-0.93*(BD3-BD4)","v":12.2445},{"$f":"0.027*$P$5","v":1.0800000000000001E-2},-0.20099999999999998,0.36242190371187066,0.37322190371187064,256.00064143745374,4.8069132357449424,0.46155420000000003,123.86,0.22782916666666639,-4.0478708980747893,0.36242190371187066,null,1.1222476498299223,null,18,4.9170899930328078,311.45952995260728,1.4578944084523184,0.4540751071770936,null,9.34,9.34,{"$f":"CA3-0.93*(CA3-CA4)","v":12.2445},{"$f":"0.027*$P$5","v":1.0800000000000001E-2},-0.20099999999999998,0.36242190371187066,0.37322190371187064,256.00064143745374,4.8069132357449424,0.46155420000000003,123.86,0.22782916666666639,-4.0478708980747893,0.36242190371187066,null,1.1222476498299223,null,18,4.9170899930328078,311.45952995260728,1.4578944084523184,0.4540751071770936,null,9.34,9.34,{"$f":"CX3-0.93*(CX3-CX4)","v":12.2445},{"$f":"0.027*$P$5","v":1.0800000000000001E-2},-0.20099999999999998,0.36242190371187066,0.37322190371187064,256.00064143745374,4.8069132357449424,0.46155420000000003,123.86,0.22782916666666639,-4.0478708980747893,0.36242190371187066,null,1.1222476498299223,null,18,4.9170899930328078,311.45952995260728,1.4578944084523184,0.4540751071770936,null,9.34,9.34,{"$f":"DU3-0.93*(DU3-DU4)","v":12.2445},{"$f":"0.027*$P$5","v":1.0800000000000001E-2},-0.20099999999999998,0.36242190371187066,0.37322190371187064,256.00064143745374,4.8069132357449424,0.46155420000000003,123.86,0.22782916666666639,-4.0478708980747893,0.36242190371187066,null,1.1222476498299223]
[19,5.2285495229854151,325.73973125299995,1.4645924628599014,0.47707595524715363,null,9.5500000000000007,9.5500000000000007,{"$f":"$J$3-0.95*($J$3-$J$4)","v":12.217500000000001},{"$f":"J29+J29*0.14","v":1.2312E-2},-0.2325000000000001,0.36546961325966854,0.37778161325966853,257.94316360332522,5.062913877182396,0.61197606000000004,133.41,0.28410416666666666,-3.7637667314081225,0.36546961325966854,null,1.3635504832320993,null,19,5.2285495229854151,325.73973125299995,1.4645924628599014,0.47707595524715363,null,9.5500000000000007,9.5500000000000007,{"$f":"AG3-0.95*(AG3-AG4)","v":12.217500000000001},{"$f":"AG29+AG29*0.14","v":1.2312E-2},-0.2325000000000001,0.36546961325966854,0.37778161325966853,257.94316360332522,5.062913877182396,0.61197606000000004,133.41,0.28410416666666666,-3.7637667314081225,0.36546961325966854,null,1.3635504832320993,null,19,5.2285495229854151,325.73973125299995,1.4645924628599014,0.47707595524715363,null,9.5500000000000007,9.5500000000000007,{"$f":"BD3-0.95*(BD3-BD4)","v":12.217500000000001},{"$f":"BD29+BD29*0.14","v":1.2312E-2},-0.2325000000000001,0.36546961325966854,0.37778161325966853,257.94316360332522,5.062913877182396,0.61197606000000004,133.41,0.28410416666666666,-3.7637667314081225,0.36546961325966854,null,1.3635504832320993,null,19,5.2285495229854151,325.73973125299995,1.4645924628599014,0.47707595524715363,null,9.5500000000000007,9.5500000000000007,{"$f":"CA3-0.95*(CA3-CA4)","v":12.217500000000001},{"$f":"CA29+CA29*0.14","v":1.2312E-2},-0.2325000000000001,0.36546961325966854,0.37778161325966853,257.94316360332522,5.062913877182396,0.61197606000000004,133.41,0.28410416666666666,-3.7637667314081225,0.36546961325966854,null,1.3635504832320993,null,19,5.2285495229854151,325.73973125299995,1.4645924628599014,0.47707595524715363,null,9.5500000000000007,9.5500000000000007,{"$f":"CX3-0.95*(CX3-CX4)","v":12.217500000000001},{"$f":"CX29+CX29*0.14","v":1.2312E-2},-0.2325000000000001,0.36546961325966854,0.37778161325966853,257.94316360332522,5.062913877182396,0.61197606000000004,133.41,0.28410416666666666,-3.7637667314081225,0.36546961325966854,null,1.3635504832320993,null,19,5.2285495229854151,325.73973125299995,1.4645924628599014,0.47707595524715363,null,9.5500000000000007,9.5500000000000007,{"$f":"DU3-0.95*(DU3-DU4)","v":12.217500000000001},{"$f":"DU29+DU29*0.14","v":1.2312E-2},-0.2325000000000001,0.36546961325966854,0.37778161325966853,257.94316360332522,5.062913877182396,0.61197606000000004,133.41,0.28410416666666666,-3.7637667314081225,0.36546961325966854,null,1.3635504832320993]
[20,5.554289254238415,340.34353780991466,1.4715976183707187,0.50084873966893506,null,9.76,9.76,{"$f":"$J$3-0.97*($J$3-$J$4)","v":12.1905},1.403568E-2,-0.26399999999999996,0.36853082318198593,0.38256650318198593,259.96678603322619,5.3208570407857216,0.78307801704000002,143.16999999999999,0.34037916666666668,-3.4233875647414558,0.36853082318198593,null,1.6130215609341534,null,20,5.554289254238415,340.34353780991466,1.4715976183707187,0.50084873966893506,null,9.76,9.76,{"$f":"AG3-0.97*(AG3-AG4)","v":12.1905},1.403568E-2,-0.26399999999999996,0.36853082318198593,0.38256650318198593,259.96678603322619,5.3208570407857216,0.78307801704000002,143.16999999999999,0.34037916666666668,-3.4233875647414558,0.36853082318198593,null,1.6130215609341534,null,20,5.554289254238415,340.34353780991466,1.4715976183707187,0.50084873966893506,null,9.76,9.76,{"$f":"BD3-0.97*(BD3-BD4)","v":12.1905},1.403568E-2,-0.26399999999999996,0.36853082318198593,0.38256650318198593,259.96678603322619,5.3208570407857216,0.78307801704000002,143.16999999999999,0.34037916666666668,-3.4233875647414558,0.36853082318198593,null,1.6130215609341534,null,20,5.554289254238415,340.34353780991466,1.4715976183707187,0.50084873966893506,null,9.76,9.76,{"$f":"CA3-0.97*(CA3-CA4)","v":12.1905},1.403568E-2,-0.26399999999999996,0.36853082318198593,0.38256650318198593,259.96678603322619,5.3208570407857216,0.78307801704000002,143.16999999999999,0.34037916666666668,-3.4233875647414558,0.36853082318198593,null,1.6130215609341534,null,20,5.554289254238415,340.34353780991466,1.4715976183707187,0.50084873966893506,null,9.76,9.76,{"$f":"CX3-0.97*(CX3-CX4)","v":12.1905},1.403568E-2,-0.26399999999999996,0.36853082318198593,0.38256650318198593,259.96678603322619,5.3208570407857216,0.78307801704000002,143.16999999999999,0.34037916666666668,-3.4233875647414558,0.36853082318198593,null,1.6130215609341534,null,20,5.554289254238415,340.34353780991466,1.4715976183707187,0.50084873966893506,null,9.76,9.76,{"$f":"DU3-0.97*(DU3-DU4)","v":12.1905},1.403568E-2,-0.26399999999999996,0.36853082318198593,0.38256650318198593,259.96678603322619,5.3208570407857216,0.78307801704000002,143.16999999999999,0.34037916666666668,-3.4233875647414558,0.36853082318198593,null,1.6130215609341534]
[21,5.8946327920483297,355.26194607925987,1.4789168342375985,0.52540287262062735,null,{"$f":"$O$5","v":10},10,{"$f":"$J$3-0.99*($J$3-$J$4)","v":12.163500000000001},1.6000675200000002E-2,-0.3,0.37197558268590447,0.38797625788590445,262.33811726533725,5.5808238268189481,0.97770222983520005,153.16999999999999,0.40440416666666695,-3.0189833980747887,0.37197558268590447,null,1.8662128411210019,null,21,5.8946327920483297,355.26194607925987,1.4789168342375985,0.52540287262062735,null,{"$f":"$O$5","v":10},10,{"$f":"AG3-0.99*(AG3-AG4)","v":12.163500000000001},1.6000675200000002E-2,-0.3,0.37197558268590447,0.38797625788590445,262.33811726533725,5.5808238268189481,0.97770222983520005,153.16999999999999,0.40440416666666695,-3.0189833980747887,0.37197558268590447,null,1.8662128411210019,null,21,5.8946327920483297,355.26194607925987,1.4789168342375985,0.52540287262062735,null,{"$f":"$O$5","v":10},10,{"$f":"BD3-0.99*(BD3-BD4)","v":12.163500000000001},1.6000675200000002E-2,-0.3,0.37197558268590447,0.38797625788590445,262.33811726533725,5.5808238268189481,0.97770222983520005,153.16999999999999,0.40440416666666695,-3.0189833980747887,0.37197558268590447,null,1.8662128411210019,null,21,5.8946327920483297,355.26194607925987,1.4789168342375985,0.52540287262062735,null,{"$f":"$O$5","v":10},10,{"$f":"CA3-0.99*(CA3-CA4)","v":12.163500000000001},1.6000675200000002E-2,-0.3,0.37197558268590447,0.38797625788590445,262.33811726533725,5.5808238268189481,0.97770222983520005,153.16999999999999,0.40440416666666695,-3.0189833980747887,0.37197558268590447,null,1.8662128411210019,null,21,5.8946327920483297,355.26194607925987,1.4789168342375985,0.52540287262062735,null,{"$f":"$O$5","v":10},10,{"$f":"CX3-0.99*(CX3-CX4)","v":12.163500000000001},1.6000675200000002E-2,-0.3,0.37197558268590447,0.38797625788590445,262.33811726533725,5.5808238268189481,0.97770222983520005,153.16999999999999,0.40440416666666695,-3.0189833980747887,0.37197558268590447,null,1.8662128411210019,null,21,5.8946327920483297,355.26194607925987,1.4789168342375985,0.52540287262062735,null,{"$f":"$O$5","v":10},10,{"$f":"DU3-0.99*(DU3-DU4)","v":12.163500000000001},1.6000675200000002E-2,-0.3,0.37197558268590447,0.38797625788590445,262.33811726533725,5.5808238268189481,0.97770222983520005,153.16999999999999,0.40440416666666695,-3.0189833980747887,0.37197558268590447,null,1.8662128411210019]
[22,6.2498947381275896,370.48524099409974,1.4865568760887653,0.55074738248918231,null,{"$f":"$O$5+($O$6-$O$5)*0.14*A12","v":10},10,{"$f":"$J$4","v":12.15},1.8240769728000001E-2,-0.3,0.37222222222222223,0.39046299195022222,262.66266580903221,5.8431619440842857,1.1993275820304001,163.16999999999999,0.40541666666666681,-2.6135667314081217,0.37222222222222223,null,2.1690806972435652,null,22,6.2498947381275896,370.48524099409974,1.4865568760887653,0.55074738248918231,null,{"$f":"$O$5+($O$6-$O$5)*0.14*X12","v":10},10,{"$f":"AG4","v":12.15},1.8240769728000001E-2,-0.3,0.37222222222222223,0.39046299195022222,262.66266580903221,5.8431619440842857,1.1993275820304001,163.16999999999999,0.40541666666666681,-2.6135667314081217,0.37222222222222223,null,2.1690806972435652,null,22,6.2498947381275896,370.48524099409974,1.4865568760887653,0.55074738248918231,null,{"$f":"$O$5+($O$6-$O$5)*0.14*AU12","v":10},10,{"$f":"BD4","v":12.15},1.8240769728000001E-2,-0.3,0.37222222222222223,0.39046299195022222,262.66266580903221,5.8431619440842857,1.1993275820304001,163.16999999999999,0.40541666666666681,-2.6135667314081217,0.37222222222222223,null,2.1690806972435652,null,22,6.2498947381275896,370.48524099409974,1.4865568760887653,0.55074738248918231,null,{"$f":"$O$5+($O$6-$O$5)*0.14*BR12","v":10},10,{"$f":"CA4","v":12.15},1.8240769728000001E-2,-0.3,0.37222222222222223,0.39046299195022222,262.66266580903221,5.8431619440842857,1.1993275820304001,163.16999999999999,0.40541666666666681,-2.6135667314081217,0.37222222222222223,null,2.1690806972435652,null,22,6.2498947381275896,370.48524099409974,1.4865568760887653,0.55074738248918231,null,{"$f":"$O$5+($O$6-$O$5)*0.14*CO12","v":10},10,{"$f":"CX4","v":12.15},1.8240769728000001E-2,-0.3,0.37222222222222223,0.39046299195022222,262.66266580903221,5.8431619440842857,1.1993275820304001,163.16999999999999,0.40541666666666681,-2.6135667314081217,0.37222222222222223,null,2.1690806972435652,null,22,6.2498947381275896,370.48524099409974,1.4865568760887653,0.55074738248918231,null,{"$f":"$O$5+($O$6-$O$5)*0.14*DL12","v":10},10,{"$f":"DU4","v":12.15},1.8240769728000001E-2,-0.3,0.37222222222222223,0.39046299195022222,262.66266580903221,5.8431619440842857,1.1993275820304001,163.16999999999999,0.40541666666666681,-2.6135667314081217,0.37222222222222223,null,2.1690806972435652]
[23,6.6203799791216893,386.00301786413206,1.494524300626273,0.57689089031302276,null,10,10,12.15,2.0794477489920003E-2,-0.3,0.37222222222222223,0.39301669971214226,262.97110026745673,6.1058246098933182,1.4519804835329282,173.17,0.40541666666666681,-2.2081500647414547,0.37222222222222223,null,2.4867243173032265,null,23,6.6203799791216893,386.00301786413206,1.494524300626273,0.57689089031302276,null,10,10,{"$f":"AG4","v":12.15},2.0794477489920003E-2,-0.3,0.37222222222222223,0.39301669971214226,262.97110026745673,6.1058246098933182,1.4519804835329282,173.17,0.40541666666666681,-2.2081500647414547,0.37222222222222223,null,2.4867243173032265,null,23,6.6203799791216893,386.00301786413206,1.494524300626273,0.57689089031302276,null,10,10,{"$f":"BD4","v":12.15},2.0794477489920003E-2,-0.3,0.37222222222222223,0.39301669971214226,262.97110026745673,6.1058246098933182,1.4519804835329282,173.17,0.40541666666666681,-2.2081500647414547,0.37222222222222223,null,2.4867243173032265,null,23,6.6203799791216893,386.00301786413206,1.494524300626273,0.57689089031302276,null,10,10,{"$f":"CA4","v":12.15},2.0794477489920003E-2,-0.3,0.37222222222222223,0.39301669971214226,262.97110026745673,6.1058246098933182,1.4519804835329282,173.17,0.40541666666666681,-2.2081500647414547,0.37222222222222223,null,2.4867243173032265,null,23,6.6203799791216893,386.00301786413206,1.494524300626273,0.57689089031302276,null,10,10,{"$f":"CX4","v":12.15},2.0794477489920003E-2,-0.3,0.37222222222222223,0.39301669971214226,262.97110026745673,6.1058246098933182,1.4519804835329282,173.17,0.40541666666666681,-2.2081500647414547,0.37222222222222223,null,2.4867243173032265,null,23,6.6203799791216893,386.00301786413206,1.494524300626273,0.57689089031302276,null,10,10,{"$f":"DU4","v":12.15},2.0794477489920003E-2,-0.3,0.37222222222222223,0.39301669971214226,262.97110026745673,6.1058246098933182,1.4519804835329282,173.17,0.40541666666666681,-2.2081500647414547,0.37222222222222223,null,2.4867243173032265]
[24,7.0063829969858213,401.80420650456574,1.502825440795394,0.60384158375366759,null,10,10,12.15,2.3705704338508802E-2,-0.3,0.37222222222222223,0.39592792656073106,263.45569872119012,6.3687957101607751,1.7400047912458101,183.17,0.40541666666666681,-1.8027333980747879,0.37222222222222223,null,2.8141752426070612,null,24,7.0063829969858213,401.80420650456574,1.502825440795394,0.60384158375366759,null,10,10,{"$f":"AG4","v":12.15},2.3705704338508802E-2,-0.3,0.37222222222222223,0.39592792656073106,263.45569872119012,6.3687957101607751,1.7400047912458101,183.17,0.40541666666666681,-1.8027333980747879,0.37222222222222223,null,2.8141752426070612,null,24,7.0063829969858213,401.80420650456574,1.502825440795394,0.60384158375366759,null,10,10,{"$f":"BD4","v":12.15},2.3705704338508802E-2,-0.3,0.37222222222222223,0.39592792656073106,263.45569872119012,6.3687957101607751,1.7400047912458101,183.17,0.40541666666666681,-1.8027333980747879,0.37222222222222223,null,2.8141752426070612,null,24,7.0063829969858213,401.80420650456574,1.502825440795394,0.60384158375366759,null,10,10,{"$f":"CA4","v":12.15},2.3705704338508802E-2,-0.3,0.37222222222222223,0.39592792656073106,263.45569872119012,6.3687957101607751,1.7400047912458101,183.17,0.40541666666666681,-1.8027333980747879,0.37222222222222223,null,2.8141752426070612,null,24,7.0063829969858213,401.80420650456574,1.502825440795394,0.60384158375366759,null,10,10,{"$f":"CX4","v":12.15},2.3705704338508802E-2,-0.3,0.37222222222222223,0.39592792656073106,263.45569872119012,6.3687957101607751,1.7400047912458101,183.17,0.40541666666666681,-1.8027333980747879,0.37222222222222223,null,2.8141752426070612,null,24,7.0063829969858213,401.80420650456574,1.502825440795394,0.60384158375366759,null,10,10,{"$f":"DU4","v":12.15},2.3705704338508802E-2,-0.3,0.37222222222222223,0.39592792656073106,263.45569872119012,6.3687957101607751,1.7400047912458101,183.17,0.40541666666666681,-1.8027333980747879,0.37222222222222223,null,2.8141752426070612]
[25,7.4081872034903871,417.87709745982761,1.5114663914729116,0.63160718857677989,null,10,10,12.15,2.7024502945900034E-2,-0.3,0.37222222222222223,0.39924672516812226,264.14528792734819,6.6322514088819648,2.0683525020384956,193.17,0.40541666666666681,-1.3973167314081212,0.37222222222222223,null,3.1515273412078755,null,25,7.4081872034903871,417.87709745982761,1.5114663914729116,0.63160718857677989,null,10,10,{"$f":"AG4","v":12.15},2.7024502945900034E-2,-0.3,0.37222222222222223,0.39924672516812226,264.14528792734819,6.6322514088819648,2.0683525020384956,193.17,0.40541666666666681,-1.3973167314081212,0.37222222222222223,null,3.1515273412078755,null,25,7.4081872034903871,417.87709745982761,1.5114663914729116,0.63160718857677989,null,10,10,{"$f":"BD4","v":12.15},2.7024502945900034E-2,-0.3,0.37222222222222223,0.39924672516812226,264.14528792734819,6.6322514088819648,2.0683525020384956,193.17,0.40541666666666681,-1.3973167314081212,0.37222222222222223,null,3.1515273412078755,null,25,7.4081872034903871,417.87709745982761,1.5114663914729116,0.63160718857677989,null,10,10,{"$f":"CA4","v":12.15},2.7024502945900034E-2,-0.3,0.37222222222222223,0.39924672516812226,264.14528792734819,6.6322514088819648,2.0683525020384956,193.17,0.40541666666666681,-1.3973167314081212,0.37222222222222223,null,3.1515273412078755,null,25,7.4081872034903871,417.87709745982761,1.5114663914729116,0.63160718857677989,null,10,10,{"$f":"CX4","v":12.15},2.7024502945900034E-2,-0.3,0.37222222222222223,0.39924672516812226,264.14528792734819,6.6322514088819648,2.0683525020384956,193.17,0.40541666666666681,-1.3973167314081212,0.37222222222222223,null,3.1515273412078755,null,25,7.4081872034903871,417.87709745982761,1.5114663914729116,0.63160718857677989,null,10,10,{"$f":"DU4","v":12.15},2.7024502945900034E-2,-0.3,0.37222222222222223,0.39924672516812226,264.14528792734819,6.6322514088819648,2.0683525020384956,193.17,0.40541666666666681,-1.3973167314081212,0.37222222222222223,null,3.1515273412078755]
[26,7.8260643009502147,434.20937017980953,1.5204529957193595,0.6601949376593077,null,10,10,12.15,3.0807933358326038E-2,-0.3,0.37222222222222223,0.40303015558054828,265.07242033474762,6.8963966968093127,2.4426688923421569,203.17,0.40541666666666681,-0.99190006474145442,0.37222222222222223,null,3.4988684925605886,null,26,7.8260643009502147,434.20937017980953,1.5204529957193595,0.6601949376593077,null,10,10,{"$f":"AG4","v":12.15},3.0807933358326038E-2,-0.3,0.37222222222222223,0.40303015558054828,265.07242033474762,6.8963966968093127,2.4426688923421569,203.17,0.40541666666666681,-0.99190006474145442,0.37222222222222223,null,3.4988684925605886,null,26,7.8260643009502147,434.20937017980953,1.5204529957193595,0.6601949376593077,null,10,10,{"$f":"BD4","v":12.15},3.0807933358326038E-2,-0.3,0.37222222222222223,0.40303015558054828,265.07242033474762,6.8963966968093127,2.4426688923421569,203.17,0.40541666666666681,-0.99190006474145442,0.37222222222222223,null,3.4988684925605886,null,26,7.8260643009502147,434.20937017980953,1.5204529957193595,0.6601949376593077,null,10,10,{"$f":"CA4","v":12.15},3.0807933358326038E-2,-0.3,0.37222222222222223,0.40303015558054828,265.07242033474762,6.8963966968093127,2.4426688923421569,203.17,0.40541666666666681,-0.99190006474145442,0.37222222222222223,null,3.4988684925605886,null,26,7.8260643009502147,434.20937017980953,1.5204529957193595,0.6601949376593077,null,10,10,{"$f":"CX4","v":12.15},3.0807933358326038E-2,-0.3,0.37222222222222223,0.40303015558054828,265.07242033474762,6.8963966968093127,2.4426688923421569,203.17,0.40541666666666681,-0.99190006474145442,0.37222222222222223,null,3.4988684925605886,null,26,7.8260643009502147,434.20937017980953,1.5204529957193595,0.6601949376593077,null,10,10,{"$f":"DU4","v":12.15},3.0807933358326038E-2,-0.3,0.37222222222222223,0.40303015558054828,265.07242033474762,6.8963966968093127,2.4426688923421569,203.17,0.40541666666666681,-0.99190006474145442,0.37222222222222223,null,3.4988684925605886]
[27,8.2602736711300242,450.78812299989045,1.5297908316372049,0.6896115375761771,null,10,10,12.15,3.5121044028491685E-2,-0.3,0.37222222222222223,0.40734326625071393,266.27383157654901,7.1614691171440601,2.8693895772883309,213.17,0.40541666666666681,-0.58648339807478767,0.37222222222222223,null,3.8562801815505519,null,27,8.2602736711300242,450.78812299989045,1.5297908316372049,0.6896115375761771,null,10,10,{"$f":"AG4","v":12.15},3.5121044028491685E-2,-0.3,0.37222222222222223,0.40734326625071393,266.27383157654901,7.1614691171440601,2.8693895772883309,213.17,0.40541666666666681,-0.58648339807478767,0.37222222222222223,null,3.8562801815505519,null,27,8.2602736711300242,450.78812299989045,1.5297908316372049,0.6896115375761771,null,10,10,{"$f":"BD4","v":12.15},3.5121044028491685E-2,-0.3,0.37222222222222223,0.40734326625071393,266.27383157654901,7.1614691171440601,2.8693895772883309,213.17,0.40541666666666681,-0.58648339807478767,0.37222222222222223,null,3.8562801815505519,null,27,8.2602736711300242,450.78812299989045,1.5297908316372049,0.6896115375761771,null,10,10,{"$f":"CA4","v":12.15},3.5121044028491685E-2,-0.3,0.37222222222222223,0.40734326625071393,266.27383157654901,7.1614691171440601,2.8693895772883309,213.17,0.40541666666666681,-0.58648339807478767,0.37222222222222223,null,3.8562801815505519,null,27,8.2602736711300242,450.78812299989045,1.5297908316372049,0.6896115375761771,null,10,10,{"$f":"CX4","v":12.15},3.5121044028491685E-2,-0.3,0.37222222222222223,0.40734326625071393,266.27383157654901,7.1614691171440601,2.8693895772883309,213.17,0.40541666666666681,-0.58648339807478767,0.37222222222222223,null,3.8562801815505519,null,27,8.2602736711300242,450.78812299989045,1.5297908316372049,0.6896115375761771,null,10,10,{"$f":"DU4","v":12.15},3.5121044028491685E-2,-0.3,0.37222222222222223,0.40734326625071393,266.27383157654901,7.1614691171440601,2.8693895772883309,213.17,0.40541666666666681,-0.58648339807478767,0.37222222222222223,null,3.8562801815505519]
[28,8.7110617941299147,467.59990477069204,1.5394851998737615,0.71986313285686077,null,{"$f":"$O$6","v":10},10,12.15,4.003799019248052E-2,-0.3,0.37222222222222223,0.41226021241470273,267.79095534566244,7.427742948720609,3.3558511581269692,223.17,0.40541666666666681,-0.18106673140812085,0.37222222222222223,null,4.2238370642108585,null,28,8.7110617941299147,467.59990477069204,1.5394851998737615,0.71986313285686077,null,{"$f":"$O$6","v":10},10,{"$f":"AG4","v":12.15},4.003799019248052E-2,-0.3,0.37222222222222223,0.41226021241470273,267.79095534566244,7.427742948720609,3.3558511581269692,223.17,0.40541666666666681,-0.18106673140812085,0.37222222222222223,null,4.2238370642108585,null,28,8.7110617941299147,467.59990477069204,1.5394851998737615,0.71986313285686077,null,{"$f":"$O$6","v":10},10,{"$f":"BD4","v":12.15},4.003799019248052E-2,-0.3,0.37222222222222223,0.41226021241470273,267.79095534566244,7.427742948720609,3.3558511581269692,223.17,0.40541666666666681,-0.18106673140812085,0.37222222222222223,null,4.2238370642108585,null,28,8.7110617941299147,467.59990477069204,1.5394851998737615,0.71986313285686077,null,{"$f":"$O$6","v":10},10,{"$f":"CA4","v":12.15},4.003799019248052E-2,-0.3,0.37222222222222223,0.41226021241470273,267.79095534566244,7.427742948720609,3.3558511581269692,223.17,0.40541666666666681,-0.18106673140812085,0.37222222222222223,null,4.2238370642108585,null,28,8.7110617941299147,467.59990477069204,1.5394851998737615,0.71986313285686077,null,{"$f":"$O$6","v":10},10,{"$f":"CX4","v":12.15},4.003799019248052E-2,-0.3,0.37222222222222223,0.41226021241470273,267.79095534566244,7.427742948720609,3.3558511581269692,223.17,0.40541666666666681,-0.18106673140812085,0.37222222222222223,null,4.2238370642108585,null,28,8.7110617941299147,467.59990477069204,1.5394851998737615,0.71986313285686077,null,{"$f":"$O$6","v":10},10,{"$f":"DU4","v":12.15},4.003799019248052E-2,-0.3,0.37222222222222223,0.41226021241470273,267.79095534566244,7.427742948720609,3.3558511581269692,223.17,0.40541666666666681,-0.18106673140812085,0.37222222222222223,null,4.2238370642108585]
[29,9.1786616989006067,484.63074797908234,1.5495411118043141,0.75095526803806367,null,{"$f":"G39","v":10},10,12.15,4.5643308819427797E-2,-0.3,0.37222222222222223,0.41786553104165003,269.67050300142068,7.6955339040662718,3.910417360283017,233.17,0.40541666666666681,0.22434993525854596,0.37222222222222223,null,4.6016065066624741,null,29,9.1786616989006067,484.63074797908234,1.5495411118043141,0.75095526803806367,null,{"$f":"AD39","v":10},10,{"$f":"AG4","v":12.15},4.5643308819427797E-2,-0.3,0.37222222222222223,0.41786553104165003,269.67050300142068,7.6955339040662718,3.910417360283017,233.17,0.40541666666666681,0.22434993525854596,0.37222222222222223,null,4.6016065066624741,null,29,9.1786616989006067,484.63074797908234,1.5495411118043141,0.75095526803806367,null,{"$f":"BA39","v":10},10,{"$f":"BD4","v":12.15},4.5643308819427797E-2,-0.3,0.37222222222222223,0.41786553104165003,269.67050300142068,7.6955339040662718,3.910417360283017,233.17,0.40541666666666681,0.22434993525854596,0.37222222222222223,null,4.6016065066624741,null,29,9.1786616989006067,484.63074797908234,1.5495411118043141,0.75095526803806367,null,{"$f":"BX39","v":10},10,{"$f":"CA4","v":12.15},4.5643308819427797E-2,-0.3,0.37222222222222223,0.41786553104165003,269.67050300142068,7.6955339040662718,3.910417360283017,233.17,0.40541666666666681,0.22434993525854596,0.37222222222222223,null,4.6016065066624741,null,29,9.1786616989006067,484.63074797908234,1.5495411118043141,0.75095526803806367,null,{"$f":"CU39","v":10},10,{"$f":"CX4","v":12.15},4.5643308819427797E-2,-0.3,0.37222222222222223,0.41786553104165003,269.67050300142068,7.6955339040662718,3.910417360283017,233.17,0.40541666666666681,0.22434993525854596,0.37222222222222223,null,4.6016065066624741,null,29,9.1786616989006067,484.63074797908234,1.5495411118043141,0.75095526803806367,null,{"$f":"DR39","v":10},10,{"$f":"DU4","v":12.15},4.5643308819427797E-2,-0.3,0.37222222222222223,0.41786553104165003,269.67050300142068,7.6955339040662718,3.910417360283017,233.17,0.40541666666666681,0.22434993525854596,0.37222222222222223,null,4.6016065066624741]
[30,9.663292446879689,501.86620319890631,1.5599632784275201,0.78289284767413791,null,{"$f":"G40","v":10},10,12.15,5.2033372054147688E-2,-0.3,0.37222222222222223,0.42425559427636994,271.96511619429248,7.9652044070676924,4.5426228307409113,243.17,0.40541666666666681,0.62976660192521283,0.37222222222222223,null,4.9896480992407755,null,30,9.663292446879689,501.86620319890631,1.5599632784275201,0.78289284767413791,null,{"$f":"AD40","v":10},10,{"$f":"AG4","v":12.15},5.2033372054147688E-2,-0.3,0.37222222222222223,0.42425559427636994,271.96511619429248,7.9652044070676924,4.5426228307409113,243.17,0.40541666666666681,0.62976660192521283,0.37222222222222223,null,4.9896480992407755,null,30,9.663292446879689,501.86620319890631,1.5599632784275201,0.78289284767413791,null,{"$f":"BA40","v":10},10,{"$f":"BD4","v":12.15},5.2033372054147688E-2,-0.3,0.37222222222222223,0.42425559427636994,271.96511619429248,7.9652044070676924,4.5426228307409113,243.17,0.40541666666666681,0.62976660192521283,0.37222222222222223,null,4.9896480992407755,null,30,9.663292446879689,501.86620319890631,1.5599632784275201,0.78289284767413791,null,{"$f":"BX40","v":10},10,{"$f":"CA4","v":12.15},5.2033372054147688E-2,-0.3,0.37222222222222223,0.42425559427636994,271.96511619429248,7.9652044070676924,4.5426228307409113,243.17,0.40541666666666681,0.62976660192521283,0.37222222222222223,null,4.9896480992407755,null,30,9.663292446879689,501.86620319890631,1.5599632784275201,0.78289284767413791,null,{"$f":"CU40","v":10},10,{"$f":"CX4","v":12.15},5.2033372054147688E-2,-0.3,0.37222222222222223,0.42425559427636994,271.96511619429248,7.9652044070676924,4.5426228307409113,243.17,0.40541666666666681,0.62976660192521283,0.37222222222222223,null,4.9896480992407755,null,30,9.663292446879689,501.86620319890631,1.5599632784275201,0.78289284767413791,null,{"$f":"DR40","v":10},10,{"$f":"DU4","v":12.15},5.2033372054147688E-2,-0.3,0.37222222222222223,0.42425559427636994,271.96511619429248,7.9652044070676924,4.5426228307409113,243.17,0.40541666666666681,0.62976660192521283,0.37222222222222223,null,4.9896480992407755]
[31,10.165158650078595,519.2913747077306,1.5707561000016903,0.81568009450043133,null,10,10,12.15,5.9318044141728365E-2,-0.3,0.37222222222222223,0.4315402663639506,274.73410185291414,8.2371695232619846,5.2633370670629107,253.17,0.40541666666666681,1.0351832685918796,0.37222222222222223,null,5.3880131481802405,null,31,10.165158650078595,519.2913747077306,1.5707561000016903,0.81568009450043133,null,10,10,{"$f":"AG4","v":12.15},5.9318044141728365E-2,-0.3,0.37222222222222223,0.4315402663639506,274.73410185291414,8.2371695232619846,5.2633370670629107,253.17,0.40541666666666681,1.0351832685918796,0.37222222222222223,null,5.3880131481802405,null,31,10.165158650078595,519.2913747077306,1.5707561000016903,0.81568009450043133,null,10,10,{"$f":"BD4","v":12.15},5.9318044141728365E-2,-0.3,0.37222222222222223,0.4315402663639506,274.73410185291414,8.2371695232619846,5.2633370670629107,253.17,0.40541666666666681,1.0351832685918796,0.37222222222222223,null,5.3880131481802405,null,31,10.165158650078595,519.2913747077306,1.5707561000016903,0.81568009450043133,null,10,10,{"$f":"CA4","v":12.15},5.9318044141728365E-2,-0.3,0.37222222222222223,0.4315402663639506,274.73410185291414,8.2371695232619846,5.2633370670629107,253.17,0.40541666666666681,1.0351832685918796,0.37222222222222223,null,5.3880131481802405,null,31,10.165158650078595,519.2913747077306,1.5707561000016903,0.81568009450043133,null,10,10,{"$f":"CX4","v":12.15},5.9318044141728365E-2,-0.3,0.37222222222222223,0.4315402663639506,274.73410185291414,8.2371695232619846,5.2633370670629107,253.17,0.40541666666666681,1.0351832685918796,0.37222222222222223,null,5.3880131481802405,null,31,10.165158650078595,519.2913747077306,1.5707561000016903,0.81568009450043133,null,10,10,{"$f":"DU4","v":12.15},5.9318044141728365E-2,-0.3,0.37222222222222223,0.4315402663639506,274.73410185291414,8.2371695232619846,5.2633370670629107,253.17,0.40541666666666681,1.0351832685918796,0.37222222222222223,null,5.3880131481802405]
[32,10.684450024786326,536.89095710480035,1.5819236564470178,0.84932050597656472,null,10,10,12.15,6.7622570321570333E-2,-0.3,0.37222222222222223,0.43984479254379255,278.04426006984363,8.5119036251148987,6.0849512964699901,263.16999999999996,0.40541666666666681,1.4405999352585463,0.37222222222222223,null,5.7967441476152617,null,32,10.684450024786326,536.89095710480035,1.5819236564470178,0.84932050597656472,null,10,10,{"$f":"AG4","v":12.15},6.7622570321570333E-2,-0.3,0.37222222222222223,0.43984479254379255,278.04426006984363,8.5119036251148987,6.0849512964699901,263.16999999999996,0.40541666666666681,1.4405999352585463,0.37222222222222223,null,5.7967441476152617,null,32,10.684450024786326,536.89095710480035,1.5819236564470178,0.84932050597656472,null,10,10,{"$f":"BD4","v":12.15},6.7622570321570333E-2,-0.3,0.37222222222222223,0.43984479254379255,278.04426006984363,8.5119036251148987,6.0849512964699901,263.16999999999996,0.40541666666666681,1.4405999352585463,0.37222222222222223,null,5.7967441476152617,null,32,10.684450024786326,536.89095710480035,1.5819236564470178,0.84932050597656472,null,10,10,{"$f":"CA4","v":12.15},6.7622570321570333E-2,-0.3,0.37222222222222223,0.43984479254379255,278.04426006984363,8.5119036251148987,6.0849512964699901,263.16999999999996,0.40541666666666681,1.4405999352585463,0.37222222222222223,null,5.7967441476152617,null,32,10.684450024786326,536.89095710480035,1.5819236564470178,0.84932050597656472,null,10,10,{"$f":"CX4","v":12.15},6.7622570321570333E-2,-0.3,0.37222222222222223,0.43984479254379255,278.04426006984363,8.5119036251148987,6.0849512964699901,263.16999999999996,0.40541666666666681,1.4405999352585463,0.37222222222222223,null,5.7967441476152617,null,32,10.684450024786326,536.89095710480035,1.5819236564470178,0.84932050597656472,null,10,10,{"$f":"DU4","v":12.15},6.7622570321570333E-2,-0.3,0.37222222222222223,0.43984479254379255,278.04426006984363,8.5119036251148987,6.0849512964699901,263.16999999999996,0.40541666666666681,1.4405999352585463,0.37222222222222223,null,5.7967441476152617]
[33,11.221340981891126,554.64927276529602,1.593469698535293,0.88381680946613572,null,10,10,12.15,7.7089730166590181E-2,-0.3,0.37222222222222223,0.44931195238881239,281.97081676659241,8.789947885184743,7.0215915179940609,273.16999999999996,0.40541666666666681,1.8460166019252131,0.37222222222222223,null,6.2158742350135494,null,33,11.221340981891126,554.64927276529602,1.593469698535293,0.88381680946613572,null,10,10,{"$f":"AG4","v":12.15},7.7089730166590181E-2,-0.3,0.37222222222222223,0.44931195238881239,281.97081676659241,8.789947885184743,7.0215915179940609,273.16999999999996,0.40541666666666681,1.8460166019252131,0.37222222222222223,null,6.2158742350135494,null,33,11.221340981891126,554.64927276529602,1.593469698535293,0.88381680946613572,null,10,10,{"$f":"BD4","v":12.15},7.7089730166590181E-2,-0.3,0.37222222222222223,0.44931195238881239,281.97081676659241,8.789947885184743,7.0215915179940609,273.16999999999996,0.40541666666666681,1.8460166019252131,0.37222222222222223,null,6.2158742350135494,null,33,11.221340981891126,554.64927276529602,1.593469698535293,0.88381680946613572,null,10,10,{"$f":"CA4","v":12.15},7.7089730166590181E-2,-0.3,0.37222222222222223,0.44931195238881239,281.97081676659241,8.789947885184743,7.0215915179940609,273.16999999999996,0.40541666666666681,1.8460166019252131,0.37222222222222223,null,6.2158742350135494,null,33,11.221340981891126,554.64927276529602,1.593469698535293,0.88381680946613572,null,10,10,{"$f":"CX4","v":12.15},7.7089730166590181E-2,-0.3,0.37222222222222223,0.44931195238881239,281.97081676659241,8.789947885184743,7.0215915179940609,273.16999999999996,0.40541666666666681,1.8460166019252131,0.37222222222222223,null,6.2158742350135494,null,33,11.221340981891126,554.64927276529602,1.593469698535293,0.88381680946613572,null,10,10,{"$f":"DU4","v":12.15},7.7089730166590181E-2,-0.3,0.37222222222222223,0.44931195238881239,281.97081676659241,8.789947885184743,7.0215915179940609,273.16999999999996,0.40541666666666681,1.8460166019252131,0.37222222222222223,null,6.2158742350135494]
[34,11.775990254656422,572.55030996687321,1.6053976398850844,0.91917091633629189,null,10,10,12.15,8.7882292389912811E-2,-0.3,0.37222222222222223,0.46010451461213503,286.59847453436498,9.0719187019513363,8.0893613705315008,283.16999999999996,0.40541666666666681,2.2514332685918799,0.37222222222222223,null,6.6454266334859469,null,34,11.775990254656422,572.55030996687321,1.6053976398850844,0.91917091633629189,null,10,10,{"$f":"AG4","v":12.15},8.7882292389912811E-2,-0.3,0.37222222222222223,0.46010451461213503,286.59847453436498,9.0719187019513363,8.0893613705315008,283.16999999999996,0.40541666666666681,2.2514332685918799,0.37222222222222223,null,6.6454266334859469,null,34,11.775990254656422,572.55030996687321,1.6053976398850844,0.91917091633629189,null,10,10,{"$f":"BD4","v":12.15},8.7882292389912811E-2,-0.3,0.37222222222222223,0.46010451461213503,286.59847453436498,9.0719187019513363,8.0893613705315008,283.16999999999996,0.40541666666666681,2.2514332685918799,0.37222222222222223,null,6.6454266334859469,null,34,11.775990254656422,572.55030996687321,1.6053976398850844,0.91917091633629189,null,10,10,{"$f":"CA4","v":12.15},8.7882292389912811E-2,-0.3,0.37222222222222223,0.46010451461213503,286.59847453436498,9.0719187019513363,8.0893613705315008,283.16999999999996,0.40541666666666681,2.2514332685918799,0.37222222222222223,null,6.6454266334859469,null,34,11.775990254656422,572.55030996687321,1.6053976398850844,0.91917091633629189,null,10,10,{"$f":"CX4","v":12.15},8.7882292389912811E-2,-0.3,0.37222222222222223,0.46010451461213503,286.59847453436498,9.0719187019513363,8.0893613705315008,283.16999999999996,0.40541666666666681,2.2514332685918799,0.37222222222222223,null,6.6454266334859469,null,34,11.775990254656422,572.55030996687321,1.6053976398850844,0.91917091633629189,null,10,10,{"$f":"DU4","v":12.15},8.7882292389912811E-2,-0.3,0.37222222222222223,0.46010451461213503,286.59847453436498,9.0719187019513363,8.0893613705315008,283.16999999999996,0.40541666666666681,2.2514332685918799,0.37222222222222223,null,6.6454266334859469]
[35,12.348540564623296,590.57776152618408,1.6177105497768451,0.95538387528450175,null,10,10,12.15,0.10018581332450061,-0.3,0.37222222222222223,0.47240803554672284,292.02259675681108,9.3585171764857016,9.3066190024241831,293.16999999999996,0.40541666666666681,2.6568499352585468,0.37222222222222223,null,7.085414084706696,null,35,12.348540564623296,590.57776152618408,1.6177105497768451,0.95538387528450175,null,10,10,{"$f":"AG4","v":12.15},0.10018581332450061,-0.3,0.37222222222222223,0.47240803554672284,292.02259675681108,9.3585171764857016,9.3066190024241831,293.16999999999996,0.40541666666666681,2.6568499352585468,0.37222222222222223,null,7.085414084706696,null,35,12.348540564623296,590.57776152618408,1.6177105497768451,0.95538387528450175,null,10,10,{"$f":"BD4","v":12.15},0.10018581332450061,-0.3,0.37222222222222223,0.47240803554672284,292.02259675681108,9.3585171764857016,9.3066190024241831,293.16999999999996,0.40541666666666681,2.6568499352585468,0.37222222222222223,null,7.085414084706696,null,35,12.348540564623296,590.57776152618408,1.6177105497768451,0.95538387528450175,null,10,10,{"$f":"CA4","v":12.15},0.10018581332450061,-0.3,0.37222222222222223,0.47240803554672284,292.02259675681108,9.3585171764857016,9.3066190024241831,293.16999999999996,0.40541666666666681,2.6568499352585468,0.37222222222222223,null,7.085414084706696,null,35,12.348540564623296,590.57776152618408,1.6177105497768451,0.95538387528450175,null,10,10,{"$f":"CX4","v":12.15},0.10018581332450061,-0.3,0.37222222222222223,0.47240803554672284,292.02259675681108,9.3585171764857016,9.3066190024241831,293.16999999999996,0.40541666666666681,2.6568499352585468,0.37222222222222223,null,7.085414084706696,null,35,12.348540564623296,590.57776152618408,1.6177105497768451,0.95538387528450175,null,10,10,{"$f":"DU4","v":12.15},0.10018581332450061,-0.3,0.37222222222222223,0.47240803554672284,292.02259675681108,9.3585171764857016,9.3066190024241831,293.16999999999996,0.40541666666666681,2.6568499352585468,0.37222222222222223,null,7.085414084706696]
[36,12.93911832614948,608.71506378555296,1.6304111467989135,0.99245582522037712,null,10,10,12.15,0.1142118271899307,-0.3,0.37222222222222223,0.48643404941215296,298.35054205020543,9.650539773242512,10.694292702781841,303.16999999999996,0.40541666666666681,3.0622666019252138,0.37222222222222223,null,7.5358382764275822,null,36,12.93911832614948,608.71506378555296,1.6304111467989135,0.99245582522037712,null,10,10,{"$f":"AG4","v":12.15},0.1142118271899307,-0.3,0.37222222222222223,0.48643404941215296,298.35054205020543,9.650539773242512,10.694292702781841,303.16999999999996,0.40541666666666681,3.0622666019252138,0.37222222222222223,null,7.5358382764275822,null,36,12.93911832614948,608.71506378555296,1.6304111467989135,0.99245582522037712,null,10,10,{"$f":"BD4","v":12.15},0.1142118271899307,-0.3,0.37222222222222223,0.48643404941215296,298.35054205020543,9.650539773242512,10.694292702781841,303.16999999999996,0.40541666666666681,3.0622666019252138,0.37222222222222223,null,7.5358382764275822,null,36,12.93911832614948,608.71506378555296,1.6304111467989135,0.99245582522037712,null,10,10,{"$f":"CA4","v":12.15},0.1142118271899307,-0.3,0.37222222222222223,0.48643404941215296,298.35054205020543,9.650539773242512,10.694292702781841,303.16999999999996,0.40541666666666681,3.0622666019252138,0.37222222222222223,null,7.5358382764275822,null,36,12.93911832614948,608.71506378555296,1.6304111467989135,0.99245582522037712,null,10,10,{"$f":"CX4","v":12.15},0.1142118271899307,-0.3,0.37222222222222223,0.48643404941215296,298.35054205020543,9.650539773242512,10.694292702781841,303.16999999999996,0.40541666666666681,3.0622666019252138,0.37222222222222223,null,7.5358382764275822,null,36,12.93911832614948,608.71506378555296,1.6304111467989135,0.99245582522037712,null,10,10,{"$f":"DU4","v":12.15},0.1142118271899307,-0.3,0.37222222222222223,0.48643404941215296,298.35054205020543,9.650539773242512,10.694292702781841,303.16999999999996,0.40541666666666681,3.0622666019252138,0.37222222222222223,null,7.5358382764275822]
[37,13.547833389935032,626.94543579364927,1.6435017933319362,1.0303859480481348,null,10,10,12.15,0.13020148299652101,-0.3,0.37222222222222223,0.50242370521874324,305.70316823333656,9.9488903152927168,12.276240721189572,313.16999999999996,0.40541666666666681,3.4676832685918808,0.37222222222222223,null,7.9966892687848379,null,37,13.547833389935032,626.94543579364927,1.6435017933319362,1.0303859480481348,null,10,10,{"$f":"AG4","v":12.15},0.13020148299652101,-0.3,0.37222222222222223,0.50242370521874324,305.70316823333656,9.9488903152927168,12.276240721189572,313.16999999999996,0.40541666666666681,3.4676832685918808,0.37222222222222223,null,7.9966892687848379,null,37,13.547833389935032,626.94543579364927,1.6435017933319362,1.0303859480481348,null,10,10,{"$f":"BD4","v":12.15},0.13020148299652101,-0.3,0.37222222222222223,0.50242370521874324,305.70316823333656,9.9488903152927168,12.276240721189572,313.16999999999996,0.40541666666666681,3.4676832685918808,0.37222222222222223,null,7.9966892687848379,null,37,13.547833389935032,626.94543579364927,1.6435017933319362,1.0303859480481348,null,10,10,{"$f":"CA4","v":12.15},0.13020148299652101,-0.3,0.37222222222222223,0.50242370521874324,305.70316823333656,9.9488903152927168,12.276240721189572,313.16999999999996,0.40541666666666681,3.4676832685918808,0.37222222222222223,null,7.9966892687848379,null,37,13.547833389935032,626.94543579364927,1.6435017933319362,1.0303859480481348,null,10,10,{"$f":"CX4","v":12.15},0.13020148299652101,-0.3,0.37222222222222223,0.50242370521874324,305.70316823333656,9.9488903152927168,12.276240721189572,313.16999999999996,0.40541666666666681,3.4676832685918808,0.37222222222222223,null,7.9966892687848379,null,37,13.547833389935032,626.94543579364927,1.6435017933319362,1.0303859480481348,null,10,10,{"$f":"DU4","v":12.15},0.13020148299652101,-0.3,0.37222222222222223,0.50242370521874324,305.70316823333656,9.9488903152927168,12.276240721189572,313.16999999999996,0.40541666666666681,3.4676832685918808,0.37222222222222223,null,7.9966892687848379]
[38,14.174778825728682,645.25191852771786,1.6569844908758857,1.0691724217083389,null,10,10,12.15,0.14842969061603395,-0.3,0.37222222222222223,0.52065191283825618,314.21652749630653,10.254593483526053,14.079661462174384,323.16999999999996,0.40541666666666681,3.8730999352585478,0.37222222222222223,null,8.4679449237563187,null,38,14.174778825728682,645.25191852771786,1.6569844908758857,1.0691724217083389,null,10,10,{"$f":"AG4","v":12.15},0.14842969061603395,-0.3,0.37222222222222223,0.52065191283825618,314.21652749630653,10.254593483526053,14.079661462174384,323.16999999999996,0.40541666666666681,3.8730999352585478,0.37222222222222223,null,8.4679449237563187,null,38,14.174778825728682,645.25191852771786,1.6569844908758857,1.0691724217083389,null,10,10,{"$f":"BD4","v":12.15},0.14842969061603395,-0.3,0.37222222222222223,0.52065191283825618,314.21652749630653,10.254593483526053,14.079661462174384,323.16999999999996,0.40541666666666681,3.8730999352585478,0.37222222222222223,null,8.4679449237563187,null,38,14.174778825728682,645.25191852771786,1.6569844908758857,1.0691724217083389,null,10,10,{"$f":"CA4","v":12.15},0.14842969061603395,-0.3,0.37222222222222223,0.52065191283825618,314.21652749630653,10.254593483526053,14.079661462174384,323.16999999999996,0.40541666666666681,3.8730999352585478,0.37222222222222223,null,8.4679449237563187,null,38,14.174778825728682,645.25191852771786,1.6569844908758857,1.0691724217083389,null,10,10,{"$f":"CX4","v":12.15},0.14842969061603395,-0.3,0.37222222222222223,0.52065191283825618,314.21652749630653,10.254593483526053,14.079661462174384,323.16999999999996,0.40541666666666681,3.8730999352585478,0.37222222222222223,null,8.4679449237563187,null,38,14.174778825728682,645.25191852771786,1.6569844908758857,1.0691724217083389,null,10,10,{"$f":"DU4","v":12.15},0.14842969061603395,-0.3,0.37222222222222223,0.52065191283825618,314.21652749630653,10.254593483526053,14.079661462174384,323.16999999999996,0.40541666666666681,3.8730999352585478,0.37222222222222223,null,8.4679449237563187]
[39,14.8200307442564,663.61741401003906,1.6708608762205677,1.1088123738480411,null,10,10,12.15,0.1692098473022787,-0.3,0.37222222222222223,0.54143206952450096,324.04377721094443,10.568810011022359,16.135561106897072,333.16999999999996,0.40541666666666681,4.2785166019252143,0.37222222222222223,null,8.9495703422536987,null,39,14.8200307442564,663.61741401003906,1.6708608762205677,1.1088123738480411,null,10,10,{"$f":"AG4","v":12.15},0.1692098473022787,-0.3,0.37222222222222223,0.54143206952450096,324.04377721094443,10.568810011022359,16.135561106897072,333.16999999999996,0.40541666666666681,4.2785166019252143,0.37222222222222223,null,8.9495703422536987,null,39,14.8200307442564,663.61741401003906,1.6708608762205677,1.1088123738480411,null,10,10,{"$f":"BD4","v":12.15},0.1692098473022787,-0.3,0.37222222222222223,0.54143206952450096,324.04377721094443,10.568810011022359,16.135561106897072,333.16999999999996,0.40541666666666681,4.2785166019252143,0.37222222222222223,null,8.9495703422536987,null,39,14.8200307442564,663.61741401003906,1.6708608762205677,1.1088123738480411,null,10,10,{"$f":"CA4","v":12.15},0.1692098473022787,-0.3,0.37222222222222223,0.54143206952450096,324.04377721094443,10.568810011022359,16.135561106897072,333.16999999999996,0.40541666666666681,4.2785166019252143,0.37222222222222223,null,8.9495703422536987,null,39,14.8200307442564,663.61741401003906,1.6708608762205677,1.1088123738480411,null,10,10,{"$f":"CX4","v":12.15},0.1692098473022787,-0.3,0.37222222222222223,0.54143206952450096,324.04377721094443,10.568810011022359,16.135561106897072,333.16999999999996,0.40541666666666681,4.2785166019252143,0.37222222222222223,null,8.9495703422536987,null,39,14.8200307442564,663.61741401003906,1.6708608762205677,1.1088123738480411,null,10,10,{"$f":"DU4","v":12.15},0.1692098473022787,-0.3,0.37222222222222223,0.54143206952450096,324.04377721094443,10.568810011022359,16.135561106897072,333.16999999999996,0.40541666666666681,4.2785166019252143,0.37222222222222223,null,8.9495703422536987]
[40,15.483648158266439,682.02472417647368,1.6851322184573427,1.1493018364942584,null,10,10,12.15,0.19289922592459771,-0.3,0.37222222222222223,{"$f":"J51+L51","v":0.56512144814681997},{"$f":"IF(E51<M51,C51,M51/D51*1000)","v":335.35733395695286},{"$f":"O50+N50/1000","v":10.892853788233303},{"$f":"J51*I51+P50","v":18.479286701880934},{"$f":"H51+Q50","v":343.16999999999996},0.40541666666666681,4.6839332685918809,0.37222222222222223,null,9.4415173134052406,null,40,15.483648158266439,682.02472417647368,1.6851322184573427,1.1493018364942584,null,10,10,{"$f":"AG4","v":12.15},0.19289922592459771,-0.3,0.37222222222222223,{"$f":"AG51+AI51","v":0.56512144814681997},{"$f":"IF(AB51<AJ51,Z51,AJ51/AA51*1000)","v":335.35733395695286},{"$f":"AL50+AK50/1000","v":10.892853788233303},{"$f":"AG51*AF51+AM50","v":18.479286701880934},{"$f":"AE51+AN50","v":343.16999999999996},0.40541666666666681,4.6839332685918809,0.37222222222222223,null,9.4415173134052406,null,40,15.483648158266439,682.02472417647368,1.6851322184573427,1.1493018364942584,null,10,10,{"$f":"BD4","v":12.15},0.19289922592459771,-0.3,0.37222222222222223,{"$f":"BD51+BF51","v":0.56512144814681997},{"$f":"IF(AY51<BG51,AW51,BG51/AX51*1000)","v":335.35733395695286},{"$f":"BI50+BH50/1000","v":10.892853788233303},{"$f":"BD51*BC51+BJ50","v":18.479286701880934},{"$f":"BB51+BK50","v":343.16999999999996},0.40541666666666681,4.6839332685918809,0.37222222222222223,null,9.4415173134052406,null,40,15.483648158266439,682.02472417647368,1.6851322184573427,1.1493018364942584,null,10,10,{"$f":"CA4","v":12.15},0.19289922592459771,-0.3,0.37222222222222223,{"$f":"CA51+CC51","v":0.56512144814681997},{"$f":"IF(BV51<CD51,BT51,CD51/BU51*1000)","v":335.35733395695286},{"$f":"CF50+CE50/1000","v":10.892853788233303},{"$f":"CA51*BZ51+CG50","v":18.479286701880934},{"$f":"BY51+CH50","v":343.16999999999996},0.40541666666666681,4.6839332685918809,0.37222222222222223,null,9.4415173134052406,null,40,15.483648158266439,682.02472417647368,1.6851322184573427,1.1493018364942584,null,10,10,{"$f":"CX4","v":12.15},0.19289922592459771,-0.3,0.37222222222222223,{"$f":"CX51+CZ51","v":0.56512144814681997},{"$f":"IF(CS51<DA51,CQ51,DA51/CR51*1000)","v":335.35733395695286},{"$f":"DC50+DB50/1000","v":10.892853788233303},{"$f":"CX51*CW51+DD50","v":18.479286701880934},{"$f":"CV51+DE50","v":343.16999999999996},0.40541666666666681,4.6839332685918809,0.37222222222222223,null,9.4415173134052406,null,40,15.483648158266439,682.02472417647368,1.6851322184573427,1.1493018364942584,null,10,10,{"$f":"DU4","v":12.15},0.19289922592459771,-0.3,0.37222222222222223,{"$f":"DU51+DW51","v":0.56512144814681997},{"$f":"IF(DP51<DX51,DN51,DX51/DO51*1000)","v":335.35733395695286},{"$f":"DZ50+DY50/1000","v":10.892853788233303},{"$f":"DU51*DT51+EA50","v":18.479286701880934},{"$f":"DS51+EB50","v":343.16999999999996},0.40541666666666681,4.6839332685918809,0.37222222222222223,null,9.4415173134052406]
[41,16.165672882442912,700.4565893608152,1.6997994168267292,1.1906357021079534,null,10,10,12.15,0.21990511755404141,-0.3,0.37222222222222223,{"$f":"J52+L52","v":0.59212733977626364},{"$f":"IF(E52<M52,C52,M52/D52*1000)","v":348.35130187400387},{"$f":"O51+N51/1000","v":11.228211122190256},{"$f":"J52*I52+P51","v":21.151133880162536},{"$f":"H52+Q51","v":353.16999999999996},0.40541666666666681,5.0893499352585474,0.37222222222222223,null,9.9437237806116343,null,41,16.165672882442912,700.4565893608152,1.6997994168267292,1.1906357021079534,null,10,10,{"$f":"AG4","v":12.15},0.21990511755404141,-0.3,0.37222222222222223,{"$f":"AG52+AI52","v":0.59212733977626364},{"$f":"IF(AB52<AJ52,Z52,AJ52/AA52*1000)","v":348.35130187400387},{"$f":"AL51+AK51/1000","v":11.228211122190256},{"$f":"AG52*AF52+AM51","v":21.151133880162536},{"$f":"AE52+AN51","v":353.16999999999996},0.40541666666666681,5.0893499352585474,0.37222222222222223,null,9.9437237806116343,null,41,16.165672882442912,700.4565893608152,1.6997994168267292,1.1906357021079534,null,10,10,{"$f":"BD4","v":12.15},0.21990511755404141,-0.3,0.37222222222222223,{"$f":"BD52+BF52","v":0.59212733977626364},{"$f":"IF(AY52<BG52,AW52,BG52/AX52*1000)","v":348.35130187400387},{"$f":"BI51+BH51/1000","v":11.228211122190256},{"$f":"BD52*BC52+BJ51","v":21.151133880162536},{"$f":"BB52+BK51","v":353.16999999999996},0.40541666666666681,5.0893499352585474,0.37222222222222223,null,9.9437237806116343,null,41,16.165672882442912,700.4565893608152,1.6997994168267292,1.1906357021079534,null,10,10,{"$f":"CA4","v":12.15},0.21990511755404141,-0.3,0.37222222222222223,{"$f":"CA52+CC52","v":0.59212733977626364},{"$f":"IF(BV52<CD52,BT52,CD52/BU52*1000)","v":348.35130187400387},{"$f":"CF51+CE51/1000","v":11.228211122190256},{"$f":"CA52*BZ52+CG51","v":21.151133880162536},{"$f":"BY52+CH51","v":353.16999999999996},0.40541666666666681,5.0893499352585474,0.37222222222222223,null,9.9437237806116343,null,41,16.165672882442912,700.4565893608152,1.6997994168267292,1.1906357021079534,null,10,10,{"$f":"CX4","v":12.15},0.21990511755404141,-0.3,0.37222222222222223,{"$f":"CX52+CZ52","v":0.59212733977626364},{"$f":"IF(CS52<DA52,CQ52,DA52/CR52*1000)","v":348.35130187400387},{"$f":"DC51+DB51/1000","v":11.228211122190256},{"$f":"CX52*CW52+DD51","v":21.151133880162536},{"$f":"CV52+DE51","v":353.16999999999996},0.40541666666666681,5.0893499352585474,0.37222222222222223,null,9.9437237806116343,null,41,16.165672882442912,700.4565893608152,1.6997994168267292,1.1906357021079534,null,10,10,{"$f":"DU4","v":12.15},0.21990511755404141,-0.3,0.37222222222222223,{"$f":"DU52+DW52","v":0.59212733977626364},{"$f":"IF(DP52<DX52,DN52,DX52/DO52*1000)","v":348.35130187400387},{"$f":"DZ51+DY51/1000","v":11.228211122190256},{"$f":"DU52*DT52+EA51","v":21.151133880162536},{"$f":"DS52+EB51","v":353.16999999999996},0.40541666666666681,5.0893499352585474,0.37222222222222223,null,9.9437237806116343]
[42,16.866129471803728,718.89572626539439,1.7148629993936286,1.2328076813947353,null,10,10,12.15,0.25069183401160722,-0.3,0.37222222222222223,{"$f":"J53+L53","v":0.62291405623382945},{"$f":"IF(E53<M53,C53,M53/D53*1000)","v":363.24421044368574},{"$f":"O52+N52/1000","v":11.57656242406426},{"$f":"J53*I53+P52","v":24.197039663403565},{"$f":"H53+Q52","v":363.16999999999996},0.40541666666666681,5.4947666019252139,0.37222222222222223,null,10.456113328946033,null,42,16.866129471803728,718.89572626539439,1.7148629993936286,1.2328076813947353,null,10,10,{"$f":"AG4","v":12.15},0.25069183401160722,-0.3,0.37222222222222223,{"$f":"AG53+AI53","v":0.62291405623382945},{"$f":"IF(AB53<AJ53,Z53,AJ53/AA53*1000)","v":363.24421044368574},{"$f":"AL52+AK52/1000","v":11.57656242406426},{"$f":"AG53*AF53+AM52","v":24.197039663403565},{"$f":"AE53+AN52","v":363.16999999999996},0.40541666666666681,5.4947666019252139,0.37222222222222223,null,10.456113328946033,null,42,16.866129471803728,718.89572626539439,1.7148629993936286,1.2328076813947353,null,10,10,{"$f":"BD4","v":12.15},0.25069183401160722,-0.3,0.37222222222222223,{"$f":"BD53+BF53","v":0.62291405623382945},{"$f":"IF(AY53<BG53,AW53,BG53/AX53*1000)","v":363.24421044368574},{"$f":"BI52+BH52/1000","v":11.57656242406426},{"$f":"BD53*BC53+BJ52","v":24.197039663403565},{"$f":"BB53+BK52","v":363.16999999999996},0.40541666666666681,5.4947666019252139,0.37222222222222223,null,10.456113328946033,null,42,16.866129471803728,718.89572626539439,1.7148629993936286,1.2328076813947353,null,10,10,{"$f":"CA4","v":12.15},0.25069183401160722,-0.3,0.37222222222222223,{"$f":"CA53+CC53","v":0.62291405623382945},{"$f":"IF(BV53<CD53,BT53,CD53/BU53*1000)","v":363.24421044368574},{"$f":"CF52+CE52/1000","v":11.57656242406426},{"$f":"CA53*BZ53+CG52","v":24.197039663403565},{"$f":"BY53+CH52","v":363.16999999999996},0.40541666666666681,5.4947666019252139,0.37222222222222223,null,10.456113328946033,null,42,16.866129471803728,718.89572626539439,1.7148629993936286,1.2328076813947353,null,10,10,{"$f":"CX4","v":12.15},0.25069183401160722,-0.3,0.37222222222222223,{"$f":"CX53+CZ53","v":0.62291405623382945},{"$f":"IF(CS53<DA53,CQ53,DA53/CR53*1000)","v":363.24421044368574},{"$f":"DC52+DB52/1000","v":11.57656242406426},{"$f":"CX53*CW53+DD52","v":24.197039663403565},{"$f":"CV53+DE52","v":363.16999999999996},0.40541666666666681,5.4947666019252139,0.37222222222222223,null,10.456113328946033,null,42,16.866129471803728,718.89572626539439,1.7148629993936286,1.2328076813947353,null,10,10,{"$f":"DU4","v":12.15},0.25069183401160722,-0.3,0.37222222222222223,{"$f":"DU53+DW53","v":0.62291405623382945},{"$f":"IF(DP53<DX53,DN53,DX53/DO53*1000)","v":363.24421044368574},{"$f":"DZ52+DY52/1000","v":11.57656242406426},{"$f":"DU53*DT53+EA52","v":24.197039663403565},{"$f":"DS53+EB52","v":363.16999999999996},0.40541666666666681,5.4947666019252139,0.37222222222222223,null,10.456113328946033]
[43,17.585025198069122,737.32486529463517,1.7303231225391209,1.2758102632423498,null,10,10,12.15,0.28578869077323221,-0.3,0.37222222222222223,{"$f":"J54+L54","v":0.65801091299545444},{"$f":"IF(E54<M54,C54,M54/D54*1000)","v":380.28210131635541},{"$f":"O53+N53/1000","v":11.939806634507946},{"$f":"J54*I54+P53","v":27.669372256298338},{"$f":"H54+Q53","v":373.16999999999996},0.40541666666666681,5.9001832685918805,0.37222222222222223,null,10.97859469839455,null,43,17.585025198069122,737.32486529463517,1.7303231225391209,1.2758102632423498,null,10,10,{"$f":"AG4","v":12.15},0.28578869077323221,-0.3,0.37222222222222223,{"$f":"AG54+AI54","v":0.65801091299545444},{"$f":"IF(AB54<AJ54,Z54,AJ54/AA54*1000)","v":380.28210131635541},{"$f":"AL53+AK53/1000","v":11.939806634507946},{"$f":"AG54*AF54+AM53","v":27.669372256298338},{"$f":"AE54+AN53","v":373.16999999999996},0.40541666666666681,5.9001832685918805,0.37222222222222223,null,10.97859469839455,null,43,17.585025198069122,737.32486529463517,1.7303231225391209,1.2758102632423498,null,10,10,{"$f":"BD4","v":12.15},0.28578869077323221,-0.3,0.37222222222222223,{"$f":"BD54+BF54","v":0.65801091299545444},{"$f":"IF(AY54<BG54,AW54,BG54/AX54*1000)","v":380.28210131635541},{"$f":"BI53+BH53/1000","v":11.939806634507946},{"$f":"BD54*BC54+BJ53","v":27.669372256298338},{"$f":"BB54+BK53","v":373.16999999999996},0.40541666666666681,5.9001832685918805,0.37222222222222223,null,10.97859469839455,null,43,17.585025198069122,737.32486529463517,1.7303231225391209,1.2758102632423498,null,10,10,{"$f":"CA4","v":12.15},0.28578869077323221,-0.3,0.37222222222222223,{"$f":"CA54+CC54","v":0.65801091299545444},{"$f":"IF(BV54<CD54,BT54,CD54/BU54*1000)","v":380.28210131635541},{"$f":"CF53+CE53/1000","v":11.939806634507946},{"$f":"CA54*BZ54+CG53","v":27.669372256298338},{"$f":"BY54+CH53","v":373.16999999999996},0.40541666666666681,5.9001832685918805,0.37222222222222223,null,10.97859469839455,null,43,17.585025198069122,737.32486529463517,1.7303231225391209,1.2758102632423498,null,10,10,{"$f":"CX4","v":12.15},0.28578869077323221,-0.3,0.37222222222222223,{"$f":"CX54+CZ54","v":0.65801091299545444},{"$f":"IF(CS54<DA54,CQ54,DA54/CR54*1000)","v":380.28210131635541},{"$f":"DC53+DB53/1000","v":11.939806634507946},{"$f":"CX54*CW54+DD53","v":27.669372256298338},{"$f":"CV54+DE53","v":373.16999999999996},0.40541666666666681,5.9001832685918805,0.37222222222222223,null,10.97859469839455,null,43,17.585025198069122,737.32486529463517,1.7303231225391209,1.2758102632423498,null,10,10,{"$f":"DU4","v":12.15},0.28578869077323221,-0.3,0.37222222222222223,{"$f":"DU54+DW54","v":0.65801091299545444},{"$f":"IF(DP54<DX54,DN54,DX54/DO54*1000)","v":380.28210131635541},{"$f":"DZ53+DY53/1000","v":11.939806634507946},{"$f":"DU54*DT54+EA53","v":27.669372256298338},{"$f":"DS54+EB53","v":373.16999999999996},0.40541666666666681,5.9001832685918805,0.37222222222222223,null,10.97859469839455]
[44,18.322350063363757,null,1.7461795712551345,0,null,10,10,12.15,0.32579910748148472,-0.3,0.37222222222222223,{"$f":"J55+L55","v":0.69802132970370701},{"$f":"IF(E55<M55,C55,M55/D55*1000)","v":0},{"$f":"O54+N54/1000","v":12.320088735824301},{"$f":"J55*I55+P54","v":31.627831412198379},{"$f":"H55+Q54","v":383.16999999999996},2.6666666666666665,8.5668499352585474,0,null,null,null,44,18.322350063363757,null,1.7461795712551345,0,null,10,10,{"$f":"AG4","v":12.15},0.32579910748148472,-0.3,0.37222222222222223,{"$f":"AG55+AI55","v":0.69802132970370701},{"$f":"IF(AB55<AJ55,Z55,AJ55/AA55*1000)","v":0},{"$f":"AL54+AK54/1000","v":12.320088735824301},{"$f":"AG55*AF55+AM54","v":31.627831412198379},{"$f":"AE55+AN54","v":383.16999999999996},2.6666666666666665,8.5668499352585474,0,null,null,null,44,18.322350063363757,null,1.7461795712551345,0,null,10,10,{"$f":"BD4","v":12.15},0.32579910748148472,-0.3,0.37222222222222223,{"$f":"BD55+BF55","v":0.69802132970370701},{"$f":"IF(AY55<BG55,AW55,BG55/AX55*1000)","v":0},{"$f":"BI54+BH54/1000","v":12.320088735824301},{"$f":"BD55*BC55+BJ54","v":31.627831412198379},{"$f":"BB55+BK54","v":383.16999999999996},2.6666666666666665,8.5668499352585474,0,null,null,null,44,18.322350063363757,null,1.7461795712551345,0,null,10,10,{"$f":"CA4","v":12.15},0.32579910748148472,-0.3,0.37222222222222223,{"$f":"CA55+CC55","v":0.69802132970370701},{"$f":"IF(BV55<CD55,BT55,CD55/BU55*1000)","v":0},{"$f":"CF54+CE54/1000","v":12.320088735824301},{"$f":"CA55*BZ55+CG54","v":31.627831412198379},{"$f":"BY55+CH54","v":383.16999999999996},2.6666666666666665,8.5668499352585474,0,null,null,null,44,18.322350063363757,null,1.7461795712551345,0,null,10,10,{"$f":"CX4","v":12.15},0.32579910748148472,-0.3,0.37222222222222223,{"$f":"CX55+CZ55","v":0.69802132970370701},{"$f":"IF(CS55<DA55,CQ55,DA55/CR55*1000)","v":0},{"$f":"DC54+DB54/1000","v":12.320088735824301},{"$f":"CX55*CW55+DD54","v":31.627831412198379},{"$f":"CV55+DE54","v":383.16999999999996},2.6666666666666665,8.5668499352585474,0,null,null,null,44,18.322350063363757,null,1.7461795712551345,0,null,10,10,{"$f":"DU4","v":12.15},0.32579910748148472,-0.3,0.37222222222222223,{"$f":"DU55+DW55","v":0.69802132970370701},{"$f":"IF(DP55<DX55,DN55,DX55/DO55*1000)","v":0},{"$f":"DZ54+DY54/1000","v":12.320088735824301},{"$f":"DU55*DT55+EA54","v":31.627831412198379},{"$f":"DS55+EB54","v":383.16999999999996},2.6666666666666665,8.5668499352585474,0]

{"sheet":"princip i model","index":21,"n_rows":33,"n_cols":6,"rows_kept":33,"cut":false,"hidden":true,"merged":[]}
["Princip i regneark til vækst for pattegrise og so i farestald"]
[]
["Potentiel vækst ved ubegrænset mælk beregnes med Gompertz"]
[null,"behov for FEsv pr gris til max vækst beregnes"]
["De begrænsende faktorer fastlægges"]
[null,"FEso pr dag"]
[null,"Fesv smågrisefoder pr dag"]
[null,"Antal grise pr kuld"]
[]
["Mælkeydelse i FEsv pr dag pr gris beregnes"]
[null,"FEsv i alt i mælk pr gris = (0,15 FEsv x antal grise + 0,3 x FEso i foder <8 FEso + 0,15 x FEso > 8 FEso)/antal grise"]
["Samlet energiindtag beregnes"]
[null,"FEsv pr gris = FEsv pr gris i mælk + Fesv pr gris i smågrisefoder",null,null,null,"a"]
["Daglig tilvækst beregnes ud fra samlet energiindtag pr gris pr dag"]
[null,"Hvis energi i mælk og foder er over behov, så tilvækst ifølge gompertz (typisk indtil ca. 10 dage)"]
[null,"ellers Daglig tilvækst = FEsv pr gris / FEsv pr kg tilvækst ved aktuel vægt (ligning, der definerer foderforbrug pr kg tv)"]
["Vægt af pattegrise beregnes ud fra startvægt og daglig tilvækst pr dag"]
[]
["Soens vægtændring beregnes"]
[null,"Vægtændring = overskud/underskud af FE / 3 FE pr kg tilvækst, marginalt"]
[]
[null,"Eksempel"]
[null,"Foderoptag",null,"7 FE"]
[null,"Vedligehold",null,"2 FE"]
[null,"FE i mælk x 1,5",null,"5,6 FE","(der regnes med, at 67% af energi brugt til mælkeproduktion kan genfindes i mælk)"]
[null,"Netto til tilvækst",null,"\"-0,6 FE\""]
[null,"Vægtændring",null,"\"-0,2 kg\"","på denne dag"]
[]
[]
[]
[]
[]
[null,null,null,null,null," "]